{"text_format":"3","workbook":"xlsx","n_sheets":45,"sheets":["ConfOnly","Season_Summary","Roster","game1 (1)","game1 (2)","game1 (3)","game1 (4)","game1 (6)","game1 (5)","game1 (7)","game1 (8)","game1 (9)","game1 (10)","game1 (11)","game1 (12)","game1 (13)","game1 (14)","game1 (15)","game1 (16)","game1 (17)","game1 (18)","game1 (19)","game1 (20)","game1 (21)","game1 (22)","game1 (23)","game1 (24)","game1 (25)","game1 (26)","game1 (27)","game1 (28)","game1 (29)","game1 (30)","game1 (31)","game1 (32)","game1 (33)","game1 (34)","game1 (35)","game1 (36)","game1 (37)","game1 (38)","game1 (39)","game1 (40)","PlayerGameSummary","TeamGameSummary"],"not_rendered":{"macros":1,"defined_names":12,"comments":43,"pivot_tables":120},"read":"whole","date_system":"1900"}

{"sheet":"ConfOnly","index":0,"n_rows":182,"n_cols":36,"rows_kept":182,"merged":[[0,0,0,9],[0,18,0,20],[0,21,0,22],[0,23,0,26],[0,27,0,28],[33,0,33,20],[34,1,34,2],[34,3,34,4],[34,6,34,8],[34,9,34,10],[34,11,34,12],[34,14,34,16],[34,17,34,18],[34,19,34,20],[34,22,34,24],[34,25,34,26],[34,27,34,28],[35,1,35,2],[35,3,35,4],[35,6,35,8],[35,9,35,10],[35,11,35,12],[35,14,35,16],[35,17,35,18],[35,19,35,20],[35,22,35,24],[35,25,35,26],[35,27,35,28],[36,1,36,2],[36,3,36,4],[36,6,36,8],[36,9,36,10],[36,11,36,12],[36,14,36,16],[36,17,36,18],[36,19,36,20],[36,22,36,24],[36,25,36,26],[36,27,36,28],[37,1,37,2],[37,3,37,4],[37,6,37,8],[37,9,37,10],[37,11,37,12],[37,14,37,16],[37,17,37,18],[37,19,37,20],[37,22,37,24],[37,25,37,26],[37,27,37,28],[38,1,38,2],[38,3,38,4],[38,6,38,8],[38,9,38,10],[38,11,38,12],[38,14,38,16],[38,17,38,18],[38,19,38,20],[38,22,38,24],[38,25,38,26],[38,27,38,28],[39,1,39,2],[39,3,39,4],[39,6,39,8],[39,9,39,10],[39,11,39,12],[39,14,39,16],[39,17,39,18],[39,19,39,20],[39,22,39,24],[39,25,39,26],[39,27,39,28],[41,1,41,2],[41,3,41,4],[41,6,41,8],[41,9,41,10],[41,11,41,12],[41,14,41,16],[41,17,41,18],[41,19,41,20],[41,22,41,24],[41,25,41,26],[41,27,41,28],[42,1,42,2],[42,3,42,4],[42,6,42,8],[42,9,42,10],[42,11,42,12],[42,14,42,16],[42,17,42,18],[42,19,42,20],[42,22,42,24],[42,25,42,26],[42,27,42,28],[43,1,43,2],[43,3,43,4],[43,6,43,8],[43,9,43,10],[43,11,43,12],[43,14,43,16],[43,17,43,18],[43,19,43,20],[43,22,43,24],[43,25,43,26],[43,27,43,28],[44,1,44,2],[44,3,44,4],[44,6,44,8],[44,9,44,10],[44,11,44,12],[44,14,44,16],[44,17,44,18],[44,19,44,20],[44,22,44,24],[44,25,44,26],[44,27,44,28],[45,1,45,2],[45,3,45,4],[45,6,45,8],[45,9,45,10],[45,11,45,12],[45,14,45,16],[45,17,45,18],[45,19,45,20],[45,22,45,24],[45,25,45,26],[45,27,45,28],[46,1,46,2],[46,3,46,4],[46,6,46,8],[46,9,46,10],[46,11,46,12],[46,14,46,16],[46,17,46,18],[46,19,46,20],[46,22,46,24],[46,25,46,26],[46,27,46,28],[48,1,48,2],[48,3,48,4],[48,6,48,8],[48,9,48,10],[48,11,48,12],[48,14,48,16],[48,17,48,18],[48,19,48,20],[48,22,48,24],[48,25,48,26],[48,27,48,28],[49,1,49,2],[49,3,49,4],[49,6,49,8],[49,9,49,10],[49,11,49,12],[49,14,49,16],[49,17,49,18],[49,19,49,20],[49,22,49,24],[49,25,49,26],[49,27,49,28],[50,1,50,2],[50,3,50,4],[50,6,50,8],[50,9,50,10],[50,11,50,12],[50,14,50,16],[50,17,50,18],[50,19,50,20],[50,22,50,24],[50,25,50,26],[50,27,50,28],[51,1,51,2],[51,3,51,4],[51,6,51,8],[51,9,51,10],[51,11,51,12],[51,14,51,16],[51,17,51,18],[51,19,51,20],[51,22,51,24],[51,25,51,26],[51,27,51,28],[52,1,52,2],[52,3,52,4],[52,6,52,8],[52,9,52,10],[52,11,52,12],[52,14,52,16],[52,17,52,18],[52,19,52,20],[52,22,52,24],[52,25,52,26],[52,27,52,28],[53,1,53,2],[53,3,53,4],[53,6,53,8],[53,9,53,10],[53,11,53,12],[53,14,53,16],[53,17,53,18],[53,19,53,20],[53,22,53,24],[53,25,53,26],[53,27,53,28],[55,1,55,2],[55,3,55,4],[55,6,55,8],[55,9,55,10],[55,11,55,12],[55,14,55,16],[55,17,55,18],[55,19,55,20],[55,22,55,24],[55,25,55,26],[55,27,55,28],[56,1,56,2],[56,3,56,4],[56,6,56,8],[56,9,56,10],[56,11,56,12],[56,14,56,16],[56,17,56,18],[56,19,56,20],[56,22,56,24],[56,25,56,26],[56,27,56,28],[57,1,57,2],[57,3,57,4],[57,6,57,8],[57,9,57,10],[57,11,57,12],[57,14,57,16],[57,17,57,18],[57,19,57,20],[57,22,57,24],[57,25,57,26],[57,27,57,28],[58,1,58,2],[58,3,58,4],[58,6,58,8],[58,9,58,10],[58,11,58,12],[58,14,58,16],[58,17,58,18],[58,19,58,20],[58,22,58,24],[58,25,58,26],[58,27,58,28],[59,1,59,2],[59,3,59,4],[59,6,59,8],[59,9,59,10],[59,11,59,12],[59,14,59,16],[59,17,59,18],[59,19,59,20],[59,22,59,24],[59,25,59,26],[59,27,59,28],[60,1,60,2],[60,3,60,4],[60,6,60,8],[60,9,60,10],[60,11,60,12],[60,14,60,16],[60,17,60,18],[60,19,60,20],[60,22,60,24],[60,25,60,26],[60,27,60,28],[63,0,63,18],[64,1,64,3],[64,4,64,5],[64,6,64,7],[64,9,64,11],[64,12,64,14],[64,15,64,16],[64,17,64,18],[64,20,64,22],[64,23,64,25],[64,26,64,27],[65,1,65,3],[65,4,65,5],[65,6,65,7],[65,9,65,11],[65,12,65,14],[65,15,65,16],[65,17,65,18],[65,20,65,22],[65,23,65,25],[65,26,65,27],[66,1,66,3],[66,4,66,5],[66,6,66,7],[66,9,66,11],[66,12,66,14],[66,15,66,16],[66,17,66,18],[66,20,66,22],[66,23,66,25],[66,26,66,27],[67,1,67,3],[67,4,67,5],[67,6,67,7],[67,9,67,11],[67,12,67,14],[67,15,67,16],[67,17,67,18],[67,20,67,22],[67,23,67,25],[67,26,67,27],[68,1,68,3],[68,4,68,5],[68,6,68,7],[68,9,68,11],[68,12,68,14],[68,15,68,16],[68,17,68,18],[68,20,68,22],[68,23,68,25],[68,26,68,27],[69,1,69,3],[69,4,69,5],[69,6,69,7],[69,9,69,11],[69,12,69,14],[69,15,69,16],[69,17,69,18],[69,20,69,22],[69,23,69,25],[69,26,69,27],[71,1,71,3],[71,4,71,5],[71,6,71,7],[71,9,71,11],[71,12,71,14],[71,15,71,16],[71,17,71,18],[71,20,71,22],[71,23,71,25],[71,26,71,27],[72,1,72,3],[72,4,72,5],[72,6,72,7],[72,9,72,11],[72,12,72,14],[72,15,72,16],[72,17,72,18],[72,20,72,22],[72,23,72,25],[72,26,72,27],[73,1,73,3],[73,4,73,5],[73,6,73,7],[73,9,73,11],[73,12,73,14],[73,15,73,16],[73,17,73,18],[73,20,73,22],[73,23,73,25],[73,26,73,27],[74,1,74,3],[74,4,74,5],[74,6,74,7],[74,9,74,11],[74,12,74,14],[74,15,74,16],[74,17,74,18],[74,20,74,22],[74,23,74,25],[74,26,74,27],[75,1,75,3],[75,4,75,5],[75,6,75,7],[75,9,75,11],[75,12,75,14],[75,15,75,16],[75,17,75,18],[75,20,75,22],[75,23,75,25],[75,26,75,27],[76,1,76,3],[76,4,76,5],[76,6,76,7],[76,9,76,11],[76,12,76,14],[76,15,76,16],[76,17,76,18],[76,20,76,22],[76,23,76,25],[76,26,76,27],[78,1,78,3],[78,4,78,5],[78,6,78,7],[78,9,78,11],[78,12,78,14],[78,15,78,16],[78,17,78,18],[78,20,78,22],[78,23,78,25],[78,26,78,27],[79,1,79,3],[79,4,79,5],[79,6,79,7],[79,9,79,11],[79,12,79,14],[79,15,79,16],[79,17,79,18],[79,20,79,22],[79,23,79,25],[79,26,79,27],[80,1,80,3],[80,4,80,5],[80,6,80,7],[80,9,80,11],[80,12,80,14],[80,15,80,16],[80,17,80,18],[80,20,80,22],[80,23,80,25],[80,26,80,27],[81,1,81,3],[81,4,81,5],[81,6,81,7],[81,9,81,11],[81,12,81,14],[81,15,81,16],[81,17,81,18],[81,20,81,22],[81,23,81,25],[81,26,81,27],[82,1,82,3],[82,4,82,5],[82,6,82,7],[82,9,82,11],[82,12,82,14],[82,15,82,16],[82,17,82,18],[82,20,82,22],[82,23,82,25],[82,26,82,27],[83,1,83,3],[83,4,83,5],[83,6,83,7],[83,9,83,11],[83,12,83,14],[83,15,83,16],[83,17,83,18],[83,20,83,22],[83,23,83,25],[83,26,83,27],[85,1,85,3],[85,4,85,5],[85,6,85,7],[85,9,85,11],[85,12,85,14],[85,15,85,16],[85,17,85,18],[85,20,85,22],[85,23,85,25],[85,26,85,27],[86,1,86,3],[86,4,86,5],[86,6,86,7],[86,9,86,11],[86,12,86,14],[86,15,86,16],[86,17,86,18],[86,20,86,22],[86,23,86,25],[86,26,86,27],[87,1,87,3],[87,4,87,5],[87,6,87,7],[87,9,87,11],[87,12,87,14],[87,15,87,16],[87,17,87,18],[87,20,87,22],[87,23,87,25],[87,26,87,27],[88,1,88,3],[88,4,88,5],[88,6,88,7],[88,9,88,11],[88,12,88,14],[88,15,88,16],[88,17,88,18],[88,20,88,22],[88,23,88,25],[88,26,88,27],[89,1,89,3],[89,4,89,5],[89,6,89,7],[89,9,89,11],[89,12,89,14],[89,15,89,16],[89,17,89,18],[89,20,89,22],[89,23,89,25],[89,26,89,27],[90,1,90,3],[90,4,90,5],[90,6,90,7],[90,9,90,11],[90,12,90,14],[90,15,90,16],[90,17,90,18],[90,20,90,22],[90,23,90,25],[90,26,90,27],[92,1,92,3],[92,4,92,5],[92,6,92,7],[92,9,92,11],[92,12,92,14],[92,15,92,16],[92,17,92,18],[92,20,92,22],[92,23,92,25],[92,26,92,27],[93,1,93,3],[93,4,93,5],[93,6,93,7],[93,9,93,11],[93,12,93,14],[93,15,93,16],[93,17,93,18],[93,20,93,22],[93,23,93,25],[93,26,93,27],[94,1,94,3],[94,4,94,5],[94,6,94,7],[94,9,94,11],[94,12,94,14],[94,15,94,16],[94,17,94,18],[94,20,94,22],[94,23,94,25],[94,26,94,27],[95,1,95,3],[95,4,95,5],[95,6,95,7],[95,9,95,11],[95,12,95,14],[95,15,95,16],[95,17,95,18],[95,20,95,22],[95,23,95,25],[95,26,95,27],[96,1,96,3],[96,4,96,5],[96,6,96,7],[96,9,96,11],[96,12,96,14],[96,15,96,16],[96,17,96,18],[96,20,96,22],[96,23,96,25],[96,26,96,27],[97,1,97,3],[97,4,97,5],[97,6,97,7],[97,9,97,11],[97,12,97,14],[97,15,97,16],[97,17,97,18],[97,20,97,22],[97,23,97,25],[97,26,97,27],[100,1,100,3],[100,19,100,27],[101,19,101,21],[101,22,101,24],[101,25,101,28],[102,19,103,21],[102,22,103,24],[102,25,103,28],[104,19,105,21],[104,22,105,24],[104,25,105,28],[106,19,107,21],[106,22,107,24],[106,25,107,28],[108,19,109,21],[108,22,109,24],[108,25,109,28],[110,19,111,21],[110,22,111,24],[110,25,111,28],[112,19,113,21],[112,22,113,24],[112,25,113,28],[114,19,115,21],[114,22,115,24],[114,25,115,28],[116,19,117,21],[116,22,117,24],[116,25,117,28],[118,19,119,21],[118,22,119,24],[118,25,119,28],[120,19,121,21],[120,22,121,24],[120,25,121,28],[122,19,123,21],[122,22,123,24],[122,25,123,28],[124,19,125,21],[124,22,125,24],[124,25,125,28],[126,19,127,21],[126,22,127,24],[126,25,127,28],[128,19,129,21],[128,22,129,24],[128,25,129,28],[130,19,131,21],[130,22,131,24],[130,25,131,28],[132,19,133,21],[132,22,133,24],[132,25,133,28],[134,19,135,21],[134,22,135,24],[134,25,135,28],[136,19,137,21],[136,22,137,24],[136,25,137,28],[138,19,139,21],[138,22,139,24],[138,25,139,28],[140,19,141,21],[140,22,141,24],[140,25,141,28],[142,19,143,21],[142,22,143,24],[142,25,143,28],[144,19,145,21],[144,22,145,24],[144,25,145,28],[146,19,147,21],[146,22,147,24],[146,25,147,28],[148,19,149,21],[148,22,149,24],[148,25,149,28],[150,19,151,21],[150,22,151,24],[150,25,151,28],[152,19,153,21],[152,22,153,24],[152,25,153,28],[154,19,155,21],[154,22,155,24],[154,25,155,28],[156,19,157,21],[156,22,157,24],[156,25,157,28],[158,19,159,21],[158,22,159,24],[158,25,159,28],[160,19,161,21],[160,22,161,24],[160,25,161,28],[162,19,163,21],[162,22,163,24],[162,25,163,28],[164,19,165,21],[164,22,165,24],[164,25,165,28],[166,19,167,21],[166,22,167,24],[166,25,167,28],[168,19,169,21],[168,22,169,24],[168,25,169,28],[170,19,171,21],[170,22,171,24],[170,25,171,28],[172,19,173,21],[172,22,173,24],[172,25,173,28],[174,19,175,21],[174,22,175,24],[174,25,175,28],[176,19,177,21],[176,22,177,24],[176,25,177,28],[178,19,179,21],[178,22,179,24],[178,25,179,28],[180,19,181,21],[180,22,181,24],[180,25,181,28]]}
[{"$f":"Roster!B1&\" \"&Roster!B2","v":"Upton Bobcats"},{"$nulls":12},{"$f":"CONCATENATE(\"* \",Roster!$D$1,\" \",PROPER(RIGHT(Roster!$D$2,4)),\" Opponents Only\")","v":"* 2A East Opponents Only"},{"$nulls":4},"Overall Record *",null,null,{"$f":"CONCATENATE(SUMPRODUCT(SUMIF(INDIRECT(\"'\"&gamesheets&\"'!a2\"),\"R\",INDIRECT(\"'\"&gamesheets&\"'!g4\"))),\" - \",SUMPRODUCT(SUMIF(INDIRECT(\"'\"&gamesheets&\"'!a2\"),\"R\",INDIRECT(\"'\"&gamesheets&\"'!i4\"))))","v":"7 - 3"},null,"Conference Record",{"$nulls":3},{"$f":"CONCATENATE(SUMPRODUCT(SUMIF(INDIRECT(\"'\"&gamesheets&\"'!a2\"),\"R\",INDIRECT(\"'\"&gamesheets&\"'!h4\"))),\" - \",SUMPRODUCT(SUMIF(INDIRECT(\"'\"&gamesheets&\"'!a2\"),\"R\",INDIRECT(\"'\"&gamesheets&\"'!j4\"))))","v":"7 - 3"},null,null,{"$f":"COUNT('game1 (1):game1 (40)'!$G$4)+COUNT('game1 (1):game1 (40)'!$I$4)","v":28}]
[]
[]
[]
[{"$nulls":17},{"$f":"COUNTA('game1 (1):game1 (40)'!$C$2)","v":28},{"$nulls":3},{"$f":"SUM('game1 (1):game1 (40)'!$G$4)","v":20},{"$f":"SUM('game1 (1):game1 (40)'!$I$4)","v":8},{"$nulls":4},{"$f":"SUM('game1 (1):game1 (40)'!$H$4)","v":7},{"$f":"SUM('game1 (1):game1 (40)'!$J$4)","v":3}]
["PLAYER,#","GP","3FGM","3FGA","3FG %","2FGM","2FGA","2FG %","FTM","FTA","FT %","PTS","OFF REB","DEF REB","REB","AST","STL","BLK","TO'S","FOUL","PTS / GM","O REB /GM","D REB /GM","REB / GM","AST / GM","STL / GM","BLK / GM","TO'S / GM","FOUL / GM","School","3 FGA/Gm","FTA / GM","FG %","FGA / GM","Conf","Team GP"]
[{"$f":"IF(OR(Roster!A7<>\"\",Roster!B7<>\"\"),PROPER(Roster!B7)&\", \"&Roster!A7,\"\")","v":"Payton Watt, 24"},{"$f":"SUMPRODUCT(SUMIF(INDIRECT(\"'\"&gamesheets&\"'!A2\"),\"R\",INDIRECT(\"'\"&gamesheets&\"'!c\"&ROW(C7))))","v":10},{"$f":"SUMPRODUCT(SUMIF(INDIRECT(\"'\"&gamesheets&\"'!A2\"),\"R\",INDIRECT(\"'\"&gamesheets&\"'!d\"&ROW(D7))))","v":20},{"$f":"SUMPRODUCT(SUMIF(INDIRECT(\"'\"&gamesheets&\"'!A2\"),\"R\",INDIRECT(\"'\"&gamesheets&\"'!e\"&ROW(E7))))","v":61},{"$f":"IF(D7>0,C7/D7,\"\")","v":{"v":0.32786885245901637,"d":"33%"}},{"$f":"SUMPRODUCT(SUMIF(INDIRECT(\"'\"&gamesheets&\"'!A2\"),\"R\",INDIRECT(\"'\"&gamesheets&\"'!f\"&ROW(F7))))","v":51},{"$f":"SUMPRODUCT(SUMIF(INDIRECT(\"'\"&gamesheets&\"'!A2\"),\"R\",INDIRECT(\"'\"&gamesheets&\"'!g\"&ROW(G7))))","v":84},{"$f":"IF(G7>0,F7/G7,\"\")","v":{"v":0.6071428571428571,"d":"61%"}},{"$f":"SUMPRODUCT(SUMIF(INDIRECT(\"'\"&gamesheets&\"'!A2\"),\"R\",INDIRECT(\"'\"&gamesheets&\"'!h\"&ROW(H7))))","v":23},{"$f":"SUMPRODUCT(SUMIF(INDIRECT(\"'\"&gamesheets&\"'!A2\"),\"R\",INDIRECT(\"'\"&gamesheets&\"'!i\"&ROW(I7))))","v":36},{"$f":"IF(J7>0,I7/J7,\"\")","v":{"v":0.6388888888888888,"d":"64%"}},{"$f":"SUMPRODUCT(SUMIF(INDIRECT(\"'\"&gamesheets&\"'!A2\"),\"R\",INDIRECT(\"'\"&gamesheets&\"'!q\"&ROW(Q7))))","v":185},{"$f":"SUMPRODUCT(SUMIF(INDIRECT(\"'\"&gamesheets&\"'!A2\"),\"R\",INDIRECT(\"'\"&gamesheets&\"'!j\"&ROW(J7))))","v":29},{"$f":"SUMPRODUCT(SUMIF(INDIRECT(\"'\"&gamesheets&\"'!A2\"),\"R\",INDIRECT(\"'\"&gamesheets&\"'!k\"&ROW(K7))))","v":54},{"$f":"SUMPRODUCT(SUMIF(INDIRECT(\"'\"&gamesheets&\"'!A2\"),\"R\",INDIRECT(\"'\"&gamesheets&\"'!w\"&ROW(W7))))","v":83},{"$f":"SUMPRODUCT(SUMIF(INDIRECT(\"'\"&gamesheets&\"'!A2\"),\"R\",INDIRECT(\"'\"&gamesheets&\"'!l\"&ROW(L7))))","v":23},{"$f":"SUMPRODUCT(SUMIF(INDIRECT(\"'\"&gamesheets&\"'!A2\"),\"R\",INDIRECT(\"'\"&gamesheets&\"'!m\"&ROW(M7))))","v":9},{"$f":"SUMPRODUCT(SUMIF(INDIRECT(\"'\"&gamesheets&\"'!A2\"),\"R\",INDIRECT(\"'\"&gamesheets&\"'!n\"&ROW(N7))))","v":6},{"$f":"SUMPRODUCT(SUMIF(INDIRECT(\"'\"&gamesheets&\"'!A2\"),\"R\",INDIRECT(\"'\"&gamesheets&\"'!o\"&ROW(O7))))","v":22},{"$f":"SUMPRODUCT(SUMIF(INDIRECT(\"'\"&gamesheets&\"'!A2\"),\"R\",INDIRECT(\"'\"&gamesheets&\"'!p\"&ROW(P7))))","v":16},{"$f":"IF($B7>0,L7/$B7,\"\")","v":18.5},{"$f":"IF($B7>0,M7/$B7,0)","v":2.9},{"$f":"IF($B7>0,N7/$B7,0)","v":5.4},{"$f":"IF($B7>0,O7/$B7,0)","v":8.3},2.3,0.9,0.6,2.2,1.6,{"$f":"Roster!$B$1","v":"Upton"},{"$f":"IF($B7>0,$D7/$B7,0)","v":6.1},{"$f":"IF($B7>0,$J7/$B7,0)","v":3.6},{"$f":"IF($D7+$G7>0,($C7+$F7)/($D7+$G7),0)","v":{"v":0.4896551724137931,"d":"49%"}},{"$f":"IF($B7>0,($D7+$G7)/$B7,0)","v":14.5},{"$f":"Roster!$D$2","v":"Northeast"},{"$f":"SUMPRODUCT(SUMIF(INDIRECT(\"'\"&gamesheets&\"'!a2\"),\"R\",INDIRECT(\"'\"&gamesheets&\"'!g4\")))+SUMPRODUCT(SUMIF(INDIRECT(\"'\"&gamesheets&\"'!a2\"),\"R\",INDIRECT(\"'\"&gamesheets&\"'!i4\")))","v":10}]
[{"$f":"IF(OR(Roster!A8<>\"\",Roster!B8<>\"\"),PROPER(Roster!B8)&\", \"&Roster!A8,\"\")","v":"Dillon Barritt, 20"},10,26,81,{"$f":"IF(D8>0,C8/D8,\"\")","v":{"v":0.32098765432098764,"d":"32%"}},15,35,{"$f":"IF(G8>0,F8/G8,\"\")","v":{"v":0.42857142857142855,"d":"43%"}},7,9,{"$f":"IF(J8>0,I8/J8,\"\")","v":{"v":0.7777777777777778,"d":"78%"}},115,13,22,35,25,21,1,19,20,{"$f":"IF($B8>0,L8/$B8,\"\")","v":11.5},{"$f":"IF($B8>0,M8/$B8,0)","v":1.3},2.2,3.5,2.5,2.1,0.1,1.9,{"v":2,"d":"2.0"},{"$f":"Roster!$B$1","v":"Upton"},{"$f":"IF($B8>0,$D8/$B8,0)","v":8.1},{"$f":"IF($B8>0,$J8/$B8,0)","v":0.9},{"$f":"IF($D8+$G8>0,($C8+$F8)/($D8+$G8),0)","v":{"v":0.35344827586206895,"d":"35%"}},{"$f":"IF($B8>0,($D8+$G8)/$B8,0)","v":11.6},{"$f":"Roster!$D$2","v":"Northeast"},10]
[{"$f":"IF(OR(Roster!A9<>\"\",Roster!B9<>\"\"),PROPER(Roster!B9)&\", \"&Roster!A9,\"\")","v":"Dawson Butts, 14"},10,1,5,{"v":0.2,"d":"20%"},17,36,{"v":0.4722222222222222,"d":"47%"},7,23,{"v":0.30434782608695654,"d":"30%"},44,17,32,49,39,20,2,16,12,4.4,1.7,3.2,4.9,3.9,{"v":2,"d":"2.0"},0.2,1.6,1.2,{"$f":"Roster!$B$1","v":"Upton"},0.5,2.3,{"v":0.43902439024390244,"d":"44%"},4.1,{"$f":"Roster!$D$2","v":"Northeast"},10]
[{"$f":"IF(OR(Roster!A10<>\"\",Roster!B10<>\"\"),PROPER(Roster!B10)&\", \"&Roster!A10,\"\")","v":"Jayden Caylor, 12"},5,3,4,{"v":0.75,"d":"75%"},12,19,{"v":0.631578947368421,"d":"63%"},3,4,{"v":0.75,"d":"75%"},36,7,16,23,8,8,1,9,13,7.2,1.4,3.2,4.6,1.6,1.6,0.2,1.8,2.6,{"$f":"Roster!$B$1","v":"Upton"},0.8,0.8,{"v":0.6521739130434783,"d":"65%"},4.6,{"$f":"Roster!$D$2","v":"Northeast"},10]
[{"$f":"IF(OR(Roster!A11<>\"\",Roster!B11<>\"\"),PROPER(Roster!B11)&\", \"&Roster!A11,\"\")","v":"Clayton Louderback, 23"},8,6,20,{"v":0.3,"d":"30%"},53,103,{"v":0.5145631067961165,"d":"51%"},31,46,{"v":0.6739130434782609,"d":"67%"},155,30,41,71,25,24,3,30,21,{"v":19.375,"d":"19.4"},{"v":3.75,"d":"3.8"},{"v":5.125,"d":"5.1"},{"v":8.875,"d":"8.9"},{"v":3.125,"d":"3.1"},{"v":3,"d":"3.0"},{"v":0.375,"d":"0.4"},{"v":3.75,"d":"3.8"},{"v":2.625,"d":"2.6"},{"$f":"Roster!$B$1","v":"Upton"},2.5,{"v":5.75,"d":"5.8"},{"v":0.4796747967479675,"d":"48%"},{"v":15.375,"d":"15.4"},{"$f":"Roster!$D$2","v":"Northeast"},10]
[{"$f":"IF(OR(Roster!A12<>\"\",Roster!B12<>\"\"),PROPER(Roster!B12)&\", \"&Roster!A12,\"\")","v":"Jess Claycomb, 10"},10,3,19,{"v":0.15789473684210525,"d":"16%"},34,54,{"v":0.6296296296296297,"d":"63%"},17,22,{"v":0.7727272727272727,"d":"77%"},94,15,24,39,29,8,0,13,22,9.4,1.5,2.4,3.9,2.9,0.8,{"v":0,"d":"0.0"},1.3,2.2,{"$f":"Roster!$B$1","v":"Upton"},1.9,2.2,{"v":0.5068493150684932,"d":"51%"},7.3,{"$f":"Roster!$D$2","v":"Northeast"},10]
[{"$f":"IF(OR(Roster!A13<>\"\",Roster!B13<>\"\"),PROPER(Roster!B13)&\", \"&Roster!A13,\"\")","v":"Maxx Cowger, 4"},1,0,0,"",0,0,"",0,0,"",0,0,0,0,0,0,0,0,0,{"v":0,"d":"0.0"},{"v":0,"d":"0.0"},{"v":0,"d":"0.0"},{"v":0,"d":"0.0"},{"v":0,"d":"0.0"},{"v":0,"d":"0.0"},{"v":0,"d":"0.0"},{"v":0,"d":"0.0"},{"v":0,"d":"0.0"},{"$f":"Roster!$B$1","v":"Upton"},{"v":0,"d":"0.0"},{"v":0,"d":"0.0"},{"v":0,"d":"0%"},{"v":0,"d":"0.0"},{"$f":"Roster!$D$2","v":"Northeast"},10]
[{"$f":"IF(OR(Roster!A14<>\"\",Roster!B14<>\"\"),PROPER(Roster!B14)&\", \"&Roster!A14,\"\")","v":"Brayden Bruce, 22"},10,6,24,{"v":0.25,"d":"25%"},5,14,{"v":0.35714285714285715,"d":"36%"},2,4,{"v":0.5,"d":"50%"},30,8,6,14,29,6,0,15,16,{"v":3,"d":"3.0"},0.8,0.6,1.4,2.9,0.6,{"v":0,"d":"0.0"},1.5,1.6,{"$f":"Roster!$B$1","v":"Upton"},2.4,0.4,{"v":0.2894736842105263,"d":"29%"},3.8,{"$f":"Roster!$D$2","v":"Northeast"},10]
[{"$f":"IF(OR(Roster!A15<>\"\",Roster!B15<>\"\"),PROPER(Roster!B15)&\", \"&Roster!A15,\"\")","v":"Jo Bishop, 30"},7,0,0,"",1,3,{"v":0.3333333333333333,"d":"33%"},2,2,{"v":1,"d":"100%"},4,3,5,8,1,2,0,3,5,{"v":0.5714285714285714,"d":"0.6"},{"v":0.42857142857142855,"d":"0.4"},{"v":0.7142857142857143,"d":"0.7"},{"v":1.1428571428571428,"d":"1.1"},{"v":0.14285714285714285,"d":"0.1"},{"v":0.2857142857142857,"d":"0.3"},{"v":0,"d":"0.0"},{"v":0.42857142857142855,"d":"0.4"},{"v":0.7142857142857143,"d":"0.7"},{"$f":"Roster!$B$1","v":"Upton"},{"v":0,"d":"0.0"},{"v":0.2857142857142857,"d":"0.3"},{"v":0.3333333333333333,"d":"33%"},{"v":0.42857142857142855,"d":"0.4"},{"$f":"Roster!$D$2","v":"Northeast"},10]
[{"$f":"IF(OR(Roster!A16<>\"\",Roster!B16<>\"\"),PROPER(Roster!B16)&\", \"&Roster!A16,\"\")","v":"Nolan Turner, 33"},7,0,1,{"v":0,"d":"0%"},0,4,{"v":0,"d":"0%"},0,1,{"v":0,"d":"0%"},0,2,8,10,2,1,1,2,11,{"v":0,"d":"0.0"},{"v":0.2857142857142857,"d":"0.3"},{"v":1.1428571428571428,"d":"1.1"},{"v":1.4285714285714286,"d":"1.4"},{"v":0.2857142857142857,"d":"0.3"},{"v":0.14285714285714285,"d":"0.1"},{"v":0.14285714285714285,"d":"0.1"},{"v":0.2857142857142857,"d":"0.3"},{"v":1.5714285714285714,"d":"1.6"},{"$f":"Roster!$B$1","v":"Upton"},{"v":0.14285714285714285,"d":"0.1"},{"v":0.14285714285714285,"d":"0.1"},{"v":0,"d":"0%"},{"v":0.7142857142857143,"d":"0.7"},{"$f":"Roster!$D$2","v":"Northeast"},10]
[{"$f":"IF(OR(Roster!A17<>\"\",Roster!B17<>\"\"),PROPER(Roster!B17)&\", \"&Roster!A17,\"\")","v":"Robert Crawford, 32"},6,0,2,{"v":0,"d":"0%"},3,6,{"v":0.5,"d":"50%"},0,2,{"v":0,"d":"0%"},6,1,4,5,2,0,0,7,4,{"v":1,"d":"1.0"},{"v":0.16666666666666666,"d":"0.2"},{"v":0.6666666666666666,"d":"0.7"},{"v":0.8333333333333334,"d":"0.8"},{"v":0.3333333333333333,"d":"0.3"},{"v":0,"d":"0.0"},{"v":0,"d":"0.0"},{"v":1.1666666666666667,"d":"1.2"},{"v":0.6666666666666666,"d":"0.7"},{"$f":"Roster!$B$1","v":"Upton"},{"v":0.3333333333333333,"d":"0.3"},{"v":0.3333333333333333,"d":"0.3"},{"v":0.375,"d":"38%"},{"v":1.3333333333333333,"d":"1.3"},{"$f":"Roster!$D$2","v":"Northeast"},10]
[{"$f":"IF(OR(Roster!A18<>\"\",Roster!B18<>\"\"),PROPER(Roster!B18)&\", \"&Roster!A18,\"\")","v":"Jace Bruce, 40"},5,0,5,{"v":0,"d":"0%"},1,2,{"v":0.5,"d":"50%"},0,0,"",2,0,1,1,2,2,0,1,1,0.4,{"v":0,"d":"0.0"},0.2,0.2,0.4,0.4,{"v":0,"d":"0.0"},0.2,0.2,{"$f":"Roster!$B$1","v":"Upton"},{"v":1,"d":"1.0"},{"v":0,"d":"0.0"},{"v":0.14285714285714285,"d":"14%"},1.4,{"$f":"Roster!$D$2","v":"Northeast"},10]
[{"$f":"IF(OR(Roster!A19<>\"\",Roster!B19<>\"\"),PROPER(Roster!B19)&\", \"&Roster!A19,\"\")","v":"Ethan Mills, 2"},5,0,1,{"v":0,"d":"0%"},1,1,{"v":1,"d":"100%"},0,0,"",2,1,0,1,0,0,0,1,0,0.4,0.2,{"v":0,"d":"0.0"},0.2,{"v":0,"d":"0.0"},{"v":0,"d":"0.0"},{"v":0,"d":"0.0"},0.2,{"v":0,"d":"0.0"},{"$f":"Roster!$B$1","v":"Upton"},0.2,{"v":0,"d":"0.0"},{"v":0.5,"d":"50%"},0.4,{"$f":"Roster!$D$2","v":"Northeast"},10]
[{"$f":"IF(OR(Roster!A20<>\"\",Roster!B20<>\"\"),PROPER(Roster!B20)&\", \"&Roster!A20,\"\")","v":"Bridger Alishouse, 2"},1,0,0,"",0,1,{"v":0,"d":"0%"},0,0,"",0,0,1,1,1,0,0,0,0,{"v":0,"d":"0.0"},{"v":0,"d":"0.0"},{"v":1,"d":"1.0"},{"v":1,"d":"1.0"},{"v":1,"d":"1.0"},{"v":0,"d":"0.0"},{"v":0,"d":"0.0"},{"v":0,"d":"0.0"},{"v":0,"d":"0.0"},{"$f":"Roster!$B$1","v":"Upton"},{"v":0,"d":"0.0"},{"v":0,"d":"0.0"},{"v":0,"d":"0%"},{"v":1,"d":"1.0"},{"$f":"Roster!$D$2","v":"Northeast"},10]
[{"$f":"IF(OR(Roster!A21<>\"\",Roster!B21<>\"\"),PROPER(Roster!B21)&\", \"&Roster!A21,\"\")","v":"Landon Keever, 4"},1,1,2,{"v":0.5,"d":"50%"},0,1,{"v":0,"d":"0%"},0,0,"",3,0,0,0,0,0,0,0,0,{"v":3,"d":"3.0"},{"v":0,"d":"0.0"},{"v":0,"d":"0.0"},{"v":0,"d":"0.0"},{"v":0,"d":"0.0"},{"v":0,"d":"0.0"},{"v":0,"d":"0.0"},{"v":0,"d":"0.0"},{"v":0,"d":"0.0"},{"$f":"Roster!$B$1","v":"Upton"},{"v":2,"d":"2.0"},{"v":0,"d":"0.0"},{"v":0.3333333333333333,"d":"33%"},{"v":3,"d":"3.0"},{"$f":"Roster!$D$2","v":"Northeast"},10]
[{"$f":"IF(OR(Roster!A22<>\"\",Roster!B22<>\"\"),PROPER(Roster!B22)&\", \"&Roster!A22,\"\")","v":"Dj Till, 4"},4,0,3,{"v":0,"d":"0%"},1,3,{"v":0.3333333333333333,"d":"33%"},0,0,"",2,2,1,3,0,1,0,0,0,0.5,0.5,{"v":0.25,"d":"0.3"},{"v":0.75,"d":"0.8"},{"v":0,"d":"0.0"},{"v":0.25,"d":"0.3"},{"v":0,"d":"0.0"},{"v":0,"d":"0.0"},{"v":0,"d":"0.0"},{"$f":"Roster!$B$1","v":"Upton"},{"v":0.75,"d":"0.8"},{"v":0,"d":"0.0"},{"v":0.16666666666666666,"d":"17%"},1.5,{"$f":"Roster!$D$2","v":"Northeast"},10]
[{"$f":"IF(OR(Roster!A23<>\"\",Roster!B23<>\"\"),PROPER(Roster!B23)&\", \"&Roster!A23,\"\")","v":""},0,0,0,"",0,0,"",0,0,"",0,0,0,0,0,0,0,0,0,"",{"v":0,"d":"0.0"},{"v":0,"d":"0.0"},{"v":0,"d":"0.0"},{"v":0,"d":"0.0"},{"v":0,"d":"0.0"},{"v":0,"d":"0.0"},{"v":0,"d":"0.0"},{"v":0,"d":"0.0"},{"$f":"Roster!$B$1","v":"Upton"},{"v":0,"d":"0.0"},{"v":0,"d":"0.0"},{"v":0,"d":"0%"},{"v":0,"d":"0.0"},{"$f":"Roster!$D$2","v":"Northeast"},10]
[{"$f":"IF(OR(Roster!A24<>\"\",Roster!B24<>\"\"),PROPER(Roster!B24)&\", \"&Roster!A24,\"\")","v":""},0,0,0,"",0,0,"",0,0,"",0,0,0,0,0,0,0,0,0,"",{"v":0,"d":"0.0"},{"v":0,"d":"0.0"},{"v":0,"d":"0.0"},{"v":0,"d":"0.0"},{"v":0,"d":"0.0"},{"v":0,"d":"0.0"},{"v":0,"d":"0.0"},{"v":0,"d":"0.0"},{"$f":"Roster!$B$1","v":"Upton"},{"v":0,"d":"0.0"},{"v":0,"d":"0.0"},{"v":0,"d":"0%"},{"v":0,"d":"0.0"},{"$f":"Roster!$D$2","v":"Northeast"},10]
[{"$f":"IF(OR(Roster!A25<>\"\",Roster!B25<>\"\"),PROPER(Roster!B25)&\", \"&Roster!A25,\"\")","v":""},0,0,0,"",0,0,"",0,0,"",0,0,0,0,0,0,0,0,0,"",{"v":0,"d":"0.0"},{"v":0,"d":"0.0"},{"v":0,"d":"0.0"},{"v":0,"d":"0.0"},{"v":0,"d":"0.0"},{"v":0,"d":"0.0"},{"v":0,"d":"0.0"},{"v":0,"d":"0.0"},{"$f":"Roster!$B$1","v":"Upton"},{"v":0,"d":"0.0"},{"v":0,"d":"0.0"},{"v":0,"d":"0%"},{"v":0,"d":"0.0"},{"$f":"Roster!$D$2","v":"Northeast"},10]
[{"$f":"IF(OR(Roster!A26<>\"\",Roster!B26<>\"\"),PROPER(Roster!B26)&\", \"&Roster!A26,\"\")","v":""},0,0,0,"",0,0,"",0,0,"",0,0,0,0,0,0,0,0,0,"",{"v":0,"d":"0.0"},{"v":0,"d":"0.0"},{"v":0,"d":"0.0"},{"v":0,"d":"0.0"},{"v":0,"d":"0.0"},{"v":0,"d":"0.0"},{"v":0,"d":"0.0"},{"v":0,"d":"0.0"},{"$f":"Roster!$B$1","v":"Upton"},{"v":0,"d":"0.0"},{"v":0,"d":"0.0"},{"v":0,"d":"0%"},{"v":0,"d":"0.0"},{"$f":"Roster!$D$2","v":"Northeast"},10]
[{"$f":"IF(OR(Roster!A27<>\"\",Roster!B27<>\"\"),PROPER(Roster!B27)&\", \"&Roster!A27,\"\")","v":""},0,0,0,"",0,0,"",0,0,"",0,0,0,0,0,0,0,0,0,"",{"v":0,"d":"0.0"},{"v":0,"d":"0.0"},{"v":0,"d":"0.0"},{"v":0,"d":"0.0"},{"v":0,"d":"0.0"},{"v":0,"d":"0.0"},{"v":0,"d":"0.0"},{"v":0,"d":"0.0"},{"$f":"Roster!$B$1","v":"Upton"},{"v":0,"d":"0.0"},{"v":0,"d":"0.0"},{"v":0,"d":"0%"},{"v":0,"d":"0.0"},{"$f":"Roster!$D$2","v":"Northeast"},10]
[{"$f":"IF(OR(Roster!A28<>\"\",Roster!B28<>\"\"),PROPER(Roster!B28)&\", \"&Roster!A28,\"\")","v":""},0,0,0,"",0,0,"",0,0,"",0,0,0,0,0,0,0,0,0,"",{"v":0,"d":"0.0"},{"v":0,"d":"0.0"},{"v":0,"d":"0.0"},{"v":0,"d":"0.0"},{"v":0,"d":"0.0"},{"v":0,"d":"0.0"},{"v":0,"d":"0.0"},{"v":0,"d":"0.0"},{"$f":"Roster!$B$1","v":"Upton"},{"v":0,"d":"0.0"},{"v":0,"d":"0.0"},{"v":0,"d":"0%"},{"v":0,"d":"0.0"},{"$f":"Roster!$D$2","v":"Northeast"},10]
[{"$f":"IF(OR(Roster!A29<>\"\",Roster!B29<>\"\"),PROPER(Roster!B29)&\", \"&Roster!A29,\"\")","v":""},0,0,0,"",0,0,"",0,0,"",0,0,0,0,0,0,0,0,0,"",{"v":0,"d":"0.0"},{"v":0,"d":"0.0"},{"v":0,"d":"0.0"},{"v":0,"d":"0.0"},{"v":0,"d":"0.0"},{"v":0,"d":"0.0"},{"v":0,"d":"0.0"},{"v":0,"d":"0.0"},{"$f":"Roster!$B$1","v":"Upton"},{"v":0,"d":"0.0"},{"v":0,"d":"0.0"},{"v":0,"d":"0%"},{"v":0,"d":"0.0"},{"$f":"Roster!$D$2","v":"Northeast"},10]
[{"$f":"IF(OR(Roster!A30<>\"\",Roster!B30<>\"\"),PROPER(Roster!B30)&\", \"&Roster!A30,\"\")","v":"Team, "},10,0,0,"",0,0,"",0,0,"",0,17,18,35,0,0,0,0,0,{"v":0,"d":"0.0"},1.7,1.8,3.5,{"v":0,"d":"0.0"},{"v":0,"d":"0.0"},{"v":0,"d":"0.0"},{"v":0,"d":"0.0"},{"v":0,"d":"0.0"},{"$f":"Roster!$B$1","v":"Upton"},{"v":0,"d":"0.0"},{"v":0,"d":"0.0"},{"v":0,"d":"0%"},{"v":0,"d":"0.0"},{"$f":"Roster!$D$2","v":"Northeast"},10]
["Team Totals",10,66,228,{"v":0.2894736842105263,"d":"29%"},194,366,{"v":0.5300546448087432,"d":"53%"},92,149,{"v":0.6174496644295302,"d":"62%"},{"$f":"SUMPRODUCT(SUMIF(INDIRECT(\"'\"&gamesheets&\"'!A2\"),\"R\",INDIRECT(\"'\"&gamesheets&\"'!q\"&ROW(Q31))))","v":678},145,233,378,186,102,14,138,141,{"$f":"SUMPRODUCT(SUMIF(INDIRECT(\"'\"&gamesheets&\"'!A2\"),\"R\",INDIRECT(\"'\"&gamesheets&\"'!q\"&ROW(Q31))))/SUMPRODUCT(COUNTIF(INDIRECT(\"'\"&gamesheets&\"'!A2\"),\"R\"))","v":67.8},{"$f":"IF($B31>0,M31/$B31,0)","v":14.5},23.3,37.8,18.6,10.2,1.4,13.8,14.1]
["Opponent Totals",10,52,162,{"v":0.32098765432098764,"d":"32%"},161,365,{"v":0.4410958904109589,"d":"44%"},70,131,{"v":0.5343511450381679,"d":"53%"},{"$f":"SUMPRODUCT(SUMIF(INDIRECT(\"'\"&gamesheets&\"'!A2\"),\"R\",INDIRECT(\"'\"&gamesheets&\"'!q\"&ROW(Q32))))","v":548},101,215,316,97,60,13,181,136,{"$f":"SUMPRODUCT(SUMIF(INDIRECT(\"'\"&gamesheets&\"'!A2\"),\"R\",INDIRECT(\"'\"&gamesheets&\"'!q\"&ROW(Q32))))/SUMPRODUCT(COUNTIF(INDIRECT(\"'\"&gamesheets&\"'!A2\"),\"R\"))","v":54.8},{"$f":"IF($B32>0,M32/$B32,0)","v":10.1},{"$f":"IF($B32>0,N32/$B32,0)","v":21.5},{"$f":"IF($B32>0,O32/$B32,0)","v":31.6},{"$f":"IF($B32>0,P32/$B32,0)","v":9.7},{"$f":"IF($B32>0,Q32/$B32,0)","v":{"v":6,"d":"6.0"}},{"$f":"IF($B32>0,R32/$B32,0)","v":1.3},{"$f":"IF($B32>0,S32/$B32,0)","v":18.1},{"$f":"IF($B32>0,T32/$B32,0)","v":13.6}]
[]
["Top 5 Performances - Team",{"$nulls":27},{"$f":"CONCATENATE(\"* minimum of \",TeamGameSummary!$D$2,\" attempts\")","v":"* minimum of 5 attempts"}]
["Opponent","Date",null,"Off. Points",null,null,"Opponent",null,null,"Date",null,"Def. Points",null,null,"Opponent",null,null,"Date",null,"Score Margin",null,null,"Opponent",null,null,"Date",null,"Assists"]
[{"$f":"TeamGameSummary!$C201","v":"Tongue River"},{"$f":"TeamGameSummary!$D201","v":"2018-02-02"},null,{"$f":"TeamGameSummary!$E201","v":83},null,null,{"$f":"TeamGameSummary!$U201","v":"Moorcroft"},null,null,{"$f":"TeamGameSummary!$V201","v":"2018-01-18"},null,{"$f":"TeamGameSummary!$W201","v":38},null,null,{"$f":"TeamGameSummary!$AA201","v":"Moorcroft"},null,null,{"$f":"TeamGameSummary!$AB201","v":"2018-01-18"},null,{"$f":"TeamGameSummary!$AC201","v":36},null,null,{"$f":"TeamGameSummary!$EK201","v":"Tongue River"},null,null,{"$f":"TeamGameSummary!$EL201","v":"2018-02-02"},null,{"$f":"TeamGameSummary!$EM201","v":28}]
[{"$f":"TeamGameSummary!$C202","v":"Tongue River"},{"$f":"TeamGameSummary!$D202","v":"2018-02-17"},null,{"$f":"TeamGameSummary!$E202","v":81},null,null,{"$f":"TeamGameSummary!$U202","v":"Moorcroft"},null,null,{"$f":"TeamGameSummary!$V202","v":"2018-02-01"},null,{"$f":"TeamGameSummary!$W202","v":41},null,null,{"$f":"TeamGameSummary!$AA202","v":"Sundance"},null,null,{"$f":"TeamGameSummary!$AB202","v":"2018-01-25"},null,{"$f":"TeamGameSummary!$AC202","v":29},null,null,{"$f":"TeamGameSummary!$EK202","v":"Tongue River"},null,null,{"$f":"TeamGameSummary!$EL202","v":"2018-02-17"},null,{"$f":"TeamGameSummary!$EM202","v":24}]
[{"$f":"TeamGameSummary!$C203","v":"Sundance"},{"$f":"TeamGameSummary!$D203","v":"2018-01-25"},null,{"$f":"TeamGameSummary!$E203","v":76},null,null,{"$f":"TeamGameSummary!$U203","v":"Sundance"},null,null,{"$f":"TeamGameSummary!$V203","v":"2018-01-25"},null,{"$f":"TeamGameSummary!$W203","v":47},null,null,{"$f":"TeamGameSummary!$AA203","v":"Tongue River"},null,null,{"$f":"TeamGameSummary!$AB203","v":"2018-02-17"},null,{"$f":"TeamGameSummary!$AC203","v":24},null,null,{"$f":"TeamGameSummary!$EK203","v":"Moorcroft"},null,null,{"$f":"TeamGameSummary!$EL203","v":"2018-01-18"},null,{"$f":"TeamGameSummary!$EM203","v":24}]
[{"$f":"TeamGameSummary!$C204","v":"Moorcroft"},{"$f":"TeamGameSummary!$D204","v":"2018-01-18"},null,{"$f":"TeamGameSummary!$E204","v":74},null,null,{"$f":"TeamGameSummary!$U204","v":"Sundance"},null,null,{"$f":"TeamGameSummary!$V204","v":"2018-02-06"},null,{"$f":"TeamGameSummary!$W204","v":49},null,null,{"$f":"TeamGameSummary!$AA204","v":"Moorcroft"},null,null,{"$f":"TeamGameSummary!$AB204","v":"2018-02-01"},null,{"$f":"TeamGameSummary!$AC204","v":23},null,null,{"$f":"TeamGameSummary!$EK204","v":"Sundance"},null,null,{"$f":"TeamGameSummary!$EL204","v":"2018-01-25"},null,{"$f":"TeamGameSummary!$EM204","v":21}]
[{"$f":"TeamGameSummary!$C205","v":"Sundance"},{"$f":"TeamGameSummary!$D205","v":"2018-02-06"},null,{"$f":"TeamGameSummary!$E205","v":69},null,null,{"$f":"TeamGameSummary!$U205","v":"Big Horn"},null,null,{"$f":"TeamGameSummary!$V205","v":"2018-02-16"},null,{"$f":"TeamGameSummary!$W205","v":52},null,null,{"$f":"TeamGameSummary!$AA205","v":"Sundance"},null,null,{"$f":"TeamGameSummary!$AB205","v":"2018-02-06"},null,{"$f":"TeamGameSummary!$AC205","v":20},null,null,{"$f":"TeamGameSummary!$EK205","v":"Big Horn"},null,null,{"$f":"TeamGameSummary!$EL205","v":"2018-01-27"},null,{"$f":"TeamGameSummary!$EM205","v":20}]
[]
["Opponent","Date",null,"FG%*",null,null,"Opponent",null,null,"Date",null,"Def. FG%*",null,null,"Opponent",null,null,"Date",null,"Rebounds",null,null,"Opponent",null,null,"Date",null,"Off. Rebs"]
[{"$f":"TeamGameSummary!$GN201","v":"Tongue River"},{"$f":"TeamGameSummary!$GO201","v":"2018-02-02"},null,{"$f":"TeamGameSummary!$GP201","v":{"v":0.5645161290322581,"d":"56%"}},null,null,{"$f":"TeamGameSummary!$GT201","v":"Moorcroft"},null,null,{"$f":"TeamGameSummary!$GU201","v":"2018-01-18"},null,{"$f":"TeamGameSummary!$GV201","v":{"v":0.29411764705882354,"d":"29%"}},null,null,{"$f":"TeamGameSummary!$AG201","v":"Tongue River"},null,null,{"$f":"TeamGameSummary!$AH201","v":"2018-02-17"},null,{"$f":"TeamGameSummary!$AI201","v":45},null,null,{"$f":"TeamGameSummary!$BE201","v":"Wright"},null,null,{"$f":"TeamGameSummary!$BF201","v":"2018-02-08"},null,{"$f":"TeamGameSummary!$BG201","v":20}]
[{"$f":"TeamGameSummary!$GN202","v":"Moorcroft"},{"$f":"TeamGameSummary!$GO202","v":"2018-01-18"},null,{"$f":"TeamGameSummary!$GP202","v":{"v":0.4918032786885246,"d":"49%"}},null,null,{"$f":"TeamGameSummary!$GT202","v":"Moorcroft"},null,null,{"$f":"TeamGameSummary!$GU202","v":"2018-02-01"},null,{"$f":"TeamGameSummary!$GV202","v":{"v":0.34,"d":"34%"}},null,null,{"$f":"TeamGameSummary!$AG202","v":"Sundance"},null,null,{"$f":"TeamGameSummary!$AH202","v":"2018-02-06"},null,{"$f":"TeamGameSummary!$AI202","v":44},null,null,{"$f":"TeamGameSummary!$BE202","v":"Sundance"},null,null,{"$f":"TeamGameSummary!$BF202","v":"2018-02-06"},null,{"$f":"TeamGameSummary!$BG202","v":20}]
[{"$f":"TeamGameSummary!$GN203","v":"Tongue River"},{"$f":"TeamGameSummary!$GO203","v":"2018-02-17"},null,{"$f":"TeamGameSummary!$GP203","v":{"v":0.4782608695652174,"d":"48%"}},null,null,{"$f":"TeamGameSummary!$GT203","v":"Tongue River"},null,null,{"$f":"TeamGameSummary!$GU203","v":"2018-02-17"},null,{"$f":"TeamGameSummary!$GV203","v":{"v":0.3508771929824561,"d":"35%"}},null,null,{"$f":"TeamGameSummary!$AG203","v":"Moorcroft"},null,null,{"$f":"TeamGameSummary!$AH203","v":"2018-01-18"},null,{"$f":"TeamGameSummary!$AI203","v":43},null,null,{"$f":"TeamGameSummary!$BE203","v":"Wright"},null,null,{"$f":"TeamGameSummary!$BF203","v":"2018-01-20"},null,{"$f":"TeamGameSummary!$BG203","v":18}]
[{"$f":"TeamGameSummary!$GN204","v":"Sundance"},{"$f":"TeamGameSummary!$GO204","v":"2018-01-25"},null,{"$f":"TeamGameSummary!$GP204","v":{"v":0.4745762711864407,"d":"47%"}},null,null,{"$f":"TeamGameSummary!$GT204","v":"Sundance"},null,null,{"$f":"TeamGameSummary!$GU204","v":"2018-01-25"},null,{"$f":"TeamGameSummary!$GV204","v":{"v":0.36585365853658536,"d":"37%"}},null,null,{"$f":"TeamGameSummary!$AG204","v":"Big Horn"},null,null,{"$f":"TeamGameSummary!$AH204","v":"2018-01-27"},null,{"$f":"TeamGameSummary!$AI204","v":41},null,null,{"$f":"TeamGameSummary!$BE204","v":"Tongue River"},null,null,{"$f":"TeamGameSummary!$BF204","v":"2018-02-17"},null,{"$f":"TeamGameSummary!$BG204","v":15}]
[{"$f":"TeamGameSummary!$GN205","v":"Moorcroft"},{"$f":"TeamGameSummary!$GO205","v":"2018-02-01"},null,{"$f":"TeamGameSummary!$GP205","v":{"v":0.4666666666666667,"d":"47%"}},null,null,{"$f":"TeamGameSummary!$GT205","v":"Big Horn"},null,null,{"$f":"TeamGameSummary!$GU205","v":"2018-01-27"},null,{"$f":"TeamGameSummary!$GV205","v":{"v":0.3698630136986301,"d":"37%"}},null,null,{"$f":"TeamGameSummary!$AG205","v":"Moorcroft"},null,null,{"$f":"TeamGameSummary!$AH205","v":"2018-02-01"},null,{"$f":"TeamGameSummary!$AI205","v":39},null,null,{"$f":"TeamGameSummary!$BE205","v":"Big Horn"},null,null,{"$f":"TeamGameSummary!$BF205","v":"2018-01-27"},null,{"$f":"TeamGameSummary!$BG205","v":15}]
[]
["Opponent","Date",null,"FT%*",null,null,"Opponent",null,null,"Date",null,"3FG%*",null,null,"Opponent",null,null,"Date",null,"Def. Rebs",null,null,"Opponent",null,null,"Date",null,"Reb Margin"]
[{"$f":"TeamGameSummary!$HL201","v":"Sundance"},{"$f":"TeamGameSummary!$HM201","v":"2018-01-25"},null,{"$f":"TeamGameSummary!$HN201","v":{"v":0.7692307692307693,"d":"77%"}},null,null,{"$f":"TeamGameSummary!$ID201","v":"Big Horn"},null,null,{"$f":"TeamGameSummary!$IE201","v":"2018-01-27"},null,{"$f":"TeamGameSummary!$IF201","v":{"v":0.4583333333333333,"d":"46%"}},null,null,{"$f":"TeamGameSummary!$CC201","v":"Tongue River"},null,null,{"$f":"TeamGameSummary!$CD201","v":"2018-02-17"},null,{"$f":"TeamGameSummary!$CE201","v":30},null,null,{"$f":"TeamGameSummary!$DA201","v":"Sundance"},null,null,{"$f":"TeamGameSummary!$DB201","v":"2018-02-06"},null,{"$f":"TeamGameSummary!$DC201","v":19}]
[{"$f":"TeamGameSummary!$HL202","v":"Wright"},{"$f":"TeamGameSummary!$HM202","v":"2018-01-20"},null,{"$f":"TeamGameSummary!$HN202","v":{"v":0.7647058823529411,"d":"76%"}},null,null,{"$f":"TeamGameSummary!$ID202","v":"Moorcroft"},null,null,{"$f":"TeamGameSummary!$IE202","v":"2018-01-18"},null,{"$f":"TeamGameSummary!$IF202","v":{"v":0.42105263157894735,"d":"42%"}},null,null,{"$f":"TeamGameSummary!$CC202","v":"Moorcroft"},null,null,{"$f":"TeamGameSummary!$CD202","v":"2018-01-18"},null,{"$f":"TeamGameSummary!$CE202","v":29},null,null,{"$f":"TeamGameSummary!$DA202","v":"Moorcroft"},null,null,{"$f":"TeamGameSummary!$DB202","v":"2018-01-18"},null,{"$f":"TeamGameSummary!$DC202","v":14}]
[{"$f":"TeamGameSummary!$HL203","v":"Big Horn"},{"$f":"TeamGameSummary!$HM203","v":"2018-02-16"},null,{"$f":"TeamGameSummary!$HN203","v":{"v":0.7222222222222222,"d":"72%"}},null,null,{"$f":"TeamGameSummary!$ID203","v":"Sundance"},null,null,{"$f":"TeamGameSummary!$IE203","v":"2018-01-25"},null,{"$f":"TeamGameSummary!$IF203","v":{"v":0.3448275862068966,"d":"34%"}},null,null,{"$f":"TeamGameSummary!$CC203","v":"Big Horn"},null,null,{"$f":"TeamGameSummary!$CD203","v":"2018-01-27"},null,{"$f":"TeamGameSummary!$CE203","v":26},null,null,{"$f":"TeamGameSummary!$DA203","v":"Tongue River"},null,null,{"$f":"TeamGameSummary!$DB203","v":"2018-02-17"},null,{"$f":"TeamGameSummary!$DC203","v":13}]
[{"$f":"TeamGameSummary!$HL204","v":"Wright"},{"$f":"TeamGameSummary!$HM204","v":"2018-02-08"},null,{"$f":"TeamGameSummary!$HN204","v":{"v":0.6896551724137931,"d":"69%"}},null,null,{"$f":"TeamGameSummary!$ID204","v":"Tongue River"},null,null,{"$f":"TeamGameSummary!$IE204","v":"2018-02-02"},null,{"$f":"TeamGameSummary!$IF204","v":{"v":0.3333333333333333,"d":"33%"}},null,null,{"$f":"TeamGameSummary!$CC204","v":"Sundance"},null,null,{"$f":"TeamGameSummary!$CD204","v":"2018-01-25"},null,{"$f":"TeamGameSummary!$CE204","v":25},null,null,{"$f":"TeamGameSummary!$DA204","v":"Moorcroft"},null,null,{"$f":"TeamGameSummary!$DB204","v":"2018-02-01"},null,{"$f":"TeamGameSummary!$DC204","v":10}]
[{"$f":"TeamGameSummary!$HL205","v":"Moorcroft"},{"$f":"TeamGameSummary!$HM205","v":"2018-02-01"},null,{"$f":"TeamGameSummary!$HN205","v":{"v":0.6363636363636364,"d":"64%"}},null,null,{"$f":"TeamGameSummary!$ID205","v":"Big Horn"},null,null,{"$f":"TeamGameSummary!$IE205","v":"2018-02-16"},null,{"$f":"TeamGameSummary!$IF205","v":{"v":0.3076923076923077,"d":"31%"}},null,null,{"$f":"TeamGameSummary!$CC205","v":"Moorcroft"},null,null,{"$f":"TeamGameSummary!$CD205","v":"2018-02-01"},null,{"$f":"TeamGameSummary!$CE205","v":25},null,null,{"$f":"TeamGameSummary!$DA205","v":"Big Horn"},null,null,{"$f":"TeamGameSummary!$DB205","v":"2018-02-16"},null,{"$f":"TeamGameSummary!$DC205","v":5}]
[]
["Opponent","Date",null,"FTM",null,null,"Opponent",null,null,"Date",null,"3FGM",null,null,"Opponent",null,null,"Date",null,"Steals",null,null,"Opponent",null,null,"Date",null,"Blocks"]
[{"$f":"TeamGameSummary!$GZ201","v":"Wright"},{"$f":"TeamGameSummary!$HA201","v":"2018-02-08"},null,{"$f":"TeamGameSummary!$HB201","v":20},null,null,{"$f":"TeamGameSummary!$HR201","v":"Big Horn"},null,null,{"$f":"TeamGameSummary!$HS201","v":"2018-01-27"},null,{"$f":"TeamGameSummary!$HT201","v":11},null,null,{"$f":"TeamGameSummary!$EQ201","v":"Sundance"},null,null,{"$f":"TeamGameSummary!$ER201","v":"2018-01-25"},null,{"$f":"TeamGameSummary!$ES201","v":16},null,null,{"$f":"TeamGameSummary!$EW201","v":"Moorcroft"},null,null,{"$f":"TeamGameSummary!$EX201","v":"2018-02-01"},null,{"$f":"TeamGameSummary!$EY201","v":5}]
[{"$f":"TeamGameSummary!$GZ202","v":"Big Horn"},{"$f":"TeamGameSummary!$HA202","v":"2018-02-16"},null,{"$f":"TeamGameSummary!$HB202","v":13},null,null,{"$f":"TeamGameSummary!$HR202","v":"Sundance"},null,null,{"$f":"TeamGameSummary!$HS202","v":"2018-01-25"},null,{"$f":"TeamGameSummary!$HT202","v":10},null,null,{"$f":"TeamGameSummary!$EQ202","v":"Moorcroft"},null,null,{"$f":"TeamGameSummary!$ER202","v":"2018-01-18"},null,{"$f":"TeamGameSummary!$ES202","v":13},null,null,{"$f":"TeamGameSummary!$EW202","v":"Wright"},null,null,{"$f":"TeamGameSummary!$EX202","v":"2018-02-08"},null,{"$f":"TeamGameSummary!$EY202","v":3}]
[{"$f":"TeamGameSummary!$GZ203","v":"Wright"},{"$f":"TeamGameSummary!$HA203","v":"2018-01-20"},null,{"$f":"TeamGameSummary!$HB203","v":13},null,null,{"$f":"TeamGameSummary!$HR203","v":"Tongue River"},null,null,{"$f":"TeamGameSummary!$HS203","v":"2018-02-02"},null,{"$f":"TeamGameSummary!$HT203","v":8},null,null,{"$f":"TeamGameSummary!$EQ203","v":"Tongue River"},null,null,{"$f":"TeamGameSummary!$ER203","v":"2018-02-02"},null,{"$f":"TeamGameSummary!$ES203","v":13},null,null,{"$f":"TeamGameSummary!$EW203","v":"Big Horn"},null,null,{"$f":"TeamGameSummary!$EX203","v":"2018-01-27"},null,{"$f":"TeamGameSummary!$EY203","v":3}]
[{"$f":"TeamGameSummary!$GZ204","v":"Sundance"},{"$f":"TeamGameSummary!$HA204","v":"2018-01-25"},null,{"$f":"TeamGameSummary!$HB204","v":10},null,null,{"$f":"TeamGameSummary!$HR204","v":"Moorcroft"},null,null,{"$f":"TeamGameSummary!$HS204","v":"2018-01-18"},null,{"$f":"TeamGameSummary!$HT204","v":8},null,null,{"$f":"TeamGameSummary!$EQ204","v":"Moorcroft"},null,null,{"$f":"TeamGameSummary!$ER204","v":"2018-02-01"},null,{"$f":"TeamGameSummary!$ES204","v":13},null,null,{"$f":"TeamGameSummary!$EW204","v":"Big Horn"},null,null,{"$f":"TeamGameSummary!$EX204","v":"2018-02-16"},null,{"$f":"TeamGameSummary!$EY204","v":1}]
[{"$f":"TeamGameSummary!$GZ205","v":"Tongue River"},{"$f":"TeamGameSummary!$HA205","v":"2018-02-17"},null,{"$f":"TeamGameSummary!$HB205","v":9},null,null,{"$f":"TeamGameSummary!$HR205","v":"Wright"},null,null,{"$f":"TeamGameSummary!$HS205","v":"2018-02-08"},null,{"$f":"TeamGameSummary!$HT205","v":6},null,null,{"$f":"TeamGameSummary!$EQ205","v":"Wright"},null,null,{"$f":"TeamGameSummary!$ER205","v":"2018-02-08"},null,{"$f":"TeamGameSummary!$ES205","v":12},null,null,{"$f":"TeamGameSummary!$EW205","v":"Wright"},null,null,{"$f":"TeamGameSummary!$EX205","v":"2018-01-20"},null,{"$f":"TeamGameSummary!$EY205","v":1}]
[]
[]
["Top 5 Performances - Player",{"$nulls":27},{"$f":"CONCATENATE(\"* minimum of \",PlayerGameSummary!$D$2,\" attempts\")","v":"* minimum of 5 attempts"}]
["Player","Opponent",null,null,"Date",null,"Points",null,null,"Player",null,null,"Opponent",null,null,"Date",null,"Assists",null,null,"Player",null,null,"Opponent",null,null,"Date",null,"Steals"]
[{"$f":"PlayerGameSummary!$B2001","v":"Payton Watt, 24"},{"$f":"PlayerGameSummary!$D2001","v":"Sundance"},{"$f":"PlayerGameSummary!$B1001","v":"Clayton Louderback, 23"},{"$f":"PlayerGameSummary!$B1001","v":"Clayton Louderback, 23"},{"$f":"PlayerGameSummary!$E2001","v":"2018-01-25"},{"$f":"PlayerGameSummary!$B1001","v":"Clayton Louderback, 23"},{"$f":"PlayerGameSummary!$F2001","v":29},{"$f":"PlayerGameSummary!$B1001","v":"Clayton Louderback, 23"},null,{"$f":"PlayerGameSummary!$W2001","v":"Dillon Barritt, 20"},{"$f":"PlayerGameSummary!$B1001","v":"Clayton Louderback, 23"},{"$f":"PlayerGameSummary!$B1001","v":"Clayton Louderback, 23"},{"$f":"PlayerGameSummary!$Y2001","v":"Moorcroft"},{"$f":"PlayerGameSummary!$B1001","v":"Clayton Louderback, 23"},{"$f":"PlayerGameSummary!$B1001","v":"Clayton Louderback, 23"},{"$f":"PlayerGameSummary!$Z2001","v":"2018-02-01"},{"$f":"PlayerGameSummary!$B1001","v":"Clayton Louderback, 23"},{"$f":"PlayerGameSummary!$AA2001","v":7},{"$f":"PlayerGameSummary!$B1001","v":"Clayton Louderback, 23"},null,{"$f":"PlayerGameSummary!$AD2001","v":"Dillon Barritt, 20"},{"$f":"PlayerGameSummary!$B1001","v":"Clayton Louderback, 23"},{"$f":"PlayerGameSummary!$B1001","v":"Clayton Louderback, 23"},{"$f":"PlayerGameSummary!$AF2001","v":"Sundance"},{"$f":"PlayerGameSummary!$B1001","v":"Clayton Louderback, 23"},{"$f":"PlayerGameSummary!$B1001","v":"Clayton Louderback, 23"},{"$f":"PlayerGameSummary!$AG2001","v":"2018-01-25"},{"$f":"PlayerGameSummary!$B1001","v":"Clayton Louderback, 23"},{"$f":"PlayerGameSummary!$AH2001","v":6}]
[{"$f":"PlayerGameSummary!$B2002","v":"Clayton Louderback, 23"},{"$f":"PlayerGameSummary!$D2002","v":"Moorcroft"},{"$f":"PlayerGameSummary!$B1002","v":"Payton Watt, 24"},{"$f":"PlayerGameSummary!$B1002","v":"Payton Watt, 24"},{"$f":"PlayerGameSummary!$E2002","v":"2018-02-01"},{"$f":"PlayerGameSummary!$B1002","v":"Payton Watt, 24"},{"$f":"PlayerGameSummary!$F2002","v":27},{"$f":"PlayerGameSummary!$B1002","v":"Payton Watt, 24"},null,{"$f":"PlayerGameSummary!$W2002","v":"Dawson Butts, 14"},{"$f":"PlayerGameSummary!$B1002","v":"Payton Watt, 24"},{"$f":"PlayerGameSummary!$B1002","v":"Payton Watt, 24"},{"$f":"PlayerGameSummary!$Y2002","v":"Big Horn"},{"$f":"PlayerGameSummary!$B1002","v":"Payton Watt, 24"},{"$f":"PlayerGameSummary!$B1002","v":"Payton Watt, 24"},{"$f":"PlayerGameSummary!$Z2002","v":"2018-01-27"},{"$f":"PlayerGameSummary!$B1002","v":"Payton Watt, 24"},{"$f":"PlayerGameSummary!$AA2002","v":7},{"$f":"PlayerGameSummary!$B1002","v":"Payton Watt, 24"},null,{"$f":"PlayerGameSummary!$AD2002","v":"Clayton Louderback, 23"},{"$f":"PlayerGameSummary!$B1002","v":"Payton Watt, 24"},{"$f":"PlayerGameSummary!$B1002","v":"Payton Watt, 24"},{"$f":"PlayerGameSummary!$AF2002","v":"Tongue River"},{"$f":"PlayerGameSummary!$B1002","v":"Payton Watt, 24"},{"$f":"PlayerGameSummary!$B1002","v":"Payton Watt, 24"},{"$f":"PlayerGameSummary!$AG2002","v":"2018-02-02"},{"$f":"PlayerGameSummary!$B1002","v":"Payton Watt, 24"},{"$f":"PlayerGameSummary!$AH2002","v":5}]
[{"$f":"PlayerGameSummary!$B2003","v":"Clayton Louderback, 23"},{"$f":"PlayerGameSummary!$D2003","v":"Tongue River"},{"$f":"PlayerGameSummary!$B1003","v":"Payton Watt, 24"},{"$f":"PlayerGameSummary!$B1003","v":"Payton Watt, 24"},{"$f":"PlayerGameSummary!$E2003","v":"2018-02-02"},{"$f":"PlayerGameSummary!$B1003","v":"Payton Watt, 24"},{"$f":"PlayerGameSummary!$F2003","v":25},{"$f":"PlayerGameSummary!$B1003","v":"Payton Watt, 24"},null,{"$f":"PlayerGameSummary!$W2003","v":"Dawson Butts, 14"},{"$f":"PlayerGameSummary!$B1003","v":"Payton Watt, 24"},{"$f":"PlayerGameSummary!$B1003","v":"Payton Watt, 24"},{"$f":"PlayerGameSummary!$Y2003","v":"Tongue River"},{"$f":"PlayerGameSummary!$B1003","v":"Payton Watt, 24"},{"$f":"PlayerGameSummary!$B1003","v":"Payton Watt, 24"},{"$f":"PlayerGameSummary!$Z2003","v":"2018-02-17"},{"$f":"PlayerGameSummary!$B1003","v":"Payton Watt, 24"},{"$f":"PlayerGameSummary!$AA2003","v":7},{"$f":"PlayerGameSummary!$B1003","v":"Payton Watt, 24"},null,{"$f":"PlayerGameSummary!$AD2003","v":"Clayton Louderback, 23"},{"$f":"PlayerGameSummary!$B1003","v":"Payton Watt, 24"},{"$f":"PlayerGameSummary!$B1003","v":"Payton Watt, 24"},{"$f":"PlayerGameSummary!$AF2003","v":"Sundance"},{"$f":"PlayerGameSummary!$B1003","v":"Payton Watt, 24"},{"$f":"PlayerGameSummary!$B1003","v":"Payton Watt, 24"},{"$f":"PlayerGameSummary!$AG2003","v":"2018-01-25"},{"$f":"PlayerGameSummary!$B1003","v":"Payton Watt, 24"},{"$f":"PlayerGameSummary!$AH2003","v":5}]
[{"$f":"PlayerGameSummary!$B2004","v":"Payton Watt, 24"},{"$f":"PlayerGameSummary!$D2004","v":"Tongue River"},{"$f":"PlayerGameSummary!$B1004","v":"Payton Watt, 24"},{"$f":"PlayerGameSummary!$B1004","v":"Payton Watt, 24"},{"$f":"PlayerGameSummary!$E2004","v":"2018-02-17"},{"$f":"PlayerGameSummary!$B1004","v":"Payton Watt, 24"},{"$f":"PlayerGameSummary!$F2004","v":24},{"$f":"PlayerGameSummary!$B1004","v":"Payton Watt, 24"},null,{"$f":"PlayerGameSummary!$W2004","v":"Jess Claycomb, 10"},{"$f":"PlayerGameSummary!$B1004","v":"Payton Watt, 24"},{"$f":"PlayerGameSummary!$B1004","v":"Payton Watt, 24"},{"$f":"PlayerGameSummary!$Y2004","v":"Moorcroft"},{"$f":"PlayerGameSummary!$B1004","v":"Payton Watt, 24"},{"$f":"PlayerGameSummary!$B1004","v":"Payton Watt, 24"},{"$f":"PlayerGameSummary!$Z2004","v":"2018-01-18"},{"$f":"PlayerGameSummary!$B1004","v":"Payton Watt, 24"},{"$f":"PlayerGameSummary!$AA2004","v":7},{"$f":"PlayerGameSummary!$B1004","v":"Payton Watt, 24"},null,{"$f":"PlayerGameSummary!$AD2004","v":"Clayton Louderback, 23"},{"$f":"PlayerGameSummary!$B1004","v":"Payton Watt, 24"},{"$f":"PlayerGameSummary!$B1004","v":"Payton Watt, 24"},{"$f":"PlayerGameSummary!$AF2004","v":"Sundance"},{"$f":"PlayerGameSummary!$B1004","v":"Payton Watt, 24"},{"$f":"PlayerGameSummary!$B1004","v":"Payton Watt, 24"},{"$f":"PlayerGameSummary!$AG2004","v":"2018-02-06"},{"$f":"PlayerGameSummary!$B1004","v":"Payton Watt, 24"},{"$f":"PlayerGameSummary!$AH2004","v":4}]
[{"$f":"PlayerGameSummary!$B2005","v":"Payton Watt, 24"},{"$f":"PlayerGameSummary!$D2005","v":"Wright"},{"$f":"PlayerGameSummary!$B1005","v":"Clayton Louderback, 23"},{"$f":"PlayerGameSummary!$B1005","v":"Clayton Louderback, 23"},{"$f":"PlayerGameSummary!$E2005","v":"2018-02-08"},{"$f":"PlayerGameSummary!$B1005","v":"Clayton Louderback, 23"},{"$f":"PlayerGameSummary!$F2005","v":23},{"$f":"PlayerGameSummary!$B1005","v":"Clayton Louderback, 23"},null,{"$f":"PlayerGameSummary!$W2005","v":"Dawson Butts, 14"},{"$f":"PlayerGameSummary!$B1005","v":"Clayton Louderback, 23"},{"$f":"PlayerGameSummary!$B1005","v":"Clayton Louderback, 23"},{"$f":"PlayerGameSummary!$Y2005","v":"Tongue River"},{"$f":"PlayerGameSummary!$B1005","v":"Clayton Louderback, 23"},{"$f":"PlayerGameSummary!$B1005","v":"Clayton Louderback, 23"},{"$f":"PlayerGameSummary!$Z2005","v":"2018-02-02"},{"$f":"PlayerGameSummary!$B1005","v":"Clayton Louderback, 23"},{"$f":"PlayerGameSummary!$AA2005","v":7},{"$f":"PlayerGameSummary!$B1005","v":"Clayton Louderback, 23"},null,{"$f":"PlayerGameSummary!$AD2005","v":"Dawson Butts, 14"},{"$f":"PlayerGameSummary!$B1005","v":"Clayton Louderback, 23"},{"$f":"PlayerGameSummary!$B1005","v":"Clayton Louderback, 23"},{"$f":"PlayerGameSummary!$AF2005","v":"Tongue River"},{"$f":"PlayerGameSummary!$B1005","v":"Clayton Louderback, 23"},{"$f":"PlayerGameSummary!$B1005","v":"Clayton Louderback, 23"},{"$f":"PlayerGameSummary!$AG2005","v":"2018-02-02"},{"$f":"PlayerGameSummary!$B1005","v":"Clayton Louderback, 23"},{"$f":"PlayerGameSummary!$AH2005","v":4}]
[]
["Player","Opponent",null,null,"Date",null,"Rebs",null,null,"Player",null,null,"Opponent",null,null,"Date",null,"Off. Rebs",null,null,"Player",null,null,"Opponent",null,null,"Date",null,"Block"]
[{"$f":"PlayerGameSummary!$I2001","v":"Payton Watt, 24"},{"$f":"PlayerGameSummary!$K2001","v":"Tongue River"},{"$f":"PlayerGameSummary!$B1008","v":"Payton Watt, 24"},{"$f":"PlayerGameSummary!$B1008","v":"Payton Watt, 24"},{"$f":"PlayerGameSummary!$L2001","v":"2018-02-17"},{"$f":"PlayerGameSummary!$B1008","v":"Payton Watt, 24"},{"$f":"PlayerGameSummary!$M2001","v":17},{"$f":"PlayerGameSummary!$B1008","v":"Payton Watt, 24"},null,{"$f":"PlayerGameSummary!$P2001","v":"Clayton Louderback, 23"},{"$f":"PlayerGameSummary!$B1008","v":"Payton Watt, 24"},{"$f":"PlayerGameSummary!$B1008","v":"Payton Watt, 24"},{"$f":"PlayerGameSummary!$R2001","v":"Wright"},{"$f":"PlayerGameSummary!$B1008","v":"Payton Watt, 24"},{"$f":"PlayerGameSummary!$B1008","v":"Payton Watt, 24"},{"$f":"PlayerGameSummary!$S2001","v":"2018-02-08"},{"$f":"PlayerGameSummary!$B1008","v":"Payton Watt, 24"},{"$f":"PlayerGameSummary!$T2001","v":7},{"$f":"PlayerGameSummary!$B1008","v":"Payton Watt, 24"},null,{"$f":"PlayerGameSummary!$AK2001","v":"Payton Watt, 24"},{"$f":"PlayerGameSummary!$B1008","v":"Payton Watt, 24"},{"$f":"PlayerGameSummary!$B1008","v":"Payton Watt, 24"},{"$f":"PlayerGameSummary!$AM2001","v":"Moorcroft"},{"$f":"PlayerGameSummary!$B1008","v":"Payton Watt, 24"},{"$f":"PlayerGameSummary!$B1008","v":"Payton Watt, 24"},{"$f":"PlayerGameSummary!$AN2001","v":"2018-02-01"},{"$f":"PlayerGameSummary!$B1008","v":"Payton Watt, 24"},{"$f":"PlayerGameSummary!$AO2001","v":3}]
[{"$f":"PlayerGameSummary!$I2002","v":"Clayton Louderback, 23"},{"$f":"PlayerGameSummary!$K2002","v":"Big Horn"},{"$f":"PlayerGameSummary!$B1009","v":"Payton Watt, 24"},{"$f":"PlayerGameSummary!$B1009","v":"Payton Watt, 24"},{"$f":"PlayerGameSummary!$L2002","v":"2018-01-27"},{"$f":"PlayerGameSummary!$B1009","v":"Payton Watt, 24"},{"$f":"PlayerGameSummary!$M2002","v":13},{"$f":"PlayerGameSummary!$B1009","v":"Payton Watt, 24"},null,{"$f":"PlayerGameSummary!$P2002","v":"Payton Watt, 24"},{"$f":"PlayerGameSummary!$B1009","v":"Payton Watt, 24"},{"$f":"PlayerGameSummary!$B1009","v":"Payton Watt, 24"},{"$f":"PlayerGameSummary!$R2002","v":"Sundance"},{"$f":"PlayerGameSummary!$B1009","v":"Payton Watt, 24"},{"$f":"PlayerGameSummary!$B1009","v":"Payton Watt, 24"},{"$f":"PlayerGameSummary!$S2002","v":"2018-02-06"},{"$f":"PlayerGameSummary!$B1009","v":"Payton Watt, 24"},{"$f":"PlayerGameSummary!$T2002","v":6},{"$f":"PlayerGameSummary!$B1009","v":"Payton Watt, 24"},null,{"$f":"PlayerGameSummary!$AK2002","v":"Payton Watt, 24"},{"$f":"PlayerGameSummary!$B1009","v":"Payton Watt, 24"},{"$f":"PlayerGameSummary!$B1009","v":"Payton Watt, 24"},{"$f":"PlayerGameSummary!$AM2002","v":"Big Horn"},{"$f":"PlayerGameSummary!$B1009","v":"Payton Watt, 24"},{"$f":"PlayerGameSummary!$B1009","v":"Payton Watt, 24"},{"$f":"PlayerGameSummary!$AN2002","v":"2018-01-27"},{"$f":"PlayerGameSummary!$B1009","v":"Payton Watt, 24"},{"$f":"PlayerGameSummary!$AO2002","v":2}]
[{"$f":"PlayerGameSummary!$I2003","v":"Payton Watt, 24"},{"$f":"PlayerGameSummary!$K2003","v":"Wright"},{"$f":"PlayerGameSummary!$B1010","v":"Dillon Barritt, 20"},{"$f":"PlayerGameSummary!$B1010","v":"Dillon Barritt, 20"},{"$f":"PlayerGameSummary!$L2003","v":"2018-02-08"},{"$f":"PlayerGameSummary!$B1010","v":"Dillon Barritt, 20"},{"$f":"PlayerGameSummary!$M2003","v":11},{"$f":"PlayerGameSummary!$B1010","v":"Dillon Barritt, 20"},null,{"$f":"PlayerGameSummary!$P2003","v":"Payton Watt, 24"},{"$f":"PlayerGameSummary!$B1010","v":"Dillon Barritt, 20"},{"$f":"PlayerGameSummary!$B1010","v":"Dillon Barritt, 20"},{"$f":"PlayerGameSummary!$R2003","v":"Tongue River"},{"$f":"PlayerGameSummary!$B1010","v":"Dillon Barritt, 20"},{"$f":"PlayerGameSummary!$B1010","v":"Dillon Barritt, 20"},{"$f":"PlayerGameSummary!$S2003","v":"2018-02-17"},{"$f":"PlayerGameSummary!$B1010","v":"Dillon Barritt, 20"},{"$f":"PlayerGameSummary!$T2003","v":6},{"$f":"PlayerGameSummary!$B1010","v":"Dillon Barritt, 20"},null,{"$f":"PlayerGameSummary!$AK2003","v":"Clayton Louderback, 23"},{"$f":"PlayerGameSummary!$B1010","v":"Dillon Barritt, 20"},{"$f":"PlayerGameSummary!$B1010","v":"Dillon Barritt, 20"},{"$f":"PlayerGameSummary!$AM2003","v":"Tongue River"},{"$f":"PlayerGameSummary!$B1010","v":"Dillon Barritt, 20"},{"$f":"PlayerGameSummary!$B1010","v":"Dillon Barritt, 20"},{"$f":"PlayerGameSummary!$AN2003","v":"2018-02-02"},{"$f":"PlayerGameSummary!$B1010","v":"Dillon Barritt, 20"},{"$f":"PlayerGameSummary!$AO2003","v":1}]
[{"$f":"PlayerGameSummary!$I2004","v":"Payton Watt, 24"},{"$f":"PlayerGameSummary!$K2004","v":"Sundance"},{"$f":"PlayerGameSummary!$B1011","v":"Clayton Louderback, 23"},{"$f":"PlayerGameSummary!$B1011","v":"Clayton Louderback, 23"},{"$f":"PlayerGameSummary!$L2004","v":"2018-02-06"},{"$f":"PlayerGameSummary!$B1011","v":"Clayton Louderback, 23"},{"$f":"PlayerGameSummary!$M2004","v":11},{"$f":"PlayerGameSummary!$B1011","v":"Clayton Louderback, 23"},null,{"$f":"PlayerGameSummary!$P2004","v":"Clayton Louderback, 23"},{"$f":"PlayerGameSummary!$B1011","v":"Clayton Louderback, 23"},{"$f":"PlayerGameSummary!$B1011","v":"Clayton Louderback, 23"},{"$f":"PlayerGameSummary!$R2004","v":"Sundance"},{"$f":"PlayerGameSummary!$B1011","v":"Clayton Louderback, 23"},{"$f":"PlayerGameSummary!$B1011","v":"Clayton Louderback, 23"},{"$f":"PlayerGameSummary!$S2004","v":"2018-02-06"},{"$f":"PlayerGameSummary!$B1011","v":"Clayton Louderback, 23"},{"$f":"PlayerGameSummary!$T2004","v":5},{"$f":"PlayerGameSummary!$B1011","v":"Clayton Louderback, 23"},null,{"$f":"PlayerGameSummary!$AK2004","v":"Nolan Turner, 33"},{"$f":"PlayerGameSummary!$B1011","v":"Clayton Louderback, 23"},{"$f":"PlayerGameSummary!$B1011","v":"Clayton Louderback, 23"},{"$f":"PlayerGameSummary!$AM2004","v":"Wright"},{"$f":"PlayerGameSummary!$B1011","v":"Clayton Louderback, 23"},{"$f":"PlayerGameSummary!$B1011","v":"Clayton Louderback, 23"},{"$f":"PlayerGameSummary!$AN2004","v":"2018-01-20"},{"$f":"PlayerGameSummary!$B1011","v":"Clayton Louderback, 23"},{"$f":"PlayerGameSummary!$AO2004","v":1}]
[{"$f":"PlayerGameSummary!$I2005","v":"Clayton Louderback, 23"},{"$f":"PlayerGameSummary!$K2005","v":"Wright"},{"$f":"PlayerGameSummary!$B1012","v":0},{"$f":"PlayerGameSummary!$B1012","v":0},{"$f":"PlayerGameSummary!$L2005","v":"2018-02-08"},{"$f":"PlayerGameSummary!$B1012","v":"00:00:00"},{"$f":"PlayerGameSummary!$M2005","v":10},{"$f":"PlayerGameSummary!$B1012","v":0},null,{"$f":"PlayerGameSummary!$P2005","v":"Team, "},{"$f":"PlayerGameSummary!$B1012","v":0},{"$f":"PlayerGameSummary!$B1012","v":0},{"$f":"PlayerGameSummary!$R2005","v":"Wright"},{"$f":"PlayerGameSummary!$B1012","v":0},{"$f":"PlayerGameSummary!$B1012","v":0},{"$f":"PlayerGameSummary!$S2005","v":"2018-01-20"},{"$f":"PlayerGameSummary!$B1012","v":"00:00:00"},{"$f":"PlayerGameSummary!$T2005","v":5},{"$f":"PlayerGameSummary!$B1012","v":0},null,{"$f":"PlayerGameSummary!$AK2005","v":"Dawson Butts, 14"},{"$f":"PlayerGameSummary!$B1012","v":0},{"$f":"PlayerGameSummary!$B1012","v":0},{"$f":"PlayerGameSummary!$AM2005","v":"Big Horn"},{"$f":"PlayerGameSummary!$B1012","v":0},{"$f":"PlayerGameSummary!$B1012","v":0},{"$f":"PlayerGameSummary!$AN2005","v":"2018-01-27"},{"$f":"PlayerGameSummary!$B1012","v":"00:00:00"},{"$f":"PlayerGameSummary!$AO2005","v":1}]
[]
["Player","Opponent",null,null,"Date",null,"3FG%*",null,null,"Player",null,null,"Opponent",null,null,"Date",null,"FT%*",null,null,"Player",null,null,"Opponent",null,null,"Date",null,"FG%*"]
[{"$f":"PlayerGameSummary!$DG2001","v":"Payton Watt, 24"},{"$f":"PlayerGameSummary!$DI2001","v":"Big Horn"},{"$f":"PlayerGameSummary!$B1015","v":0},{"$f":"PlayerGameSummary!$B1015","v":0},{"$f":"PlayerGameSummary!$DJ2001","v":"2018-01-27"},{"$f":"PlayerGameSummary!$B1015","v":"00:00:00"},{"$f":"PlayerGameSummary!$DK2001","v":{"v":0.75,"d":"75%"}},{"$f":"PlayerGameSummary!$B1015","v":{"v":0,"d":"0%"}},null,{"$f":"PlayerGameSummary!$CJ2001","v":"Clayton Louderback, 23"},{"$f":"PlayerGameSummary!$B1015","v":0},{"$f":"PlayerGameSummary!$B1015","v":0},{"$f":"PlayerGameSummary!$CL2001","v":"Sundance"},{"$f":"PlayerGameSummary!$B1015","v":0},{"$f":"PlayerGameSummary!$B1015","v":0},{"$f":"PlayerGameSummary!$CM2001","v":"2018-01-25"},{"$f":"PlayerGameSummary!$B1015","v":"00:00:00"},{"$f":"PlayerGameSummary!$CN2001","v":{"v":1,"d":"100%"}},{"$f":"PlayerGameSummary!$B1015","v":{"v":0,"d":"0%"}},null,{"$f":"PlayerGameSummary!$BM2001","v":"Jess Claycomb, 10"},{"$f":"PlayerGameSummary!$B1015","v":0},{"$f":"PlayerGameSummary!$B1015","v":0},{"$f":"PlayerGameSummary!$BO2001","v":"Tongue River"},{"$f":"PlayerGameSummary!$B1015","v":0},{"$f":"PlayerGameSummary!$B1015","v":0},{"$f":"PlayerGameSummary!$BP2001","v":"2018-02-02"},{"$f":"PlayerGameSummary!$B1015","v":"00:00:00"},{"$f":"PlayerGameSummary!$BQ2001","v":{"v":0.8,"d":"80%"}}]
[{"$f":"PlayerGameSummary!$DG2002","v":"Payton Watt, 24"},{"$f":"PlayerGameSummary!$DI2002","v":"Sundance"},{"$f":"PlayerGameSummary!$B1016","v":0},{"$f":"PlayerGameSummary!$B1016","v":0},{"$f":"PlayerGameSummary!$DJ2002","v":"2018-01-25"},{"$f":"PlayerGameSummary!$B1016","v":"00:00:00"},{"$f":"PlayerGameSummary!$DK2002","v":{"v":0.7,"d":"70%"}},{"$f":"PlayerGameSummary!$B1016","v":{"v":0,"d":"0%"}},null,{"$f":"PlayerGameSummary!$CJ2002","v":"Payton Watt, 24"},{"$f":"PlayerGameSummary!$B1016","v":0},{"$f":"PlayerGameSummary!$B1016","v":0},{"$f":"PlayerGameSummary!$CL2002","v":"Wright"},{"$f":"PlayerGameSummary!$B1016","v":0},{"$f":"PlayerGameSummary!$B1016","v":0},{"$f":"PlayerGameSummary!$CM2002","v":"2018-02-08"},{"$f":"PlayerGameSummary!$B1016","v":"00:00:00"},{"$f":"PlayerGameSummary!$CN2002","v":{"v":0.8333333333333334,"d":"83%"}},{"$f":"PlayerGameSummary!$B1016","v":{"v":0,"d":"0%"}},null,{"$f":"PlayerGameSummary!$BM2002","v":"Jayden Caylor, 12"},{"$f":"PlayerGameSummary!$B1016","v":0},{"$f":"PlayerGameSummary!$B1016","v":0},{"$f":"PlayerGameSummary!$BO2002","v":"Moorcroft"},{"$f":"PlayerGameSummary!$B1016","v":0},{"$f":"PlayerGameSummary!$B1016","v":0},{"$f":"PlayerGameSummary!$BP2002","v":"2018-01-18"},{"$f":"PlayerGameSummary!$B1016","v":"00:00:00"},{"$f":"PlayerGameSummary!$BQ2002","v":{"v":0.7272727272727273,"d":"73%"}}]
[{"$f":"PlayerGameSummary!$DG2003","v":"Dillon Barritt, 20"},{"$f":"PlayerGameSummary!$DI2003","v":"Tongue River"},{"$f":"PlayerGameSummary!$B1017","v":0},{"$f":"PlayerGameSummary!$B1017","v":0},{"$f":"PlayerGameSummary!$DJ2003","v":"2018-02-17"},{"$f":"PlayerGameSummary!$B1017","v":"00:00:00"},{"$f":"PlayerGameSummary!$DK2003","v":{"v":0.5555555555555556,"d":"56%"}},{"$f":"PlayerGameSummary!$B1017","v":{"v":0,"d":"0%"}},null,{"$f":"PlayerGameSummary!$CJ2003","v":"Clayton Louderback, 23"},{"$f":"PlayerGameSummary!$B1017","v":0},{"$f":"PlayerGameSummary!$B1017","v":0},{"$f":"PlayerGameSummary!$CL2003","v":"Big Horn"},{"$f":"PlayerGameSummary!$B1017","v":0},{"$f":"PlayerGameSummary!$B1017","v":0},{"$f":"PlayerGameSummary!$CM2003","v":"2018-02-16"},{"$f":"PlayerGameSummary!$B1017","v":"00:00:00"},{"$f":"PlayerGameSummary!$CN2003","v":{"v":0.8,"d":"80%"}},{"$f":"PlayerGameSummary!$B1017","v":{"v":0,"d":"0%"}},null,{"$f":"PlayerGameSummary!$BM2003","v":"Clayton Louderback, 23"},{"$f":"PlayerGameSummary!$B1017","v":0},{"$f":"PlayerGameSummary!$B1017","v":0},{"$f":"PlayerGameSummary!$BO2003","v":"Tongue River"},{"$f":"PlayerGameSummary!$B1017","v":0},{"$f":"PlayerGameSummary!$B1017","v":0},{"$f":"PlayerGameSummary!$BP2003","v":"2018-02-02"},{"$f":"PlayerGameSummary!$B1017","v":"00:00:00"},{"$f":"PlayerGameSummary!$BQ2003","v":{"v":0.6875,"d":"69%"}}]
[{"$f":"PlayerGameSummary!$DG2004","v":"Dillon Barritt, 20"},{"$f":"PlayerGameSummary!$DI2004","v":"Moorcroft"},{"$f":"PlayerGameSummary!$B1018","v":0},{"$f":"PlayerGameSummary!$B1018","v":0},{"$f":"PlayerGameSummary!$DJ2004","v":"2018-01-18"},{"$f":"PlayerGameSummary!$B1018","v":"00:00:00"},{"$f":"PlayerGameSummary!$DK2004","v":{"v":0.42857142857142855,"d":"43%"}},{"$f":"PlayerGameSummary!$B1018","v":{"v":0,"d":"0%"}},null,{"$f":"PlayerGameSummary!$CJ2004","v":"Payton Watt, 24"},{"$f":"PlayerGameSummary!$B1018","v":0},{"$f":"PlayerGameSummary!$B1018","v":0},{"$f":"PlayerGameSummary!$CL2004","v":"Wright"},{"$f":"PlayerGameSummary!$B1018","v":0},{"$f":"PlayerGameSummary!$B1018","v":0},{"$f":"PlayerGameSummary!$CM2004","v":"2018-01-20"},{"$f":"PlayerGameSummary!$B1018","v":"00:00:00"},{"$f":"PlayerGameSummary!$CN2004","v":{"v":0.7272727272727273,"d":"73%"}},{"$f":"PlayerGameSummary!$B1018","v":{"v":0,"d":"0%"}},null,{"$f":"PlayerGameSummary!$BM2004","v":"Clayton Louderback, 23"},{"$f":"PlayerGameSummary!$B1018","v":0},{"$f":"PlayerGameSummary!$B1018","v":0},{"$f":"PlayerGameSummary!$BO2004","v":"Moorcroft"},{"$f":"PlayerGameSummary!$B1018","v":0},{"$f":"PlayerGameSummary!$B1018","v":0},{"$f":"PlayerGameSummary!$BP2004","v":"2018-02-01"},{"$f":"PlayerGameSummary!$B1018","v":"00:00:00"},{"$f":"PlayerGameSummary!$BQ2004","v":{"v":0.6666666666666666,"d":"67%"}}]
[{"$f":"PlayerGameSummary!$DG2005","v":"Dillon Barritt, 20"},{"$f":"PlayerGameSummary!$DI2005","v":"Sundance"},{"$f":"PlayerGameSummary!$B1019","v":0},{"$f":"PlayerGameSummary!$B1019","v":0},{"$f":"PlayerGameSummary!$DJ2005","v":"2018-02-06"},{"$f":"PlayerGameSummary!$B1019","v":"00:00:00"},{"$f":"PlayerGameSummary!$DK2005","v":{"v":0.4166666666666667,"d":"42%"}},{"$f":"PlayerGameSummary!$B1019","v":{"v":0,"d":"0%"}},null,{"$f":"PlayerGameSummary!$CJ2005","v":"Payton Watt, 24"},{"$f":"PlayerGameSummary!$B1019","v":0},{"$f":"PlayerGameSummary!$B1019","v":0},{"$f":"PlayerGameSummary!$CL2005","v":"Tongue River"},{"$f":"PlayerGameSummary!$B1019","v":0},{"$f":"PlayerGameSummary!$B1019","v":0},{"$f":"PlayerGameSummary!$CM2005","v":"2018-02-17"},{"$f":"PlayerGameSummary!$B1019","v":"00:00:00"},{"$f":"PlayerGameSummary!$CN2005","v":{"v":0.6666666666666666,"d":"67%"}},{"$f":"PlayerGameSummary!$B1019","v":{"v":0,"d":"0%"}},null,{"$f":"PlayerGameSummary!$BM2005","v":"Jess Claycomb, 10"},{"$f":"PlayerGameSummary!$B1019","v":0},{"$f":"PlayerGameSummary!$B1019","v":0},{"$f":"PlayerGameSummary!$BO2005","v":"Sundance"},{"$f":"PlayerGameSummary!$B1019","v":0},{"$f":"PlayerGameSummary!$B1019","v":0},{"$f":"PlayerGameSummary!$BP2005","v":"2018-02-06"},{"$f":"PlayerGameSummary!$B1019","v":"00:00:00"},{"$f":"PlayerGameSummary!$BQ2005","v":{"v":0.6363636363636364,"d":"64%"}}]
[]
["Player","Opponent",null,null,"Date",null,"3FGM",null,null,"Player",null,null,"Opponent",null,null,"Date",null,"FTM",null,null,"Player",null,null,"Opponent",null,null,"Date",null,"FGM"]
[{"$f":"PlayerGameSummary!$CZ2001","v":"Payton Watt, 24"},{"$f":"PlayerGameSummary!$DB2001","v":"Sundance"},{"$f":"PlayerGameSummary!$B1022","v":0},{"$f":"PlayerGameSummary!$B1022","v":0},{"$f":"PlayerGameSummary!$DC2001","v":"2018-01-25"},{"$f":"PlayerGameSummary!$B1022","v":"00:00:00"},{"$f":"PlayerGameSummary!$DD2001","v":7},{"$f":"PlayerGameSummary!$B1022","v":0},null,{"$f":"PlayerGameSummary!$CC2001","v":"Clayton Louderback, 23"},{"$f":"PlayerGameSummary!$B1022","v":0},{"$f":"PlayerGameSummary!$B1022","v":0},{"$f":"PlayerGameSummary!$CE2001","v":"Big Horn"},{"$f":"PlayerGameSummary!$B1022","v":0},{"$f":"PlayerGameSummary!$B1022","v":0},{"$f":"PlayerGameSummary!$CF2001","v":"2018-02-16"},{"$f":"PlayerGameSummary!$B1022","v":"00:00:00"},{"$f":"PlayerGameSummary!$CG2001","v":8},{"$f":"PlayerGameSummary!$B1022","v":0},null,{"$f":"PlayerGameSummary!$BF2001","v":"Clayton Louderback, 23"},{"$f":"PlayerGameSummary!$B1022","v":0},{"$f":"PlayerGameSummary!$B1022","v":0},{"$f":"PlayerGameSummary!$BH2001","v":"Moorcroft"},{"$f":"PlayerGameSummary!$B1022","v":0},{"$f":"PlayerGameSummary!$B1022","v":0},{"$f":"PlayerGameSummary!$BI2001","v":"2018-02-01"},{"$f":"PlayerGameSummary!$B1022","v":"00:00:00"},{"$f":"PlayerGameSummary!$BJ2001","v":12}]
[{"$f":"PlayerGameSummary!$CZ2002","v":"Payton Watt, 24"},{"$f":"PlayerGameSummary!$DB2002","v":"Big Horn"},{"$f":"PlayerGameSummary!$B1023","v":0},{"$f":"PlayerGameSummary!$B1023","v":0},{"$f":"PlayerGameSummary!$DC2002","v":"2018-01-27"},{"$f":"PlayerGameSummary!$B1023","v":"00:00:00"},{"$f":"PlayerGameSummary!$DD2002","v":6},{"$f":"PlayerGameSummary!$B1023","v":0},null,{"$f":"PlayerGameSummary!$CC2002","v":"Payton Watt, 24"},{"$f":"PlayerGameSummary!$B1023","v":0},{"$f":"PlayerGameSummary!$B1023","v":0},{"$f":"PlayerGameSummary!$CE2002","v":"Wright"},{"$f":"PlayerGameSummary!$B1023","v":0},{"$f":"PlayerGameSummary!$B1023","v":0},{"$f":"PlayerGameSummary!$CF2002","v":"2018-01-20"},{"$f":"PlayerGameSummary!$B1023","v":"00:00:00"},{"$f":"PlayerGameSummary!$CG2002","v":8},{"$f":"PlayerGameSummary!$B1023","v":0},null,{"$f":"PlayerGameSummary!$BF2002","v":"Clayton Louderback, 23"},{"$f":"PlayerGameSummary!$B1023","v":0},{"$f":"PlayerGameSummary!$B1023","v":0},{"$f":"PlayerGameSummary!$BH2002","v":"Tongue River"},{"$f":"PlayerGameSummary!$B1023","v":0},{"$f":"PlayerGameSummary!$B1023","v":0},{"$f":"PlayerGameSummary!$BI2002","v":"2018-02-02"},{"$f":"PlayerGameSummary!$B1023","v":"00:00:00"},{"$f":"PlayerGameSummary!$BJ2002","v":11}]
[{"$f":"PlayerGameSummary!$CZ2003","v":"Dillon Barritt, 20"},{"$f":"PlayerGameSummary!$DB2003","v":"Sundance"},{"$f":"PlayerGameSummary!$B1024","v":0},{"$f":"PlayerGameSummary!$B1024","v":0},{"$f":"PlayerGameSummary!$DC2003","v":"2018-02-06"},{"$f":"PlayerGameSummary!$B1024","v":"00:00:00"},{"$f":"PlayerGameSummary!$DD2003","v":5},{"$f":"PlayerGameSummary!$B1024","v":0},null,{"$f":"PlayerGameSummary!$CC2003","v":"Clayton Louderback, 23"},{"$f":"PlayerGameSummary!$B1024","v":0},{"$f":"PlayerGameSummary!$B1024","v":0},{"$f":"PlayerGameSummary!$CE2003","v":"Sundance"},{"$f":"PlayerGameSummary!$B1024","v":0},{"$f":"PlayerGameSummary!$B1024","v":0},{"$f":"PlayerGameSummary!$CF2003","v":"2018-01-25"},{"$f":"PlayerGameSummary!$B1024","v":"00:00:00"},{"$f":"PlayerGameSummary!$CG2003","v":6},{"$f":"PlayerGameSummary!$B1024","v":0},null,{"$f":"PlayerGameSummary!$BF2003","v":"Payton Watt, 24"},{"$f":"PlayerGameSummary!$B1024","v":0},{"$f":"PlayerGameSummary!$B1024","v":0},{"$f":"PlayerGameSummary!$BH2003","v":"Sundance"},{"$f":"PlayerGameSummary!$B1024","v":0},{"$f":"PlayerGameSummary!$B1024","v":0},{"$f":"PlayerGameSummary!$BI2003","v":"2018-01-25"},{"$f":"PlayerGameSummary!$B1024","v":"00:00:00"},{"$f":"PlayerGameSummary!$BJ2003","v":10}]
[{"$f":"PlayerGameSummary!$CZ2004","v":"Dillon Barritt, 20"},{"$f":"PlayerGameSummary!$DB2004","v":"Tongue River"},{"$f":"PlayerGameSummary!$B1025","v":0},{"$f":"PlayerGameSummary!$B1025","v":0},{"$f":"PlayerGameSummary!$DC2004","v":"2018-02-17"},{"$f":"PlayerGameSummary!$B1025","v":"00:00:00"},{"$f":"PlayerGameSummary!$DD2004","v":5},{"$f":"PlayerGameSummary!$B1025","v":0},null,{"$f":"PlayerGameSummary!$CC2004","v":"Payton Watt, 24"},{"$f":"PlayerGameSummary!$B1025","v":0},{"$f":"PlayerGameSummary!$B1025","v":0},{"$f":"PlayerGameSummary!$CE2004","v":"Wright"},{"$f":"PlayerGameSummary!$B1025","v":0},{"$f":"PlayerGameSummary!$B1025","v":0},{"$f":"PlayerGameSummary!$CF2004","v":"2018-02-08"},{"$f":"PlayerGameSummary!$B1025","v":"00:00:00"},{"$f":"PlayerGameSummary!$CG2004","v":5},{"$f":"PlayerGameSummary!$B1025","v":0},null,{"$f":"PlayerGameSummary!$BF2004","v":"Payton Watt, 24"},{"$f":"PlayerGameSummary!$B1025","v":0},{"$f":"PlayerGameSummary!$B1025","v":0},{"$f":"PlayerGameSummary!$BH2004","v":"Tongue River"},{"$f":"PlayerGameSummary!$B1025","v":0},{"$f":"PlayerGameSummary!$B1025","v":0},{"$f":"PlayerGameSummary!$BI2004","v":"2018-02-17"},{"$f":"PlayerGameSummary!$B1025","v":"00:00:00"},{"$f":"PlayerGameSummary!$BJ2004","v":10}]
[{"$f":"PlayerGameSummary!$CZ2005","v":"Payton Watt, 24"},{"$f":"PlayerGameSummary!$DB2005","v":"Tongue River"},{"$f":"PlayerGameSummary!$B1026","v":0},{"$f":"PlayerGameSummary!$B1026","v":0},{"$f":"PlayerGameSummary!$DC2005","v":"2018-02-02"},{"$f":"PlayerGameSummary!$B1026","v":"00:00:00"},{"$f":"PlayerGameSummary!$DD2005","v":4},{"$f":"PlayerGameSummary!$B1026","v":0},null,{"$f":"PlayerGameSummary!$CC2005","v":"Clayton Louderback, 23"},{"$f":"PlayerGameSummary!$B1026","v":0},{"$f":"PlayerGameSummary!$B1026","v":0},{"$f":"PlayerGameSummary!$CE2005","v":"Wright"},{"$f":"PlayerGameSummary!$B1026","v":0},{"$f":"PlayerGameSummary!$B1026","v":0},{"$f":"PlayerGameSummary!$CF2005","v":"2018-02-08"},{"$f":"PlayerGameSummary!$B1026","v":"00:00:00"},{"$f":"PlayerGameSummary!$CG2005","v":4},{"$f":"PlayerGameSummary!$B1026","v":0},null,{"$f":"PlayerGameSummary!$BF2005","v":"Clayton Louderback, 23"},{"$f":"PlayerGameSummary!$B1026","v":0},{"$f":"PlayerGameSummary!$B1026","v":0},{"$f":"PlayerGameSummary!$BH2005","v":"Sundance"},{"$f":"PlayerGameSummary!$B1026","v":0},{"$f":"PlayerGameSummary!$B1026","v":0},{"$f":"PlayerGameSummary!$BI2005","v":"2018-02-06"},{"$f":"PlayerGameSummary!$B1026","v":"00:00:00"},{"$f":"PlayerGameSummary!$BJ2005","v":9}]
[]
["Player","Opponent",null,null,"Date",null,"3FGA",null,null,"Player",null,null,"Opponent",null,null,"Date",null,"FTA",null,null,"Player",null,null,"Opponent",null,null,"Date",null,"FGA"]
[{"$f":"PlayerGameSummary!$DO2001","v":"Dillon Barritt, 20"},{"$f":"PlayerGameSummary!$DQ2001","v":"Sundance"},{"$f":"PlayerGameSummary!$B1029","v":0},{"$f":"PlayerGameSummary!$B1029","v":0},{"$f":"PlayerGameSummary!$DR2001","v":"2018-02-06"},{"$f":"PlayerGameSummary!$B1029","v":"00:00:00"},{"$f":"PlayerGameSummary!$DS2001","v":12},{"$f":"PlayerGameSummary!$B1029","v":0},null,{"$f":"PlayerGameSummary!$CR2001","v":"Payton Watt, 24"},{"$f":"PlayerGameSummary!$B1029","v":0},{"$f":"PlayerGameSummary!$B1029","v":0},{"$f":"PlayerGameSummary!$CT2001","v":"Wright"},{"$f":"PlayerGameSummary!$B1029","v":0},{"$f":"PlayerGameSummary!$B1029","v":0},{"$f":"PlayerGameSummary!$CU2001","v":"2018-01-20"},{"$f":"PlayerGameSummary!$B1029","v":"00:00:00"},{"$f":"PlayerGameSummary!$CV2001","v":11},{"$f":"PlayerGameSummary!$B1029","v":0},null,{"$f":"PlayerGameSummary!$BU2001","v":"Clayton Louderback, 23"},{"$f":"PlayerGameSummary!$B1029","v":0},{"$f":"PlayerGameSummary!$B1029","v":0},{"$f":"PlayerGameSummary!$BW2001","v":"Big Horn"},{"$f":"PlayerGameSummary!$B1029","v":0},{"$f":"PlayerGameSummary!$B1029","v":0},{"$f":"PlayerGameSummary!$BX2001","v":"2018-01-27"},{"$f":"PlayerGameSummary!$B1029","v":"00:00:00"},{"$f":"PlayerGameSummary!$BY2001","v":22}]
[{"$f":"PlayerGameSummary!$DO2002","v":"Payton Watt, 24"},{"$f":"PlayerGameSummary!$DQ2002","v":"Tongue River"},{"$f":"PlayerGameSummary!$B1030","v":0},{"$f":"PlayerGameSummary!$B1030","v":0},{"$f":"PlayerGameSummary!$DR2002","v":"2018-02-02"},{"$f":"PlayerGameSummary!$B1030","v":"00:00:00"},{"$f":"PlayerGameSummary!$DS2002","v":11},{"$f":"PlayerGameSummary!$B1030","v":0},null,{"$f":"PlayerGameSummary!$CR2002","v":"Clayton Louderback, 23"},{"$f":"PlayerGameSummary!$B1030","v":0},{"$f":"PlayerGameSummary!$B1030","v":0},{"$f":"PlayerGameSummary!$CT2002","v":"Big Horn"},{"$f":"PlayerGameSummary!$B1030","v":0},{"$f":"PlayerGameSummary!$B1030","v":0},{"$f":"PlayerGameSummary!$CU2002","v":"2018-02-16"},{"$f":"PlayerGameSummary!$B1030","v":"00:00:00"},{"$f":"PlayerGameSummary!$CV2002","v":10},{"$f":"PlayerGameSummary!$B1030","v":0},null,{"$f":"PlayerGameSummary!$BU2002","v":"Payton Watt, 24"},{"$f":"PlayerGameSummary!$B1030","v":0},{"$f":"PlayerGameSummary!$B1030","v":0},{"$f":"PlayerGameSummary!$BW2002","v":"Tongue River"},{"$f":"PlayerGameSummary!$B1030","v":0},{"$f":"PlayerGameSummary!$B1030","v":0},{"$f":"PlayerGameSummary!$BX2002","v":"2018-02-17"},{"$f":"PlayerGameSummary!$B1030","v":"00:00:00"},{"$f":"PlayerGameSummary!$BY2002","v":19}]
[{"$f":"PlayerGameSummary!$DO2003","v":"Dillon Barritt, 20"},{"$f":"PlayerGameSummary!$DQ2003","v":"Wright"},{"$f":"PlayerGameSummary!$B1031","v":0},{"$f":"PlayerGameSummary!$B1031","v":0},{"$f":"PlayerGameSummary!$DR2003","v":"2018-02-08"},{"$f":"PlayerGameSummary!$B1031","v":"00:00:00"},{"$f":"PlayerGameSummary!$DS2003","v":11},{"$f":"PlayerGameSummary!$B1031","v":0},null,{"$f":"PlayerGameSummary!$CR2003","v":"Dawson Butts, 14"},{"$f":"PlayerGameSummary!$B1031","v":0},{"$f":"PlayerGameSummary!$B1031","v":0},{"$f":"PlayerGameSummary!$CT2003","v":"Wright"},{"$f":"PlayerGameSummary!$B1031","v":0},{"$f":"PlayerGameSummary!$B1031","v":0},{"$f":"PlayerGameSummary!$CU2003","v":"2018-02-08"},{"$f":"PlayerGameSummary!$B1031","v":"00:00:00"},{"$f":"PlayerGameSummary!$CV2003","v":9},{"$f":"PlayerGameSummary!$B1031","v":0},null,{"$f":"PlayerGameSummary!$BU2003","v":"Payton Watt, 24"},{"$f":"PlayerGameSummary!$B1031","v":0},{"$f":"PlayerGameSummary!$B1031","v":0},{"$f":"PlayerGameSummary!$BW2003","v":"Wright"},{"$f":"PlayerGameSummary!$B1031","v":0},{"$f":"PlayerGameSummary!$B1031","v":0},{"$f":"PlayerGameSummary!$BX2003","v":"2018-02-08"},{"$f":"PlayerGameSummary!$B1031","v":"00:00:00"},{"$f":"PlayerGameSummary!$BY2003","v":19}]
[{"$f":"PlayerGameSummary!$DO2004","v":"Dillon Barritt, 20"},{"$f":"PlayerGameSummary!$DQ2004","v":"Wright"},{"$f":"PlayerGameSummary!$B1032","v":0},{"$f":"PlayerGameSummary!$B1032","v":0},{"$f":"PlayerGameSummary!$DR2004","v":"2018-01-20"},{"$f":"PlayerGameSummary!$B1032","v":"00:00:00"},{"$f":"PlayerGameSummary!$DS2004","v":11},{"$f":"PlayerGameSummary!$B1032","v":0},null,{"$f":"PlayerGameSummary!$CR2004","v":"Clayton Louderback, 23"},{"$f":"PlayerGameSummary!$B1032","v":0},{"$f":"PlayerGameSummary!$B1032","v":0},{"$f":"PlayerGameSummary!$CT2004","v":"Big Horn"},{"$f":"PlayerGameSummary!$B1032","v":0},{"$f":"PlayerGameSummary!$B1032","v":0},{"$f":"PlayerGameSummary!$CU2004","v":"2018-01-27"},{"$f":"PlayerGameSummary!$B1032","v":"00:00:00"},{"$f":"PlayerGameSummary!$CV2004","v":8},{"$f":"PlayerGameSummary!$B1032","v":0},null,{"$f":"PlayerGameSummary!$BU2004","v":"Clayton Louderback, 23"},{"$f":"PlayerGameSummary!$B1032","v":0},{"$f":"PlayerGameSummary!$B1032","v":0},{"$f":"PlayerGameSummary!$BW2004","v":"Sundance"},{"$f":"PlayerGameSummary!$B1032","v":0},{"$f":"PlayerGameSummary!$B1032","v":0},{"$f":"PlayerGameSummary!$BX2004","v":"2018-02-06"},{"$f":"PlayerGameSummary!$B1032","v":"00:00:00"},{"$f":"PlayerGameSummary!$BY2004","v":19}]
[{"$f":"PlayerGameSummary!$DO2005","v":"Payton Watt, 24"},{"$f":"PlayerGameSummary!$DQ2005","v":"Sundance"},{"$f":"PlayerGameSummary!$B1033","v":0},{"$f":"PlayerGameSummary!$B1033","v":0},{"$f":"PlayerGameSummary!$DR2005","v":"2018-01-25"},{"$f":"PlayerGameSummary!$B1033","v":"00:00:00"},{"$f":"PlayerGameSummary!$DS2005","v":10},{"$f":"PlayerGameSummary!$B1033","v":0},null,{"$f":"PlayerGameSummary!$CR2005","v":"Clayton Louderback, 23"},{"$f":"PlayerGameSummary!$B1033","v":0},{"$f":"PlayerGameSummary!$B1033","v":0},{"$f":"PlayerGameSummary!$CT2005","v":"Tongue River"},{"$f":"PlayerGameSummary!$B1033","v":0},{"$f":"PlayerGameSummary!$B1033","v":0},{"$f":"PlayerGameSummary!$CU2005","v":"2018-02-17"},{"$f":"PlayerGameSummary!$B1033","v":"00:00:00"},{"$f":"PlayerGameSummary!$CV2005","v":7},{"$f":"PlayerGameSummary!$B1033","v":0},null,{"$f":"PlayerGameSummary!$BU2005","v":"Clayton Louderback, 23"},{"$f":"PlayerGameSummary!$B1033","v":0},{"$f":"PlayerGameSummary!$B1033","v":0},{"$f":"PlayerGameSummary!$BW2005","v":"Moorcroft"},{"$f":"PlayerGameSummary!$B1033","v":0},{"$f":"PlayerGameSummary!$B1033","v":0},{"$f":"PlayerGameSummary!$BX2005","v":"2018-02-01"},{"$f":"PlayerGameSummary!$B1033","v":"00:00:00"},{"$f":"PlayerGameSummary!$BY2005","v":18}]
[]
[]
["Season Recap","Defensive Stats",{"$nulls":3},"** Indicates game counted toward conference record",{"$nulls":7},"Only Region Opponents Shown",{"$nulls":5},"PEAK PERFORMERS"]
["Opponent: Score","3FG","3FGA","3FG %","2FG","2FGA","2FG %","FT","FTA","FT %","FG %","O REB","D REB","REB","AST","STL","BLK","TO'S","FOUL","POINTS",null,null,"REB",null,null,"AST"]
[{"$f":"IFERROR(IF(INDIRECT(\"'game1 (\"&$AD103&\")'!$a$2\")=\"R\",Season_Summary!A103,\"\"),\"\")","v":""},{"$f":"IFERROR(IF(INDIRECT(\"'game1 (\"&$AD103&\")'!$a$2\")=\"R\",Season_Summary!B103,\"\"),\"\")","v":""},{"$f":"IFERROR(IF(INDIRECT(\"'game1 (\"&$AD103&\")'!$a$2\")=\"R\",Season_Summary!C103,\"\"),\"\")","v":""},{"$f":"IFERROR(IF(INDIRECT(\"'game1 (\"&$AD103&\")'!$a$2\")=\"R\",Season_Summary!D103,\"\"),\"\")","v":""},{"$f":"IFERROR(IF(INDIRECT(\"'game1 (\"&$AD103&\")'!$a$2\")=\"R\",Season_Summary!E103,\"\"),\"\")","v":""},{"$f":"IFERROR(IF(INDIRECT(\"'game1 (\"&$AD103&\")'!$a$2\")=\"R\",Season_Summary!F103,\"\"),\"\")","v":""},{"$f":"IFERROR(IF(INDIRECT(\"'game1 (\"&$AD103&\")'!$a$2\")=\"R\",Season_Summary!G103,\"\"),\"\")","v":""},{"$f":"IFERROR(IF(INDIRECT(\"'game1 (\"&$AD103&\")'!$a$2\")=\"R\",Season_Summary!H103,\"\"),\"\")","v":""},{"$f":"IFERROR(IF(INDIRECT(\"'game1 (\"&$AD103&\")'!$a$2\")=\"R\",Season_Summary!I103,\"\"),\"\")","v":""},{"$f":"IFERROR(IF(INDIRECT(\"'game1 (\"&$AD103&\")'!$a$2\")=\"R\",Season_Summary!J103,\"\"),\"\")","v":""},{"$f":"IFERROR(IF(INDIRECT(\"'game1 (\"&$AD103&\")'!$a$2\")=\"R\",Season_Summary!K103,\"\"),\"\")","v":""},{"$f":"IFERROR(IF(INDIRECT(\"'game1 (\"&$AD103&\")'!$a$2\")=\"R\",Season_Summary!L103,\"\"),\"\")","v":""},{"$f":"IFERROR(IF(INDIRECT(\"'game1 (\"&$AD103&\")'!$a$2\")=\"R\",Season_Summary!M103,\"\"),\"\")","v":""},{"$f":"IFERROR(IF(INDIRECT(\"'game1 (\"&$AD103&\")'!$a$2\")=\"R\",Season_Summary!N103,\"\"),\"\")","v":""},{"$f":"IFERROR(IF(INDIRECT(\"'game1 (\"&$AD103&\")'!$a$2\")=\"R\",Season_Summary!O103,\"\"),\"\")","v":""},{"$f":"IFERROR(IF(INDIRECT(\"'game1 (\"&$AD103&\")'!$a$2\")=\"R\",Season_Summary!P103,\"\"),\"\")","v":""},{"$f":"IFERROR(IF(INDIRECT(\"'game1 (\"&$AD103&\")'!$a$2\")=\"R\",Season_Summary!Q103,\"\"),\"\")","v":""},{"$f":"IFERROR(IF(INDIRECT(\"'game1 (\"&$AD103&\")'!$a$2\")=\"R\",Season_Summary!R103,\"\"),\"\")","v":""},{"$f":"IFERROR(IF(INDIRECT(\"'game1 (\"&$AD103&\")'!$a$2\")=\"R\",Season_Summary!S103,\"\"),\"\")","v":""},{"$f":"IFERROR(IF(INDIRECT(\"'game1 (\"&$AD103&\")'!$a$2\")=\"R\",Season_Summary!T103,\"\"),\"\")","v":""},{"$f":"IFERROR(IF(INDIRECT(\"'game1 (\"&$AD103&\")'!$a$2\")=\"R\",Season_Summary!U103,\"\"),\"\")","v":""},{"$f":"IFERROR(IF(INDIRECT(\"'game1 (\"&$AD103&\")'!$a$2\")=\"R\",Season_Summary!V103,\"\"),\"\")","v":""},{"$f":"IFERROR(IF(INDIRECT(\"'game1 (\"&$AD103&\")'!$a$2\")=\"R\",Season_Summary!W103,\"\"),\"\")","v":""},{"$f":"IFERROR(IF(INDIRECT(\"'game1 (\"&$AD103&\")'!$a$2\")=\"R\",Season_Summary!X103,\"\"),\"\")","v":""},{"$f":"IFERROR(IF(INDIRECT(\"'game1 (\"&$AD103&\")'!$a$2\")=\"R\",Season_Summary!Y103,\"\"),\"\")","v":""},{"$f":"IFERROR(IF(INDIRECT(\"'game1 (\"&$AD103&\")'!$a$2\")=\"R\",Season_Summary!Z103,\"\"),\"\")","v":""},{"$f":"IFERROR(IF(INDIRECT(\"'game1 (\"&$AD103&\")'!$a$2\")=\"R\",Season_Summary!AA103,\"\"),\"\")","v":""},{"$f":"IFERROR(IF(INDIRECT(\"'game1 (\"&$AD103&\")'!$a$2\")=\"R\",Season_Summary!AB103,\"\"),\"\")","v":""},{"$f":"IFERROR(IF(INDIRECT(\"'game1 (\"&$AD103&\")'!$a$2\")=\"R\",Season_Summary!AC103,\"\"),\"\")","v":""},1]
[{"$f":"IFERROR(IF(INDIRECT(\"'game1 (\"&$AD104&\")'!$a$2\")=\"R\",Season_Summary!A104,\"\"),\"\")","v":""},{"$f":"IFERROR(IF(INDIRECT(\"'game1 (\"&$AD104&\")'!$a$2\")=\"R\",Season_Summary!B104,\"\"),\"\")","v":""},{"$f":"IFERROR(IF(INDIRECT(\"'game1 (\"&$AD104&\")'!$a$2\")=\"R\",Season_Summary!C104,\"\"),\"\")","v":""},{"$f":"IFERROR(IF(INDIRECT(\"'game1 (\"&$AD104&\")'!$a$2\")=\"R\",Season_Summary!D104,\"\"),\"\")","v":""},{"$f":"IFERROR(IF(INDIRECT(\"'game1 (\"&$AD104&\")'!$a$2\")=\"R\",Season_Summary!E104,\"\"),\"\")","v":""},{"$f":"IFERROR(IF(INDIRECT(\"'game1 (\"&$AD104&\")'!$a$2\")=\"R\",Season_Summary!F104,\"\"),\"\")","v":""},{"$f":"IFERROR(IF(INDIRECT(\"'game1 (\"&$AD104&\")'!$a$2\")=\"R\",Season_Summary!G104,\"\"),\"\")","v":""},{"$f":"IFERROR(IF(INDIRECT(\"'game1 (\"&$AD104&\")'!$a$2\")=\"R\",Season_Summary!H104,\"\"),\"\")","v":""},{"$f":"IFERROR(IF(INDIRECT(\"'game1 (\"&$AD104&\")'!$a$2\")=\"R\",Season_Summary!I104,\"\"),\"\")","v":""},{"$f":"IFERROR(IF(INDIRECT(\"'game1 (\"&$AD104&\")'!$a$2\")=\"R\",Season_Summary!J104,\"\"),\"\")","v":""},{"$f":"IFERROR(IF(INDIRECT(\"'game1 (\"&$AD104&\")'!$a$2\")=\"R\",Season_Summary!K104,\"\"),\"\")","v":""},{"$f":"IFERROR(IF(INDIRECT(\"'game1 (\"&$AD104&\")'!$a$2\")=\"R\",Season_Summary!L104,\"\"),\"\")","v":""},{"$f":"IFERROR(IF(INDIRECT(\"'game1 (\"&$AD104&\")'!$a$2\")=\"R\",Season_Summary!M104,\"\"),\"\")","v":""},{"$f":"IFERROR(IF(INDIRECT(\"'game1 (\"&$AD104&\")'!$a$2\")=\"R\",Season_Summary!N104,\"\"),\"\")","v":""},{"$f":"IFERROR(IF(INDIRECT(\"'game1 (\"&$AD104&\")'!$a$2\")=\"R\",Season_Summary!O104,\"\"),\"\")","v":""},{"$f":"IFERROR(IF(INDIRECT(\"'game1 (\"&$AD104&\")'!$a$2\")=\"R\",Season_Summary!P104,\"\"),\"\")","v":""},{"$f":"IFERROR(IF(INDIRECT(\"'game1 (\"&$AD104&\")'!$a$2\")=\"R\",Season_Summary!Q104,\"\"),\"\")","v":""},{"$f":"IFERROR(IF(INDIRECT(\"'game1 (\"&$AD104&\")'!$a$2\")=\"R\",Season_Summary!R104,\"\"),\"\")","v":""},{"$f":"IFERROR(IF(INDIRECT(\"'game1 (\"&$AD104&\")'!$a$2\")=\"R\",Season_Summary!S104,\"\"),\"\")","v":""},{"$f":"IFERROR(IF(INDIRECT(\"'game1 (\"&$AD104&\")'!$a$2\")=\"R\",Season_Summary!T104,\"\"),\"\")","v":""},{"$f":"IFERROR(IF(INDIRECT(\"'game1 (\"&$AD104&\")'!$a$2\")=\"R\",Season_Summary!U104,\"\"),\"\")","v":""},{"$f":"IFERROR(IF(INDIRECT(\"'game1 (\"&$AD104&\")'!$a$2\")=\"R\",Season_Summary!V104,\"\"),\"\")","v":""},{"$f":"IFERROR(IF(INDIRECT(\"'game1 (\"&$AD104&\")'!$a$2\")=\"R\",Season_Summary!W104,\"\"),\"\")","v":""},{"$f":"IFERROR(IF(INDIRECT(\"'game1 (\"&$AD104&\")'!$a$2\")=\"R\",Season_Summary!X104,\"\"),\"\")","v":""},{"$f":"IFERROR(IF(INDIRECT(\"'game1 (\"&$AD104&\")'!$a$2\")=\"R\",Season_Summary!Y104,\"\"),\"\")","v":""},{"$f":"IFERROR(IF(INDIRECT(\"'game1 (\"&$AD104&\")'!$a$2\")=\"R\",Season_Summary!Z104,\"\"),\"\")","v":""},{"$f":"IFERROR(IF(INDIRECT(\"'game1 (\"&$AD104&\")'!$a$2\")=\"R\",Season_Summary!AA104,\"\"),\"\")","v":""},{"$f":"IFERROR(IF(INDIRECT(\"'game1 (\"&$AD104&\")'!$a$2\")=\"R\",Season_Summary!AB104,\"\"),\"\")","v":""},{"$f":"IFERROR(IF(INDIRECT(\"'game1 (\"&$AD104&\")'!$a$2\")=\"R\",Season_Summary!AC104,\"\"),\"\")","v":""},1]
[{"$f":"IFERROR(IF(INDIRECT(\"'game1 (\"&$AD105&\")'!$a$2\")=\"R\",Season_Summary!A105,\"\"),\"\")","v":""},{"$f":"IFERROR(IF(INDIRECT(\"'game1 (\"&$AD105&\")'!$a$2\")=\"R\",Season_Summary!B105,\"\"),\"\")","v":""},{"$f":"IFERROR(IF(INDIRECT(\"'game1 (\"&$AD105&\")'!$a$2\")=\"R\",Season_Summary!C105,\"\"),\"\")","v":""},{"$f":"IFERROR(IF(INDIRECT(\"'game1 (\"&$AD105&\")'!$a$2\")=\"R\",Season_Summary!D105,\"\"),\"\")","v":""},{"$f":"IFERROR(IF(INDIRECT(\"'game1 (\"&$AD105&\")'!$a$2\")=\"R\",Season_Summary!E105,\"\"),\"\")","v":""},{"$f":"IFERROR(IF(INDIRECT(\"'game1 (\"&$AD105&\")'!$a$2\")=\"R\",Season_Summary!F105,\"\"),\"\")","v":""},{"$f":"IFERROR(IF(INDIRECT(\"'game1 (\"&$AD105&\")'!$a$2\")=\"R\",Season_Summary!G105,\"\"),\"\")","v":""},{"$f":"IFERROR(IF(INDIRECT(\"'game1 (\"&$AD105&\")'!$a$2\")=\"R\",Season_Summary!H105,\"\"),\"\")","v":""},{"$f":"IFERROR(IF(INDIRECT(\"'game1 (\"&$AD105&\")'!$a$2\")=\"R\",Season_Summary!I105,\"\"),\"\")","v":""},{"$f":"IFERROR(IF(INDIRECT(\"'game1 (\"&$AD105&\")'!$a$2\")=\"R\",Season_Summary!J105,\"\"),\"\")","v":""},{"$f":"IFERROR(IF(INDIRECT(\"'game1 (\"&$AD105&\")'!$a$2\")=\"R\",Season_Summary!K105,\"\"),\"\")","v":""},{"$f":"IFERROR(IF(INDIRECT(\"'game1 (\"&$AD105&\")'!$a$2\")=\"R\",Season_Summary!L105,\"\"),\"\")","v":""},{"$f":"IFERROR(IF(INDIRECT(\"'game1 (\"&$AD105&\")'!$a$2\")=\"R\",Season_Summary!M105,\"\"),\"\")","v":""},{"$f":"IFERROR(IF(INDIRECT(\"'game1 (\"&$AD105&\")'!$a$2\")=\"R\",Season_Summary!N105,\"\"),\"\")","v":""},{"$f":"IFERROR(IF(INDIRECT(\"'game1 (\"&$AD105&\")'!$a$2\")=\"R\",Season_Summary!O105,\"\"),\"\")","v":""},{"$f":"IFERROR(IF(INDIRECT(\"'game1 (\"&$AD105&\")'!$a$2\")=\"R\",Season_Summary!P105,\"\"),\"\")","v":""},{"$f":"IFERROR(IF(INDIRECT(\"'game1 (\"&$AD105&\")'!$a$2\")=\"R\",Season_Summary!Q105,\"\"),\"\")","v":""},{"$f":"IFERROR(IF(INDIRECT(\"'game1 (\"&$AD105&\")'!$a$2\")=\"R\",Season_Summary!R105,\"\"),\"\")","v":""},{"$f":"IFERROR(IF(INDIRECT(\"'game1 (\"&$AD105&\")'!$a$2\")=\"R\",Season_Summary!S105,\"\"),\"\")","v":""},{"$f":"IFERROR(IF(INDIRECT(\"'game1 (\"&$AD105&\")'!$a$2\")=\"R\",Season_Summary!T105,\"\"),\"\")","v":""},{"$f":"IFERROR(IF(INDIRECT(\"'game1 (\"&$AD105&\")'!$a$2\")=\"R\",Season_Summary!U105,\"\"),\"\")","v":""},{"$f":"IFERROR(IF(INDIRECT(\"'game1 (\"&$AD105&\")'!$a$2\")=\"R\",Season_Summary!V105,\"\"),\"\")","v":""},{"$f":"IFERROR(IF(INDIRECT(\"'game1 (\"&$AD105&\")'!$a$2\")=\"R\",Season_Summary!W105,\"\"),\"\")","v":""},{"$f":"IFERROR(IF(INDIRECT(\"'game1 (\"&$AD105&\")'!$a$2\")=\"R\",Season_Summary!X105,\"\"),\"\")","v":""},{"$f":"IFERROR(IF(INDIRECT(\"'game1 (\"&$AD105&\")'!$a$2\")=\"R\",Season_Summary!Y105,\"\"),\"\")","v":""},{"$f":"IFERROR(IF(INDIRECT(\"'game1 (\"&$AD105&\")'!$a$2\")=\"R\",Season_Summary!Z105,\"\"),\"\")","v":""},{"$f":"IFERROR(IF(INDIRECT(\"'game1 (\"&$AD105&\")'!$a$2\")=\"R\",Season_Summary!AA105,\"\"),\"\")","v":""},{"$f":"IFERROR(IF(INDIRECT(\"'game1 (\"&$AD105&\")'!$a$2\")=\"R\",Season_Summary!AB105,\"\"),\"\")","v":""},{"$f":"IFERROR(IF(INDIRECT(\"'game1 (\"&$AD105&\")'!$a$2\")=\"R\",Season_Summary!AC105,\"\"),\"\")","v":""},{"$f":"AD103+1","v":2}]
[{"$f":"IFERROR(IF(INDIRECT(\"'game1 (\"&$AD106&\")'!$a$2\")=\"R\",Season_Summary!A106,\"\"),\"\")","v":""},{"$f":"IFERROR(IF(INDIRECT(\"'game1 (\"&$AD106&\")'!$a$2\")=\"R\",Season_Summary!B106,\"\"),\"\")","v":""},{"$f":"IFERROR(IF(INDIRECT(\"'game1 (\"&$AD106&\")'!$a$2\")=\"R\",Season_Summary!C106,\"\"),\"\")","v":""},{"$f":"IFERROR(IF(INDIRECT(\"'game1 (\"&$AD106&\")'!$a$2\")=\"R\",Season_Summary!D106,\"\"),\"\")","v":""},{"$f":"IFERROR(IF(INDIRECT(\"'game1 (\"&$AD106&\")'!$a$2\")=\"R\",Season_Summary!E106,\"\"),\"\")","v":""},{"$f":"IFERROR(IF(INDIRECT(\"'game1 (\"&$AD106&\")'!$a$2\")=\"R\",Season_Summary!F106,\"\"),\"\")","v":""},{"$f":"IFERROR(IF(INDIRECT(\"'game1 (\"&$AD106&\")'!$a$2\")=\"R\",Season_Summary!G106,\"\"),\"\")","v":""},{"$f":"IFERROR(IF(INDIRECT(\"'game1 (\"&$AD106&\")'!$a$2\")=\"R\",Season_Summary!H106,\"\"),\"\")","v":""},{"$f":"IFERROR(IF(INDIRECT(\"'game1 (\"&$AD106&\")'!$a$2\")=\"R\",Season_Summary!I106,\"\"),\"\")","v":""},{"$f":"IFERROR(IF(INDIRECT(\"'game1 (\"&$AD106&\")'!$a$2\")=\"R\",Season_Summary!J106,\"\"),\"\")","v":""},{"$f":"IFERROR(IF(INDIRECT(\"'game1 (\"&$AD106&\")'!$a$2\")=\"R\",Season_Summary!K106,\"\"),\"\")","v":""},{"$f":"IFERROR(IF(INDIRECT(\"'game1 (\"&$AD106&\")'!$a$2\")=\"R\",Season_Summary!L106,\"\"),\"\")","v":""},{"$f":"IFERROR(IF(INDIRECT(\"'game1 (\"&$AD106&\")'!$a$2\")=\"R\",Season_Summary!M106,\"\"),\"\")","v":""},{"$f":"IFERROR(IF(INDIRECT(\"'game1 (\"&$AD106&\")'!$a$2\")=\"R\",Season_Summary!N106,\"\"),\"\")","v":""},{"$f":"IFERROR(IF(INDIRECT(\"'game1 (\"&$AD106&\")'!$a$2\")=\"R\",Season_Summary!O106,\"\"),\"\")","v":""},{"$f":"IFERROR(IF(INDIRECT(\"'game1 (\"&$AD106&\")'!$a$2\")=\"R\",Season_Summary!P106,\"\"),\"\")","v":""},{"$f":"IFERROR(IF(INDIRECT(\"'game1 (\"&$AD106&\")'!$a$2\")=\"R\",Season_Summary!Q106,\"\"),\"\")","v":""},{"$f":"IFERROR(IF(INDIRECT(\"'game1 (\"&$AD106&\")'!$a$2\")=\"R\",Season_Summary!R106,\"\"),\"\")","v":""},{"$f":"IFERROR(IF(INDIRECT(\"'game1 (\"&$AD106&\")'!$a$2\")=\"R\",Season_Summary!S106,\"\"),\"\")","v":""},{"$f":"IFERROR(IF(INDIRECT(\"'game1 (\"&$AD106&\")'!$a$2\")=\"R\",Season_Summary!T106,\"\"),\"\")","v":""},{"$f":"IFERROR(IF(INDIRECT(\"'game1 (\"&$AD106&\")'!$a$2\")=\"R\",Season_Summary!U106,\"\"),\"\")","v":""},{"$f":"IFERROR(IF(INDIRECT(\"'game1 (\"&$AD106&\")'!$a$2\")=\"R\",Season_Summary!V106,\"\"),\"\")","v":""},{"$f":"IFERROR(IF(INDIRECT(\"'game1 (\"&$AD106&\")'!$a$2\")=\"R\",Season_Summary!W106,\"\"),\"\")","v":""},{"$f":"IFERROR(IF(INDIRECT(\"'game1 (\"&$AD106&\")'!$a$2\")=\"R\",Season_Summary!X106,\"\"),\"\")","v":""},{"$f":"IFERROR(IF(INDIRECT(\"'game1 (\"&$AD106&\")'!$a$2\")=\"R\",Season_Summary!Y106,\"\"),\"\")","v":""},{"$f":"IFERROR(IF(INDIRECT(\"'game1 (\"&$AD106&\")'!$a$2\")=\"R\",Season_Summary!Z106,\"\"),\"\")","v":""},{"$f":"IFERROR(IF(INDIRECT(\"'game1 (\"&$AD106&\")'!$a$2\")=\"R\",Season_Summary!AA106,\"\"),\"\")","v":""},{"$f":"IFERROR(IF(INDIRECT(\"'game1 (\"&$AD106&\")'!$a$2\")=\"R\",Season_Summary!AB106,\"\"),\"\")","v":""},{"$f":"IFERROR(IF(INDIRECT(\"'game1 (\"&$AD106&\")'!$a$2\")=\"R\",Season_Summary!AC106,\"\"),\"\")","v":""},{"$f":"AD104+1","v":2}]
[{"$f":"IFERROR(IF(INDIRECT(\"'game1 (\"&$AD107&\")'!$a$2\")=\"R\",Season_Summary!A107,\"\"),\"\")","v":""},{"$f":"IFERROR(IF(INDIRECT(\"'game1 (\"&$AD107&\")'!$a$2\")=\"R\",Season_Summary!B107,\"\"),\"\")","v":""},{"$f":"IFERROR(IF(INDIRECT(\"'game1 (\"&$AD107&\")'!$a$2\")=\"R\",Season_Summary!C107,\"\"),\"\")","v":""},{"$f":"IFERROR(IF(INDIRECT(\"'game1 (\"&$AD107&\")'!$a$2\")=\"R\",Season_Summary!D107,\"\"),\"\")","v":""},{"$f":"IFERROR(IF(INDIRECT(\"'game1 (\"&$AD107&\")'!$a$2\")=\"R\",Season_Summary!E107,\"\"),\"\")","v":""},{"$f":"IFERROR(IF(INDIRECT(\"'game1 (\"&$AD107&\")'!$a$2\")=\"R\",Season_Summary!F107,\"\"),\"\")","v":""},{"$f":"IFERROR(IF(INDIRECT(\"'game1 (\"&$AD107&\")'!$a$2\")=\"R\",Season_Summary!G107,\"\"),\"\")","v":""},{"$f":"IFERROR(IF(INDIRECT(\"'game1 (\"&$AD107&\")'!$a$2\")=\"R\",Season_Summary!H107,\"\"),\"\")","v":""},{"$f":"IFERROR(IF(INDIRECT(\"'game1 (\"&$AD107&\")'!$a$2\")=\"R\",Season_Summary!I107,\"\"),\"\")","v":""},{"$f":"IFERROR(IF(INDIRECT(\"'game1 (\"&$AD107&\")'!$a$2\")=\"R\",Season_Summary!J107,\"\"),\"\")","v":""},{"$f":"IFERROR(IF(INDIRECT(\"'game1 (\"&$AD107&\")'!$a$2\")=\"R\",Season_Summary!K107,\"\"),\"\")","v":""},{"$f":"IFERROR(IF(INDIRECT(\"'game1 (\"&$AD107&\")'!$a$2\")=\"R\",Season_Summary!L107,\"\"),\"\")","v":""},{"$f":"IFERROR(IF(INDIRECT(\"'game1 (\"&$AD107&\")'!$a$2\")=\"R\",Season_Summary!M107,\"\"),\"\")","v":""},{"$f":"IFERROR(IF(INDIRECT(\"'game1 (\"&$AD107&\")'!$a$2\")=\"R\",Season_Summary!N107,\"\"),\"\")","v":""},{"$f":"IFERROR(IF(INDIRECT(\"'game1 (\"&$AD107&\")'!$a$2\")=\"R\",Season_Summary!O107,\"\"),\"\")","v":""},{"$f":"IFERROR(IF(INDIRECT(\"'game1 (\"&$AD107&\")'!$a$2\")=\"R\",Season_Summary!P107,\"\"),\"\")","v":""},{"$f":"IFERROR(IF(INDIRECT(\"'game1 (\"&$AD107&\")'!$a$2\")=\"R\",Season_Summary!Q107,\"\"),\"\")","v":""},{"$f":"IFERROR(IF(INDIRECT(\"'game1 (\"&$AD107&\")'!$a$2\")=\"R\",Season_Summary!R107,\"\"),\"\")","v":""},{"$f":"IFERROR(IF(INDIRECT(\"'game1 (\"&$AD107&\")'!$a$2\")=\"R\",Season_Summary!S107,\"\"),\"\")","v":""},{"$f":"IFERROR(IF(INDIRECT(\"'game1 (\"&$AD107&\")'!$a$2\")=\"R\",Season_Summary!T107,\"\"),\"\")","v":""},{"$f":"IFERROR(IF(INDIRECT(\"'game1 (\"&$AD107&\")'!$a$2\")=\"R\",Season_Summary!U107,\"\"),\"\")","v":""},{"$f":"IFERROR(IF(INDIRECT(\"'game1 (\"&$AD107&\")'!$a$2\")=\"R\",Season_Summary!V107,\"\"),\"\")","v":""},{"$f":"IFERROR(IF(INDIRECT(\"'game1 (\"&$AD107&\")'!$a$2\")=\"R\",Season_Summary!W107,\"\"),\"\")","v":""},{"$f":"IFERROR(IF(INDIRECT(\"'game1 (\"&$AD107&\")'!$a$2\")=\"R\",Season_Summary!X107,\"\"),\"\")","v":""},{"$f":"IFERROR(IF(INDIRECT(\"'game1 (\"&$AD107&\")'!$a$2\")=\"R\",Season_Summary!Y107,\"\"),\"\")","v":""},{"$f":"IFERROR(IF(INDIRECT(\"'game1 (\"&$AD107&\")'!$a$2\")=\"R\",Season_Summary!Z107,\"\"),\"\")","v":""},{"$f":"IFERROR(IF(INDIRECT(\"'game1 (\"&$AD107&\")'!$a$2\")=\"R\",Season_Summary!AA107,\"\"),\"\")","v":""},{"$f":"IFERROR(IF(INDIRECT(\"'game1 (\"&$AD107&\")'!$a$2\")=\"R\",Season_Summary!AB107,\"\"),\"\")","v":""},{"$f":"IFERROR(IF(INDIRECT(\"'game1 (\"&$AD107&\")'!$a$2\")=\"R\",Season_Summary!AC107,\"\"),\"\")","v":""},3]
[{"$f":"IFERROR(IF(INDIRECT(\"'game1 (\"&$AD108&\")'!$a$2\")=\"R\",Season_Summary!A108,\"\"),\"\")","v":""},{"$f":"IFERROR(IF(INDIRECT(\"'game1 (\"&$AD108&\")'!$a$2\")=\"R\",Season_Summary!B108,\"\"),\"\")","v":""},{"$f":"IFERROR(IF(INDIRECT(\"'game1 (\"&$AD108&\")'!$a$2\")=\"R\",Season_Summary!C108,\"\"),\"\")","v":""},{"$f":"IFERROR(IF(INDIRECT(\"'game1 (\"&$AD108&\")'!$a$2\")=\"R\",Season_Summary!D108,\"\"),\"\")","v":""},{"$f":"IFERROR(IF(INDIRECT(\"'game1 (\"&$AD108&\")'!$a$2\")=\"R\",Season_Summary!E108,\"\"),\"\")","v":""},{"$f":"IFERROR(IF(INDIRECT(\"'game1 (\"&$AD108&\")'!$a$2\")=\"R\",Season_Summary!F108,\"\"),\"\")","v":""},{"$f":"IFERROR(IF(INDIRECT(\"'game1 (\"&$AD108&\")'!$a$2\")=\"R\",Season_Summary!G108,\"\"),\"\")","v":""},{"$f":"IFERROR(IF(INDIRECT(\"'game1 (\"&$AD108&\")'!$a$2\")=\"R\",Season_Summary!H108,\"\"),\"\")","v":""},{"$f":"IFERROR(IF(INDIRECT(\"'game1 (\"&$AD108&\")'!$a$2\")=\"R\",Season_Summary!I108,\"\"),\"\")","v":""},{"$f":"IFERROR(IF(INDIRECT(\"'game1 (\"&$AD108&\")'!$a$2\")=\"R\",Season_Summary!J108,\"\"),\"\")","v":""},{"$f":"IFERROR(IF(INDIRECT(\"'game1 (\"&$AD108&\")'!$a$2\")=\"R\",Season_Summary!K108,\"\"),\"\")","v":""},{"$f":"IFERROR(IF(INDIRECT(\"'game1 (\"&$AD108&\")'!$a$2\")=\"R\",Season_Summary!L108,\"\"),\"\")","v":""},{"$f":"IFERROR(IF(INDIRECT(\"'game1 (\"&$AD108&\")'!$a$2\")=\"R\",Season_Summary!M108,\"\"),\"\")","v":""},{"$f":"IFERROR(IF(INDIRECT(\"'game1 (\"&$AD108&\")'!$a$2\")=\"R\",Season_Summary!N108,\"\"),\"\")","v":""},{"$f":"IFERROR(IF(INDIRECT(\"'game1 (\"&$AD108&\")'!$a$2\")=\"R\",Season_Summary!O108,\"\"),\"\")","v":""},{"$f":"IFERROR(IF(INDIRECT(\"'game1 (\"&$AD108&\")'!$a$2\")=\"R\",Season_Summary!P108,\"\"),\"\")","v":""},{"$f":"IFERROR(IF(INDIRECT(\"'game1 (\"&$AD108&\")'!$a$2\")=\"R\",Season_Summary!Q108,\"\"),\"\")","v":""},{"$f":"IFERROR(IF(INDIRECT(\"'game1 (\"&$AD108&\")'!$a$2\")=\"R\",Season_Summary!R108,\"\"),\"\")","v":""},{"$f":"IFERROR(IF(INDIRECT(\"'game1 (\"&$AD108&\")'!$a$2\")=\"R\",Season_Summary!S108,\"\"),\"\")","v":""},{"$f":"IFERROR(IF(INDIRECT(\"'game1 (\"&$AD108&\")'!$a$2\")=\"R\",Season_Summary!T108,\"\"),\"\")","v":""},{"$f":"IFERROR(IF(INDIRECT(\"'game1 (\"&$AD108&\")'!$a$2\")=\"R\",Season_Summary!U108,\"\"),\"\")","v":""},{"$f":"IFERROR(IF(INDIRECT(\"'game1 (\"&$AD108&\")'!$a$2\")=\"R\",Season_Summary!V108,\"\"),\"\")","v":""},{"$f":"IFERROR(IF(INDIRECT(\"'game1 (\"&$AD108&\")'!$a$2\")=\"R\",Season_Summary!W108,\"\"),\"\")","v":""},{"$f":"IFERROR(IF(INDIRECT(\"'game1 (\"&$AD108&\")'!$a$2\")=\"R\",Season_Summary!X108,\"\"),\"\")","v":""},{"$f":"IFERROR(IF(INDIRECT(\"'game1 (\"&$AD108&\")'!$a$2\")=\"R\",Season_Summary!Y108,\"\"),\"\")","v":""},{"$f":"IFERROR(IF(INDIRECT(\"'game1 (\"&$AD108&\")'!$a$2\")=\"R\",Season_Summary!Z108,\"\"),\"\")","v":""},{"$f":"IFERROR(IF(INDIRECT(\"'game1 (\"&$AD108&\")'!$a$2\")=\"R\",Season_Summary!AA108,\"\"),\"\")","v":""},{"$f":"IFERROR(IF(INDIRECT(\"'game1 (\"&$AD108&\")'!$a$2\")=\"R\",Season_Summary!AB108,\"\"),\"\")","v":""},{"$f":"IFERROR(IF(INDIRECT(\"'game1 (\"&$AD108&\")'!$a$2\")=\"R\",Season_Summary!AC108,\"\"),\"\")","v":""},3]
[{"$f":"IFERROR(IF(INDIRECT(\"'game1 (\"&$AD109&\")'!$a$2\")=\"R\",Season_Summary!A109,\"\"),\"\")","v":""},{"$f":"IFERROR(IF(INDIRECT(\"'game1 (\"&$AD109&\")'!$a$2\")=\"R\",Season_Summary!B109,\"\"),\"\")","v":""},{"$f":"IFERROR(IF(INDIRECT(\"'game1 (\"&$AD109&\")'!$a$2\")=\"R\",Season_Summary!C109,\"\"),\"\")","v":""},{"$f":"IFERROR(IF(INDIRECT(\"'game1 (\"&$AD109&\")'!$a$2\")=\"R\",Season_Summary!D109,\"\"),\"\")","v":""},{"$f":"IFERROR(IF(INDIRECT(\"'game1 (\"&$AD109&\")'!$a$2\")=\"R\",Season_Summary!E109,\"\"),\"\")","v":""},{"$f":"IFERROR(IF(INDIRECT(\"'game1 (\"&$AD109&\")'!$a$2\")=\"R\",Season_Summary!F109,\"\"),\"\")","v":""},{"$f":"IFERROR(IF(INDIRECT(\"'game1 (\"&$AD109&\")'!$a$2\")=\"R\",Season_Summary!G109,\"\"),\"\")","v":""},{"$f":"IFERROR(IF(INDIRECT(\"'game1 (\"&$AD109&\")'!$a$2\")=\"R\",Season_Summary!H109,\"\"),\"\")","v":""},{"$f":"IFERROR(IF(INDIRECT(\"'game1 (\"&$AD109&\")'!$a$2\")=\"R\",Season_Summary!I109,\"\"),\"\")","v":""},{"$f":"IFERROR(IF(INDIRECT(\"'game1 (\"&$AD109&\")'!$a$2\")=\"R\",Season_Summary!J109,\"\"),\"\")","v":""},{"$f":"IFERROR(IF(INDIRECT(\"'game1 (\"&$AD109&\")'!$a$2\")=\"R\",Season_Summary!K109,\"\"),\"\")","v":""},{"$f":"IFERROR(IF(INDIRECT(\"'game1 (\"&$AD109&\")'!$a$2\")=\"R\",Season_Summary!L109,\"\"),\"\")","v":""},{"$f":"IFERROR(IF(INDIRECT(\"'game1 (\"&$AD109&\")'!$a$2\")=\"R\",Season_Summary!M109,\"\"),\"\")","v":""},{"$f":"IFERROR(IF(INDIRECT(\"'game1 (\"&$AD109&\")'!$a$2\")=\"R\",Season_Summary!N109,\"\"),\"\")","v":""},{"$f":"IFERROR(IF(INDIRECT(\"'game1 (\"&$AD109&\")'!$a$2\")=\"R\",Season_Summary!O109,\"\"),\"\")","v":""},{"$f":"IFERROR(IF(INDIRECT(\"'game1 (\"&$AD109&\")'!$a$2\")=\"R\",Season_Summary!P109,\"\"),\"\")","v":""},{"$f":"IFERROR(IF(INDIRECT(\"'game1 (\"&$AD109&\")'!$a$2\")=\"R\",Season_Summary!Q109,\"\"),\"\")","v":""},{"$f":"IFERROR(IF(INDIRECT(\"'game1 (\"&$AD109&\")'!$a$2\")=\"R\",Season_Summary!R109,\"\"),\"\")","v":""},{"$f":"IFERROR(IF(INDIRECT(\"'game1 (\"&$AD109&\")'!$a$2\")=\"R\",Season_Summary!S109,\"\"),\"\")","v":""},{"$f":"IFERROR(IF(INDIRECT(\"'game1 (\"&$AD109&\")'!$a$2\")=\"R\",Season_Summary!T109,\"\"),\"\")","v":""},{"$f":"IFERROR(IF(INDIRECT(\"'game1 (\"&$AD109&\")'!$a$2\")=\"R\",Season_Summary!U109,\"\"),\"\")","v":""},{"$f":"IFERROR(IF(INDIRECT(\"'game1 (\"&$AD109&\")'!$a$2\")=\"R\",Season_Summary!V109,\"\"),\"\")","v":""},{"$f":"IFERROR(IF(INDIRECT(\"'game1 (\"&$AD109&\")'!$a$2\")=\"R\",Season_Summary!W109,\"\"),\"\")","v":""},{"$f":"IFERROR(IF(INDIRECT(\"'game1 (\"&$AD109&\")'!$a$2\")=\"R\",Season_Summary!X109,\"\"),\"\")","v":""},{"$f":"IFERROR(IF(INDIRECT(\"'game1 (\"&$AD109&\")'!$a$2\")=\"R\",Season_Summary!Y109,\"\"),\"\")","v":""},{"$f":"IFERROR(IF(INDIRECT(\"'game1 (\"&$AD109&\")'!$a$2\")=\"R\",Season_Summary!Z109,\"\"),\"\")","v":""},{"$f":"IFERROR(IF(INDIRECT(\"'game1 (\"&$AD109&\")'!$a$2\")=\"R\",Season_Summary!AA109,\"\"),\"\")","v":""},{"$f":"IFERROR(IF(INDIRECT(\"'game1 (\"&$AD109&\")'!$a$2\")=\"R\",Season_Summary!AB109,\"\"),\"\")","v":""},{"$f":"IFERROR(IF(INDIRECT(\"'game1 (\"&$AD109&\")'!$a$2\")=\"R\",Season_Summary!AC109,\"\"),\"\")","v":""},4]
[{"$f":"IFERROR(IF(INDIRECT(\"'game1 (\"&$AD110&\")'!$a$2\")=\"R\",Season_Summary!A110,\"\"),\"\")","v":""},{"$f":"IFERROR(IF(INDIRECT(\"'game1 (\"&$AD110&\")'!$a$2\")=\"R\",Season_Summary!B110,\"\"),\"\")","v":""},{"$f":"IFERROR(IF(INDIRECT(\"'game1 (\"&$AD110&\")'!$a$2\")=\"R\",Season_Summary!C110,\"\"),\"\")","v":""},{"$f":"IFERROR(IF(INDIRECT(\"'game1 (\"&$AD110&\")'!$a$2\")=\"R\",Season_Summary!D110,\"\"),\"\")","v":""},{"$f":"IFERROR(IF(INDIRECT(\"'game1 (\"&$AD110&\")'!$a$2\")=\"R\",Season_Summary!E110,\"\"),\"\")","v":""},{"$f":"IFERROR(IF(INDIRECT(\"'game1 (\"&$AD110&\")'!$a$2\")=\"R\",Season_Summary!F110,\"\"),\"\")","v":""},{"$f":"IFERROR(IF(INDIRECT(\"'game1 (\"&$AD110&\")'!$a$2\")=\"R\",Season_Summary!G110,\"\"),\"\")","v":""},{"$f":"IFERROR(IF(INDIRECT(\"'game1 (\"&$AD110&\")'!$a$2\")=\"R\",Season_Summary!H110,\"\"),\"\")","v":""},{"$f":"IFERROR(IF(INDIRECT(\"'game1 (\"&$AD110&\")'!$a$2\")=\"R\",Season_Summary!I110,\"\"),\"\")","v":""},{"$f":"IFERROR(IF(INDIRECT(\"'game1 (\"&$AD110&\")'!$a$2\")=\"R\",Season_Summary!J110,\"\"),\"\")","v":""},{"$f":"IFERROR(IF(INDIRECT(\"'game1 (\"&$AD110&\")'!$a$2\")=\"R\",Season_Summary!K110,\"\"),\"\")","v":""},{"$f":"IFERROR(IF(INDIRECT(\"'game1 (\"&$AD110&\")'!$a$2\")=\"R\",Season_Summary!L110,\"\"),\"\")","v":""},{"$f":"IFERROR(IF(INDIRECT(\"'game1 (\"&$AD110&\")'!$a$2\")=\"R\",Season_Summary!M110,\"\"),\"\")","v":""},{"$f":"IFERROR(IF(INDIRECT(\"'game1 (\"&$AD110&\")'!$a$2\")=\"R\",Season_Summary!N110,\"\"),\"\")","v":""},{"$f":"IFERROR(IF(INDIRECT(\"'game1 (\"&$AD110&\")'!$a$2\")=\"R\",Season_Summary!O110,\"\"),\"\")","v":""},{"$f":"IFERROR(IF(INDIRECT(\"'game1 (\"&$AD110&\")'!$a$2\")=\"R\",Season_Summary!P110,\"\"),\"\")","v":""},{"$f":"IFERROR(IF(INDIRECT(\"'game1 (\"&$AD110&\")'!$a$2\")=\"R\",Season_Summary!Q110,\"\"),\"\")","v":""},{"$f":"IFERROR(IF(INDIRECT(\"'game1 (\"&$AD110&\")'!$a$2\")=\"R\",Season_Summary!R110,\"\"),\"\")","v":""},{"$f":"IFERROR(IF(INDIRECT(\"'game1 (\"&$AD110&\")'!$a$2\")=\"R\",Season_Summary!S110,\"\"),\"\")","v":""},{"$f":"IFERROR(IF(INDIRECT(\"'game1 (\"&$AD110&\")'!$a$2\")=\"R\",Season_Summary!T110,\"\"),\"\")","v":""},{"$f":"IFERROR(IF(INDIRECT(\"'game1 (\"&$AD110&\")'!$a$2\")=\"R\",Season_Summary!U110,\"\"),\"\")","v":""},{"$f":"IFERROR(IF(INDIRECT(\"'game1 (\"&$AD110&\")'!$a$2\")=\"R\",Season_Summary!V110,\"\"),\"\")","v":""},{"$f":"IFERROR(IF(INDIRECT(\"'game1 (\"&$AD110&\")'!$a$2\")=\"R\",Season_Summary!W110,\"\"),\"\")","v":""},{"$f":"IFERROR(IF(INDIRECT(\"'game1 (\"&$AD110&\")'!$a$2\")=\"R\",Season_Summary!X110,\"\"),\"\")","v":""},{"$f":"IFERROR(IF(INDIRECT(\"'game1 (\"&$AD110&\")'!$a$2\")=\"R\",Season_Summary!Y110,\"\"),\"\")","v":""},{"$f":"IFERROR(IF(INDIRECT(\"'game1 (\"&$AD110&\")'!$a$2\")=\"R\",Season_Summary!Z110,\"\"),\"\")","v":""},{"$f":"IFERROR(IF(INDIRECT(\"'game1 (\"&$AD110&\")'!$a$2\")=\"R\",Season_Summary!AA110,\"\"),\"\")","v":""},{"$f":"IFERROR(IF(INDIRECT(\"'game1 (\"&$AD110&\")'!$a$2\")=\"R\",Season_Summary!AB110,\"\"),\"\")","v":""},{"$f":"IFERROR(IF(INDIRECT(\"'game1 (\"&$AD110&\")'!$a$2\")=\"R\",Season_Summary!AC110,\"\"),\"\")","v":""},4]
[{"$f":"IFERROR(IF(INDIRECT(\"'game1 (\"&$AD111&\")'!$a$2\")=\"R\",Season_Summary!A111,\"\"),\"\")","v":""},{"$f":"IFERROR(IF(INDIRECT(\"'game1 (\"&$AD111&\")'!$a$2\")=\"R\",Season_Summary!B111,\"\"),\"\")","v":""},{"$f":"IFERROR(IF(INDIRECT(\"'game1 (\"&$AD111&\")'!$a$2\")=\"R\",Season_Summary!C111,\"\"),\"\")","v":""},{"$f":"IFERROR(IF(INDIRECT(\"'game1 (\"&$AD111&\")'!$a$2\")=\"R\",Season_Summary!D111,\"\"),\"\")","v":""},{"$f":"IFERROR(IF(INDIRECT(\"'game1 (\"&$AD111&\")'!$a$2\")=\"R\",Season_Summary!E111,\"\"),\"\")","v":""},{"$f":"IFERROR(IF(INDIRECT(\"'game1 (\"&$AD111&\")'!$a$2\")=\"R\",Season_Summary!F111,\"\"),\"\")","v":""},{"$f":"IFERROR(IF(INDIRECT(\"'game1 (\"&$AD111&\")'!$a$2\")=\"R\",Season_Summary!G111,\"\"),\"\")","v":""},{"$f":"IFERROR(IF(INDIRECT(\"'game1 (\"&$AD111&\")'!$a$2\")=\"R\",Season_Summary!H111,\"\"),\"\")","v":""},{"$f":"IFERROR(IF(INDIRECT(\"'game1 (\"&$AD111&\")'!$a$2\")=\"R\",Season_Summary!I111,\"\"),\"\")","v":""},{"$f":"IFERROR(IF(INDIRECT(\"'game1 (\"&$AD111&\")'!$a$2\")=\"R\",Season_Summary!J111,\"\"),\"\")","v":""},{"$f":"IFERROR(IF(INDIRECT(\"'game1 (\"&$AD111&\")'!$a$2\")=\"R\",Season_Summary!K111,\"\"),\"\")","v":""},{"$f":"IFERROR(IF(INDIRECT(\"'game1 (\"&$AD111&\")'!$a$2\")=\"R\",Season_Summary!L111,\"\"),\"\")","v":""},{"$f":"IFERROR(IF(INDIRECT(\"'game1 (\"&$AD111&\")'!$a$2\")=\"R\",Season_Summary!M111,\"\"),\"\")","v":""},{"$f":"IFERROR(IF(INDIRECT(\"'game1 (\"&$AD111&\")'!$a$2\")=\"R\",Season_Summary!N111,\"\"),\"\")","v":""},{"$f":"IFERROR(IF(INDIRECT(\"'game1 (\"&$AD111&\")'!$a$2\")=\"R\",Season_Summary!O111,\"\"),\"\")","v":""},{"$f":"IFERROR(IF(INDIRECT(\"'game1 (\"&$AD111&\")'!$a$2\")=\"R\",Season_Summary!P111,\"\"),\"\")","v":""},{"$f":"IFERROR(IF(INDIRECT(\"'game1 (\"&$AD111&\")'!$a$2\")=\"R\",Season_Summary!Q111,\"\"),\"\")","v":""},{"$f":"IFERROR(IF(INDIRECT(\"'game1 (\"&$AD111&\")'!$a$2\")=\"R\",Season_Summary!R111,\"\"),\"\")","v":""},{"$f":"IFERROR(IF(INDIRECT(\"'game1 (\"&$AD111&\")'!$a$2\")=\"R\",Season_Summary!S111,\"\"),\"\")","v":""},{"$f":"IFERROR(IF(INDIRECT(\"'game1 (\"&$AD111&\")'!$a$2\")=\"R\",Season_Summary!T111,\"\"),\"\")","v":""},{"$f":"IFERROR(IF(INDIRECT(\"'game1 (\"&$AD111&\")'!$a$2\")=\"R\",Season_Summary!U111,\"\"),\"\")","v":""},{"$f":"IFERROR(IF(INDIRECT(\"'game1 (\"&$AD111&\")'!$a$2\")=\"R\",Season_Summary!V111,\"\"),\"\")","v":""},{"$f":"IFERROR(IF(INDIRECT(\"'game1 (\"&$AD111&\")'!$a$2\")=\"R\",Season_Summary!W111,\"\"),\"\")","v":""},{"$f":"IFERROR(IF(INDIRECT(\"'game1 (\"&$AD111&\")'!$a$2\")=\"R\",Season_Summary!X111,\"\"),\"\")","v":""},{"$f":"IFERROR(IF(INDIRECT(\"'game1 (\"&$AD111&\")'!$a$2\")=\"R\",Season_Summary!Y111,\"\"),\"\")","v":""},{"$f":"IFERROR(IF(INDIRECT(\"'game1 (\"&$AD111&\")'!$a$2\")=\"R\",Season_Summary!Z111,\"\"),\"\")","v":""},{"$f":"IFERROR(IF(INDIRECT(\"'game1 (\"&$AD111&\")'!$a$2\")=\"R\",Season_Summary!AA111,\"\"),\"\")","v":""},{"$f":"IFERROR(IF(INDIRECT(\"'game1 (\"&$AD111&\")'!$a$2\")=\"R\",Season_Summary!AB111,\"\"),\"\")","v":""},{"$f":"IFERROR(IF(INDIRECT(\"'game1 (\"&$AD111&\")'!$a$2\")=\"R\",Season_Summary!AC111,\"\"),\"\")","v":""},5]
[{"$f":"IFERROR(IF(INDIRECT(\"'game1 (\"&$AD112&\")'!$a$2\")=\"R\",Season_Summary!A112,\"\"),\"\")","v":""},{"$f":"IFERROR(IF(INDIRECT(\"'game1 (\"&$AD112&\")'!$a$2\")=\"R\",Season_Summary!B112,\"\"),\"\")","v":""},{"$f":"IFERROR(IF(INDIRECT(\"'game1 (\"&$AD112&\")'!$a$2\")=\"R\",Season_Summary!C112,\"\"),\"\")","v":""},{"$f":"IFERROR(IF(INDIRECT(\"'game1 (\"&$AD112&\")'!$a$2\")=\"R\",Season_Summary!D112,\"\"),\"\")","v":""},{"$f":"IFERROR(IF(INDIRECT(\"'game1 (\"&$AD112&\")'!$a$2\")=\"R\",Season_Summary!E112,\"\"),\"\")","v":""},{"$f":"IFERROR(IF(INDIRECT(\"'game1 (\"&$AD112&\")'!$a$2\")=\"R\",Season_Summary!F112,\"\"),\"\")","v":""},{"$f":"IFERROR(IF(INDIRECT(\"'game1 (\"&$AD112&\")'!$a$2\")=\"R\",Season_Summary!G112,\"\"),\"\")","v":""},{"$f":"IFERROR(IF(INDIRECT(\"'game1 (\"&$AD112&\")'!$a$2\")=\"R\",Season_Summary!H112,\"\"),\"\")","v":""},{"$f":"IFERROR(IF(INDIRECT(\"'game1 (\"&$AD112&\")'!$a$2\")=\"R\",Season_Summary!I112,\"\"),\"\")","v":""},{"$f":"IFERROR(IF(INDIRECT(\"'game1 (\"&$AD112&\")'!$a$2\")=\"R\",Season_Summary!J112,\"\"),\"\")","v":""},{"$f":"IFERROR(IF(INDIRECT(\"'game1 (\"&$AD112&\")'!$a$2\")=\"R\",Season_Summary!K112,\"\"),\"\")","v":""},{"$f":"IFERROR(IF(INDIRECT(\"'game1 (\"&$AD112&\")'!$a$2\")=\"R\",Season_Summary!L112,\"\"),\"\")","v":""},{"$f":"IFERROR(IF(INDIRECT(\"'game1 (\"&$AD112&\")'!$a$2\")=\"R\",Season_Summary!M112,\"\"),\"\")","v":""},{"$f":"IFERROR(IF(INDIRECT(\"'game1 (\"&$AD112&\")'!$a$2\")=\"R\",Season_Summary!N112,\"\"),\"\")","v":""},{"$f":"IFERROR(IF(INDIRECT(\"'game1 (\"&$AD112&\")'!$a$2\")=\"R\",Season_Summary!O112,\"\"),\"\")","v":""},{"$f":"IFERROR(IF(INDIRECT(\"'game1 (\"&$AD112&\")'!$a$2\")=\"R\",Season_Summary!P112,\"\"),\"\")","v":""},{"$f":"IFERROR(IF(INDIRECT(\"'game1 (\"&$AD112&\")'!$a$2\")=\"R\",Season_Summary!Q112,\"\"),\"\")","v":""},{"$f":"IFERROR(IF(INDIRECT(\"'game1 (\"&$AD112&\")'!$a$2\")=\"R\",Season_Summary!R112,\"\"),\"\")","v":""},{"$f":"IFERROR(IF(INDIRECT(\"'game1 (\"&$AD112&\")'!$a$2\")=\"R\",Season_Summary!S112,\"\"),\"\")","v":""},{"$f":"IFERROR(IF(INDIRECT(\"'game1 (\"&$AD112&\")'!$a$2\")=\"R\",Season_Summary!T112,\"\"),\"\")","v":""},{"$f":"IFERROR(IF(INDIRECT(\"'game1 (\"&$AD112&\")'!$a$2\")=\"R\",Season_Summary!U112,\"\"),\"\")","v":""},{"$f":"IFERROR(IF(INDIRECT(\"'game1 (\"&$AD112&\")'!$a$2\")=\"R\",Season_Summary!V112,\"\"),\"\")","v":""},{"$f":"IFERROR(IF(INDIRECT(\"'game1 (\"&$AD112&\")'!$a$2\")=\"R\",Season_Summary!W112,\"\"),\"\")","v":""},{"$f":"IFERROR(IF(INDIRECT(\"'game1 (\"&$AD112&\")'!$a$2\")=\"R\",Season_Summary!X112,\"\"),\"\")","v":""},{"$f":"IFERROR(IF(INDIRECT(\"'game1 (\"&$AD112&\")'!$a$2\")=\"R\",Season_Summary!Y112,\"\"),\"\")","v":""},{"$f":"IFERROR(IF(INDIRECT(\"'game1 (\"&$AD112&\")'!$a$2\")=\"R\",Season_Summary!Z112,\"\"),\"\")","v":""},{"$f":"IFERROR(IF(INDIRECT(\"'game1 (\"&$AD112&\")'!$a$2\")=\"R\",Season_Summary!AA112,\"\"),\"\")","v":""},{"$f":"IFERROR(IF(INDIRECT(\"'game1 (\"&$AD112&\")'!$a$2\")=\"R\",Season_Summary!AB112,\"\"),\"\")","v":""},{"$f":"IFERROR(IF(INDIRECT(\"'game1 (\"&$AD112&\")'!$a$2\")=\"R\",Season_Summary!AC112,\"\"),\"\")","v":""},5]
[{"$f":"IFERROR(IF(INDIRECT(\"'game1 (\"&$AD113&\")'!$a$2\")=\"R\",Season_Summary!A113,\"\"),\"\")","v":""},{"$f":"IFERROR(IF(INDIRECT(\"'game1 (\"&$AD113&\")'!$a$2\")=\"R\",Season_Summary!B113,\"\"),\"\")","v":""},{"$f":"IFERROR(IF(INDIRECT(\"'game1 (\"&$AD113&\")'!$a$2\")=\"R\",Season_Summary!C113,\"\"),\"\")","v":""},{"$f":"IFERROR(IF(INDIRECT(\"'game1 (\"&$AD113&\")'!$a$2\")=\"R\",Season_Summary!D113,\"\"),\"\")","v":""},{"$f":"IFERROR(IF(INDIRECT(\"'game1 (\"&$AD113&\")'!$a$2\")=\"R\",Season_Summary!E113,\"\"),\"\")","v":""},{"$f":"IFERROR(IF(INDIRECT(\"'game1 (\"&$AD113&\")'!$a$2\")=\"R\",Season_Summary!F113,\"\"),\"\")","v":""},{"$f":"IFERROR(IF(INDIRECT(\"'game1 (\"&$AD113&\")'!$a$2\")=\"R\",Season_Summary!G113,\"\"),\"\")","v":""},{"$f":"IFERROR(IF(INDIRECT(\"'game1 (\"&$AD113&\")'!$a$2\")=\"R\",Season_Summary!H113,\"\"),\"\")","v":""},{"$f":"IFERROR(IF(INDIRECT(\"'game1 (\"&$AD113&\")'!$a$2\")=\"R\",Season_Summary!I113,\"\"),\"\")","v":""},{"$f":"IFERROR(IF(INDIRECT(\"'game1 (\"&$AD113&\")'!$a$2\")=\"R\",Season_Summary!J113,\"\"),\"\")","v":""},{"$f":"IFERROR(IF(INDIRECT(\"'game1 (\"&$AD113&\")'!$a$2\")=\"R\",Season_Summary!K113,\"\"),\"\")","v":""},{"$f":"IFERROR(IF(INDIRECT(\"'game1 (\"&$AD113&\")'!$a$2\")=\"R\",Season_Summary!L113,\"\"),\"\")","v":""},{"$f":"IFERROR(IF(INDIRECT(\"'game1 (\"&$AD113&\")'!$a$2\")=\"R\",Season_Summary!M113,\"\"),\"\")","v":""},{"$f":"IFERROR(IF(INDIRECT(\"'game1 (\"&$AD113&\")'!$a$2\")=\"R\",Season_Summary!N113,\"\"),\"\")","v":""},{"$f":"IFERROR(IF(INDIRECT(\"'game1 (\"&$AD113&\")'!$a$2\")=\"R\",Season_Summary!O113,\"\"),\"\")","v":""},{"$f":"IFERROR(IF(INDIRECT(\"'game1 (\"&$AD113&\")'!$a$2\")=\"R\",Season_Summary!P113,\"\"),\"\")","v":""},{"$f":"IFERROR(IF(INDIRECT(\"'game1 (\"&$AD113&\")'!$a$2\")=\"R\",Season_Summary!Q113,\"\"),\"\")","v":""},{"$f":"IFERROR(IF(INDIRECT(\"'game1 (\"&$AD113&\")'!$a$2\")=\"R\",Season_Summary!R113,\"\"),\"\")","v":""},{"$f":"IFERROR(IF(INDIRECT(\"'game1 (\"&$AD113&\")'!$a$2\")=\"R\",Season_Summary!S113,\"\"),\"\")","v":""},{"$f":"IFERROR(IF(INDIRECT(\"'game1 (\"&$AD113&\")'!$a$2\")=\"R\",Season_Summary!T113,\"\"),\"\")","v":""},{"$f":"IFERROR(IF(INDIRECT(\"'game1 (\"&$AD113&\")'!$a$2\")=\"R\",Season_Summary!U113,\"\"),\"\")","v":""},{"$f":"IFERROR(IF(INDIRECT(\"'game1 (\"&$AD113&\")'!$a$2\")=\"R\",Season_Summary!V113,\"\"),\"\")","v":""},{"$f":"IFERROR(IF(INDIRECT(\"'game1 (\"&$AD113&\")'!$a$2\")=\"R\",Season_Summary!W113,\"\"),\"\")","v":""},{"$f":"IFERROR(IF(INDIRECT(\"'game1 (\"&$AD113&\")'!$a$2\")=\"R\",Season_Summary!X113,\"\"),\"\")","v":""},{"$f":"IFERROR(IF(INDIRECT(\"'game1 (\"&$AD113&\")'!$a$2\")=\"R\",Season_Summary!Y113,\"\"),\"\")","v":""},{"$f":"IFERROR(IF(INDIRECT(\"'game1 (\"&$AD113&\")'!$a$2\")=\"R\",Season_Summary!Z113,\"\"),\"\")","v":""},{"$f":"IFERROR(IF(INDIRECT(\"'game1 (\"&$AD113&\")'!$a$2\")=\"R\",Season_Summary!AA113,\"\"),\"\")","v":""},{"$f":"IFERROR(IF(INDIRECT(\"'game1 (\"&$AD113&\")'!$a$2\")=\"R\",Season_Summary!AB113,\"\"),\"\")","v":""},{"$f":"IFERROR(IF(INDIRECT(\"'game1 (\"&$AD113&\")'!$a$2\")=\"R\",Season_Summary!AC113,\"\"),\"\")","v":""},6]
[{"$f":"IFERROR(IF(INDIRECT(\"'game1 (\"&$AD114&\")'!$a$2\")=\"R\",Season_Summary!A114,\"\"),\"\")","v":""},{"$f":"IFERROR(IF(INDIRECT(\"'game1 (\"&$AD114&\")'!$a$2\")=\"R\",Season_Summary!B114,\"\"),\"\")","v":""},{"$f":"IFERROR(IF(INDIRECT(\"'game1 (\"&$AD114&\")'!$a$2\")=\"R\",Season_Summary!C114,\"\"),\"\")","v":""},{"$f":"IFERROR(IF(INDIRECT(\"'game1 (\"&$AD114&\")'!$a$2\")=\"R\",Season_Summary!D114,\"\"),\"\")","v":""},{"$f":"IFERROR(IF(INDIRECT(\"'game1 (\"&$AD114&\")'!$a$2\")=\"R\",Season_Summary!E114,\"\"),\"\")","v":""},{"$f":"IFERROR(IF(INDIRECT(\"'game1 (\"&$AD114&\")'!$a$2\")=\"R\",Season_Summary!F114,\"\"),\"\")","v":""},{"$f":"IFERROR(IF(INDIRECT(\"'game1 (\"&$AD114&\")'!$a$2\")=\"R\",Season_Summary!G114,\"\"),\"\")","v":""},{"$f":"IFERROR(IF(INDIRECT(\"'game1 (\"&$AD114&\")'!$a$2\")=\"R\",Season_Summary!H114,\"\"),\"\")","v":""},{"$f":"IFERROR(IF(INDIRECT(\"'game1 (\"&$AD114&\")'!$a$2\")=\"R\",Season_Summary!I114,\"\"),\"\")","v":""},{"$f":"IFERROR(IF(INDIRECT(\"'game1 (\"&$AD114&\")'!$a$2\")=\"R\",Season_Summary!J114,\"\"),\"\")","v":""},{"$f":"IFERROR(IF(INDIRECT(\"'game1 (\"&$AD114&\")'!$a$2\")=\"R\",Season_Summary!K114,\"\"),\"\")","v":""},{"$f":"IFERROR(IF(INDIRECT(\"'game1 (\"&$AD114&\")'!$a$2\")=\"R\",Season_Summary!L114,\"\"),\"\")","v":""},{"$f":"IFERROR(IF(INDIRECT(\"'game1 (\"&$AD114&\")'!$a$2\")=\"R\",Season_Summary!M114,\"\"),\"\")","v":""},{"$f":"IFERROR(IF(INDIRECT(\"'game1 (\"&$AD114&\")'!$a$2\")=\"R\",Season_Summary!N114,\"\"),\"\")","v":""},{"$f":"IFERROR(IF(INDIRECT(\"'game1 (\"&$AD114&\")'!$a$2\")=\"R\",Season_Summary!O114,\"\"),\"\")","v":""},{"$f":"IFERROR(IF(INDIRECT(\"'game1 (\"&$AD114&\")'!$a$2\")=\"R\",Season_Summary!P114,\"\"),\"\")","v":""},{"$f":"IFERROR(IF(INDIRECT(\"'game1 (\"&$AD114&\")'!$a$2\")=\"R\",Season_Summary!Q114,\"\"),\"\")","v":""},{"$f":"IFERROR(IF(INDIRECT(\"'game1 (\"&$AD114&\")'!$a$2\")=\"R\",Season_Summary!R114,\"\"),\"\")","v":""},{"$f":"IFERROR(IF(INDIRECT(\"'game1 (\"&$AD114&\")'!$a$2\")=\"R\",Season_Summary!S114,\"\"),\"\")","v":""},{"$f":"IFERROR(IF(INDIRECT(\"'game1 (\"&$AD114&\")'!$a$2\")=\"R\",Season_Summary!T114,\"\"),\"\")","v":""},{"$f":"IFERROR(IF(INDIRECT(\"'game1 (\"&$AD114&\")'!$a$2\")=\"R\",Season_Summary!U114,\"\"),\"\")","v":""},{"$f":"IFERROR(IF(INDIRECT(\"'game1 (\"&$AD114&\")'!$a$2\")=\"R\",Season_Summary!V114,\"\"),\"\")","v":""},{"$f":"IFERROR(IF(INDIRECT(\"'game1 (\"&$AD114&\")'!$a$2\")=\"R\",Season_Summary!W114,\"\"),\"\")","v":""},{"$f":"IFERROR(IF(INDIRECT(\"'game1 (\"&$AD114&\")'!$a$2\")=\"R\",Season_Summary!X114,\"\"),\"\")","v":""},{"$f":"IFERROR(IF(INDIRECT(\"'game1 (\"&$AD114&\")'!$a$2\")=\"R\",Season_Summary!Y114,\"\"),\"\")","v":""},{"$f":"IFERROR(IF(INDIRECT(\"'game1 (\"&$AD114&\")'!$a$2\")=\"R\",Season_Summary!Z114,\"\"),\"\")","v":""},{"$f":"IFERROR(IF(INDIRECT(\"'game1 (\"&$AD114&\")'!$a$2\")=\"R\",Season_Summary!AA114,\"\"),\"\")","v":""},{"$f":"IFERROR(IF(INDIRECT(\"'game1 (\"&$AD114&\")'!$a$2\")=\"R\",Season_Summary!AB114,\"\"),\"\")","v":""},{"$f":"IFERROR(IF(INDIRECT(\"'game1 (\"&$AD114&\")'!$a$2\")=\"R\",Season_Summary!AC114,\"\"),\"\")","v":""},6]
[{"$f":"IFERROR(IF(INDIRECT(\"'game1 (\"&$AD115&\")'!$a$2\")=\"R\",Season_Summary!A115,\"\"),\"\")","v":""},{"$f":"IFERROR(IF(INDIRECT(\"'game1 (\"&$AD115&\")'!$a$2\")=\"R\",Season_Summary!B115,\"\"),\"\")","v":""},{"$f":"IFERROR(IF(INDIRECT(\"'game1 (\"&$AD115&\")'!$a$2\")=\"R\",Season_Summary!C115,\"\"),\"\")","v":""},{"$f":"IFERROR(IF(INDIRECT(\"'game1 (\"&$AD115&\")'!$a$2\")=\"R\",Season_Summary!D115,\"\"),\"\")","v":""},{"$f":"IFERROR(IF(INDIRECT(\"'game1 (\"&$AD115&\")'!$a$2\")=\"R\",Season_Summary!E115,\"\"),\"\")","v":""},{"$f":"IFERROR(IF(INDIRECT(\"'game1 (\"&$AD115&\")'!$a$2\")=\"R\",Season_Summary!F115,\"\"),\"\")","v":""},{"$f":"IFERROR(IF(INDIRECT(\"'game1 (\"&$AD115&\")'!$a$2\")=\"R\",Season_Summary!G115,\"\"),\"\")","v":""},{"$f":"IFERROR(IF(INDIRECT(\"'game1 (\"&$AD115&\")'!$a$2\")=\"R\",Season_Summary!H115,\"\"),\"\")","v":""},{"$f":"IFERROR(IF(INDIRECT(\"'game1 (\"&$AD115&\")'!$a$2\")=\"R\",Season_Summary!I115,\"\"),\"\")","v":""},{"$f":"IFERROR(IF(INDIRECT(\"'game1 (\"&$AD115&\")'!$a$2\")=\"R\",Season_Summary!J115,\"\"),\"\")","v":""},{"$f":"IFERROR(IF(INDIRECT(\"'game1 (\"&$AD115&\")'!$a$2\")=\"R\",Season_Summary!K115,\"\"),\"\")","v":""},{"$f":"IFERROR(IF(INDIRECT(\"'game1 (\"&$AD115&\")'!$a$2\")=\"R\",Season_Summary!L115,\"\"),\"\")","v":""},{"$f":"IFERROR(IF(INDIRECT(\"'game1 (\"&$AD115&\")'!$a$2\")=\"R\",Season_Summary!M115,\"\"),\"\")","v":""},{"$f":"IFERROR(IF(INDIRECT(\"'game1 (\"&$AD115&\")'!$a$2\")=\"R\",Season_Summary!N115,\"\"),\"\")","v":""},{"$f":"IFERROR(IF(INDIRECT(\"'game1 (\"&$AD115&\")'!$a$2\")=\"R\",Season_Summary!O115,\"\"),\"\")","v":""},{"$f":"IFERROR(IF(INDIRECT(\"'game1 (\"&$AD115&\")'!$a$2\")=\"R\",Season_Summary!P115,\"\"),\"\")","v":""},{"$f":"IFERROR(IF(INDIRECT(\"'game1 (\"&$AD115&\")'!$a$2\")=\"R\",Season_Summary!Q115,\"\"),\"\")","v":""},{"$f":"IFERROR(IF(INDIRECT(\"'game1 (\"&$AD115&\")'!$a$2\")=\"R\",Season_Summary!R115,\"\"),\"\")","v":""},{"$f":"IFERROR(IF(INDIRECT(\"'game1 (\"&$AD115&\")'!$a$2\")=\"R\",Season_Summary!S115,\"\"),\"\")","v":""},{"$f":"IFERROR(IF(INDIRECT(\"'game1 (\"&$AD115&\")'!$a$2\")=\"R\",Season_Summary!T115,\"\"),\"\")","v":""},{"$f":"IFERROR(IF(INDIRECT(\"'game1 (\"&$AD115&\")'!$a$2\")=\"R\",Season_Summary!U115,\"\"),\"\")","v":""},{"$f":"IFERROR(IF(INDIRECT(\"'game1 (\"&$AD115&\")'!$a$2\")=\"R\",Season_Summary!V115,\"\"),\"\")","v":""},{"$f":"IFERROR(IF(INDIRECT(\"'game1 (\"&$AD115&\")'!$a$2\")=\"R\",Season_Summary!W115,\"\"),\"\")","v":""},{"$f":"IFERROR(IF(INDIRECT(\"'game1 (\"&$AD115&\")'!$a$2\")=\"R\",Season_Summary!X115,\"\"),\"\")","v":""},{"$f":"IFERROR(IF(INDIRECT(\"'game1 (\"&$AD115&\")'!$a$2\")=\"R\",Season_Summary!Y115,\"\"),\"\")","v":""},{"$f":"IFERROR(IF(INDIRECT(\"'game1 (\"&$AD115&\")'!$a$2\")=\"R\",Season_Summary!Z115,\"\"),\"\")","v":""},{"$f":"IFERROR(IF(INDIRECT(\"'game1 (\"&$AD115&\")'!$a$2\")=\"R\",Season_Summary!AA115,\"\"),\"\")","v":""},{"$f":"IFERROR(IF(INDIRECT(\"'game1 (\"&$AD115&\")'!$a$2\")=\"R\",Season_Summary!AB115,\"\"),\"\")","v":""},{"$f":"IFERROR(IF(INDIRECT(\"'game1 (\"&$AD115&\")'!$a$2\")=\"R\",Season_Summary!AC115,\"\"),\"\")","v":""},7]
[{"$f":"IFERROR(IF(INDIRECT(\"'game1 (\"&$AD116&\")'!$a$2\")=\"R\",Season_Summary!A116,\"\"),\"\")","v":""},{"$f":"IFERROR(IF(INDIRECT(\"'game1 (\"&$AD116&\")'!$a$2\")=\"R\",Season_Summary!B116,\"\"),\"\")","v":""},{"$f":"IFERROR(IF(INDIRECT(\"'game1 (\"&$AD116&\")'!$a$2\")=\"R\",Season_Summary!C116,\"\"),\"\")","v":""},{"$f":"IFERROR(IF(INDIRECT(\"'game1 (\"&$AD116&\")'!$a$2\")=\"R\",Season_Summary!D116,\"\"),\"\")","v":""},{"$f":"IFERROR(IF(INDIRECT(\"'game1 (\"&$AD116&\")'!$a$2\")=\"R\",Season_Summary!E116,\"\"),\"\")","v":""},{"$f":"IFERROR(IF(INDIRECT(\"'game1 (\"&$AD116&\")'!$a$2\")=\"R\",Season_Summary!F116,\"\"),\"\")","v":""},{"$f":"IFERROR(IF(INDIRECT(\"'game1 (\"&$AD116&\")'!$a$2\")=\"R\",Season_Summary!G116,\"\"),\"\")","v":""},{"$f":"IFERROR(IF(INDIRECT(\"'game1 (\"&$AD116&\")'!$a$2\")=\"R\",Season_Summary!H116,\"\"),\"\")","v":""},{"$f":"IFERROR(IF(INDIRECT(\"'game1 (\"&$AD116&\")'!$a$2\")=\"R\",Season_Summary!I116,\"\"),\"\")","v":""},{"$f":"IFERROR(IF(INDIRECT(\"'game1 (\"&$AD116&\")'!$a$2\")=\"R\",Season_Summary!J116,\"\"),\"\")","v":""},{"$f":"IFERROR(IF(INDIRECT(\"'game1 (\"&$AD116&\")'!$a$2\")=\"R\",Season_Summary!K116,\"\"),\"\")","v":""},{"$f":"IFERROR(IF(INDIRECT(\"'game1 (\"&$AD116&\")'!$a$2\")=\"R\",Season_Summary!L116,\"\"),\"\")","v":""},{"$f":"IFERROR(IF(INDIRECT(\"'game1 (\"&$AD116&\")'!$a$2\")=\"R\",Season_Summary!M116,\"\"),\"\")","v":""},{"$f":"IFERROR(IF(INDIRECT(\"'game1 (\"&$AD116&\")'!$a$2\")=\"R\",Season_Summary!N116,\"\"),\"\")","v":""},{"$f":"IFERROR(IF(INDIRECT(\"'game1 (\"&$AD116&\")'!$a$2\")=\"R\",Season_Summary!O116,\"\"),\"\")","v":""},{"$f":"IFERROR(IF(INDIRECT(\"'game1 (\"&$AD116&\")'!$a$2\")=\"R\",Season_Summary!P116,\"\"),\"\")","v":""},{"$f":"IFERROR(IF(INDIRECT(\"'game1 (\"&$AD116&\")'!$a$2\")=\"R\",Season_Summary!Q116,\"\"),\"\")","v":""},{"$f":"IFERROR(IF(INDIRECT(\"'game1 (\"&$AD116&\")'!$a$2\")=\"R\",Season_Summary!R116,\"\"),\"\")","v":""},{"$f":"IFERROR(IF(INDIRECT(\"'game1 (\"&$AD116&\")'!$a$2\")=\"R\",Season_Summary!S116,\"\"),\"\")","v":""},{"$f":"IFERROR(IF(INDIRECT(\"'game1 (\"&$AD116&\")'!$a$2\")=\"R\",Season_Summary!T116,\"\"),\"\")","v":""},{"$f":"IFERROR(IF(INDIRECT(\"'game1 (\"&$AD116&\")'!$a$2\")=\"R\",Season_Summary!U116,\"\"),\"\")","v":""},{"$f":"IFERROR(IF(INDIRECT(\"'game1 (\"&$AD116&\")'!$a$2\")=\"R\",Season_Summary!V116,\"\"),\"\")","v":""},{"$f":"IFERROR(IF(INDIRECT(\"'game1 (\"&$AD116&\")'!$a$2\")=\"R\",Season_Summary!W116,\"\"),\"\")","v":""},{"$f":"IFERROR(IF(INDIRECT(\"'game1 (\"&$AD116&\")'!$a$2\")=\"R\",Season_Summary!X116,\"\"),\"\")","v":""},{"$f":"IFERROR(IF(INDIRECT(\"'game1 (\"&$AD116&\")'!$a$2\")=\"R\",Season_Summary!Y116,\"\"),\"\")","v":""},{"$f":"IFERROR(IF(INDIRECT(\"'game1 (\"&$AD116&\")'!$a$2\")=\"R\",Season_Summary!Z116,\"\"),\"\")","v":""},{"$f":"IFERROR(IF(INDIRECT(\"'game1 (\"&$AD116&\")'!$a$2\")=\"R\",Season_Summary!AA116,\"\"),\"\")","v":""},{"$f":"IFERROR(IF(INDIRECT(\"'game1 (\"&$AD116&\")'!$a$2\")=\"R\",Season_Summary!AB116,\"\"),\"\")","v":""},{"$f":"IFERROR(IF(INDIRECT(\"'game1 (\"&$AD116&\")'!$a$2\")=\"R\",Season_Summary!AC116,\"\"),\"\")","v":""},7]
[{"$f":"IFERROR(IF(INDIRECT(\"'game1 (\"&$AD117&\")'!$a$2\")=\"R\",Season_Summary!A117,\"\"),\"\")","v":""},{"$f":"IFERROR(IF(INDIRECT(\"'game1 (\"&$AD117&\")'!$a$2\")=\"R\",Season_Summary!B117,\"\"),\"\")","v":""},{"$f":"IFERROR(IF(INDIRECT(\"'game1 (\"&$AD117&\")'!$a$2\")=\"R\",Season_Summary!C117,\"\"),\"\")","v":""},{"$f":"IFERROR(IF(INDIRECT(\"'game1 (\"&$AD117&\")'!$a$2\")=\"R\",Season_Summary!D117,\"\"),\"\")","v":""},{"$f":"IFERROR(IF(INDIRECT(\"'game1 (\"&$AD117&\")'!$a$2\")=\"R\",Season_Summary!E117,\"\"),\"\")","v":""},{"$f":"IFERROR(IF(INDIRECT(\"'game1 (\"&$AD117&\")'!$a$2\")=\"R\",Season_Summary!F117,\"\"),\"\")","v":""},{"$f":"IFERROR(IF(INDIRECT(\"'game1 (\"&$AD117&\")'!$a$2\")=\"R\",Season_Summary!G117,\"\"),\"\")","v":""},{"$f":"IFERROR(IF(INDIRECT(\"'game1 (\"&$AD117&\")'!$a$2\")=\"R\",Season_Summary!H117,\"\"),\"\")","v":""},{"$f":"IFERROR(IF(INDIRECT(\"'game1 (\"&$AD117&\")'!$a$2\")=\"R\",Season_Summary!I117,\"\"),\"\")","v":""},{"$f":"IFERROR(IF(INDIRECT(\"'game1 (\"&$AD117&\")'!$a$2\")=\"R\",Season_Summary!J117,\"\"),\"\")","v":""},{"$f":"IFERROR(IF(INDIRECT(\"'game1 (\"&$AD117&\")'!$a$2\")=\"R\",Season_Summary!K117,\"\"),\"\")","v":""},{"$f":"IFERROR(IF(INDIRECT(\"'game1 (\"&$AD117&\")'!$a$2\")=\"R\",Season_Summary!L117,\"\"),\"\")","v":""},{"$f":"IFERROR(IF(INDIRECT(\"'game1 (\"&$AD117&\")'!$a$2\")=\"R\",Season_Summary!M117,\"\"),\"\")","v":""},{"$f":"IFERROR(IF(INDIRECT(\"'game1 (\"&$AD117&\")'!$a$2\")=\"R\",Season_Summary!N117,\"\"),\"\")","v":""},{"$f":"IFERROR(IF(INDIRECT(\"'game1 (\"&$AD117&\")'!$a$2\")=\"R\",Season_Summary!O117,\"\"),\"\")","v":""},{"$f":"IFERROR(IF(INDIRECT(\"'game1 (\"&$AD117&\")'!$a$2\")=\"R\",Season_Summary!P117,\"\"),\"\")","v":""},{"$f":"IFERROR(IF(INDIRECT(\"'game1 (\"&$AD117&\")'!$a$2\")=\"R\",Season_Summary!Q117,\"\"),\"\")","v":""},{"$f":"IFERROR(IF(INDIRECT(\"'game1 (\"&$AD117&\")'!$a$2\")=\"R\",Season_Summary!R117,\"\"),\"\")","v":""},{"$f":"IFERROR(IF(INDIRECT(\"'game1 (\"&$AD117&\")'!$a$2\")=\"R\",Season_Summary!S117,\"\"),\"\")","v":""},{"$f":"IFERROR(IF(INDIRECT(\"'game1 (\"&$AD117&\")'!$a$2\")=\"R\",Season_Summary!T117,\"\"),\"\")","v":""},{"$f":"IFERROR(IF(INDIRECT(\"'game1 (\"&$AD117&\")'!$a$2\")=\"R\",Season_Summary!U117,\"\"),\"\")","v":""},{"$f":"IFERROR(IF(INDIRECT(\"'game1 (\"&$AD117&\")'!$a$2\")=\"R\",Season_Summary!V117,\"\"),\"\")","v":""},{"$f":"IFERROR(IF(INDIRECT(\"'game1 (\"&$AD117&\")'!$a$2\")=\"R\",Season_Summary!W117,\"\"),\"\")","v":""},{"$f":"IFERROR(IF(INDIRECT(\"'game1 (\"&$AD117&\")'!$a$2\")=\"R\",Season_Summary!X117,\"\"),\"\")","v":""},{"$f":"IFERROR(IF(INDIRECT(\"'game1 (\"&$AD117&\")'!$a$2\")=\"R\",Season_Summary!Y117,\"\"),\"\")","v":""},{"$f":"IFERROR(IF(INDIRECT(\"'game1 (\"&$AD117&\")'!$a$2\")=\"R\",Season_Summary!Z117,\"\"),\"\")","v":""},{"$f":"IFERROR(IF(INDIRECT(\"'game1 (\"&$AD117&\")'!$a$2\")=\"R\",Season_Summary!AA117,\"\"),\"\")","v":""},{"$f":"IFERROR(IF(INDIRECT(\"'game1 (\"&$AD117&\")'!$a$2\")=\"R\",Season_Summary!AB117,\"\"),\"\")","v":""},{"$f":"IFERROR(IF(INDIRECT(\"'game1 (\"&$AD117&\")'!$a$2\")=\"R\",Season_Summary!AC117,\"\"),\"\")","v":""},8]
[{"$f":"IFERROR(IF(INDIRECT(\"'game1 (\"&$AD118&\")'!$a$2\")=\"R\",Season_Summary!A118,\"\"),\"\")","v":""},{"$f":"IFERROR(IF(INDIRECT(\"'game1 (\"&$AD118&\")'!$a$2\")=\"R\",Season_Summary!B118,\"\"),\"\")","v":""},{"$f":"IFERROR(IF(INDIRECT(\"'game1 (\"&$AD118&\")'!$a$2\")=\"R\",Season_Summary!C118,\"\"),\"\")","v":""},{"$f":"IFERROR(IF(INDIRECT(\"'game1 (\"&$AD118&\")'!$a$2\")=\"R\",Season_Summary!D118,\"\"),\"\")","v":""},{"$f":"IFERROR(IF(INDIRECT(\"'game1 (\"&$AD118&\")'!$a$2\")=\"R\",Season_Summary!E118,\"\"),\"\")","v":""},{"$f":"IFERROR(IF(INDIRECT(\"'game1 (\"&$AD118&\")'!$a$2\")=\"R\",Season_Summary!F118,\"\"),\"\")","v":""},{"$f":"IFERROR(IF(INDIRECT(\"'game1 (\"&$AD118&\")'!$a$2\")=\"R\",Season_Summary!G118,\"\"),\"\")","v":""},{"$f":"IFERROR(IF(INDIRECT(\"'game1 (\"&$AD118&\")'!$a$2\")=\"R\",Season_Summary!H118,\"\"),\"\")","v":""},{"$f":"IFERROR(IF(INDIRECT(\"'game1 (\"&$AD118&\")'!$a$2\")=\"R\",Season_Summary!I118,\"\"),\"\")","v":""},{"$f":"IFERROR(IF(INDIRECT(\"'game1 (\"&$AD118&\")'!$a$2\")=\"R\",Season_Summary!J118,\"\"),\"\")","v":""},{"$f":"IFERROR(IF(INDIRECT(\"'game1 (\"&$AD118&\")'!$a$2\")=\"R\",Season_Summary!K118,\"\"),\"\")","v":""},{"$f":"IFERROR(IF(INDIRECT(\"'game1 (\"&$AD118&\")'!$a$2\")=\"R\",Season_Summary!L118,\"\"),\"\")","v":""},{"$f":"IFERROR(IF(INDIRECT(\"'game1 (\"&$AD118&\")'!$a$2\")=\"R\",Season_Summary!M118,\"\"),\"\")","v":""},{"$f":"IFERROR(IF(INDIRECT(\"'game1 (\"&$AD118&\")'!$a$2\")=\"R\",Season_Summary!N118,\"\"),\"\")","v":""},{"$f":"IFERROR(IF(INDIRECT(\"'game1 (\"&$AD118&\")'!$a$2\")=\"R\",Season_Summary!O118,\"\"),\"\")","v":""},{"$f":"IFERROR(IF(INDIRECT(\"'game1 (\"&$AD118&\")'!$a$2\")=\"R\",Season_Summary!P118,\"\"),\"\")","v":""},{"$f":"IFERROR(IF(INDIRECT(\"'game1 (\"&$AD118&\")'!$a$2\")=\"R\",Season_Summary!Q118,\"\"),\"\")","v":""},{"$f":"IFERROR(IF(INDIRECT(\"'game1 (\"&$AD118&\")'!$a$2\")=\"R\",Season_Summary!R118,\"\"),\"\")","v":""},{"$f":"IFERROR(IF(INDIRECT(\"'game1 (\"&$AD118&\")'!$a$2\")=\"R\",Season_Summary!S118,\"\"),\"\")","v":""},{"$f":"IFERROR(IF(INDIRECT(\"'game1 (\"&$AD118&\")'!$a$2\")=\"R\",Season_Summary!T118,\"\"),\"\")","v":""},{"$f":"IFERROR(IF(INDIRECT(\"'game1 (\"&$AD118&\")'!$a$2\")=\"R\",Season_Summary!U118,\"\"),\"\")","v":""},{"$f":"IFERROR(IF(INDIRECT(\"'game1 (\"&$AD118&\")'!$a$2\")=\"R\",Season_Summary!V118,\"\"),\"\")","v":""},{"$f":"IFERROR(IF(INDIRECT(\"'game1 (\"&$AD118&\")'!$a$2\")=\"R\",Season_Summary!W118,\"\"),\"\")","v":""},{"$f":"IFERROR(IF(INDIRECT(\"'game1 (\"&$AD118&\")'!$a$2\")=\"R\",Season_Summary!X118,\"\"),\"\")","v":""},{"$f":"IFERROR(IF(INDIRECT(\"'game1 (\"&$AD118&\")'!$a$2\")=\"R\",Season_Summary!Y118,\"\"),\"\")","v":""},{"$f":"IFERROR(IF(INDIRECT(\"'game1 (\"&$AD118&\")'!$a$2\")=\"R\",Season_Summary!Z118,\"\"),\"\")","v":""},{"$f":"IFERROR(IF(INDIRECT(\"'game1 (\"&$AD118&\")'!$a$2\")=\"R\",Season_Summary!AA118,\"\"),\"\")","v":""},{"$f":"IFERROR(IF(INDIRECT(\"'game1 (\"&$AD118&\")'!$a$2\")=\"R\",Season_Summary!AB118,\"\"),\"\")","v":""},{"$f":"IFERROR(IF(INDIRECT(\"'game1 (\"&$AD118&\")'!$a$2\")=\"R\",Season_Summary!AC118,\"\"),\"\")","v":""},8]
[{"$f":"IFERROR(IF(INDIRECT(\"'game1 (\"&$AD119&\")'!$a$2\")=\"R\",Season_Summary!A119,\"\"),\"\")","v":""},{"$f":"IFERROR(IF(INDIRECT(\"'game1 (\"&$AD119&\")'!$a$2\")=\"R\",Season_Summary!B119,\"\"),\"\")","v":""},{"$f":"IFERROR(IF(INDIRECT(\"'game1 (\"&$AD119&\")'!$a$2\")=\"R\",Season_Summary!C119,\"\"),\"\")","v":""},{"$f":"IFERROR(IF(INDIRECT(\"'game1 (\"&$AD119&\")'!$a$2\")=\"R\",Season_Summary!D119,\"\"),\"\")","v":""},{"$f":"IFERROR(IF(INDIRECT(\"'game1 (\"&$AD119&\")'!$a$2\")=\"R\",Season_Summary!E119,\"\"),\"\")","v":""},{"$f":"IFERROR(IF(INDIRECT(\"'game1 (\"&$AD119&\")'!$a$2\")=\"R\",Season_Summary!F119,\"\"),\"\")","v":""},{"$f":"IFERROR(IF(INDIRECT(\"'game1 (\"&$AD119&\")'!$a$2\")=\"R\",Season_Summary!G119,\"\"),\"\")","v":""},{"$f":"IFERROR(IF(INDIRECT(\"'game1 (\"&$AD119&\")'!$a$2\")=\"R\",Season_Summary!H119,\"\"),\"\")","v":""},{"$f":"IFERROR(IF(INDIRECT(\"'game1 (\"&$AD119&\")'!$a$2\")=\"R\",Season_Summary!I119,\"\"),\"\")","v":""},{"$f":"IFERROR(IF(INDIRECT(\"'game1 (\"&$AD119&\")'!$a$2\")=\"R\",Season_Summary!J119,\"\"),\"\")","v":""},{"$f":"IFERROR(IF(INDIRECT(\"'game1 (\"&$AD119&\")'!$a$2\")=\"R\",Season_Summary!K119,\"\"),\"\")","v":""},{"$f":"IFERROR(IF(INDIRECT(\"'game1 (\"&$AD119&\")'!$a$2\")=\"R\",Season_Summary!L119,\"\"),\"\")","v":""},{"$f":"IFERROR(IF(INDIRECT(\"'game1 (\"&$AD119&\")'!$a$2\")=\"R\",Season_Summary!M119,\"\"),\"\")","v":""},{"$f":"IFERROR(IF(INDIRECT(\"'game1 (\"&$AD119&\")'!$a$2\")=\"R\",Season_Summary!N119,\"\"),\"\")","v":""},{"$f":"IFERROR(IF(INDIRECT(\"'game1 (\"&$AD119&\")'!$a$2\")=\"R\",Season_Summary!O119,\"\"),\"\")","v":""},{"$f":"IFERROR(IF(INDIRECT(\"'game1 (\"&$AD119&\")'!$a$2\")=\"R\",Season_Summary!P119,\"\"),\"\")","v":""},{"$f":"IFERROR(IF(INDIRECT(\"'game1 (\"&$AD119&\")'!$a$2\")=\"R\",Season_Summary!Q119,\"\"),\"\")","v":""},{"$f":"IFERROR(IF(INDIRECT(\"'game1 (\"&$AD119&\")'!$a$2\")=\"R\",Season_Summary!R119,\"\"),\"\")","v":""},{"$f":"IFERROR(IF(INDIRECT(\"'game1 (\"&$AD119&\")'!$a$2\")=\"R\",Season_Summary!S119,\"\"),\"\")","v":""},{"$f":"IFERROR(IF(INDIRECT(\"'game1 (\"&$AD119&\")'!$a$2\")=\"R\",Season_Summary!T119,\"\"),\"\")","v":""},{"$f":"IFERROR(IF(INDIRECT(\"'game1 (\"&$AD119&\")'!$a$2\")=\"R\",Season_Summary!U119,\"\"),\"\")","v":""},{"$f":"IFERROR(IF(INDIRECT(\"'game1 (\"&$AD119&\")'!$a$2\")=\"R\",Season_Summary!V119,\"\"),\"\")","v":""},{"$f":"IFERROR(IF(INDIRECT(\"'game1 (\"&$AD119&\")'!$a$2\")=\"R\",Season_Summary!W119,\"\"),\"\")","v":""},{"$f":"IFERROR(IF(INDIRECT(\"'game1 (\"&$AD119&\")'!$a$2\")=\"R\",Season_Summary!X119,\"\"),\"\")","v":""},{"$f":"IFERROR(IF(INDIRECT(\"'game1 (\"&$AD119&\")'!$a$2\")=\"R\",Season_Summary!Y119,\"\"),\"\")","v":""},{"$f":"IFERROR(IF(INDIRECT(\"'game1 (\"&$AD119&\")'!$a$2\")=\"R\",Season_Summary!Z119,\"\"),\"\")","v":""},{"$f":"IFERROR(IF(INDIRECT(\"'game1 (\"&$AD119&\")'!$a$2\")=\"R\",Season_Summary!AA119,\"\"),\"\")","v":""},{"$f":"IFERROR(IF(INDIRECT(\"'game1 (\"&$AD119&\")'!$a$2\")=\"R\",Season_Summary!AB119,\"\"),\"\")","v":""},{"$f":"IFERROR(IF(INDIRECT(\"'game1 (\"&$AD119&\")'!$a$2\")=\"R\",Season_Summary!AC119,\"\"),\"\")","v":""},9]
[{"$f":"IFERROR(IF(INDIRECT(\"'game1 (\"&$AD120&\")'!$a$2\")=\"R\",Season_Summary!A120,\"\"),\"\")","v":""},{"$f":"IFERROR(IF(INDIRECT(\"'game1 (\"&$AD120&\")'!$a$2\")=\"R\",Season_Summary!B120,\"\"),\"\")","v":""},{"$f":"IFERROR(IF(INDIRECT(\"'game1 (\"&$AD120&\")'!$a$2\")=\"R\",Season_Summary!C120,\"\"),\"\")","v":""},{"$f":"IFERROR(IF(INDIRECT(\"'game1 (\"&$AD120&\")'!$a$2\")=\"R\",Season_Summary!D120,\"\"),\"\")","v":""},{"$f":"IFERROR(IF(INDIRECT(\"'game1 (\"&$AD120&\")'!$a$2\")=\"R\",Season_Summary!E120,\"\"),\"\")","v":""},{"$f":"IFERROR(IF(INDIRECT(\"'game1 (\"&$AD120&\")'!$a$2\")=\"R\",Season_Summary!F120,\"\"),\"\")","v":""},{"$f":"IFERROR(IF(INDIRECT(\"'game1 (\"&$AD120&\")'!$a$2\")=\"R\",Season_Summary!G120,\"\"),\"\")","v":""},{"$f":"IFERROR(IF(INDIRECT(\"'game1 (\"&$AD120&\")'!$a$2\")=\"R\",Season_Summary!H120,\"\"),\"\")","v":""},{"$f":"IFERROR(IF(INDIRECT(\"'game1 (\"&$AD120&\")'!$a$2\")=\"R\",Season_Summary!I120,\"\"),\"\")","v":""},{"$f":"IFERROR(IF(INDIRECT(\"'game1 (\"&$AD120&\")'!$a$2\")=\"R\",Season_Summary!J120,\"\"),\"\")","v":""},{"$f":"IFERROR(IF(INDIRECT(\"'game1 (\"&$AD120&\")'!$a$2\")=\"R\",Season_Summary!K120,\"\"),\"\")","v":""},{"$f":"IFERROR(IF(INDIRECT(\"'game1 (\"&$AD120&\")'!$a$2\")=\"R\",Season_Summary!L120,\"\"),\"\")","v":""},{"$f":"IFERROR(IF(INDIRECT(\"'game1 (\"&$AD120&\")'!$a$2\")=\"R\",Season_Summary!M120,\"\"),\"\")","v":""},{"$f":"IFERROR(IF(INDIRECT(\"'game1 (\"&$AD120&\")'!$a$2\")=\"R\",Season_Summary!N120,\"\"),\"\")","v":""},{"$f":"IFERROR(IF(INDIRECT(\"'game1 (\"&$AD120&\")'!$a$2\")=\"R\",Season_Summary!O120,\"\"),\"\")","v":""},{"$f":"IFERROR(IF(INDIRECT(\"'game1 (\"&$AD120&\")'!$a$2\")=\"R\",Season_Summary!P120,\"\"),\"\")","v":""},{"$f":"IFERROR(IF(INDIRECT(\"'game1 (\"&$AD120&\")'!$a$2\")=\"R\",Season_Summary!Q120,\"\"),\"\")","v":""},{"$f":"IFERROR(IF(INDIRECT(\"'game1 (\"&$AD120&\")'!$a$2\")=\"R\",Season_Summary!R120,\"\"),\"\")","v":""},{"$f":"IFERROR(IF(INDIRECT(\"'game1 (\"&$AD120&\")'!$a$2\")=\"R\",Season_Summary!S120,\"\"),\"\")","v":""},{"$f":"IFERROR(IF(INDIRECT(\"'game1 (\"&$AD120&\")'!$a$2\")=\"R\",Season_Summary!T120,\"\"),\"\")","v":""},{"$f":"IFERROR(IF(INDIRECT(\"'game1 (\"&$AD120&\")'!$a$2\")=\"R\",Season_Summary!U120,\"\"),\"\")","v":""},{"$f":"IFERROR(IF(INDIRECT(\"'game1 (\"&$AD120&\")'!$a$2\")=\"R\",Season_Summary!V120,\"\"),\"\")","v":""},{"$f":"IFERROR(IF(INDIRECT(\"'game1 (\"&$AD120&\")'!$a$2\")=\"R\",Season_Summary!W120,\"\"),\"\")","v":""},{"$f":"IFERROR(IF(INDIRECT(\"'game1 (\"&$AD120&\")'!$a$2\")=\"R\",Season_Summary!X120,\"\"),\"\")","v":""},{"$f":"IFERROR(IF(INDIRECT(\"'game1 (\"&$AD120&\")'!$a$2\")=\"R\",Season_Summary!Y120,\"\"),\"\")","v":""},{"$f":"IFERROR(IF(INDIRECT(\"'game1 (\"&$AD120&\")'!$a$2\")=\"R\",Season_Summary!Z120,\"\"),\"\")","v":""},{"$f":"IFERROR(IF(INDIRECT(\"'game1 (\"&$AD120&\")'!$a$2\")=\"R\",Season_Summary!AA120,\"\"),\"\")","v":""},{"$f":"IFERROR(IF(INDIRECT(\"'game1 (\"&$AD120&\")'!$a$2\")=\"R\",Season_Summary!AB120,\"\"),\"\")","v":""},{"$f":"IFERROR(IF(INDIRECT(\"'game1 (\"&$AD120&\")'!$a$2\")=\"R\",Season_Summary!AC120,\"\"),\"\")","v":""},9]
[{"$f":"IFERROR(IF(INDIRECT(\"'game1 (\"&$AD121&\")'!$a$2\")=\"R\",Season_Summary!A121,\"\"),\"\")","v":""},{"$f":"IFERROR(IF(INDIRECT(\"'game1 (\"&$AD121&\")'!$a$2\")=\"R\",Season_Summary!B121,\"\"),\"\")","v":""},{"$f":"IFERROR(IF(INDIRECT(\"'game1 (\"&$AD121&\")'!$a$2\")=\"R\",Season_Summary!C121,\"\"),\"\")","v":""},{"$f":"IFERROR(IF(INDIRECT(\"'game1 (\"&$AD121&\")'!$a$2\")=\"R\",Season_Summary!D121,\"\"),\"\")","v":""},{"$f":"IFERROR(IF(INDIRECT(\"'game1 (\"&$AD121&\")'!$a$2\")=\"R\",Season_Summary!E121,\"\"),\"\")","v":""},{"$f":"IFERROR(IF(INDIRECT(\"'game1 (\"&$AD121&\")'!$a$2\")=\"R\",Season_Summary!F121,\"\"),\"\")","v":""},{"$f":"IFERROR(IF(INDIRECT(\"'game1 (\"&$AD121&\")'!$a$2\")=\"R\",Season_Summary!G121,\"\"),\"\")","v":""},{"$f":"IFERROR(IF(INDIRECT(\"'game1 (\"&$AD121&\")'!$a$2\")=\"R\",Season_Summary!H121,\"\"),\"\")","v":""},{"$f":"IFERROR(IF(INDIRECT(\"'game1 (\"&$AD121&\")'!$a$2\")=\"R\",Season_Summary!I121,\"\"),\"\")","v":""},{"$f":"IFERROR(IF(INDIRECT(\"'game1 (\"&$AD121&\")'!$a$2\")=\"R\",Season_Summary!J121,\"\"),\"\")","v":""},{"$f":"IFERROR(IF(INDIRECT(\"'game1 (\"&$AD121&\")'!$a$2\")=\"R\",Season_Summary!K121,\"\"),\"\")","v":""},{"$f":"IFERROR(IF(INDIRECT(\"'game1 (\"&$AD121&\")'!$a$2\")=\"R\",Season_Summary!L121,\"\"),\"\")","v":""},{"$f":"IFERROR(IF(INDIRECT(\"'game1 (\"&$AD121&\")'!$a$2\")=\"R\",Season_Summary!M121,\"\"),\"\")","v":""},{"$f":"IFERROR(IF(INDIRECT(\"'game1 (\"&$AD121&\")'!$a$2\")=\"R\",Season_Summary!N121,\"\"),\"\")","v":""},{"$f":"IFERROR(IF(INDIRECT(\"'game1 (\"&$AD121&\")'!$a$2\")=\"R\",Season_Summary!O121,\"\"),\"\")","v":""},{"$f":"IFERROR(IF(INDIRECT(\"'game1 (\"&$AD121&\")'!$a$2\")=\"R\",Season_Summary!P121,\"\"),\"\")","v":""},{"$f":"IFERROR(IF(INDIRECT(\"'game1 (\"&$AD121&\")'!$a$2\")=\"R\",Season_Summary!Q121,\"\"),\"\")","v":""},{"$f":"IFERROR(IF(INDIRECT(\"'game1 (\"&$AD121&\")'!$a$2\")=\"R\",Season_Summary!R121,\"\"),\"\")","v":""},{"$f":"IFERROR(IF(INDIRECT(\"'game1 (\"&$AD121&\")'!$a$2\")=\"R\",Season_Summary!S121,\"\"),\"\")","v":""},{"$f":"IFERROR(IF(INDIRECT(\"'game1 (\"&$AD121&\")'!$a$2\")=\"R\",Season_Summary!T121,\"\"),\"\")","v":""},{"$f":"IFERROR(IF(INDIRECT(\"'game1 (\"&$AD121&\")'!$a$2\")=\"R\",Season_Summary!U121,\"\"),\"\")","v":""},{"$f":"IFERROR(IF(INDIRECT(\"'game1 (\"&$AD121&\")'!$a$2\")=\"R\",Season_Summary!V121,\"\"),\"\")","v":""},{"$f":"IFERROR(IF(INDIRECT(\"'game1 (\"&$AD121&\")'!$a$2\")=\"R\",Season_Summary!W121,\"\"),\"\")","v":""},{"$f":"IFERROR(IF(INDIRECT(\"'game1 (\"&$AD121&\")'!$a$2\")=\"R\",Season_Summary!X121,\"\"),\"\")","v":""},{"$f":"IFERROR(IF(INDIRECT(\"'game1 (\"&$AD121&\")'!$a$2\")=\"R\",Season_Summary!Y121,\"\"),\"\")","v":""},{"$f":"IFERROR(IF(INDIRECT(\"'game1 (\"&$AD121&\")'!$a$2\")=\"R\",Season_Summary!Z121,\"\"),\"\")","v":""},{"$f":"IFERROR(IF(INDIRECT(\"'game1 (\"&$AD121&\")'!$a$2\")=\"R\",Season_Summary!AA121,\"\"),\"\")","v":""},{"$f":"IFERROR(IF(INDIRECT(\"'game1 (\"&$AD121&\")'!$a$2\")=\"R\",Season_Summary!AB121,\"\"),\"\")","v":""},{"$f":"IFERROR(IF(INDIRECT(\"'game1 (\"&$AD121&\")'!$a$2\")=\"R\",Season_Summary!AC121,\"\"),\"\")","v":""},10]
[{"$f":"IFERROR(IF(INDIRECT(\"'game1 (\"&$AD122&\")'!$a$2\")=\"R\",Season_Summary!A122,\"\"),\"\")","v":""},{"$f":"IFERROR(IF(INDIRECT(\"'game1 (\"&$AD122&\")'!$a$2\")=\"R\",Season_Summary!B122,\"\"),\"\")","v":""},{"$f":"IFERROR(IF(INDIRECT(\"'game1 (\"&$AD122&\")'!$a$2\")=\"R\",Season_Summary!C122,\"\"),\"\")","v":""},{"$f":"IFERROR(IF(INDIRECT(\"'game1 (\"&$AD122&\")'!$a$2\")=\"R\",Season_Summary!D122,\"\"),\"\")","v":""},{"$f":"IFERROR(IF(INDIRECT(\"'game1 (\"&$AD122&\")'!$a$2\")=\"R\",Season_Summary!E122,\"\"),\"\")","v":""},{"$f":"IFERROR(IF(INDIRECT(\"'game1 (\"&$AD122&\")'!$a$2\")=\"R\",Season_Summary!F122,\"\"),\"\")","v":""},{"$f":"IFERROR(IF(INDIRECT(\"'game1 (\"&$AD122&\")'!$a$2\")=\"R\",Season_Summary!G122,\"\"),\"\")","v":""},{"$f":"IFERROR(IF(INDIRECT(\"'game1 (\"&$AD122&\")'!$a$2\")=\"R\",Season_Summary!H122,\"\"),\"\")","v":""},{"$f":"IFERROR(IF(INDIRECT(\"'game1 (\"&$AD122&\")'!$a$2\")=\"R\",Season_Summary!I122,\"\"),\"\")","v":""},{"$f":"IFERROR(IF(INDIRECT(\"'game1 (\"&$AD122&\")'!$a$2\")=\"R\",Season_Summary!J122,\"\"),\"\")","v":""},{"$f":"IFERROR(IF(INDIRECT(\"'game1 (\"&$AD122&\")'!$a$2\")=\"R\",Season_Summary!K122,\"\"),\"\")","v":""},{"$f":"IFERROR(IF(INDIRECT(\"'game1 (\"&$AD122&\")'!$a$2\")=\"R\",Season_Summary!L122,\"\"),\"\")","v":""},{"$f":"IFERROR(IF(INDIRECT(\"'game1 (\"&$AD122&\")'!$a$2\")=\"R\",Season_Summary!M122,\"\"),\"\")","v":""},{"$f":"IFERROR(IF(INDIRECT(\"'game1 (\"&$AD122&\")'!$a$2\")=\"R\",Season_Summary!N122,\"\"),\"\")","v":""},{"$f":"IFERROR(IF(INDIRECT(\"'game1 (\"&$AD122&\")'!$a$2\")=\"R\",Season_Summary!O122,\"\"),\"\")","v":""},{"$f":"IFERROR(IF(INDIRECT(\"'game1 (\"&$AD122&\")'!$a$2\")=\"R\",Season_Summary!P122,\"\"),\"\")","v":""},{"$f":"IFERROR(IF(INDIRECT(\"'game1 (\"&$AD122&\")'!$a$2\")=\"R\",Season_Summary!Q122,\"\"),\"\")","v":""},{"$f":"IFERROR(IF(INDIRECT(\"'game1 (\"&$AD122&\")'!$a$2\")=\"R\",Season_Summary!R122,\"\"),\"\")","v":""},{"$f":"IFERROR(IF(INDIRECT(\"'game1 (\"&$AD122&\")'!$a$2\")=\"R\",Season_Summary!S122,\"\"),\"\")","v":""},{"$f":"IFERROR(IF(INDIRECT(\"'game1 (\"&$AD122&\")'!$a$2\")=\"R\",Season_Summary!T122,\"\"),\"\")","v":""},{"$f":"IFERROR(IF(INDIRECT(\"'game1 (\"&$AD122&\")'!$a$2\")=\"R\",Season_Summary!U122,\"\"),\"\")","v":""},{"$f":"IFERROR(IF(INDIRECT(\"'game1 (\"&$AD122&\")'!$a$2\")=\"R\",Season_Summary!V122,\"\"),\"\")","v":""},{"$f":"IFERROR(IF(INDIRECT(\"'game1 (\"&$AD122&\")'!$a$2\")=\"R\",Season_Summary!W122,\"\"),\"\")","v":""},{"$f":"IFERROR(IF(INDIRECT(\"'game1 (\"&$AD122&\")'!$a$2\")=\"R\",Season_Summary!X122,\"\"),\"\")","v":""},{"$f":"IFERROR(IF(INDIRECT(\"'game1 (\"&$AD122&\")'!$a$2\")=\"R\",Season_Summary!Y122,\"\"),\"\")","v":""},{"$f":"IFERROR(IF(INDIRECT(\"'game1 (\"&$AD122&\")'!$a$2\")=\"R\",Season_Summary!Z122,\"\"),\"\")","v":""},{"$f":"IFERROR(IF(INDIRECT(\"'game1 (\"&$AD122&\")'!$a$2\")=\"R\",Season_Summary!AA122,\"\"),\"\")","v":""},{"$f":"IFERROR(IF(INDIRECT(\"'game1 (\"&$AD122&\")'!$a$2\")=\"R\",Season_Summary!AB122,\"\"),\"\")","v":""},{"$f":"IFERROR(IF(INDIRECT(\"'game1 (\"&$AD122&\")'!$a$2\")=\"R\",Season_Summary!AC122,\"\"),\"\")","v":""},10]
[{"$f":"IFERROR(IF(INDIRECT(\"'game1 (\"&$AD123&\")'!$a$2\")=\"R\",Season_Summary!A123,\"\"),\"\")","v":"Moorcroft: 1/18/18 **"},{"$f":"IFERROR(IF(INDIRECT(\"'game1 (\"&$AD123&\")'!$a$2\")=\"R\",Season_Summary!B123,\"\"),\"\")","v":8},{"$f":"IFERROR(IF(INDIRECT(\"'game1 (\"&$AD123&\")'!$a$2\")=\"R\",Season_Summary!C123,\"\"),\"\")","v":19},{"$f":"IFERROR(IF(INDIRECT(\"'game1 (\"&$AD123&\")'!$a$2\")=\"R\",Season_Summary!D123,\"\"),\"\")","v":{"v":0.42105263157894735,"d":"42%"}},{"$f":"IFERROR(IF(INDIRECT(\"'game1 (\"&$AD123&\")'!$a$2\")=\"R\",Season_Summary!E123,\"\"),\"\")","v":22},{"$f":"IFERROR(IF(INDIRECT(\"'game1 (\"&$AD123&\")'!$a$2\")=\"R\",Season_Summary!F123,\"\"),\"\")","v":42},{"$f":"IFERROR(IF(INDIRECT(\"'game1 (\"&$AD123&\")'!$a$2\")=\"R\",Season_Summary!G123,\"\"),\"\")","v":{"v":0.5238095238095238,"d":"52%"}},{"$f":"IFERROR(IF(INDIRECT(\"'game1 (\"&$AD123&\")'!$a$2\")=\"R\",Season_Summary!H123,\"\"),\"\")","v":6},{"$f":"IFERROR(IF(INDIRECT(\"'game1 (\"&$AD123&\")'!$a$2\")=\"R\",Season_Summary!I123,\"\"),\"\")","v":12},{"$f":"IFERROR(IF(INDIRECT(\"'game1 (\"&$AD123&\")'!$a$2\")=\"R\",Season_Summary!J123,\"\"),\"\")","v":{"v":0.5,"d":"50%"}},{"$f":"IFERROR(IF(INDIRECT(\"'game1 (\"&$AD123&\")'!$a$2\")=\"R\",Season_Summary!K123,\"\"),\"\")","v":{"v":0.4918032786885246,"d":"49%"}},{"$f":"IFERROR(IF(INDIRECT(\"'game1 (\"&$AD123&\")'!$a$2\")=\"R\",Season_Summary!L123,\"\"),\"\")","v":14},{"$f":"IFERROR(IF(INDIRECT(\"'game1 (\"&$AD123&\")'!$a$2\")=\"R\",Season_Summary!M123,\"\"),\"\")","v":29},{"$f":"IFERROR(IF(INDIRECT(\"'game1 (\"&$AD123&\")'!$a$2\")=\"R\",Season_Summary!N123,\"\"),\"\")","v":43},{"$f":"IFERROR(IF(INDIRECT(\"'game1 (\"&$AD123&\")'!$a$2\")=\"R\",Season_Summary!O123,\"\"),\"\")","v":24},{"$f":"IFERROR(IF(INDIRECT(\"'game1 (\"&$AD123&\")'!$a$2\")=\"R\",Season_Summary!P123,\"\"),\"\")","v":13},{"$f":"IFERROR(IF(INDIRECT(\"'game1 (\"&$AD123&\")'!$a$2\")=\"R\",Season_Summary!Q123,\"\"),\"\")","v":0},{"$f":"IFERROR(IF(INDIRECT(\"'game1 (\"&$AD123&\")'!$a$2\")=\"R\",Season_Summary!R123,\"\"),\"\")","v":14},{"$f":"IFERROR(IF(INDIRECT(\"'game1 (\"&$AD123&\")'!$a$2\")=\"R\",Season_Summary!S123,\"\"),\"\")","v":11},{"$f":"IFERROR(IF(INDIRECT(\"'game1 (\"&$AD123&\")'!$a$2\")=\"R\",Season_Summary!T123,\"\"),\"\")","v":"18 - J Caylor, 12"},{"$f":"IFERROR(IF(INDIRECT(\"'game1 (\"&$AD123&\")'!$a$2\")=\"R\",Season_Summary!U123,\"\"),\"\")","v":0},{"$f":"IFERROR(IF(INDIRECT(\"'game1 (\"&$AD123&\")'!$a$2\")=\"R\",Season_Summary!V123,\"\"),\"\")","v":0},{"$f":"IFERROR(IF(INDIRECT(\"'game1 (\"&$AD123&\")'!$a$2\")=\"R\",Season_Summary!W123,\"\"),\"\")","v":"10 - J Caylor, 12"},{"$f":"IFERROR(IF(INDIRECT(\"'game1 (\"&$AD123&\")'!$a$2\")=\"R\",Season_Summary!X123,\"\"),\"\")","v":0},{"$f":"IFERROR(IF(INDIRECT(\"'game1 (\"&$AD123&\")'!$a$2\")=\"R\",Season_Summary!Y123,\"\"),\"\")","v":0},{"$f":"IFERROR(IF(INDIRECT(\"'game1 (\"&$AD123&\")'!$a$2\")=\"R\",Season_Summary!Z123,\"\"),\"\")","v":"7 - J Claycomb, 10"},{"$f":"IFERROR(IF(INDIRECT(\"'game1 (\"&$AD123&\")'!$a$2\")=\"R\",Season_Summary!AA123,\"\"),\"\")","v":0},{"$f":"IFERROR(IF(INDIRECT(\"'game1 (\"&$AD123&\")'!$a$2\")=\"R\",Season_Summary!AB123,\"\"),\"\")","v":0},{"$f":"IFERROR(IF(INDIRECT(\"'game1 (\"&$AD123&\")'!$a$2\")=\"R\",Season_Summary!AC123,\"\"),\"\")","v":0},11]
[{"$f":"IFERROR(IF(INDIRECT(\"'game1 (\"&$AD124&\")'!$a$2\")=\"R\",Season_Summary!A124,\"\"),\"\")","v":"74 - 38 "},{"$f":"IFERROR(IF(INDIRECT(\"'game1 (\"&$AD124&\")'!$a$2\")=\"R\",Season_Summary!B124,\"\"),\"\")","v":5},{"$f":"IFERROR(IF(INDIRECT(\"'game1 (\"&$AD124&\")'!$a$2\")=\"R\",Season_Summary!C124,\"\"),\"\")","v":23},{"$f":"IFERROR(IF(INDIRECT(\"'game1 (\"&$AD124&\")'!$a$2\")=\"R\",Season_Summary!D124,\"\"),\"\")","v":{"v":0.21739130434782608,"d":"22%"}},{"$f":"IFERROR(IF(INDIRECT(\"'game1 (\"&$AD124&\")'!$a$2\")=\"R\",Season_Summary!E124,\"\"),\"\")","v":10},{"$f":"IFERROR(IF(INDIRECT(\"'game1 (\"&$AD124&\")'!$a$2\")=\"R\",Season_Summary!F124,\"\"),\"\")","v":28},{"$f":"IFERROR(IF(INDIRECT(\"'game1 (\"&$AD124&\")'!$a$2\")=\"R\",Season_Summary!G124,\"\"),\"\")","v":{"v":0.35714285714285715,"d":"36%"}},{"$f":"IFERROR(IF(INDIRECT(\"'game1 (\"&$AD124&\")'!$a$2\")=\"R\",Season_Summary!H124,\"\"),\"\")","v":3},{"$f":"IFERROR(IF(INDIRECT(\"'game1 (\"&$AD124&\")'!$a$2\")=\"R\",Season_Summary!I124,\"\"),\"\")","v":6},{"$f":"IFERROR(IF(INDIRECT(\"'game1 (\"&$AD124&\")'!$a$2\")=\"R\",Season_Summary!J124,\"\"),\"\")","v":{"v":0.5,"d":"50%"}},{"$f":"IFERROR(IF(INDIRECT(\"'game1 (\"&$AD124&\")'!$a$2\")=\"R\",Season_Summary!K124,\"\"),\"\")","v":{"v":0.29411764705882354,"d":"29%"}},{"$f":"IFERROR(IF(INDIRECT(\"'game1 (\"&$AD124&\")'!$a$2\")=\"R\",Season_Summary!L124,\"\"),\"\")","v":10},{"$f":"IFERROR(IF(INDIRECT(\"'game1 (\"&$AD124&\")'!$a$2\")=\"R\",Season_Summary!M124,\"\"),\"\")","v":19},{"$f":"IFERROR(IF(INDIRECT(\"'game1 (\"&$AD124&\")'!$a$2\")=\"R\",Season_Summary!N124,\"\"),\"\")","v":29},{"$f":"IFERROR(IF(INDIRECT(\"'game1 (\"&$AD124&\")'!$a$2\")=\"R\",Season_Summary!O124,\"\"),\"\")","v":9},{"$f":"IFERROR(IF(INDIRECT(\"'game1 (\"&$AD124&\")'!$a$2\")=\"R\",Season_Summary!P124,\"\"),\"\")","v":4},{"$f":"IFERROR(IF(INDIRECT(\"'game1 (\"&$AD124&\")'!$a$2\")=\"R\",Season_Summary!Q124,\"\"),\"\")","v":0},{"$f":"IFERROR(IF(INDIRECT(\"'game1 (\"&$AD124&\")'!$a$2\")=\"R\",Season_Summary!R124,\"\"),\"\")","v":23},{"$f":"IFERROR(IF(INDIRECT(\"'game1 (\"&$AD124&\")'!$a$2\")=\"R\",Season_Summary!S124,\"\"),\"\")","v":12},{"$f":"IFERROR(IF(INDIRECT(\"'game1 (\"&$AD124&\")'!$a$2\")=\"R\",Season_Summary!T124,\"\"),\"\")","v":0},{"$f":"IFERROR(IF(INDIRECT(\"'game1 (\"&$AD124&\")'!$a$2\")=\"R\",Season_Summary!U124,\"\"),\"\")","v":0},{"$f":"IFERROR(IF(INDIRECT(\"'game1 (\"&$AD124&\")'!$a$2\")=\"R\",Season_Summary!V124,\"\"),\"\")","v":0},{"$f":"IFERROR(IF(INDIRECT(\"'game1 (\"&$AD124&\")'!$a$2\")=\"R\",Season_Summary!W124,\"\"),\"\")","v":0},{"$f":"IFERROR(IF(INDIRECT(\"'game1 (\"&$AD124&\")'!$a$2\")=\"R\",Season_Summary!X124,\"\"),\"\")","v":0},{"$f":"IFERROR(IF(INDIRECT(\"'game1 (\"&$AD124&\")'!$a$2\")=\"R\",Season_Summary!Y124,\"\"),\"\")","v":0},{"$f":"IFERROR(IF(INDIRECT(\"'game1 (\"&$AD124&\")'!$a$2\")=\"R\",Season_Summary!Z124,\"\"),\"\")","v":0},{"$f":"IFERROR(IF(INDIRECT(\"'game1 (\"&$AD124&\")'!$a$2\")=\"R\",Season_Summary!AA124,\"\"),\"\")","v":0},{"$f":"IFERROR(IF(INDIRECT(\"'game1 (\"&$AD124&\")'!$a$2\")=\"R\",Season_Summary!AB124,\"\"),\"\")","v":0},{"$f":"IFERROR(IF(INDIRECT(\"'game1 (\"&$AD124&\")'!$a$2\")=\"R\",Season_Summary!AC124,\"\"),\"\")","v":0},11]
[{"$f":"IFERROR(IF(INDIRECT(\"'game1 (\"&$AD125&\")'!$a$2\")=\"R\",Season_Summary!A125,\"\"),\"\")","v":"Wright: 1/20/18 **"},{"$f":"IFERROR(IF(INDIRECT(\"'game1 (\"&$AD125&\")'!$a$2\")=\"R\",Season_Summary!B125,\"\"),\"\")","v":6},{"$f":"IFERROR(IF(INDIRECT(\"'game1 (\"&$AD125&\")'!$a$2\")=\"R\",Season_Summary!C125,\"\"),\"\")","v":28},{"$f":"IFERROR(IF(INDIRECT(\"'game1 (\"&$AD125&\")'!$a$2\")=\"R\",Season_Summary!D125,\"\"),\"\")","v":{"v":0.21428571428571427,"d":"21%"}},{"$f":"IFERROR(IF(INDIRECT(\"'game1 (\"&$AD125&\")'!$a$2\")=\"R\",Season_Summary!E125,\"\"),\"\")","v":10},{"$f":"IFERROR(IF(INDIRECT(\"'game1 (\"&$AD125&\")'!$a$2\")=\"R\",Season_Summary!F125,\"\"),\"\")","v":27},{"$f":"IFERROR(IF(INDIRECT(\"'game1 (\"&$AD125&\")'!$a$2\")=\"R\",Season_Summary!G125,\"\"),\"\")","v":{"v":0.37037037037037035,"d":"37%"}},{"$f":"IFERROR(IF(INDIRECT(\"'game1 (\"&$AD125&\")'!$a$2\")=\"R\",Season_Summary!H125,\"\"),\"\")","v":13},{"$f":"IFERROR(IF(INDIRECT(\"'game1 (\"&$AD125&\")'!$a$2\")=\"R\",Season_Summary!I125,\"\"),\"\")","v":17},{"$f":"IFERROR(IF(INDIRECT(\"'game1 (\"&$AD125&\")'!$a$2\")=\"R\",Season_Summary!J125,\"\"),\"\")","v":{"v":0.7647058823529411,"d":"76%"}},{"$f":"IFERROR(IF(INDIRECT(\"'game1 (\"&$AD125&\")'!$a$2\")=\"R\",Season_Summary!K125,\"\"),\"\")","v":{"v":0.2909090909090909,"d":"29%"}},{"$f":"IFERROR(IF(INDIRECT(\"'game1 (\"&$AD125&\")'!$a$2\")=\"R\",Season_Summary!L125,\"\"),\"\")","v":18},{"$f":"IFERROR(IF(INDIRECT(\"'game1 (\"&$AD125&\")'!$a$2\")=\"R\",Season_Summary!M125,\"\"),\"\")","v":17},{"$f":"IFERROR(IF(INDIRECT(\"'game1 (\"&$AD125&\")'!$a$2\")=\"R\",Season_Summary!N125,\"\"),\"\")","v":35},{"$f":"IFERROR(IF(INDIRECT(\"'game1 (\"&$AD125&\")'!$a$2\")=\"R\",Season_Summary!O125,\"\"),\"\")","v":12},{"$f":"IFERROR(IF(INDIRECT(\"'game1 (\"&$AD125&\")'!$a$2\")=\"R\",Season_Summary!P125,\"\"),\"\")","v":9},{"$f":"IFERROR(IF(INDIRECT(\"'game1 (\"&$AD125&\")'!$a$2\")=\"R\",Season_Summary!Q125,\"\"),\"\")","v":1},{"$f":"IFERROR(IF(INDIRECT(\"'game1 (\"&$AD125&\")'!$a$2\")=\"R\",Season_Summary!R125,\"\"),\"\")","v":21},{"$f":"IFERROR(IF(INDIRECT(\"'game1 (\"&$AD125&\")'!$a$2\")=\"R\",Season_Summary!S125,\"\"),\"\")","v":20},{"$f":"IFERROR(IF(INDIRECT(\"'game1 (\"&$AD125&\")'!$a$2\")=\"R\",Season_Summary!T125,\"\"),\"\")","v":"18 - D Barritt, 20"},{"$f":"IFERROR(IF(INDIRECT(\"'game1 (\"&$AD125&\")'!$a$2\")=\"R\",Season_Summary!U125,\"\"),\"\")","v":0},{"$f":"IFERROR(IF(INDIRECT(\"'game1 (\"&$AD125&\")'!$a$2\")=\"R\",Season_Summary!V125,\"\"),\"\")","v":0},{"$f":"IFERROR(IF(INDIRECT(\"'game1 (\"&$AD125&\")'!$a$2\")=\"R\",Season_Summary!W125,\"\"),\"\")","v":"10 - P Watt, 24"},{"$f":"IFERROR(IF(INDIRECT(\"'game1 (\"&$AD125&\")'!$a$2\")=\"R\",Season_Summary!X125,\"\"),\"\")","v":0},{"$f":"IFERROR(IF(INDIRECT(\"'game1 (\"&$AD125&\")'!$a$2\")=\"R\",Season_Summary!Y125,\"\"),\"\")","v":0},{"$f":"IFERROR(IF(INDIRECT(\"'game1 (\"&$AD125&\")'!$a$2\")=\"R\",Season_Summary!Z125,\"\"),\"\")","v":"3 - J Claycomb, 10"},{"$f":"IFERROR(IF(INDIRECT(\"'game1 (\"&$AD125&\")'!$a$2\")=\"R\",Season_Summary!AA125,\"\"),\"\")","v":0},{"$f":"IFERROR(IF(INDIRECT(\"'game1 (\"&$AD125&\")'!$a$2\")=\"R\",Season_Summary!AB125,\"\"),\"\")","v":0},{"$f":"IFERROR(IF(INDIRECT(\"'game1 (\"&$AD125&\")'!$a$2\")=\"R\",Season_Summary!AC125,\"\"),\"\")","v":0},12]
[{"$f":"IFERROR(IF(INDIRECT(\"'game1 (\"&$AD126&\")'!$a$2\")=\"R\",Season_Summary!A126,\"\"),\"\")","v":"51 - 66 "},{"$f":"IFERROR(IF(INDIRECT(\"'game1 (\"&$AD126&\")'!$a$2\")=\"R\",Season_Summary!B126,\"\"),\"\")","v":1},{"$f":"IFERROR(IF(INDIRECT(\"'game1 (\"&$AD126&\")'!$a$2\")=\"R\",Season_Summary!C126,\"\"),\"\")","v":6},{"$f":"IFERROR(IF(INDIRECT(\"'game1 (\"&$AD126&\")'!$a$2\")=\"R\",Season_Summary!D126,\"\"),\"\")","v":{"v":0.16666666666666666,"d":"17%"}},{"$f":"IFERROR(IF(INDIRECT(\"'game1 (\"&$AD126&\")'!$a$2\")=\"R\",Season_Summary!E126,\"\"),\"\")","v":26},{"$f":"IFERROR(IF(INDIRECT(\"'game1 (\"&$AD126&\")'!$a$2\")=\"R\",Season_Summary!F126,\"\"),\"\")","v":42},{"$f":"IFERROR(IF(INDIRECT(\"'game1 (\"&$AD126&\")'!$a$2\")=\"R\",Season_Summary!G126,\"\"),\"\")","v":{"v":0.6190476190476191,"d":"62%"}},{"$f":"IFERROR(IF(INDIRECT(\"'game1 (\"&$AD126&\")'!$a$2\")=\"R\",Season_Summary!H126,\"\"),\"\")","v":11},{"$f":"IFERROR(IF(INDIRECT(\"'game1 (\"&$AD126&\")'!$a$2\")=\"R\",Season_Summary!I126,\"\"),\"\")","v":23},{"$f":"IFERROR(IF(INDIRECT(\"'game1 (\"&$AD126&\")'!$a$2\")=\"R\",Season_Summary!J126,\"\"),\"\")","v":{"v":0.4782608695652174,"d":"48%"}},{"$f":"IFERROR(IF(INDIRECT(\"'game1 (\"&$AD126&\")'!$a$2\")=\"R\",Season_Summary!K126,\"\"),\"\")","v":{"v":0.5625,"d":"56%"}},{"$f":"IFERROR(IF(INDIRECT(\"'game1 (\"&$AD126&\")'!$a$2\")=\"R\",Season_Summary!L126,\"\"),\"\")","v":10},{"$f":"IFERROR(IF(INDIRECT(\"'game1 (\"&$AD126&\")'!$a$2\")=\"R\",Season_Summary!M126,\"\"),\"\")","v":24},{"$f":"IFERROR(IF(INDIRECT(\"'game1 (\"&$AD126&\")'!$a$2\")=\"R\",Season_Summary!N126,\"\"),\"\")","v":34},{"$f":"IFERROR(IF(INDIRECT(\"'game1 (\"&$AD126&\")'!$a$2\")=\"R\",Season_Summary!O126,\"\"),\"\")","v":13},{"$f":"IFERROR(IF(INDIRECT(\"'game1 (\"&$AD126&\")'!$a$2\")=\"R\",Season_Summary!P126,\"\"),\"\")","v":11},{"$f":"IFERROR(IF(INDIRECT(\"'game1 (\"&$AD126&\")'!$a$2\")=\"R\",Season_Summary!Q126,\"\"),\"\")","v":3},{"$f":"IFERROR(IF(INDIRECT(\"'game1 (\"&$AD126&\")'!$a$2\")=\"R\",Season_Summary!R126,\"\"),\"\")","v":19},{"$f":"IFERROR(IF(INDIRECT(\"'game1 (\"&$AD126&\")'!$a$2\")=\"R\",Season_Summary!S126,\"\"),\"\")","v":17},{"$f":"IFERROR(IF(INDIRECT(\"'game1 (\"&$AD126&\")'!$a$2\")=\"R\",Season_Summary!T126,\"\"),\"\")","v":0},{"$f":"IFERROR(IF(INDIRECT(\"'game1 (\"&$AD126&\")'!$a$2\")=\"R\",Season_Summary!U126,\"\"),\"\")","v":0},{"$f":"IFERROR(IF(INDIRECT(\"'game1 (\"&$AD126&\")'!$a$2\")=\"R\",Season_Summary!V126,\"\"),\"\")","v":0},{"$f":"IFERROR(IF(INDIRECT(\"'game1 (\"&$AD126&\")'!$a$2\")=\"R\",Season_Summary!W126,\"\"),\"\")","v":0},{"$f":"IFERROR(IF(INDIRECT(\"'game1 (\"&$AD126&\")'!$a$2\")=\"R\",Season_Summary!X126,\"\"),\"\")","v":0},{"$f":"IFERROR(IF(INDIRECT(\"'game1 (\"&$AD126&\")'!$a$2\")=\"R\",Season_Summary!Y126,\"\"),\"\")","v":0},{"$f":"IFERROR(IF(INDIRECT(\"'game1 (\"&$AD126&\")'!$a$2\")=\"R\",Season_Summary!Z126,\"\"),\"\")","v":0},{"$f":"IFERROR(IF(INDIRECT(\"'game1 (\"&$AD126&\")'!$a$2\")=\"R\",Season_Summary!AA126,\"\"),\"\")","v":0},{"$f":"IFERROR(IF(INDIRECT(\"'game1 (\"&$AD126&\")'!$a$2\")=\"R\",Season_Summary!AB126,\"\"),\"\")","v":0},{"$f":"IFERROR(IF(INDIRECT(\"'game1 (\"&$AD126&\")'!$a$2\")=\"R\",Season_Summary!AC126,\"\"),\"\")","v":0},12]
[{"$f":"IFERROR(IF(INDIRECT(\"'game1 (\"&$AD127&\")'!$a$2\")=\"R\",Season_Summary!A127,\"\"),\"\")","v":"Sundance: 1/25/18 **"},{"$f":"IFERROR(IF(INDIRECT(\"'game1 (\"&$AD127&\")'!$a$2\")=\"R\",Season_Summary!B127,\"\"),\"\")","v":10},{"$f":"IFERROR(IF(INDIRECT(\"'game1 (\"&$AD127&\")'!$a$2\")=\"R\",Season_Summary!C127,\"\"),\"\")","v":29},{"$f":"IFERROR(IF(INDIRECT(\"'game1 (\"&$AD127&\")'!$a$2\")=\"R\",Season_Summary!D127,\"\"),\"\")","v":{"v":0.3448275862068966,"d":"34%"}},{"$f":"IFERROR(IF(INDIRECT(\"'game1 (\"&$AD127&\")'!$a$2\")=\"R\",Season_Summary!E127,\"\"),\"\")","v":18},{"$f":"IFERROR(IF(INDIRECT(\"'game1 (\"&$AD127&\")'!$a$2\")=\"R\",Season_Summary!F127,\"\"),\"\")","v":30},{"$f":"IFERROR(IF(INDIRECT(\"'game1 (\"&$AD127&\")'!$a$2\")=\"R\",Season_Summary!G127,\"\"),\"\")","v":{"v":0.6,"d":"60%"}},{"$f":"IFERROR(IF(INDIRECT(\"'game1 (\"&$AD127&\")'!$a$2\")=\"R\",Season_Summary!H127,\"\"),\"\")","v":10},{"$f":"IFERROR(IF(INDIRECT(\"'game1 (\"&$AD127&\")'!$a$2\")=\"R\",Season_Summary!I127,\"\"),\"\")","v":13},{"$f":"IFERROR(IF(INDIRECT(\"'game1 (\"&$AD127&\")'!$a$2\")=\"R\",Season_Summary!J127,\"\"),\"\")","v":{"v":0.7692307692307693,"d":"77%"}},{"$f":"IFERROR(IF(INDIRECT(\"'game1 (\"&$AD127&\")'!$a$2\")=\"R\",Season_Summary!K127,\"\"),\"\")","v":{"v":0.4745762711864407,"d":"47%"}},{"$f":"IFERROR(IF(INDIRECT(\"'game1 (\"&$AD127&\")'!$a$2\")=\"R\",Season_Summary!L127,\"\"),\"\")","v":8},{"$f":"IFERROR(IF(INDIRECT(\"'game1 (\"&$AD127&\")'!$a$2\")=\"R\",Season_Summary!M127,\"\"),\"\")","v":25},{"$f":"IFERROR(IF(INDIRECT(\"'game1 (\"&$AD127&\")'!$a$2\")=\"R\",Season_Summary!N127,\"\"),\"\")","v":33},{"$f":"IFERROR(IF(INDIRECT(\"'game1 (\"&$AD127&\")'!$a$2\")=\"R\",Season_Summary!O127,\"\"),\"\")","v":21},{"$f":"IFERROR(IF(INDIRECT(\"'game1 (\"&$AD127&\")'!$a$2\")=\"R\",Season_Summary!P127,\"\"),\"\")","v":16},{"$f":"IFERROR(IF(INDIRECT(\"'game1 (\"&$AD127&\")'!$a$2\")=\"R\",Season_Summary!Q127,\"\"),\"\")","v":0},{"$f":"IFERROR(IF(INDIRECT(\"'game1 (\"&$AD127&\")'!$a$2\")=\"R\",Season_Summary!R127,\"\"),\"\")","v":14},{"$f":"IFERROR(IF(INDIRECT(\"'game1 (\"&$AD127&\")'!$a$2\")=\"R\",Season_Summary!S127,\"\"),\"\")","v":22},{"$f":"IFERROR(IF(INDIRECT(\"'game1 (\"&$AD127&\")'!$a$2\")=\"R\",Season_Summary!T127,\"\"),\"\")","v":"29 - P Watt, 24"},{"$f":"IFERROR(IF(INDIRECT(\"'game1 (\"&$AD127&\")'!$a$2\")=\"R\",Season_Summary!U127,\"\"),\"\")","v":0},{"$f":"IFERROR(IF(INDIRECT(\"'game1 (\"&$AD127&\")'!$a$2\")=\"R\",Season_Summary!V127,\"\"),\"\")","v":0},{"$f":"IFERROR(IF(INDIRECT(\"'game1 (\"&$AD127&\")'!$a$2\")=\"R\",Season_Summary!W127,\"\"),\"\")","v":"7 - C Louderback, 23"},{"$f":"IFERROR(IF(INDIRECT(\"'game1 (\"&$AD127&\")'!$a$2\")=\"R\",Season_Summary!X127,\"\"),\"\")","v":0},{"$f":"IFERROR(IF(INDIRECT(\"'game1 (\"&$AD127&\")'!$a$2\")=\"R\",Season_Summary!Y127,\"\"),\"\")","v":0},{"$f":"IFERROR(IF(INDIRECT(\"'game1 (\"&$AD127&\")'!$a$2\")=\"R\",Season_Summary!Z127,\"\"),\"\")","v":"5 - C Louderback, 23"},{"$f":"IFERROR(IF(INDIRECT(\"'game1 (\"&$AD127&\")'!$a$2\")=\"R\",Season_Summary!AA127,\"\"),\"\")","v":0},{"$f":"IFERROR(IF(INDIRECT(\"'game1 (\"&$AD127&\")'!$a$2\")=\"R\",Season_Summary!AB127,\"\"),\"\")","v":0},{"$f":"IFERROR(IF(INDIRECT(\"'game1 (\"&$AD127&\")'!$a$2\")=\"R\",Season_Summary!AC127,\"\"),\"\")","v":0},13]
[{"$f":"IFERROR(IF(INDIRECT(\"'game1 (\"&$AD128&\")'!$a$2\")=\"R\",Season_Summary!A128,\"\"),\"\")","v":"76 - 47 "},{"$f":"IFERROR(IF(INDIRECT(\"'game1 (\"&$AD128&\")'!$a$2\")=\"R\",Season_Summary!B128,\"\"),\"\")","v":6},{"$f":"IFERROR(IF(INDIRECT(\"'game1 (\"&$AD128&\")'!$a$2\")=\"R\",Season_Summary!C128,\"\"),\"\")","v":18},{"$f":"IFERROR(IF(INDIRECT(\"'game1 (\"&$AD128&\")'!$a$2\")=\"R\",Season_Summary!D128,\"\"),\"\")","v":{"v":0.3333333333333333,"d":"33%"}},{"$f":"IFERROR(IF(INDIRECT(\"'game1 (\"&$AD128&\")'!$a$2\")=\"R\",Season_Summary!E128,\"\"),\"\")","v":9},{"$f":"IFERROR(IF(INDIRECT(\"'game1 (\"&$AD128&\")'!$a$2\")=\"R\",Season_Summary!F128,\"\"),\"\")","v":23},{"$f":"IFERROR(IF(INDIRECT(\"'game1 (\"&$AD128&\")'!$a$2\")=\"R\",Season_Summary!G128,\"\"),\"\")","v":{"v":0.391304347826087,"d":"39%"}},{"$f":"IFERROR(IF(INDIRECT(\"'game1 (\"&$AD128&\")'!$a$2\")=\"R\",Season_Summary!H128,\"\"),\"\")","v":11},{"$f":"IFERROR(IF(INDIRECT(\"'game1 (\"&$AD128&\")'!$a$2\")=\"R\",Season_Summary!I128,\"\"),\"\")","v":19},{"$f":"IFERROR(IF(INDIRECT(\"'game1 (\"&$AD128&\")'!$a$2\")=\"R\",Season_Summary!J128,\"\"),\"\")","v":{"v":0.5789473684210527,"d":"58%"}},{"$f":"IFERROR(IF(INDIRECT(\"'game1 (\"&$AD128&\")'!$a$2\")=\"R\",Season_Summary!K128,\"\"),\"\")","v":{"v":0.36585365853658536,"d":"37%"}},{"$f":"IFERROR(IF(INDIRECT(\"'game1 (\"&$AD128&\")'!$a$2\")=\"R\",Season_Summary!L128,\"\"),\"\")","v":5},{"$f":"IFERROR(IF(INDIRECT(\"'game1 (\"&$AD128&\")'!$a$2\")=\"R\",Season_Summary!M128,\"\"),\"\")","v":24},{"$f":"IFERROR(IF(INDIRECT(\"'game1 (\"&$AD128&\")'!$a$2\")=\"R\",Season_Summary!N128,\"\"),\"\")","v":29},{"$f":"IFERROR(IF(INDIRECT(\"'game1 (\"&$AD128&\")'!$a$2\")=\"R\",Season_Summary!O128,\"\"),\"\")","v":9},{"$f":"IFERROR(IF(INDIRECT(\"'game1 (\"&$AD128&\")'!$a$2\")=\"R\",Season_Summary!P128,\"\"),\"\")","v":3},{"$f":"IFERROR(IF(INDIRECT(\"'game1 (\"&$AD128&\")'!$a$2\")=\"R\",Season_Summary!Q128,\"\"),\"\")","v":0},{"$f":"IFERROR(IF(INDIRECT(\"'game1 (\"&$AD128&\")'!$a$2\")=\"R\",Season_Summary!R128,\"\"),\"\")","v":26},{"$f":"IFERROR(IF(INDIRECT(\"'game1 (\"&$AD128&\")'!$a$2\")=\"R\",Season_Summary!S128,\"\"),\"\")","v":13},{"$f":"IFERROR(IF(INDIRECT(\"'game1 (\"&$AD128&\")'!$a$2\")=\"R\",Season_Summary!T128,\"\"),\"\")","v":0},{"$f":"IFERROR(IF(INDIRECT(\"'game1 (\"&$AD128&\")'!$a$2\")=\"R\",Season_Summary!U128,\"\"),\"\")","v":0},{"$f":"IFERROR(IF(INDIRECT(\"'game1 (\"&$AD128&\")'!$a$2\")=\"R\",Season_Summary!V128,\"\"),\"\")","v":0},{"$f":"IFERROR(IF(INDIRECT(\"'game1 (\"&$AD128&\")'!$a$2\")=\"R\",Season_Summary!W128,\"\"),\"\")","v":0},{"$f":"IFERROR(IF(INDIRECT(\"'game1 (\"&$AD128&\")'!$a$2\")=\"R\",Season_Summary!X128,\"\"),\"\")","v":0},{"$f":"IFERROR(IF(INDIRECT(\"'game1 (\"&$AD128&\")'!$a$2\")=\"R\",Season_Summary!Y128,\"\"),\"\")","v":0},{"$f":"IFERROR(IF(INDIRECT(\"'game1 (\"&$AD128&\")'!$a$2\")=\"R\",Season_Summary!Z128,\"\"),\"\")","v":0},{"$f":"IFERROR(IF(INDIRECT(\"'game1 (\"&$AD128&\")'!$a$2\")=\"R\",Season_Summary!AA128,\"\"),\"\")","v":0},{"$f":"IFERROR(IF(INDIRECT(\"'game1 (\"&$AD128&\")'!$a$2\")=\"R\",Season_Summary!AB128,\"\"),\"\")","v":0},{"$f":"IFERROR(IF(INDIRECT(\"'game1 (\"&$AD128&\")'!$a$2\")=\"R\",Season_Summary!AC128,\"\"),\"\")","v":0},13]
[{"$f":"IFERROR(IF(INDIRECT(\"'game1 (\"&$AD129&\")'!$a$2\")=\"R\",Season_Summary!A129,\"\"),\"\")","v":"Big Horn: 1/27/18 **"},{"$f":"IFERROR(IF(INDIRECT(\"'game1 (\"&$AD129&\")'!$a$2\")=\"R\",Season_Summary!B129,\"\"),\"\")","v":11},{"$f":"IFERROR(IF(INDIRECT(\"'game1 (\"&$AD129&\")'!$a$2\")=\"R\",Season_Summary!C129,\"\"),\"\")","v":24},{"$f":"IFERROR(IF(INDIRECT(\"'game1 (\"&$AD129&\")'!$a$2\")=\"R\",Season_Summary!D129,\"\"),\"\")","v":{"v":0.4583333333333333,"d":"46%"}},{"$f":"IFERROR(IF(INDIRECT(\"'game1 (\"&$AD129&\")'!$a$2\")=\"R\",Season_Summary!E129,\"\"),\"\")","v":14},{"$f":"IFERROR(IF(INDIRECT(\"'game1 (\"&$AD129&\")'!$a$2\")=\"R\",Season_Summary!F129,\"\"),\"\")","v":37},{"$f":"IFERROR(IF(INDIRECT(\"'game1 (\"&$AD129&\")'!$a$2\")=\"R\",Season_Summary!G129,\"\"),\"\")","v":{"v":0.3783783783783784,"d":"38%"}},{"$f":"IFERROR(IF(INDIRECT(\"'game1 (\"&$AD129&\")'!$a$2\")=\"R\",Season_Summary!H129,\"\"),\"\")","v":4},{"$f":"IFERROR(IF(INDIRECT(\"'game1 (\"&$AD129&\")'!$a$2\")=\"R\",Season_Summary!I129,\"\"),\"\")","v":10},{"$f":"IFERROR(IF(INDIRECT(\"'game1 (\"&$AD129&\")'!$a$2\")=\"R\",Season_Summary!J129,\"\"),\"\")","v":{"v":0.4,"d":"40%"}},{"$f":"IFERROR(IF(INDIRECT(\"'game1 (\"&$AD129&\")'!$a$2\")=\"R\",Season_Summary!K129,\"\"),\"\")","v":{"v":0.4098360655737705,"d":"41%"}},{"$f":"IFERROR(IF(INDIRECT(\"'game1 (\"&$AD129&\")'!$a$2\")=\"R\",Season_Summary!L129,\"\"),\"\")","v":15},{"$f":"IFERROR(IF(INDIRECT(\"'game1 (\"&$AD129&\")'!$a$2\")=\"R\",Season_Summary!M129,\"\"),\"\")","v":26},{"$f":"IFERROR(IF(INDIRECT(\"'game1 (\"&$AD129&\")'!$a$2\")=\"R\",Season_Summary!N129,\"\"),\"\")","v":41},{"$f":"IFERROR(IF(INDIRECT(\"'game1 (\"&$AD129&\")'!$a$2\")=\"R\",Season_Summary!O129,\"\"),\"\")","v":20},{"$f":"IFERROR(IF(INDIRECT(\"'game1 (\"&$AD129&\")'!$a$2\")=\"R\",Season_Summary!P129,\"\"),\"\")","v":8},{"$f":"IFERROR(IF(INDIRECT(\"'game1 (\"&$AD129&\")'!$a$2\")=\"R\",Season_Summary!Q129,\"\"),\"\")","v":3},{"$f":"IFERROR(IF(INDIRECT(\"'game1 (\"&$AD129&\")'!$a$2\")=\"R\",Season_Summary!R129,\"\"),\"\")","v":19},{"$f":"IFERROR(IF(INDIRECT(\"'game1 (\"&$AD129&\")'!$a$2\")=\"R\",Season_Summary!S129,\"\"),\"\")","v":9},{"$f":"IFERROR(IF(INDIRECT(\"'game1 (\"&$AD129&\")'!$a$2\")=\"R\",Season_Summary!T129,\"\"),\"\")","v":"23 - C Louderback, 23"},{"$f":"IFERROR(IF(INDIRECT(\"'game1 (\"&$AD129&\")'!$a$2\")=\"R\",Season_Summary!U129,\"\"),\"\")","v":0},{"$f":"IFERROR(IF(INDIRECT(\"'game1 (\"&$AD129&\")'!$a$2\")=\"R\",Season_Summary!V129,\"\"),\"\")","v":0},{"$f":"IFERROR(IF(INDIRECT(\"'game1 (\"&$AD129&\")'!$a$2\")=\"R\",Season_Summary!W129,\"\"),\"\")","v":"13 - C Louderback, 23"},{"$f":"IFERROR(IF(INDIRECT(\"'game1 (\"&$AD129&\")'!$a$2\")=\"R\",Season_Summary!X129,\"\"),\"\")","v":0},{"$f":"IFERROR(IF(INDIRECT(\"'game1 (\"&$AD129&\")'!$a$2\")=\"R\",Season_Summary!Y129,\"\"),\"\")","v":0},{"$f":"IFERROR(IF(INDIRECT(\"'game1 (\"&$AD129&\")'!$a$2\")=\"R\",Season_Summary!Z129,\"\"),\"\")","v":"7 - D Butts, 14"},{"$f":"IFERROR(IF(INDIRECT(\"'game1 (\"&$AD129&\")'!$a$2\")=\"R\",Season_Summary!AA129,\"\"),\"\")","v":0},{"$f":"IFERROR(IF(INDIRECT(\"'game1 (\"&$AD129&\")'!$a$2\")=\"R\",Season_Summary!AB129,\"\"),\"\")","v":0},{"$f":"IFERROR(IF(INDIRECT(\"'game1 (\"&$AD129&\")'!$a$2\")=\"R\",Season_Summary!AC129,\"\"),\"\")","v":0},14]
[{"$f":"IFERROR(IF(INDIRECT(\"'game1 (\"&$AD130&\")'!$a$2\")=\"R\",Season_Summary!A130,\"\"),\"\")","v":"65 - 66 "},{"$f":"IFERROR(IF(INDIRECT(\"'game1 (\"&$AD130&\")'!$a$2\")=\"R\",Season_Summary!B130,\"\"),\"\")","v":7},{"$f":"IFERROR(IF(INDIRECT(\"'game1 (\"&$AD130&\")'!$a$2\")=\"R\",Season_Summary!C130,\"\"),\"\")","v":18},{"$f":"IFERROR(IF(INDIRECT(\"'game1 (\"&$AD130&\")'!$a$2\")=\"R\",Season_Summary!D130,\"\"),\"\")","v":{"v":0.3888888888888889,"d":"39%"}},{"$f":"IFERROR(IF(INDIRECT(\"'game1 (\"&$AD130&\")'!$a$2\")=\"R\",Season_Summary!E130,\"\"),\"\")","v":20},{"$f":"IFERROR(IF(INDIRECT(\"'game1 (\"&$AD130&\")'!$a$2\")=\"R\",Season_Summary!F130,\"\"),\"\")","v":55},{"$f":"IFERROR(IF(INDIRECT(\"'game1 (\"&$AD130&\")'!$a$2\")=\"R\",Season_Summary!G130,\"\"),\"\")","v":{"v":0.36363636363636365,"d":"36%"}},{"$f":"IFERROR(IF(INDIRECT(\"'game1 (\"&$AD130&\")'!$a$2\")=\"R\",Season_Summary!H130,\"\"),\"\")","v":5},{"$f":"IFERROR(IF(INDIRECT(\"'game1 (\"&$AD130&\")'!$a$2\")=\"R\",Season_Summary!I130,\"\"),\"\")","v":7},{"$f":"IFERROR(IF(INDIRECT(\"'game1 (\"&$AD130&\")'!$a$2\")=\"R\",Season_Summary!J130,\"\"),\"\")","v":{"v":0.7142857142857143,"d":"71%"}},{"$f":"IFERROR(IF(INDIRECT(\"'game1 (\"&$AD130&\")'!$a$2\")=\"R\",Season_Summary!K130,\"\"),\"\")","v":{"v":0.3698630136986301,"d":"37%"}},{"$f":"IFERROR(IF(INDIRECT(\"'game1 (\"&$AD130&\")'!$a$2\")=\"R\",Season_Summary!L130,\"\"),\"\")","v":20},{"$f":"IFERROR(IF(INDIRECT(\"'game1 (\"&$AD130&\")'!$a$2\")=\"R\",Season_Summary!M130,\"\"),\"\")","v":23},{"$f":"IFERROR(IF(INDIRECT(\"'game1 (\"&$AD130&\")'!$a$2\")=\"R\",Season_Summary!N130,\"\"),\"\")","v":43},{"$f":"IFERROR(IF(INDIRECT(\"'game1 (\"&$AD130&\")'!$a$2\")=\"R\",Season_Summary!O130,\"\"),\"\")","v":13},{"$f":"IFERROR(IF(INDIRECT(\"'game1 (\"&$AD130&\")'!$a$2\")=\"R\",Season_Summary!P130,\"\"),\"\")","v":12},{"$f":"IFERROR(IF(INDIRECT(\"'game1 (\"&$AD130&\")'!$a$2\")=\"R\",Season_Summary!Q130,\"\"),\"\")","v":5},{"$f":"IFERROR(IF(INDIRECT(\"'game1 (\"&$AD130&\")'!$a$2\")=\"R\",Season_Summary!R130,\"\"),\"\")","v":13},{"$f":"IFERROR(IF(INDIRECT(\"'game1 (\"&$AD130&\")'!$a$2\")=\"R\",Season_Summary!S130,\"\"),\"\")","v":10},{"$f":"IFERROR(IF(INDIRECT(\"'game1 (\"&$AD130&\")'!$a$2\")=\"R\",Season_Summary!T130,\"\"),\"\")","v":0},{"$f":"IFERROR(IF(INDIRECT(\"'game1 (\"&$AD130&\")'!$a$2\")=\"R\",Season_Summary!U130,\"\"),\"\")","v":0},{"$f":"IFERROR(IF(INDIRECT(\"'game1 (\"&$AD130&\")'!$a$2\")=\"R\",Season_Summary!V130,\"\"),\"\")","v":0},{"$f":"IFERROR(IF(INDIRECT(\"'game1 (\"&$AD130&\")'!$a$2\")=\"R\",Season_Summary!W130,\"\"),\"\")","v":0},{"$f":"IFERROR(IF(INDIRECT(\"'game1 (\"&$AD130&\")'!$a$2\")=\"R\",Season_Summary!X130,\"\"),\"\")","v":0},{"$f":"IFERROR(IF(INDIRECT(\"'game1 (\"&$AD130&\")'!$a$2\")=\"R\",Season_Summary!Y130,\"\"),\"\")","v":0},{"$f":"IFERROR(IF(INDIRECT(\"'game1 (\"&$AD130&\")'!$a$2\")=\"R\",Season_Summary!Z130,\"\"),\"\")","v":0},{"$f":"IFERROR(IF(INDIRECT(\"'game1 (\"&$AD130&\")'!$a$2\")=\"R\",Season_Summary!AA130,\"\"),\"\")","v":0},{"$f":"IFERROR(IF(INDIRECT(\"'game1 (\"&$AD130&\")'!$a$2\")=\"R\",Season_Summary!AB130,\"\"),\"\")","v":0},{"$f":"IFERROR(IF(INDIRECT(\"'game1 (\"&$AD130&\")'!$a$2\")=\"R\",Season_Summary!AC130,\"\"),\"\")","v":0},14]
[{"$f":"IFERROR(IF(INDIRECT(\"'game1 (\"&$AD131&\")'!$a$2\")=\"R\",Season_Summary!A131,\"\"),\"\")","v":"Moorcroft: 2/1/18 **"},{"$f":"IFERROR(IF(INDIRECT(\"'game1 (\"&$AD131&\")'!$a$2\")=\"R\",Season_Summary!B131,\"\"),\"\")","v":1},{"$f":"IFERROR(IF(INDIRECT(\"'game1 (\"&$AD131&\")'!$a$2\")=\"R\",Season_Summary!C131,\"\"),\"\")","v":17},{"$f":"IFERROR(IF(INDIRECT(\"'game1 (\"&$AD131&\")'!$a$2\")=\"R\",Season_Summary!D131,\"\"),\"\")","v":{"v":0.058823529411764705,"d":"6%"}},{"$f":"IFERROR(IF(INDIRECT(\"'game1 (\"&$AD131&\")'!$a$2\")=\"R\",Season_Summary!E131,\"\"),\"\")","v":27},{"$f":"IFERROR(IF(INDIRECT(\"'game1 (\"&$AD131&\")'!$a$2\")=\"R\",Season_Summary!F131,\"\"),\"\")","v":43},{"$f":"IFERROR(IF(INDIRECT(\"'game1 (\"&$AD131&\")'!$a$2\")=\"R\",Season_Summary!G131,\"\"),\"\")","v":{"v":0.627906976744186,"d":"63%"}},{"$f":"IFERROR(IF(INDIRECT(\"'game1 (\"&$AD131&\")'!$a$2\")=\"R\",Season_Summary!H131,\"\"),\"\")","v":7},{"$f":"IFERROR(IF(INDIRECT(\"'game1 (\"&$AD131&\")'!$a$2\")=\"R\",Season_Summary!I131,\"\"),\"\")","v":11},{"$f":"IFERROR(IF(INDIRECT(\"'game1 (\"&$AD131&\")'!$a$2\")=\"R\",Season_Summary!J131,\"\"),\"\")","v":{"v":0.6363636363636364,"d":"64%"}},{"$f":"IFERROR(IF(INDIRECT(\"'game1 (\"&$AD131&\")'!$a$2\")=\"R\",Season_Summary!K131,\"\"),\"\")","v":{"v":0.4666666666666667,"d":"47%"}},{"$f":"IFERROR(IF(INDIRECT(\"'game1 (\"&$AD131&\")'!$a$2\")=\"R\",Season_Summary!L131,\"\"),\"\")","v":14},{"$f":"IFERROR(IF(INDIRECT(\"'game1 (\"&$AD131&\")'!$a$2\")=\"R\",Season_Summary!M131,\"\"),\"\")","v":25},{"$f":"IFERROR(IF(INDIRECT(\"'game1 (\"&$AD131&\")'!$a$2\")=\"R\",Season_Summary!N131,\"\"),\"\")","v":39},{"$f":"IFERROR(IF(INDIRECT(\"'game1 (\"&$AD131&\")'!$a$2\")=\"R\",Season_Summary!O131,\"\"),\"\")","v":19},{"$f":"IFERROR(IF(INDIRECT(\"'game1 (\"&$AD131&\")'!$a$2\")=\"R\",Season_Summary!P131,\"\"),\"\")","v":13},{"$f":"IFERROR(IF(INDIRECT(\"'game1 (\"&$AD131&\")'!$a$2\")=\"R\",Season_Summary!Q131,\"\"),\"\")","v":5},{"$f":"IFERROR(IF(INDIRECT(\"'game1 (\"&$AD131&\")'!$a$2\")=\"R\",Season_Summary!R131,\"\"),\"\")","v":11},{"$f":"IFERROR(IF(INDIRECT(\"'game1 (\"&$AD131&\")'!$a$2\")=\"R\",Season_Summary!S131,\"\"),\"\")","v":9},{"$f":"IFERROR(IF(INDIRECT(\"'game1 (\"&$AD131&\")'!$a$2\")=\"R\",Season_Summary!T131,\"\"),\"\")","v":"27 - C Louderback, 23"},{"$f":"IFERROR(IF(INDIRECT(\"'game1 (\"&$AD131&\")'!$a$2\")=\"R\",Season_Summary!U131,\"\"),\"\")","v":0},{"$f":"IFERROR(IF(INDIRECT(\"'game1 (\"&$AD131&\")'!$a$2\")=\"R\",Season_Summary!V131,\"\"),\"\")","v":0},{"$f":"IFERROR(IF(INDIRECT(\"'game1 (\"&$AD131&\")'!$a$2\")=\"R\",Season_Summary!W131,\"\"),\"\")","v":"9 - P Watt, 24"},{"$f":"IFERROR(IF(INDIRECT(\"'game1 (\"&$AD131&\")'!$a$2\")=\"R\",Season_Summary!X131,\"\"),\"\")","v":0},{"$f":"IFERROR(IF(INDIRECT(\"'game1 (\"&$AD131&\")'!$a$2\")=\"R\",Season_Summary!Y131,\"\"),\"\")","v":0},{"$f":"IFERROR(IF(INDIRECT(\"'game1 (\"&$AD131&\")'!$a$2\")=\"R\",Season_Summary!Z131,\"\"),\"\")","v":"7 - D Barritt, 20"},{"$f":"IFERROR(IF(INDIRECT(\"'game1 (\"&$AD131&\")'!$a$2\")=\"R\",Season_Summary!AA131,\"\"),\"\")","v":0},{"$f":"IFERROR(IF(INDIRECT(\"'game1 (\"&$AD131&\")'!$a$2\")=\"R\",Season_Summary!AB131,\"\"),\"\")","v":0},{"$f":"IFERROR(IF(INDIRECT(\"'game1 (\"&$AD131&\")'!$a$2\")=\"R\",Season_Summary!AC131,\"\"),\"\")","v":0},15]
[{"$f":"IFERROR(IF(INDIRECT(\"'game1 (\"&$AD132&\")'!$a$2\")=\"R\",Season_Summary!A132,\"\"),\"\")","v":"64 - 41 "},{"$f":"IFERROR(IF(INDIRECT(\"'game1 (\"&$AD132&\")'!$a$2\")=\"R\",Season_Summary!B132,\"\"),\"\")","v":5},{"$f":"IFERROR(IF(INDIRECT(\"'game1 (\"&$AD132&\")'!$a$2\")=\"R\",Season_Summary!C132,\"\"),\"\")","v":23},{"$f":"IFERROR(IF(INDIRECT(\"'game1 (\"&$AD132&\")'!$a$2\")=\"R\",Season_Summary!D132,\"\"),\"\")","v":{"v":0.21739130434782608,"d":"22%"}},{"$f":"IFERROR(IF(INDIRECT(\"'game1 (\"&$AD132&\")'!$a$2\")=\"R\",Season_Summary!E132,\"\"),\"\")","v":12},{"$f":"IFERROR(IF(INDIRECT(\"'game1 (\"&$AD132&\")'!$a$2\")=\"R\",Season_Summary!F132,\"\"),\"\")","v":27},{"$f":"IFERROR(IF(INDIRECT(\"'game1 (\"&$AD132&\")'!$a$2\")=\"R\",Season_Summary!G132,\"\"),\"\")","v":{"v":0.4444444444444444,"d":"44%"}},{"$f":"IFERROR(IF(INDIRECT(\"'game1 (\"&$AD132&\")'!$a$2\")=\"R\",Season_Summary!H132,\"\"),\"\")","v":2},{"$f":"IFERROR(IF(INDIRECT(\"'game1 (\"&$AD132&\")'!$a$2\")=\"R\",Season_Summary!I132,\"\"),\"\")","v":7},{"$f":"IFERROR(IF(INDIRECT(\"'game1 (\"&$AD132&\")'!$a$2\")=\"R\",Season_Summary!J132,\"\"),\"\")","v":{"v":0.2857142857142857,"d":"29%"}},{"$f":"IFERROR(IF(INDIRECT(\"'game1 (\"&$AD132&\")'!$a$2\")=\"R\",Season_Summary!K132,\"\"),\"\")","v":{"v":0.34,"d":"34%"}},{"$f":"IFERROR(IF(INDIRECT(\"'game1 (\"&$AD132&\")'!$a$2\")=\"R\",Season_Summary!L132,\"\"),\"\")","v":9},{"$f":"IFERROR(IF(INDIRECT(\"'game1 (\"&$AD132&\")'!$a$2\")=\"R\",Season_Summary!M132,\"\"),\"\")","v":20},{"$f":"IFERROR(IF(INDIRECT(\"'game1 (\"&$AD132&\")'!$a$2\")=\"R\",Season_Summary!N132,\"\"),\"\")","v":29},{"$f":"IFERROR(IF(INDIRECT(\"'game1 (\"&$AD132&\")'!$a$2\")=\"R\",Season_Summary!O132,\"\"),\"\")","v":7},{"$f":"IFERROR(IF(INDIRECT(\"'game1 (\"&$AD132&\")'!$a$2\")=\"R\",Season_Summary!P132,\"\"),\"\")","v":4},{"$f":"IFERROR(IF(INDIRECT(\"'game1 (\"&$AD132&\")'!$a$2\")=\"R\",Season_Summary!Q132,\"\"),\"\")","v":0},{"$f":"IFERROR(IF(INDIRECT(\"'game1 (\"&$AD132&\")'!$a$2\")=\"R\",Season_Summary!R132,\"\"),\"\")","v":20},{"$f":"IFERROR(IF(INDIRECT(\"'game1 (\"&$AD132&\")'!$a$2\")=\"R\",Season_Summary!S132,\"\"),\"\")","v":9},{"$f":"IFERROR(IF(INDIRECT(\"'game1 (\"&$AD132&\")'!$a$2\")=\"R\",Season_Summary!T132,\"\"),\"\")","v":0},{"$f":"IFERROR(IF(INDIRECT(\"'game1 (\"&$AD132&\")'!$a$2\")=\"R\",Season_Summary!U132,\"\"),\"\")","v":0},{"$f":"IFERROR(IF(INDIRECT(\"'game1 (\"&$AD132&\")'!$a$2\")=\"R\",Season_Summary!V132,\"\"),\"\")","v":0},{"$f":"IFERROR(IF(INDIRECT(\"'game1 (\"&$AD132&\")'!$a$2\")=\"R\",Season_Summary!W132,\"\"),\"\")","v":0},{"$f":"IFERROR(IF(INDIRECT(\"'game1 (\"&$AD132&\")'!$a$2\")=\"R\",Season_Summary!X132,\"\"),\"\")","v":0},{"$f":"IFERROR(IF(INDIRECT(\"'game1 (\"&$AD132&\")'!$a$2\")=\"R\",Season_Summary!Y132,\"\"),\"\")","v":0},{"$f":"IFERROR(IF(INDIRECT(\"'game1 (\"&$AD132&\")'!$a$2\")=\"R\",Season_Summary!Z132,\"\"),\"\")","v":0},{"$f":"IFERROR(IF(INDIRECT(\"'game1 (\"&$AD132&\")'!$a$2\")=\"R\",Season_Summary!AA132,\"\"),\"\")","v":0},{"$f":"IFERROR(IF(INDIRECT(\"'game1 (\"&$AD132&\")'!$a$2\")=\"R\",Season_Summary!AB132,\"\"),\"\")","v":0},{"$f":"IFERROR(IF(INDIRECT(\"'game1 (\"&$AD132&\")'!$a$2\")=\"R\",Season_Summary!AC132,\"\"),\"\")","v":0},15]
[{"$f":"IFERROR(IF(INDIRECT(\"'game1 (\"&$AD133&\")'!$a$2\")=\"R\",Season_Summary!A133,\"\"),\"\")","v":"Tongue River: 2/2/18 **"},{"$f":"IFERROR(IF(INDIRECT(\"'game1 (\"&$AD133&\")'!$a$2\")=\"R\",Season_Summary!B133,\"\"),\"\")","v":8},{"$f":"IFERROR(IF(INDIRECT(\"'game1 (\"&$AD133&\")'!$a$2\")=\"R\",Season_Summary!C133,\"\"),\"\")","v":24},{"$f":"IFERROR(IF(INDIRECT(\"'game1 (\"&$AD133&\")'!$a$2\")=\"R\",Season_Summary!D133,\"\"),\"\")","v":{"v":0.3333333333333333,"d":"33%"}},{"$f":"IFERROR(IF(INDIRECT(\"'game1 (\"&$AD133&\")'!$a$2\")=\"R\",Season_Summary!E133,\"\"),\"\")","v":27},{"$f":"IFERROR(IF(INDIRECT(\"'game1 (\"&$AD133&\")'!$a$2\")=\"R\",Season_Summary!F133,\"\"),\"\")","v":38},{"$f":"IFERROR(IF(INDIRECT(\"'game1 (\"&$AD133&\")'!$a$2\")=\"R\",Season_Summary!G133,\"\"),\"\")","v":{"v":0.7105263157894737,"d":"71%"}},{"$f":"IFERROR(IF(INDIRECT(\"'game1 (\"&$AD133&\")'!$a$2\")=\"R\",Season_Summary!H133,\"\"),\"\")","v":5},{"$f":"IFERROR(IF(INDIRECT(\"'game1 (\"&$AD133&\")'!$a$2\")=\"R\",Season_Summary!I133,\"\"),\"\")","v":12},{"$f":"IFERROR(IF(INDIRECT(\"'game1 (\"&$AD133&\")'!$a$2\")=\"R\",Season_Summary!J133,\"\"),\"\")","v":{"v":0.4166666666666667,"d":"42%"}},{"$f":"IFERROR(IF(INDIRECT(\"'game1 (\"&$AD133&\")'!$a$2\")=\"R\",Season_Summary!K133,\"\"),\"\")","v":{"v":0.5645161290322581,"d":"56%"}},{"$f":"IFERROR(IF(INDIRECT(\"'game1 (\"&$AD133&\")'!$a$2\")=\"R\",Season_Summary!L133,\"\"),\"\")","v":12},{"$f":"IFERROR(IF(INDIRECT(\"'game1 (\"&$AD133&\")'!$a$2\")=\"R\",Season_Summary!M133,\"\"),\"\")","v":18},{"$f":"IFERROR(IF(INDIRECT(\"'game1 (\"&$AD133&\")'!$a$2\")=\"R\",Season_Summary!N133,\"\"),\"\")","v":30},{"$f":"IFERROR(IF(INDIRECT(\"'game1 (\"&$AD133&\")'!$a$2\")=\"R\",Season_Summary!O133,\"\"),\"\")","v":28},{"$f":"IFERROR(IF(INDIRECT(\"'game1 (\"&$AD133&\")'!$a$2\")=\"R\",Season_Summary!P133,\"\"),\"\")","v":13},{"$f":"IFERROR(IF(INDIRECT(\"'game1 (\"&$AD133&\")'!$a$2\")=\"R\",Season_Summary!Q133,\"\"),\"\")","v":1},{"$f":"IFERROR(IF(INDIRECT(\"'game1 (\"&$AD133&\")'!$a$2\")=\"R\",Season_Summary!R133,\"\"),\"\")","v":14},{"$f":"IFERROR(IF(INDIRECT(\"'game1 (\"&$AD133&\")'!$a$2\")=\"R\",Season_Summary!S133,\"\"),\"\")","v":10},{"$f":"IFERROR(IF(INDIRECT(\"'game1 (\"&$AD133&\")'!$a$2\")=\"R\",Season_Summary!T133,\"\"),\"\")","v":"25 - C Louderback, 23"},{"$f":"IFERROR(IF(INDIRECT(\"'game1 (\"&$AD133&\")'!$a$2\")=\"R\",Season_Summary!U133,\"\"),\"\")","v":0},{"$f":"IFERROR(IF(INDIRECT(\"'game1 (\"&$AD133&\")'!$a$2\")=\"R\",Season_Summary!V133,\"\"),\"\")","v":0},{"$f":"IFERROR(IF(INDIRECT(\"'game1 (\"&$AD133&\")'!$a$2\")=\"R\",Season_Summary!W133,\"\"),\"\")","v":"8 - C Louderback, 23"},{"$f":"IFERROR(IF(INDIRECT(\"'game1 (\"&$AD133&\")'!$a$2\")=\"R\",Season_Summary!X133,\"\"),\"\")","v":0},{"$f":"IFERROR(IF(INDIRECT(\"'game1 (\"&$AD133&\")'!$a$2\")=\"R\",Season_Summary!Y133,\"\"),\"\")","v":0},{"$f":"IFERROR(IF(INDIRECT(\"'game1 (\"&$AD133&\")'!$a$2\")=\"R\",Season_Summary!Z133,\"\"),\"\")","v":"7 - D Butts, 14"},{"$f":"IFERROR(IF(INDIRECT(\"'game1 (\"&$AD133&\")'!$a$2\")=\"R\",Season_Summary!AA133,\"\"),\"\")","v":0},{"$f":"IFERROR(IF(INDIRECT(\"'game1 (\"&$AD133&\")'!$a$2\")=\"R\",Season_Summary!AB133,\"\"),\"\")","v":0},{"$f":"IFERROR(IF(INDIRECT(\"'game1 (\"&$AD133&\")'!$a$2\")=\"R\",Season_Summary!AC133,\"\"),\"\")","v":0},16]
[{"$f":"IFERROR(IF(INDIRECT(\"'game1 (\"&$AD134&\")'!$a$2\")=\"R\",Season_Summary!A134,\"\"),\"\")","v":"83 - 65 "},{"$f":"IFERROR(IF(INDIRECT(\"'game1 (\"&$AD134&\")'!$a$2\")=\"R\",Season_Summary!B134,\"\"),\"\")","v":6},{"$f":"IFERROR(IF(INDIRECT(\"'game1 (\"&$AD134&\")'!$a$2\")=\"R\",Season_Summary!C134,\"\"),\"\")","v":16},{"$f":"IFERROR(IF(INDIRECT(\"'game1 (\"&$AD134&\")'!$a$2\")=\"R\",Season_Summary!D134,\"\"),\"\")","v":{"v":0.375,"d":"38%"}},{"$f":"IFERROR(IF(INDIRECT(\"'game1 (\"&$AD134&\")'!$a$2\")=\"R\",Season_Summary!E134,\"\"),\"\")","v":19},{"$f":"IFERROR(IF(INDIRECT(\"'game1 (\"&$AD134&\")'!$a$2\")=\"R\",Season_Summary!F134,\"\"),\"\")","v":42},{"$f":"IFERROR(IF(INDIRECT(\"'game1 (\"&$AD134&\")'!$a$2\")=\"R\",Season_Summary!G134,\"\"),\"\")","v":{"v":0.4523809523809524,"d":"45%"}},{"$f":"IFERROR(IF(INDIRECT(\"'game1 (\"&$AD134&\")'!$a$2\")=\"R\",Season_Summary!H134,\"\"),\"\")","v":9},{"$f":"IFERROR(IF(INDIRECT(\"'game1 (\"&$AD134&\")'!$a$2\")=\"R\",Season_Summary!I134,\"\"),\"\")","v":12},{"$f":"IFERROR(IF(INDIRECT(\"'game1 (\"&$AD134&\")'!$a$2\")=\"R\",Season_Summary!J134,\"\"),\"\")","v":{"v":0.75,"d":"75%"}},{"$f":"IFERROR(IF(INDIRECT(\"'game1 (\"&$AD134&\")'!$a$2\")=\"R\",Season_Summary!K134,\"\"),\"\")","v":{"v":0.43103448275862066,"d":"43%"}},{"$f":"IFERROR(IF(INDIRECT(\"'game1 (\"&$AD134&\")'!$a$2\")=\"R\",Season_Summary!L134,\"\"),\"\")","v":14},{"$f":"IFERROR(IF(INDIRECT(\"'game1 (\"&$AD134&\")'!$a$2\")=\"R\",Season_Summary!M134,\"\"),\"\")","v":20},{"$f":"IFERROR(IF(INDIRECT(\"'game1 (\"&$AD134&\")'!$a$2\")=\"R\",Season_Summary!N134,\"\"),\"\")","v":34},{"$f":"IFERROR(IF(INDIRECT(\"'game1 (\"&$AD134&\")'!$a$2\")=\"R\",Season_Summary!O134,\"\"),\"\")","v":15},{"$f":"IFERROR(IF(INDIRECT(\"'game1 (\"&$AD134&\")'!$a$2\")=\"R\",Season_Summary!P134,\"\"),\"\")","v":5},{"$f":"IFERROR(IF(INDIRECT(\"'game1 (\"&$AD134&\")'!$a$2\")=\"R\",Season_Summary!Q134,\"\"),\"\")","v":1},{"$f":"IFERROR(IF(INDIRECT(\"'game1 (\"&$AD134&\")'!$a$2\")=\"R\",Season_Summary!R134,\"\"),\"\")","v":23},{"$f":"IFERROR(IF(INDIRECT(\"'game1 (\"&$AD134&\")'!$a$2\")=\"R\",Season_Summary!S134,\"\"),\"\")","v":12},{"$f":"IFERROR(IF(INDIRECT(\"'game1 (\"&$AD134&\")'!$a$2\")=\"R\",Season_Summary!T134,\"\"),\"\")","v":0},{"$f":"IFERROR(IF(INDIRECT(\"'game1 (\"&$AD134&\")'!$a$2\")=\"R\",Season_Summary!U134,\"\"),\"\")","v":0},{"$f":"IFERROR(IF(INDIRECT(\"'game1 (\"&$AD134&\")'!$a$2\")=\"R\",Season_Summary!V134,\"\"),\"\")","v":0},{"$f":"IFERROR(IF(INDIRECT(\"'game1 (\"&$AD134&\")'!$a$2\")=\"R\",Season_Summary!W134,\"\"),\"\")","v":0},{"$f":"IFERROR(IF(INDIRECT(\"'game1 (\"&$AD134&\")'!$a$2\")=\"R\",Season_Summary!X134,\"\"),\"\")","v":0},{"$f":"IFERROR(IF(INDIRECT(\"'game1 (\"&$AD134&\")'!$a$2\")=\"R\",Season_Summary!Y134,\"\"),\"\")","v":0},{"$f":"IFERROR(IF(INDIRECT(\"'game1 (\"&$AD134&\")'!$a$2\")=\"R\",Season_Summary!Z134,\"\"),\"\")","v":0},{"$f":"IFERROR(IF(INDIRECT(\"'game1 (\"&$AD134&\")'!$a$2\")=\"R\",Season_Summary!AA134,\"\"),\"\")","v":0},{"$f":"IFERROR(IF(INDIRECT(\"'game1 (\"&$AD134&\")'!$a$2\")=\"R\",Season_Summary!AB134,\"\"),\"\")","v":0},{"$f":"IFERROR(IF(INDIRECT(\"'game1 (\"&$AD134&\")'!$a$2\")=\"R\",Season_Summary!AC134,\"\"),\"\")","v":0},16]
[{"$f":"IFERROR(IF(INDIRECT(\"'game1 (\"&$AD135&\")'!$a$2\")=\"R\",Season_Summary!A135,\"\"),\"\")","v":"Sundance: 2/6/18 **"},{"$f":"IFERROR(IF(INDIRECT(\"'game1 (\"&$AD135&\")'!$a$2\")=\"R\",Season_Summary!B135,\"\"),\"\")","v":6},{"$f":"IFERROR(IF(INDIRECT(\"'game1 (\"&$AD135&\")'!$a$2\")=\"R\",Season_Summary!C135,\"\"),\"\")","v":25},{"$f":"IFERROR(IF(INDIRECT(\"'game1 (\"&$AD135&\")'!$a$2\")=\"R\",Season_Summary!D135,\"\"),\"\")","v":{"v":0.24,"d":"24%"}},{"$f":"IFERROR(IF(INDIRECT(\"'game1 (\"&$AD135&\")'!$a$2\")=\"R\",Season_Summary!E135,\"\"),\"\")","v":23},{"$f":"IFERROR(IF(INDIRECT(\"'game1 (\"&$AD135&\")'!$a$2\")=\"R\",Season_Summary!F135,\"\"),\"\")","v":42},{"$f":"IFERROR(IF(INDIRECT(\"'game1 (\"&$AD135&\")'!$a$2\")=\"R\",Season_Summary!G135,\"\"),\"\")","v":{"v":0.5476190476190477,"d":"55%"}},{"$f":"IFERROR(IF(INDIRECT(\"'game1 (\"&$AD135&\")'!$a$2\")=\"R\",Season_Summary!H135,\"\"),\"\")","v":5},{"$f":"IFERROR(IF(INDIRECT(\"'game1 (\"&$AD135&\")'!$a$2\")=\"R\",Season_Summary!I135,\"\"),\"\")","v":11},{"$f":"IFERROR(IF(INDIRECT(\"'game1 (\"&$AD135&\")'!$a$2\")=\"R\",Season_Summary!J135,\"\"),\"\")","v":{"v":0.45454545454545453,"d":"45%"}},{"$f":"IFERROR(IF(INDIRECT(\"'game1 (\"&$AD135&\")'!$a$2\")=\"R\",Season_Summary!K135,\"\"),\"\")","v":{"v":0.43283582089552236,"d":"43%"}},{"$f":"IFERROR(IF(INDIRECT(\"'game1 (\"&$AD135&\")'!$a$2\")=\"R\",Season_Summary!L135,\"\"),\"\")","v":20},{"$f":"IFERROR(IF(INDIRECT(\"'game1 (\"&$AD135&\")'!$a$2\")=\"R\",Season_Summary!M135,\"\"),\"\")","v":24},{"$f":"IFERROR(IF(INDIRECT(\"'game1 (\"&$AD135&\")'!$a$2\")=\"R\",Season_Summary!N135,\"\"),\"\")","v":44},{"$f":"IFERROR(IF(INDIRECT(\"'game1 (\"&$AD135&\")'!$a$2\")=\"R\",Season_Summary!O135,\"\"),\"\")","v":16},{"$f":"IFERROR(IF(INDIRECT(\"'game1 (\"&$AD135&\")'!$a$2\")=\"R\",Season_Summary!P135,\"\"),\"\")","v":8},{"$f":"IFERROR(IF(INDIRECT(\"'game1 (\"&$AD135&\")'!$a$2\")=\"R\",Season_Summary!Q135,\"\"),\"\")","v":0},{"$f":"IFERROR(IF(INDIRECT(\"'game1 (\"&$AD135&\")'!$a$2\")=\"R\",Season_Summary!R135,\"\"),\"\")","v":4},{"$f":"IFERROR(IF(INDIRECT(\"'game1 (\"&$AD135&\")'!$a$2\")=\"R\",Season_Summary!S135,\"\"),\"\")","v":14},{"$f":"IFERROR(IF(INDIRECT(\"'game1 (\"&$AD135&\")'!$a$2\")=\"R\",Season_Summary!T135,\"\"),\"\")","v":"21 - C Louderback, 23"},{"$f":"IFERROR(IF(INDIRECT(\"'game1 (\"&$AD135&\")'!$a$2\")=\"R\",Season_Summary!U135,\"\"),\"\")","v":0},{"$f":"IFERROR(IF(INDIRECT(\"'game1 (\"&$AD135&\")'!$a$2\")=\"R\",Season_Summary!V135,\"\"),\"\")","v":0},{"$f":"IFERROR(IF(INDIRECT(\"'game1 (\"&$AD135&\")'!$a$2\")=\"R\",Season_Summary!W135,\"\"),\"\")","v":"11 - P Watt, 24"},{"$f":"IFERROR(IF(INDIRECT(\"'game1 (\"&$AD135&\")'!$a$2\")=\"R\",Season_Summary!X135,\"\"),\"\")","v":0},{"$f":"IFERROR(IF(INDIRECT(\"'game1 (\"&$AD135&\")'!$a$2\")=\"R\",Season_Summary!Y135,\"\"),\"\")","v":0},{"$f":"IFERROR(IF(INDIRECT(\"'game1 (\"&$AD135&\")'!$a$2\")=\"R\",Season_Summary!Z135,\"\"),\"\")","v":"5 - C Louderback, 23"},{"$f":"IFERROR(IF(INDIRECT(\"'game1 (\"&$AD135&\")'!$a$2\")=\"R\",Season_Summary!AA135,\"\"),\"\")","v":0},{"$f":"IFERROR(IF(INDIRECT(\"'game1 (\"&$AD135&\")'!$a$2\")=\"R\",Season_Summary!AB135,\"\"),\"\")","v":0},{"$f":"IFERROR(IF(INDIRECT(\"'game1 (\"&$AD135&\")'!$a$2\")=\"R\",Season_Summary!AC135,\"\"),\"\")","v":0},17]
[{"$f":"IFERROR(IF(INDIRECT(\"'game1 (\"&$AD136&\")'!$a$2\")=\"R\",Season_Summary!A136,\"\"),\"\")","v":"69 - 49 "},{"$f":"IFERROR(IF(INDIRECT(\"'game1 (\"&$AD136&\")'!$a$2\")=\"R\",Season_Summary!B136,\"\"),\"\")","v":6},{"$f":"IFERROR(IF(INDIRECT(\"'game1 (\"&$AD136&\")'!$a$2\")=\"R\",Season_Summary!C136,\"\"),\"\")","v":14},{"$f":"IFERROR(IF(INDIRECT(\"'game1 (\"&$AD136&\")'!$a$2\")=\"R\",Season_Summary!D136,\"\"),\"\")","v":{"v":0.42857142857142855,"d":"43%"}},{"$f":"IFERROR(IF(INDIRECT(\"'game1 (\"&$AD136&\")'!$a$2\")=\"R\",Season_Summary!E136,\"\"),\"\")","v":14},{"$f":"IFERROR(IF(INDIRECT(\"'game1 (\"&$AD136&\")'!$a$2\")=\"R\",Season_Summary!F136,\"\"),\"\")","v":33},{"$f":"IFERROR(IF(INDIRECT(\"'game1 (\"&$AD136&\")'!$a$2\")=\"R\",Season_Summary!G136,\"\"),\"\")","v":{"v":0.42424242424242425,"d":"42%"}},{"$f":"IFERROR(IF(INDIRECT(\"'game1 (\"&$AD136&\")'!$a$2\")=\"R\",Season_Summary!H136,\"\"),\"\")","v":3},{"$f":"IFERROR(IF(INDIRECT(\"'game1 (\"&$AD136&\")'!$a$2\")=\"R\",Season_Summary!I136,\"\"),\"\")","v":7},{"$f":"IFERROR(IF(INDIRECT(\"'game1 (\"&$AD136&\")'!$a$2\")=\"R\",Season_Summary!J136,\"\"),\"\")","v":{"v":0.42857142857142855,"d":"43%"}},{"$f":"IFERROR(IF(INDIRECT(\"'game1 (\"&$AD136&\")'!$a$2\")=\"R\",Season_Summary!K136,\"\"),\"\")","v":{"v":0.425531914893617,"d":"43%"}},{"$f":"IFERROR(IF(INDIRECT(\"'game1 (\"&$AD136&\")'!$a$2\")=\"R\",Season_Summary!L136,\"\"),\"\")","v":6},{"$f":"IFERROR(IF(INDIRECT(\"'game1 (\"&$AD136&\")'!$a$2\")=\"R\",Season_Summary!M136,\"\"),\"\")","v":19},{"$f":"IFERROR(IF(INDIRECT(\"'game1 (\"&$AD136&\")'!$a$2\")=\"R\",Season_Summary!N136,\"\"),\"\")","v":25},{"$f":"IFERROR(IF(INDIRECT(\"'game1 (\"&$AD136&\")'!$a$2\")=\"R\",Season_Summary!O136,\"\"),\"\")","v":10},{"$f":"IFERROR(IF(INDIRECT(\"'game1 (\"&$AD136&\")'!$a$2\")=\"R\",Season_Summary!P136,\"\"),\"\")","v":3},{"$f":"IFERROR(IF(INDIRECT(\"'game1 (\"&$AD136&\")'!$a$2\")=\"R\",Season_Summary!Q136,\"\"),\"\")","v":0},{"$f":"IFERROR(IF(INDIRECT(\"'game1 (\"&$AD136&\")'!$a$2\")=\"R\",Season_Summary!R136,\"\"),\"\")","v":11},{"$f":"IFERROR(IF(INDIRECT(\"'game1 (\"&$AD136&\")'!$a$2\")=\"R\",Season_Summary!S136,\"\"),\"\")","v":9},{"$f":"IFERROR(IF(INDIRECT(\"'game1 (\"&$AD136&\")'!$a$2\")=\"R\",Season_Summary!T136,\"\"),\"\")","v":0},{"$f":"IFERROR(IF(INDIRECT(\"'game1 (\"&$AD136&\")'!$a$2\")=\"R\",Season_Summary!U136,\"\"),\"\")","v":0},{"$f":"IFERROR(IF(INDIRECT(\"'game1 (\"&$AD136&\")'!$a$2\")=\"R\",Season_Summary!V136,\"\"),\"\")","v":0},{"$f":"IFERROR(IF(INDIRECT(\"'game1 (\"&$AD136&\")'!$a$2\")=\"R\",Season_Summary!W136,\"\"),\"\")","v":0},{"$f":"IFERROR(IF(INDIRECT(\"'game1 (\"&$AD136&\")'!$a$2\")=\"R\",Season_Summary!X136,\"\"),\"\")","v":0},{"$f":"IFERROR(IF(INDIRECT(\"'game1 (\"&$AD136&\")'!$a$2\")=\"R\",Season_Summary!Y136,\"\"),\"\")","v":0},{"$f":"IFERROR(IF(INDIRECT(\"'game1 (\"&$AD136&\")'!$a$2\")=\"R\",Season_Summary!Z136,\"\"),\"\")","v":0},{"$f":"IFERROR(IF(INDIRECT(\"'game1 (\"&$AD136&\")'!$a$2\")=\"R\",Season_Summary!AA136,\"\"),\"\")","v":0},{"$f":"IFERROR(IF(INDIRECT(\"'game1 (\"&$AD136&\")'!$a$2\")=\"R\",Season_Summary!AB136,\"\"),\"\")","v":0},{"$f":"IFERROR(IF(INDIRECT(\"'game1 (\"&$AD136&\")'!$a$2\")=\"R\",Season_Summary!AC136,\"\"),\"\")","v":0},17]
[{"$f":"IFERROR(IF(INDIRECT(\"'game1 (\"&$AD137&\")'!$a$2\")=\"R\",Season_Summary!A137,\"\"),\"\")","v":"Wright: 2/8/18 **"},{"$f":"IFERROR(IF(INDIRECT(\"'game1 (\"&$AD137&\")'!$a$2\")=\"R\",Season_Summary!B137,\"\"),\"\")","v":6},{"$f":"IFERROR(IF(INDIRECT(\"'game1 (\"&$AD137&\")'!$a$2\")=\"R\",Season_Summary!C137,\"\"),\"\")","v":25},{"$f":"IFERROR(IF(INDIRECT(\"'game1 (\"&$AD137&\")'!$a$2\")=\"R\",Season_Summary!D137,\"\"),\"\")","v":{"v":0.24,"d":"24%"}},{"$f":"IFERROR(IF(INDIRECT(\"'game1 (\"&$AD137&\")'!$a$2\")=\"R\",Season_Summary!E137,\"\"),\"\")","v":11},{"$f":"IFERROR(IF(INDIRECT(\"'game1 (\"&$AD137&\")'!$a$2\")=\"R\",Season_Summary!F137,\"\"),\"\")","v":33},{"$f":"IFERROR(IF(INDIRECT(\"'game1 (\"&$AD137&\")'!$a$2\")=\"R\",Season_Summary!G137,\"\"),\"\")","v":{"v":0.3333333333333333,"d":"33%"}},{"$f":"IFERROR(IF(INDIRECT(\"'game1 (\"&$AD137&\")'!$a$2\")=\"R\",Season_Summary!H137,\"\"),\"\")","v":20},{"$f":"IFERROR(IF(INDIRECT(\"'game1 (\"&$AD137&\")'!$a$2\")=\"R\",Season_Summary!I137,\"\"),\"\")","v":29},{"$f":"IFERROR(IF(INDIRECT(\"'game1 (\"&$AD137&\")'!$a$2\")=\"R\",Season_Summary!J137,\"\"),\"\")","v":{"v":0.6896551724137931,"d":"69%"}},{"$f":"IFERROR(IF(INDIRECT(\"'game1 (\"&$AD137&\")'!$a$2\")=\"R\",Season_Summary!K137,\"\"),\"\")","v":{"v":0.29310344827586204,"d":"29%"}},{"$f":"IFERROR(IF(INDIRECT(\"'game1 (\"&$AD137&\")'!$a$2\")=\"R\",Season_Summary!L137,\"\"),\"\")","v":20},{"$f":"IFERROR(IF(INDIRECT(\"'game1 (\"&$AD137&\")'!$a$2\")=\"R\",Season_Summary!M137,\"\"),\"\")","v":16},{"$f":"IFERROR(IF(INDIRECT(\"'game1 (\"&$AD137&\")'!$a$2\")=\"R\",Season_Summary!N137,\"\"),\"\")","v":36},{"$f":"IFERROR(IF(INDIRECT(\"'game1 (\"&$AD137&\")'!$a$2\")=\"R\",Season_Summary!O137,\"\"),\"\")","v":9},{"$f":"IFERROR(IF(INDIRECT(\"'game1 (\"&$AD137&\")'!$a$2\")=\"R\",Season_Summary!P137,\"\"),\"\")","v":12},{"$f":"IFERROR(IF(INDIRECT(\"'game1 (\"&$AD137&\")'!$a$2\")=\"R\",Season_Summary!Q137,\"\"),\"\")","v":3},{"$f":"IFERROR(IF(INDIRECT(\"'game1 (\"&$AD137&\")'!$a$2\")=\"R\",Season_Summary!R137,\"\"),\"\")","v":20},{"$f":"IFERROR(IF(INDIRECT(\"'game1 (\"&$AD137&\")'!$a$2\")=\"R\",Season_Summary!S137,\"\"),\"\")","v":22},{"$f":"IFERROR(IF(INDIRECT(\"'game1 (\"&$AD137&\")'!$a$2\")=\"R\",Season_Summary!T137,\"\"),\"\")","v":"23 - P Watt, 24"},{"$f":"IFERROR(IF(INDIRECT(\"'game1 (\"&$AD137&\")'!$a$2\")=\"R\",Season_Summary!U137,\"\"),\"\")","v":0},{"$f":"IFERROR(IF(INDIRECT(\"'game1 (\"&$AD137&\")'!$a$2\")=\"R\",Season_Summary!V137,\"\"),\"\")","v":0},{"$f":"IFERROR(IF(INDIRECT(\"'game1 (\"&$AD137&\")'!$a$2\")=\"R\",Season_Summary!W137,\"\"),\"\")","v":"11 - P Watt, 24"},{"$f":"IFERROR(IF(INDIRECT(\"'game1 (\"&$AD137&\")'!$a$2\")=\"R\",Season_Summary!X137,\"\"),\"\")","v":0},{"$f":"IFERROR(IF(INDIRECT(\"'game1 (\"&$AD137&\")'!$a$2\")=\"R\",Season_Summary!Y137,\"\"),\"\")","v":0},{"$f":"IFERROR(IF(INDIRECT(\"'game1 (\"&$AD137&\")'!$a$2\")=\"R\",Season_Summary!Z137,\"\"),\"\")","v":"3 - P Watt, 24"},{"$f":"IFERROR(IF(INDIRECT(\"'game1 (\"&$AD137&\")'!$a$2\")=\"R\",Season_Summary!AA137,\"\"),\"\")","v":0},{"$f":"IFERROR(IF(INDIRECT(\"'game1 (\"&$AD137&\")'!$a$2\")=\"R\",Season_Summary!AB137,\"\"),\"\")","v":0},{"$f":"IFERROR(IF(INDIRECT(\"'game1 (\"&$AD137&\")'!$a$2\")=\"R\",Season_Summary!AC137,\"\"),\"\")","v":0},18]
[{"$f":"IFERROR(IF(INDIRECT(\"'game1 (\"&$AD138&\")'!$a$2\")=\"R\",Season_Summary!A138,\"\"),\"\")","v":"60 - 67 "},{"$f":"IFERROR(IF(INDIRECT(\"'game1 (\"&$AD138&\")'!$a$2\")=\"R\",Season_Summary!B138,\"\"),\"\")","v":5},{"$f":"IFERROR(IF(INDIRECT(\"'game1 (\"&$AD138&\")'!$a$2\")=\"R\",Season_Summary!C138,\"\"),\"\")","v":8},{"$f":"IFERROR(IF(INDIRECT(\"'game1 (\"&$AD138&\")'!$a$2\")=\"R\",Season_Summary!D138,\"\"),\"\")","v":{"v":0.625,"d":"63%"}},{"$f":"IFERROR(IF(INDIRECT(\"'game1 (\"&$AD138&\")'!$a$2\")=\"R\",Season_Summary!E138,\"\"),\"\")","v":20},{"$f":"IFERROR(IF(INDIRECT(\"'game1 (\"&$AD138&\")'!$a$2\")=\"R\",Season_Summary!F138,\"\"),\"\")","v":37},{"$f":"IFERROR(IF(INDIRECT(\"'game1 (\"&$AD138&\")'!$a$2\")=\"R\",Season_Summary!G138,\"\"),\"\")","v":{"v":0.5405405405405406,"d":"54%"}},{"$f":"IFERROR(IF(INDIRECT(\"'game1 (\"&$AD138&\")'!$a$2\")=\"R\",Season_Summary!H138,\"\"),\"\")","v":12},{"$f":"IFERROR(IF(INDIRECT(\"'game1 (\"&$AD138&\")'!$a$2\")=\"R\",Season_Summary!I138,\"\"),\"\")","v":27},{"$f":"IFERROR(IF(INDIRECT(\"'game1 (\"&$AD138&\")'!$a$2\")=\"R\",Season_Summary!J138,\"\"),\"\")","v":{"v":0.4444444444444444,"d":"44%"}},{"$f":"IFERROR(IF(INDIRECT(\"'game1 (\"&$AD138&\")'!$a$2\")=\"R\",Season_Summary!K138,\"\"),\"\")","v":{"v":0.5555555555555556,"d":"56%"}},{"$f":"IFERROR(IF(INDIRECT(\"'game1 (\"&$AD138&\")'!$a$2\")=\"R\",Season_Summary!L138,\"\"),\"\")","v":9},{"$f":"IFERROR(IF(INDIRECT(\"'game1 (\"&$AD138&\")'!$a$2\")=\"R\",Season_Summary!M138,\"\"),\"\")","v":25},{"$f":"IFERROR(IF(INDIRECT(\"'game1 (\"&$AD138&\")'!$a$2\")=\"R\",Season_Summary!N138,\"\"),\"\")","v":34},{"$f":"IFERROR(IF(INDIRECT(\"'game1 (\"&$AD138&\")'!$a$2\")=\"R\",Season_Summary!O138,\"\"),\"\")","v":6},{"$f":"IFERROR(IF(INDIRECT(\"'game1 (\"&$AD138&\")'!$a$2\")=\"R\",Season_Summary!P138,\"\"),\"\")","v":9},{"$f":"IFERROR(IF(INDIRECT(\"'game1 (\"&$AD138&\")'!$a$2\")=\"R\",Season_Summary!Q138,\"\"),\"\")","v":1},{"$f":"IFERROR(IF(INDIRECT(\"'game1 (\"&$AD138&\")'!$a$2\")=\"R\",Season_Summary!R138,\"\"),\"\")","v":25},{"$f":"IFERROR(IF(INDIRECT(\"'game1 (\"&$AD138&\")'!$a$2\")=\"R\",Season_Summary!S138,\"\"),\"\")","v":23},{"$f":"IFERROR(IF(INDIRECT(\"'game1 (\"&$AD138&\")'!$a$2\")=\"R\",Season_Summary!T138,\"\"),\"\")","v":0},{"$f":"IFERROR(IF(INDIRECT(\"'game1 (\"&$AD138&\")'!$a$2\")=\"R\",Season_Summary!U138,\"\"),\"\")","v":0},{"$f":"IFERROR(IF(INDIRECT(\"'game1 (\"&$AD138&\")'!$a$2\")=\"R\",Season_Summary!V138,\"\"),\"\")","v":0},{"$f":"IFERROR(IF(INDIRECT(\"'game1 (\"&$AD138&\")'!$a$2\")=\"R\",Season_Summary!W138,\"\"),\"\")","v":0},{"$f":"IFERROR(IF(INDIRECT(\"'game1 (\"&$AD138&\")'!$a$2\")=\"R\",Season_Summary!X138,\"\"),\"\")","v":0},{"$f":"IFERROR(IF(INDIRECT(\"'game1 (\"&$AD138&\")'!$a$2\")=\"R\",Season_Summary!Y138,\"\"),\"\")","v":0},{"$f":"IFERROR(IF(INDIRECT(\"'game1 (\"&$AD138&\")'!$a$2\")=\"R\",Season_Summary!Z138,\"\"),\"\")","v":0},{"$f":"IFERROR(IF(INDIRECT(\"'game1 (\"&$AD138&\")'!$a$2\")=\"R\",Season_Summary!AA138,\"\"),\"\")","v":0},{"$f":"IFERROR(IF(INDIRECT(\"'game1 (\"&$AD138&\")'!$a$2\")=\"R\",Season_Summary!AB138,\"\"),\"\")","v":0},{"$f":"IFERROR(IF(INDIRECT(\"'game1 (\"&$AD138&\")'!$a$2\")=\"R\",Season_Summary!AC138,\"\"),\"\")","v":0},18]
[{"$f":"IFERROR(IF(INDIRECT(\"'game1 (\"&$AD139&\")'!$a$2\")=\"R\",Season_Summary!A139,\"\"),\"\")","v":""},{"$f":"IFERROR(IF(INDIRECT(\"'game1 (\"&$AD139&\")'!$a$2\")=\"R\",Season_Summary!B139,\"\"),\"\")","v":""},{"$f":"IFERROR(IF(INDIRECT(\"'game1 (\"&$AD139&\")'!$a$2\")=\"R\",Season_Summary!C139,\"\"),\"\")","v":""},{"$f":"IFERROR(IF(INDIRECT(\"'game1 (\"&$AD139&\")'!$a$2\")=\"R\",Season_Summary!D139,\"\"),\"\")","v":""},{"$f":"IFERROR(IF(INDIRECT(\"'game1 (\"&$AD139&\")'!$a$2\")=\"R\",Season_Summary!E139,\"\"),\"\")","v":""},{"$f":"IFERROR(IF(INDIRECT(\"'game1 (\"&$AD139&\")'!$a$2\")=\"R\",Season_Summary!F139,\"\"),\"\")","v":""},{"$f":"IFERROR(IF(INDIRECT(\"'game1 (\"&$AD139&\")'!$a$2\")=\"R\",Season_Summary!G139,\"\"),\"\")","v":""},{"$f":"IFERROR(IF(INDIRECT(\"'game1 (\"&$AD139&\")'!$a$2\")=\"R\",Season_Summary!H139,\"\"),\"\")","v":""},{"$f":"IFERROR(IF(INDIRECT(\"'game1 (\"&$AD139&\")'!$a$2\")=\"R\",Season_Summary!I139,\"\"),\"\")","v":""},{"$f":"IFERROR(IF(INDIRECT(\"'game1 (\"&$AD139&\")'!$a$2\")=\"R\",Season_Summary!J139,\"\"),\"\")","v":""},{"$f":"IFERROR(IF(INDIRECT(\"'game1 (\"&$AD139&\")'!$a$2\")=\"R\",Season_Summary!K139,\"\"),\"\")","v":""},{"$f":"IFERROR(IF(INDIRECT(\"'game1 (\"&$AD139&\")'!$a$2\")=\"R\",Season_Summary!L139,\"\"),\"\")","v":""},{"$f":"IFERROR(IF(INDIRECT(\"'game1 (\"&$AD139&\")'!$a$2\")=\"R\",Season_Summary!M139,\"\"),\"\")","v":""},{"$f":"IFERROR(IF(INDIRECT(\"'game1 (\"&$AD139&\")'!$a$2\")=\"R\",Season_Summary!N139,\"\"),\"\")","v":""},{"$f":"IFERROR(IF(INDIRECT(\"'game1 (\"&$AD139&\")'!$a$2\")=\"R\",Season_Summary!O139,\"\"),\"\")","v":""},{"$f":"IFERROR(IF(INDIRECT(\"'game1 (\"&$AD139&\")'!$a$2\")=\"R\",Season_Summary!P139,\"\"),\"\")","v":""},{"$f":"IFERROR(IF(INDIRECT(\"'game1 (\"&$AD139&\")'!$a$2\")=\"R\",Season_Summary!Q139,\"\"),\"\")","v":""},{"$f":"IFERROR(IF(INDIRECT(\"'game1 (\"&$AD139&\")'!$a$2\")=\"R\",Season_Summary!R139,\"\"),\"\")","v":""},{"$f":"IFERROR(IF(INDIRECT(\"'game1 (\"&$AD139&\")'!$a$2\")=\"R\",Season_Summary!S139,\"\"),\"\")","v":""},{"$f":"IFERROR(IF(INDIRECT(\"'game1 (\"&$AD139&\")'!$a$2\")=\"R\",Season_Summary!T139,\"\"),\"\")","v":""},{"$f":"IFERROR(IF(INDIRECT(\"'game1 (\"&$AD139&\")'!$a$2\")=\"R\",Season_Summary!U139,\"\"),\"\")","v":""},{"$f":"IFERROR(IF(INDIRECT(\"'game1 (\"&$AD139&\")'!$a$2\")=\"R\",Season_Summary!V139,\"\"),\"\")","v":""},{"$f":"IFERROR(IF(INDIRECT(\"'game1 (\"&$AD139&\")'!$a$2\")=\"R\",Season_Summary!W139,\"\"),\"\")","v":""},{"$f":"IFERROR(IF(INDIRECT(\"'game1 (\"&$AD139&\")'!$a$2\")=\"R\",Season_Summary!X139,\"\"),\"\")","v":""},{"$f":"IFERROR(IF(INDIRECT(\"'game1 (\"&$AD139&\")'!$a$2\")=\"R\",Season_Summary!Y139,\"\"),\"\")","v":""},{"$f":"IFERROR(IF(INDIRECT(\"'game1 (\"&$AD139&\")'!$a$2\")=\"R\",Season_Summary!Z139,\"\"),\"\")","v":""},{"$f":"IFERROR(IF(INDIRECT(\"'game1 (\"&$AD139&\")'!$a$2\")=\"R\",Season_Summary!AA139,\"\"),\"\")","v":""},{"$f":"IFERROR(IF(INDIRECT(\"'game1 (\"&$AD139&\")'!$a$2\")=\"R\",Season_Summary!AB139,\"\"),\"\")","v":""},{"$f":"IFERROR(IF(INDIRECT(\"'game1 (\"&$AD139&\")'!$a$2\")=\"R\",Season_Summary!AC139,\"\"),\"\")","v":""},19]
[{"$f":"IFERROR(IF(INDIRECT(\"'game1 (\"&$AD140&\")'!$a$2\")=\"R\",Season_Summary!A140,\"\"),\"\")","v":""},{"$f":"IFERROR(IF(INDIRECT(\"'game1 (\"&$AD140&\")'!$a$2\")=\"R\",Season_Summary!B140,\"\"),\"\")","v":""},{"$f":"IFERROR(IF(INDIRECT(\"'game1 (\"&$AD140&\")'!$a$2\")=\"R\",Season_Summary!C140,\"\"),\"\")","v":""},{"$f":"IFERROR(IF(INDIRECT(\"'game1 (\"&$AD140&\")'!$a$2\")=\"R\",Season_Summary!D140,\"\"),\"\")","v":""},{"$f":"IFERROR(IF(INDIRECT(\"'game1 (\"&$AD140&\")'!$a$2\")=\"R\",Season_Summary!E140,\"\"),\"\")","v":""},{"$f":"IFERROR(IF(INDIRECT(\"'game1 (\"&$AD140&\")'!$a$2\")=\"R\",Season_Summary!F140,\"\"),\"\")","v":""},{"$f":"IFERROR(IF(INDIRECT(\"'game1 (\"&$AD140&\")'!$a$2\")=\"R\",Season_Summary!G140,\"\"),\"\")","v":""},{"$f":"IFERROR(IF(INDIRECT(\"'game1 (\"&$AD140&\")'!$a$2\")=\"R\",Season_Summary!H140,\"\"),\"\")","v":""},{"$f":"IFERROR(IF(INDIRECT(\"'game1 (\"&$AD140&\")'!$a$2\")=\"R\",Season_Summary!I140,\"\"),\"\")","v":""},{"$f":"IFERROR(IF(INDIRECT(\"'game1 (\"&$AD140&\")'!$a$2\")=\"R\",Season_Summary!J140,\"\"),\"\")","v":""},{"$f":"IFERROR(IF(INDIRECT(\"'game1 (\"&$AD140&\")'!$a$2\")=\"R\",Season_Summary!K140,\"\"),\"\")","v":""},{"$f":"IFERROR(IF(INDIRECT(\"'game1 (\"&$AD140&\")'!$a$2\")=\"R\",Season_Summary!L140,\"\"),\"\")","v":""},{"$f":"IFERROR(IF(INDIRECT(\"'game1 (\"&$AD140&\")'!$a$2\")=\"R\",Season_Summary!M140,\"\"),\"\")","v":""},{"$f":"IFERROR(IF(INDIRECT(\"'game1 (\"&$AD140&\")'!$a$2\")=\"R\",Season_Summary!N140,\"\"),\"\")","v":""},{"$f":"IFERROR(IF(INDIRECT(\"'game1 (\"&$AD140&\")'!$a$2\")=\"R\",Season_Summary!O140,\"\"),\"\")","v":""},{"$f":"IFERROR(IF(INDIRECT(\"'game1 (\"&$AD140&\")'!$a$2\")=\"R\",Season_Summary!P140,\"\"),\"\")","v":""},{"$f":"IFERROR(IF(INDIRECT(\"'game1 (\"&$AD140&\")'!$a$2\")=\"R\",Season_Summary!Q140,\"\"),\"\")","v":""},{"$f":"IFERROR(IF(INDIRECT(\"'game1 (\"&$AD140&\")'!$a$2\")=\"R\",Season_Summary!R140,\"\"),\"\")","v":""},{"$f":"IFERROR(IF(INDIRECT(\"'game1 (\"&$AD140&\")'!$a$2\")=\"R\",Season_Summary!S140,\"\"),\"\")","v":""},{"$f":"IFERROR(IF(INDIRECT(\"'game1 (\"&$AD140&\")'!$a$2\")=\"R\",Season_Summary!T140,\"\"),\"\")","v":""},{"$f":"IFERROR(IF(INDIRECT(\"'game1 (\"&$AD140&\")'!$a$2\")=\"R\",Season_Summary!U140,\"\"),\"\")","v":""},{"$f":"IFERROR(IF(INDIRECT(\"'game1 (\"&$AD140&\")'!$a$2\")=\"R\",Season_Summary!V140,\"\"),\"\")","v":""},{"$f":"IFERROR(IF(INDIRECT(\"'game1 (\"&$AD140&\")'!$a$2\")=\"R\",Season_Summary!W140,\"\"),\"\")","v":""},{"$f":"IFERROR(IF(INDIRECT(\"'game1 (\"&$AD140&\")'!$a$2\")=\"R\",Season_Summary!X140,\"\"),\"\")","v":""},{"$f":"IFERROR(IF(INDIRECT(\"'game1 (\"&$AD140&\")'!$a$2\")=\"R\",Season_Summary!Y140,\"\"),\"\")","v":""},{"$f":"IFERROR(IF(INDIRECT(\"'game1 (\"&$AD140&\")'!$a$2\")=\"R\",Season_Summary!Z140,\"\"),\"\")","v":""},{"$f":"IFERROR(IF(INDIRECT(\"'game1 (\"&$AD140&\")'!$a$2\")=\"R\",Season_Summary!AA140,\"\"),\"\")","v":""},{"$f":"IFERROR(IF(INDIRECT(\"'game1 (\"&$AD140&\")'!$a$2\")=\"R\",Season_Summary!AB140,\"\"),\"\")","v":""},{"$f":"IFERROR(IF(INDIRECT(\"'game1 (\"&$AD140&\")'!$a$2\")=\"R\",Season_Summary!AC140,\"\"),\"\")","v":""},19]
[{"$f":"IFERROR(IF(INDIRECT(\"'game1 (\"&$AD141&\")'!$a$2\")=\"R\",Season_Summary!A141,\"\"),\"\")","v":"Big Horn: 2/16/18 **"},{"$f":"IFERROR(IF(INDIRECT(\"'game1 (\"&$AD141&\")'!$a$2\")=\"R\",Season_Summary!B141,\"\"),\"\")","v":4},{"$f":"IFERROR(IF(INDIRECT(\"'game1 (\"&$AD141&\")'!$a$2\")=\"R\",Season_Summary!C141,\"\"),\"\")","v":13},{"$f":"IFERROR(IF(INDIRECT(\"'game1 (\"&$AD141&\")'!$a$2\")=\"R\",Season_Summary!D141,\"\"),\"\")","v":{"v":0.3076923076923077,"d":"31%"}},{"$f":"IFERROR(IF(INDIRECT(\"'game1 (\"&$AD141&\")'!$a$2\")=\"R\",Season_Summary!E141,\"\"),\"\")","v":15},{"$f":"IFERROR(IF(INDIRECT(\"'game1 (\"&$AD141&\")'!$a$2\")=\"R\",Season_Summary!F141,\"\"),\"\")","v":29},{"$f":"IFERROR(IF(INDIRECT(\"'game1 (\"&$AD141&\")'!$a$2\")=\"R\",Season_Summary!G141,\"\"),\"\")","v":{"v":0.5172413793103449,"d":"52%"}},{"$f":"IFERROR(IF(INDIRECT(\"'game1 (\"&$AD141&\")'!$a$2\")=\"R\",Season_Summary!H141,\"\"),\"\")","v":13},{"$f":"IFERROR(IF(INDIRECT(\"'game1 (\"&$AD141&\")'!$a$2\")=\"R\",Season_Summary!I141,\"\"),\"\")","v":18},{"$f":"IFERROR(IF(INDIRECT(\"'game1 (\"&$AD141&\")'!$a$2\")=\"R\",Season_Summary!J141,\"\"),\"\")","v":{"v":0.7222222222222222,"d":"72%"}},{"$f":"IFERROR(IF(INDIRECT(\"'game1 (\"&$AD141&\")'!$a$2\")=\"R\",Season_Summary!K141,\"\"),\"\")","v":{"v":0.4523809523809524,"d":"45%"}},{"$f":"IFERROR(IF(INDIRECT(\"'game1 (\"&$AD141&\")'!$a$2\")=\"R\",Season_Summary!L141,\"\"),\"\")","v":9},{"$f":"IFERROR(IF(INDIRECT(\"'game1 (\"&$AD141&\")'!$a$2\")=\"R\",Season_Summary!M141,\"\"),\"\")","v":23},{"$f":"IFERROR(IF(INDIRECT(\"'game1 (\"&$AD141&\")'!$a$2\")=\"R\",Season_Summary!N141,\"\"),\"\")","v":32},{"$f":"IFERROR(IF(INDIRECT(\"'game1 (\"&$AD141&\")'!$a$2\")=\"R\",Season_Summary!O141,\"\"),\"\")","v":13},{"$f":"IFERROR(IF(INDIRECT(\"'game1 (\"&$AD141&\")'!$a$2\")=\"R\",Season_Summary!P141,\"\"),\"\")","v":2},{"$f":"IFERROR(IF(INDIRECT(\"'game1 (\"&$AD141&\")'!$a$2\")=\"R\",Season_Summary!Q141,\"\"),\"\")","v":1},{"$f":"IFERROR(IF(INDIRECT(\"'game1 (\"&$AD141&\")'!$a$2\")=\"R\",Season_Summary!R141,\"\"),\"\")","v":14},{"$f":"IFERROR(IF(INDIRECT(\"'game1 (\"&$AD141&\")'!$a$2\")=\"R\",Season_Summary!S141,\"\"),\"\")","v":9},{"$f":"IFERROR(IF(INDIRECT(\"'game1 (\"&$AD141&\")'!$a$2\")=\"R\",Season_Summary!T141,\"\"),\"\")","v":"17 - C Louderback, 23"},{"$f":"IFERROR(IF(INDIRECT(\"'game1 (\"&$AD141&\")'!$a$2\")=\"R\",Season_Summary!U141,\"\"),\"\")","v":0},{"$f":"IFERROR(IF(INDIRECT(\"'game1 (\"&$AD141&\")'!$a$2\")=\"R\",Season_Summary!V141,\"\"),\"\")","v":0},{"$f":"IFERROR(IF(INDIRECT(\"'game1 (\"&$AD141&\")'!$a$2\")=\"R\",Season_Summary!W141,\"\"),\"\")","v":"8 - P Watt, 24: C Louderback, 23"},{"$f":"IFERROR(IF(INDIRECT(\"'game1 (\"&$AD141&\")'!$a$2\")=\"R\",Season_Summary!X141,\"\"),\"\")","v":0},{"$f":"IFERROR(IF(INDIRECT(\"'game1 (\"&$AD141&\")'!$a$2\")=\"R\",Season_Summary!Y141,\"\"),\"\")","v":0},{"$f":"IFERROR(IF(INDIRECT(\"'game1 (\"&$AD141&\")'!$a$2\")=\"R\",Season_Summary!Z141,\"\"),\"\")","v":"4 - D Barritt, 20: B Bruce, 22"},{"$f":"IFERROR(IF(INDIRECT(\"'game1 (\"&$AD141&\")'!$a$2\")=\"R\",Season_Summary!AA141,\"\"),\"\")","v":0},{"$f":"IFERROR(IF(INDIRECT(\"'game1 (\"&$AD141&\")'!$a$2\")=\"R\",Season_Summary!AB141,\"\"),\"\")","v":0},{"$f":"IFERROR(IF(INDIRECT(\"'game1 (\"&$AD141&\")'!$a$2\")=\"R\",Season_Summary!AC141,\"\"),\"\")","v":0},20]
[{"$f":"IFERROR(IF(INDIRECT(\"'game1 (\"&$AD142&\")'!$a$2\")=\"R\",Season_Summary!A142,\"\"),\"\")","v":"55 - 52 "},{"$f":"IFERROR(IF(INDIRECT(\"'game1 (\"&$AD142&\")'!$a$2\")=\"R\",Season_Summary!B142,\"\"),\"\")","v":4},{"$f":"IFERROR(IF(INDIRECT(\"'game1 (\"&$AD142&\")'!$a$2\")=\"R\",Season_Summary!C142,\"\"),\"\")","v":16},{"$f":"IFERROR(IF(INDIRECT(\"'game1 (\"&$AD142&\")'!$a$2\")=\"R\",Season_Summary!D142,\"\"),\"\")","v":{"v":0.25,"d":"25%"}},{"$f":"IFERROR(IF(INDIRECT(\"'game1 (\"&$AD142&\")'!$a$2\")=\"R\",Season_Summary!E142,\"\"),\"\")","v":18},{"$f":"IFERROR(IF(INDIRECT(\"'game1 (\"&$AD142&\")'!$a$2\")=\"R\",Season_Summary!F142,\"\"),\"\")","v":41},{"$f":"IFERROR(IF(INDIRECT(\"'game1 (\"&$AD142&\")'!$a$2\")=\"R\",Season_Summary!G142,\"\"),\"\")","v":{"v":0.43902439024390244,"d":"44%"}},{"$f":"IFERROR(IF(INDIRECT(\"'game1 (\"&$AD142&\")'!$a$2\")=\"R\",Season_Summary!H142,\"\"),\"\")","v":4},{"$f":"IFERROR(IF(INDIRECT(\"'game1 (\"&$AD142&\")'!$a$2\")=\"R\",Season_Summary!I142,\"\"),\"\")","v":6},{"$f":"IFERROR(IF(INDIRECT(\"'game1 (\"&$AD142&\")'!$a$2\")=\"R\",Season_Summary!J142,\"\"),\"\")","v":{"v":0.6666666666666666,"d":"67%"}},{"$f":"IFERROR(IF(INDIRECT(\"'game1 (\"&$AD142&\")'!$a$2\")=\"R\",Season_Summary!K142,\"\"),\"\")","v":{"v":0.38596491228070173,"d":"39%"}},{"$f":"IFERROR(IF(INDIRECT(\"'game1 (\"&$AD142&\")'!$a$2\")=\"R\",Season_Summary!L142,\"\"),\"\")","v":10},{"$f":"IFERROR(IF(INDIRECT(\"'game1 (\"&$AD142&\")'!$a$2\")=\"R\",Season_Summary!M142,\"\"),\"\")","v":17},{"$f":"IFERROR(IF(INDIRECT(\"'game1 (\"&$AD142&\")'!$a$2\")=\"R\",Season_Summary!N142,\"\"),\"\")","v":27},{"$f":"IFERROR(IF(INDIRECT(\"'game1 (\"&$AD142&\")'!$a$2\")=\"R\",Season_Summary!O142,\"\"),\"\")","v":2},{"$f":"IFERROR(IF(INDIRECT(\"'game1 (\"&$AD142&\")'!$a$2\")=\"R\",Season_Summary!P142,\"\"),\"\")","v":6},{"$f":"IFERROR(IF(INDIRECT(\"'game1 (\"&$AD142&\")'!$a$2\")=\"R\",Season_Summary!Q142,\"\"),\"\")","v":2},{"$f":"IFERROR(IF(INDIRECT(\"'game1 (\"&$AD142&\")'!$a$2\")=\"R\",Season_Summary!R142,\"\"),\"\")","v":9},{"$f":"IFERROR(IF(INDIRECT(\"'game1 (\"&$AD142&\")'!$a$2\")=\"R\",Season_Summary!S142,\"\"),\"\")","v":17},{"$f":"IFERROR(IF(INDIRECT(\"'game1 (\"&$AD142&\")'!$a$2\")=\"R\",Season_Summary!T142,\"\"),\"\")","v":0},{"$f":"IFERROR(IF(INDIRECT(\"'game1 (\"&$AD142&\")'!$a$2\")=\"R\",Season_Summary!U142,\"\"),\"\")","v":0},{"$f":"IFERROR(IF(INDIRECT(\"'game1 (\"&$AD142&\")'!$a$2\")=\"R\",Season_Summary!V142,\"\"),\"\")","v":0},{"$f":"IFERROR(IF(INDIRECT(\"'game1 (\"&$AD142&\")'!$a$2\")=\"R\",Season_Summary!W142,\"\"),\"\")","v":0},{"$f":"IFERROR(IF(INDIRECT(\"'game1 (\"&$AD142&\")'!$a$2\")=\"R\",Season_Summary!X142,\"\"),\"\")","v":0},{"$f":"IFERROR(IF(INDIRECT(\"'game1 (\"&$AD142&\")'!$a$2\")=\"R\",Season_Summary!Y142,\"\"),\"\")","v":0},{"$f":"IFERROR(IF(INDIRECT(\"'game1 (\"&$AD142&\")'!$a$2\")=\"R\",Season_Summary!Z142,\"\"),\"\")","v":0},{"$f":"IFERROR(IF(INDIRECT(\"'game1 (\"&$AD142&\")'!$a$2\")=\"R\",Season_Summary!AA142,\"\"),\"\")","v":0},{"$f":"IFERROR(IF(INDIRECT(\"'game1 (\"&$AD142&\")'!$a$2\")=\"R\",Season_Summary!AB142,\"\"),\"\")","v":0},{"$f":"IFERROR(IF(INDIRECT(\"'game1 (\"&$AD142&\")'!$a$2\")=\"R\",Season_Summary!AC142,\"\"),\"\")","v":0},20]
[{"$f":"IFERROR(IF(INDIRECT(\"'game1 (\"&$AD143&\")'!$a$2\")=\"R\",Season_Summary!A143,\"\"),\"\")","v":"Tongue River: 2/17/18 **"},{"$f":"IFERROR(IF(INDIRECT(\"'game1 (\"&$AD143&\")'!$a$2\")=\"R\",Season_Summary!B143,\"\"),\"\")","v":6},{"$f":"IFERROR(IF(INDIRECT(\"'game1 (\"&$AD143&\")'!$a$2\")=\"R\",Season_Summary!C143,\"\"),\"\")","v":24},{"$f":"IFERROR(IF(INDIRECT(\"'game1 (\"&$AD143&\")'!$a$2\")=\"R\",Season_Summary!D143,\"\"),\"\")","v":{"v":0.25,"d":"25%"}},{"$f":"IFERROR(IF(INDIRECT(\"'game1 (\"&$AD143&\")'!$a$2\")=\"R\",Season_Summary!E143,\"\"),\"\")","v":27},{"$f":"IFERROR(IF(INDIRECT(\"'game1 (\"&$AD143&\")'!$a$2\")=\"R\",Season_Summary!F143,\"\"),\"\")","v":45},{"$f":"IFERROR(IF(INDIRECT(\"'game1 (\"&$AD143&\")'!$a$2\")=\"R\",Season_Summary!G143,\"\"),\"\")","v":{"v":0.6,"d":"60%"}},{"$f":"IFERROR(IF(INDIRECT(\"'game1 (\"&$AD143&\")'!$a$2\")=\"R\",Season_Summary!H143,\"\"),\"\")","v":9},{"$f":"IFERROR(IF(INDIRECT(\"'game1 (\"&$AD143&\")'!$a$2\")=\"R\",Season_Summary!I143,\"\"),\"\")","v":16},{"$f":"IFERROR(IF(INDIRECT(\"'game1 (\"&$AD143&\")'!$a$2\")=\"R\",Season_Summary!J143,\"\"),\"\")","v":{"v":0.5625,"d":"56%"}},{"$f":"IFERROR(IF(INDIRECT(\"'game1 (\"&$AD143&\")'!$a$2\")=\"R\",Season_Summary!K143,\"\"),\"\")","v":{"v":0.4782608695652174,"d":"48%"}},{"$f":"IFERROR(IF(INDIRECT(\"'game1 (\"&$AD143&\")'!$a$2\")=\"R\",Season_Summary!L143,\"\"),\"\")","v":15},{"$f":"IFERROR(IF(INDIRECT(\"'game1 (\"&$AD143&\")'!$a$2\")=\"R\",Season_Summary!M143,\"\"),\"\")","v":30},{"$f":"IFERROR(IF(INDIRECT(\"'game1 (\"&$AD143&\")'!$a$2\")=\"R\",Season_Summary!N143,\"\"),\"\")","v":45},{"$f":"IFERROR(IF(INDIRECT(\"'game1 (\"&$AD143&\")'!$a$2\")=\"R\",Season_Summary!O143,\"\"),\"\")","v":24},{"$f":"IFERROR(IF(INDIRECT(\"'game1 (\"&$AD143&\")'!$a$2\")=\"R\",Season_Summary!P143,\"\"),\"\")","v":8},{"$f":"IFERROR(IF(INDIRECT(\"'game1 (\"&$AD143&\")'!$a$2\")=\"R\",Season_Summary!Q143,\"\"),\"\")","v":0},{"$f":"IFERROR(IF(INDIRECT(\"'game1 (\"&$AD143&\")'!$a$2\")=\"R\",Season_Summary!R143,\"\"),\"\")","v":7},{"$f":"IFERROR(IF(INDIRECT(\"'game1 (\"&$AD143&\")'!$a$2\")=\"R\",Season_Summary!S143,\"\"),\"\")","v":15},{"$f":"IFERROR(IF(INDIRECT(\"'game1 (\"&$AD143&\")'!$a$2\")=\"R\",Season_Summary!T143,\"\"),\"\")","v":"24 - P Watt, 24"},{"$f":"IFERROR(IF(INDIRECT(\"'game1 (\"&$AD143&\")'!$a$2\")=\"R\",Season_Summary!U143,\"\"),\"\")","v":0},{"$f":"IFERROR(IF(INDIRECT(\"'game1 (\"&$AD143&\")'!$a$2\")=\"R\",Season_Summary!V143,\"\"),\"\")","v":0},{"$f":"IFERROR(IF(INDIRECT(\"'game1 (\"&$AD143&\")'!$a$2\")=\"R\",Season_Summary!W143,\"\"),\"\")","v":"17 - P Watt, 24"},{"$f":"IFERROR(IF(INDIRECT(\"'game1 (\"&$AD143&\")'!$a$2\")=\"R\",Season_Summary!X143,\"\"),\"\")","v":0},{"$f":"IFERROR(IF(INDIRECT(\"'game1 (\"&$AD143&\")'!$a$2\")=\"R\",Season_Summary!Y143,\"\"),\"\")","v":0},{"$f":"IFERROR(IF(INDIRECT(\"'game1 (\"&$AD143&\")'!$a$2\")=\"R\",Season_Summary!Z143,\"\"),\"\")","v":"7 - D Butts, 14"},{"$f":"IFERROR(IF(INDIRECT(\"'game1 (\"&$AD143&\")'!$a$2\")=\"R\",Season_Summary!AA143,\"\"),\"\")","v":0},{"$f":"IFERROR(IF(INDIRECT(\"'game1 (\"&$AD143&\")'!$a$2\")=\"R\",Season_Summary!AB143,\"\"),\"\")","v":0},{"$f":"IFERROR(IF(INDIRECT(\"'game1 (\"&$AD143&\")'!$a$2\")=\"R\",Season_Summary!AC143,\"\"),\"\")","v":0},21]
[{"$f":"IFERROR(IF(INDIRECT(\"'game1 (\"&$AD144&\")'!$a$2\")=\"R\",Season_Summary!A144,\"\"),\"\")","v":"81 - 57 "},{"$f":"IFERROR(IF(INDIRECT(\"'game1 (\"&$AD144&\")'!$a$2\")=\"R\",Season_Summary!B144,\"\"),\"\")","v":7},{"$f":"IFERROR(IF(INDIRECT(\"'game1 (\"&$AD144&\")'!$a$2\")=\"R\",Season_Summary!C144,\"\"),\"\")","v":20},{"$f":"IFERROR(IF(INDIRECT(\"'game1 (\"&$AD144&\")'!$a$2\")=\"R\",Season_Summary!D144,\"\"),\"\")","v":{"v":0.35,"d":"35%"}},{"$f":"IFERROR(IF(INDIRECT(\"'game1 (\"&$AD144&\")'!$a$2\")=\"R\",Season_Summary!E144,\"\"),\"\")","v":13},{"$f":"IFERROR(IF(INDIRECT(\"'game1 (\"&$AD144&\")'!$a$2\")=\"R\",Season_Summary!F144,\"\"),\"\")","v":37},{"$f":"IFERROR(IF(INDIRECT(\"'game1 (\"&$AD144&\")'!$a$2\")=\"R\",Season_Summary!G144,\"\"),\"\")","v":{"v":0.35135135135135137,"d":"35%"}},{"$f":"IFERROR(IF(INDIRECT(\"'game1 (\"&$AD144&\")'!$a$2\")=\"R\",Season_Summary!H144,\"\"),\"\")","v":10},{"$f":"IFERROR(IF(INDIRECT(\"'game1 (\"&$AD144&\")'!$a$2\")=\"R\",Season_Summary!I144,\"\"),\"\")","v":17},{"$f":"IFERROR(IF(INDIRECT(\"'game1 (\"&$AD144&\")'!$a$2\")=\"R\",Season_Summary!J144,\"\"),\"\")","v":{"v":0.5882352941176471,"d":"59%"}},{"$f":"IFERROR(IF(INDIRECT(\"'game1 (\"&$AD144&\")'!$a$2\")=\"R\",Season_Summary!K144,\"\"),\"\")","v":{"v":0.3508771929824561,"d":"35%"}},{"$f":"IFERROR(IF(INDIRECT(\"'game1 (\"&$AD144&\")'!$a$2\")=\"R\",Season_Summary!L144,\"\"),\"\")","v":8},{"$f":"IFERROR(IF(INDIRECT(\"'game1 (\"&$AD144&\")'!$a$2\")=\"R\",Season_Summary!M144,\"\"),\"\")","v":24},{"$f":"IFERROR(IF(INDIRECT(\"'game1 (\"&$AD144&\")'!$a$2\")=\"R\",Season_Summary!N144,\"\"),\"\")","v":32},{"$f":"IFERROR(IF(INDIRECT(\"'game1 (\"&$AD144&\")'!$a$2\")=\"R\",Season_Summary!O144,\"\"),\"\")","v":13},{"$f":"IFERROR(IF(INDIRECT(\"'game1 (\"&$AD144&\")'!$a$2\")=\"R\",Season_Summary!P144,\"\"),\"\")","v":3},{"$f":"IFERROR(IF(INDIRECT(\"'game1 (\"&$AD144&\")'!$a$2\")=\"R\",Season_Summary!Q144,\"\"),\"\")","v":1},{"$f":"IFERROR(IF(INDIRECT(\"'game1 (\"&$AD144&\")'!$a$2\")=\"R\",Season_Summary!R144,\"\"),\"\")","v":12},{"$f":"IFERROR(IF(INDIRECT(\"'game1 (\"&$AD144&\")'!$a$2\")=\"R\",Season_Summary!S144,\"\"),\"\")","v":14},{"$f":"IFERROR(IF(INDIRECT(\"'game1 (\"&$AD144&\")'!$a$2\")=\"R\",Season_Summary!T144,\"\"),\"\")","v":0},{"$f":"IFERROR(IF(INDIRECT(\"'game1 (\"&$AD144&\")'!$a$2\")=\"R\",Season_Summary!U144,\"\"),\"\")","v":0},{"$f":"IFERROR(IF(INDIRECT(\"'game1 (\"&$AD144&\")'!$a$2\")=\"R\",Season_Summary!V144,\"\"),\"\")","v":0},{"$f":"IFERROR(IF(INDIRECT(\"'game1 (\"&$AD144&\")'!$a$2\")=\"R\",Season_Summary!W144,\"\"),\"\")","v":0},{"$f":"IFERROR(IF(INDIRECT(\"'game1 (\"&$AD144&\")'!$a$2\")=\"R\",Season_Summary!X144,\"\"),\"\")","v":0},{"$f":"IFERROR(IF(INDIRECT(\"'game1 (\"&$AD144&\")'!$a$2\")=\"R\",Season_Summary!Y144,\"\"),\"\")","v":0},{"$f":"IFERROR(IF(INDIRECT(\"'game1 (\"&$AD144&\")'!$a$2\")=\"R\",Season_Summary!Z144,\"\"),\"\")","v":0},{"$f":"IFERROR(IF(INDIRECT(\"'game1 (\"&$AD144&\")'!$a$2\")=\"R\",Season_Summary!AA144,\"\"),\"\")","v":0},{"$f":"IFERROR(IF(INDIRECT(\"'game1 (\"&$AD144&\")'!$a$2\")=\"R\",Season_Summary!AB144,\"\"),\"\")","v":0},{"$f":"IFERROR(IF(INDIRECT(\"'game1 (\"&$AD144&\")'!$a$2\")=\"R\",Season_Summary!AC144,\"\"),\"\")","v":0},21]
[{"$f":"IFERROR(IF(INDIRECT(\"'game1 (\"&$AD145&\")'!$a$2\")=\"R\",Season_Summary!A145,\"\"),\"\")","v":""},{"$f":"IFERROR(IF(INDIRECT(\"'game1 (\"&$AD145&\")'!$a$2\")=\"R\",Season_Summary!B145,\"\"),\"\")","v":""},{"$f":"IFERROR(IF(INDIRECT(\"'game1 (\"&$AD145&\")'!$a$2\")=\"R\",Season_Summary!C145,\"\"),\"\")","v":""},{"$f":"IFERROR(IF(INDIRECT(\"'game1 (\"&$AD145&\")'!$a$2\")=\"R\",Season_Summary!D145,\"\"),\"\")","v":""},{"$f":"IFERROR(IF(INDIRECT(\"'game1 (\"&$AD145&\")'!$a$2\")=\"R\",Season_Summary!E145,\"\"),\"\")","v":""},{"$f":"IFERROR(IF(INDIRECT(\"'game1 (\"&$AD145&\")'!$a$2\")=\"R\",Season_Summary!F145,\"\"),\"\")","v":""},{"$f":"IFERROR(IF(INDIRECT(\"'game1 (\"&$AD145&\")'!$a$2\")=\"R\",Season_Summary!G145,\"\"),\"\")","v":""},{"$f":"IFERROR(IF(INDIRECT(\"'game1 (\"&$AD145&\")'!$a$2\")=\"R\",Season_Summary!H145,\"\"),\"\")","v":""},{"$f":"IFERROR(IF(INDIRECT(\"'game1 (\"&$AD145&\")'!$a$2\")=\"R\",Season_Summary!I145,\"\"),\"\")","v":""},{"$f":"IFERROR(IF(INDIRECT(\"'game1 (\"&$AD145&\")'!$a$2\")=\"R\",Season_Summary!J145,\"\"),\"\")","v":""},{"$f":"IFERROR(IF(INDIRECT(\"'game1 (\"&$AD145&\")'!$a$2\")=\"R\",Season_Summary!K145,\"\"),\"\")","v":""},{"$f":"IFERROR(IF(INDIRECT(\"'game1 (\"&$AD145&\")'!$a$2\")=\"R\",Season_Summary!L145,\"\"),\"\")","v":""},{"$f":"IFERROR(IF(INDIRECT(\"'game1 (\"&$AD145&\")'!$a$2\")=\"R\",Season_Summary!M145,\"\"),\"\")","v":""},{"$f":"IFERROR(IF(INDIRECT(\"'game1 (\"&$AD145&\")'!$a$2\")=\"R\",Season_Summary!N145,\"\"),\"\")","v":""},{"$f":"IFERROR(IF(INDIRECT(\"'game1 (\"&$AD145&\")'!$a$2\")=\"R\",Season_Summary!O145,\"\"),\"\")","v":""},{"$f":"IFERROR(IF(INDIRECT(\"'game1 (\"&$AD145&\")'!$a$2\")=\"R\",Season_Summary!P145,\"\"),\"\")","v":""},{"$f":"IFERROR(IF(INDIRECT(\"'game1 (\"&$AD145&\")'!$a$2\")=\"R\",Season_Summary!Q145,\"\"),\"\")","v":""},{"$f":"IFERROR(IF(INDIRECT(\"'game1 (\"&$AD145&\")'!$a$2\")=\"R\",Season_Summary!R145,\"\"),\"\")","v":""},{"$f":"IFERROR(IF(INDIRECT(\"'game1 (\"&$AD145&\")'!$a$2\")=\"R\",Season_Summary!S145,\"\"),\"\")","v":""},{"$f":"IFERROR(IF(INDIRECT(\"'game1 (\"&$AD145&\")'!$a$2\")=\"R\",Season_Summary!T145,\"\"),\"\")","v":""},{"$f":"IFERROR(IF(INDIRECT(\"'game1 (\"&$AD145&\")'!$a$2\")=\"R\",Season_Summary!U145,\"\"),\"\")","v":""},{"$f":"IFERROR(IF(INDIRECT(\"'game1 (\"&$AD145&\")'!$a$2\")=\"R\",Season_Summary!V145,\"\"),\"\")","v":""},{"$f":"IFERROR(IF(INDIRECT(\"'game1 (\"&$AD145&\")'!$a$2\")=\"R\",Season_Summary!W145,\"\"),\"\")","v":""},{"$f":"IFERROR(IF(INDIRECT(\"'game1 (\"&$AD145&\")'!$a$2\")=\"R\",Season_Summary!X145,\"\"),\"\")","v":""},{"$f":"IFERROR(IF(INDIRECT(\"'game1 (\"&$AD145&\")'!$a$2\")=\"R\",Season_Summary!Y145,\"\"),\"\")","v":""},{"$f":"IFERROR(IF(INDIRECT(\"'game1 (\"&$AD145&\")'!$a$2\")=\"R\",Season_Summary!Z145,\"\"),\"\")","v":""},{"$f":"IFERROR(IF(INDIRECT(\"'game1 (\"&$AD145&\")'!$a$2\")=\"R\",Season_Summary!AA145,\"\"),\"\")","v":""},{"$f":"IFERROR(IF(INDIRECT(\"'game1 (\"&$AD145&\")'!$a$2\")=\"R\",Season_Summary!AB145,\"\"),\"\")","v":""},{"$f":"IFERROR(IF(INDIRECT(\"'game1 (\"&$AD145&\")'!$a$2\")=\"R\",Season_Summary!AC145,\"\"),\"\")","v":""},22]
[{"$f":"IFERROR(IF(INDIRECT(\"'game1 (\"&$AD146&\")'!$a$2\")=\"R\",Season_Summary!A146,\"\"),\"\")","v":""},{"$f":"IFERROR(IF(INDIRECT(\"'game1 (\"&$AD146&\")'!$a$2\")=\"R\",Season_Summary!B146,\"\"),\"\")","v":""},{"$f":"IFERROR(IF(INDIRECT(\"'game1 (\"&$AD146&\")'!$a$2\")=\"R\",Season_Summary!C146,\"\"),\"\")","v":""},{"$f":"IFERROR(IF(INDIRECT(\"'game1 (\"&$AD146&\")'!$a$2\")=\"R\",Season_Summary!D146,\"\"),\"\")","v":""},{"$f":"IFERROR(IF(INDIRECT(\"'game1 (\"&$AD146&\")'!$a$2\")=\"R\",Season_Summary!E146,\"\"),\"\")","v":""},{"$f":"IFERROR(IF(INDIRECT(\"'game1 (\"&$AD146&\")'!$a$2\")=\"R\",Season_Summary!F146,\"\"),\"\")","v":""},{"$f":"IFERROR(IF(INDIRECT(\"'game1 (\"&$AD146&\")'!$a$2\")=\"R\",Season_Summary!G146,\"\"),\"\")","v":""},{"$f":"IFERROR(IF(INDIRECT(\"'game1 (\"&$AD146&\")'!$a$2\")=\"R\",Season_Summary!H146,\"\"),\"\")","v":""},{"$f":"IFERROR(IF(INDIRECT(\"'game1 (\"&$AD146&\")'!$a$2\")=\"R\",Season_Summary!I146,\"\"),\"\")","v":""},{"$f":"IFERROR(IF(INDIRECT(\"'game1 (\"&$AD146&\")'!$a$2\")=\"R\",Season_Summary!J146,\"\"),\"\")","v":""},{"$f":"IFERROR(IF(INDIRECT(\"'game1 (\"&$AD146&\")'!$a$2\")=\"R\",Season_Summary!K146,\"\"),\"\")","v":""},{"$f":"IFERROR(IF(INDIRECT(\"'game1 (\"&$AD146&\")'!$a$2\")=\"R\",Season_Summary!L146,\"\"),\"\")","v":""},{"$f":"IFERROR(IF(INDIRECT(\"'game1 (\"&$AD146&\")'!$a$2\")=\"R\",Season_Summary!M146,\"\"),\"\")","v":""},{"$f":"IFERROR(IF(INDIRECT(\"'game1 (\"&$AD146&\")'!$a$2\")=\"R\",Season_Summary!N146,\"\"),\"\")","v":""},{"$f":"IFERROR(IF(INDIRECT(\"'game1 (\"&$AD146&\")'!$a$2\")=\"R\",Season_Summary!O146,\"\"),\"\")","v":""},{"$f":"IFERROR(IF(INDIRECT(\"'game1 (\"&$AD146&\")'!$a$2\")=\"R\",Season_Summary!P146,\"\"),\"\")","v":""},{"$f":"IFERROR(IF(INDIRECT(\"'game1 (\"&$AD146&\")'!$a$2\")=\"R\",Season_Summary!Q146,\"\"),\"\")","v":""},{"$f":"IFERROR(IF(INDIRECT(\"'game1 (\"&$AD146&\")'!$a$2\")=\"R\",Season_Summary!R146,\"\"),\"\")","v":""},{"$f":"IFERROR(IF(INDIRECT(\"'game1 (\"&$AD146&\")'!$a$2\")=\"R\",Season_Summary!S146,\"\"),\"\")","v":""},{"$f":"IFERROR(IF(INDIRECT(\"'game1 (\"&$AD146&\")'!$a$2\")=\"R\",Season_Summary!T146,\"\"),\"\")","v":""},{"$f":"IFERROR(IF(INDIRECT(\"'game1 (\"&$AD146&\")'!$a$2\")=\"R\",Season_Summary!U146,\"\"),\"\")","v":""},{"$f":"IFERROR(IF(INDIRECT(\"'game1 (\"&$AD146&\")'!$a$2\")=\"R\",Season_Summary!V146,\"\"),\"\")","v":""},{"$f":"IFERROR(IF(INDIRECT(\"'game1 (\"&$AD146&\")'!$a$2\")=\"R\",Season_Summary!W146,\"\"),\"\")","v":""},{"$f":"IFERROR(IF(INDIRECT(\"'game1 (\"&$AD146&\")'!$a$2\")=\"R\",Season_Summary!X146,\"\"),\"\")","v":""},{"$f":"IFERROR(IF(INDIRECT(\"'game1 (\"&$AD146&\")'!$a$2\")=\"R\",Season_Summary!Y146,\"\"),\"\")","v":""},{"$f":"IFERROR(IF(INDIRECT(\"'game1 (\"&$AD146&\")'!$a$2\")=\"R\",Season_Summary!Z146,\"\"),\"\")","v":""},{"$f":"IFERROR(IF(INDIRECT(\"'game1 (\"&$AD146&\")'!$a$2\")=\"R\",Season_Summary!AA146,\"\"),\"\")","v":""},{"$f":"IFERROR(IF(INDIRECT(\"'game1 (\"&$AD146&\")'!$a$2\")=\"R\",Season_Summary!AB146,\"\"),\"\")","v":""},{"$f":"IFERROR(IF(INDIRECT(\"'game1 (\"&$AD146&\")'!$a$2\")=\"R\",Season_Summary!AC146,\"\"),\"\")","v":""},22]
[{"$f":"IFERROR(IF(INDIRECT(\"'game1 (\"&$AD147&\")'!$a$2\")=\"R\",Season_Summary!A147,\"\"),\"\")","v":""},{"$f":"IFERROR(IF(INDIRECT(\"'game1 (\"&$AD147&\")'!$a$2\")=\"R\",Season_Summary!B147,\"\"),\"\")","v":""},{"$f":"IFERROR(IF(INDIRECT(\"'game1 (\"&$AD147&\")'!$a$2\")=\"R\",Season_Summary!C147,\"\"),\"\")","v":""},{"$f":"IFERROR(IF(INDIRECT(\"'game1 (\"&$AD147&\")'!$a$2\")=\"R\",Season_Summary!D147,\"\"),\"\")","v":""},{"$f":"IFERROR(IF(INDIRECT(\"'game1 (\"&$AD147&\")'!$a$2\")=\"R\",Season_Summary!E147,\"\"),\"\")","v":""},{"$f":"IFERROR(IF(INDIRECT(\"'game1 (\"&$AD147&\")'!$a$2\")=\"R\",Season_Summary!F147,\"\"),\"\")","v":""},{"$f":"IFERROR(IF(INDIRECT(\"'game1 (\"&$AD147&\")'!$a$2\")=\"R\",Season_Summary!G147,\"\"),\"\")","v":""},{"$f":"IFERROR(IF(INDIRECT(\"'game1 (\"&$AD147&\")'!$a$2\")=\"R\",Season_Summary!H147,\"\"),\"\")","v":""},{"$f":"IFERROR(IF(INDIRECT(\"'game1 (\"&$AD147&\")'!$a$2\")=\"R\",Season_Summary!I147,\"\"),\"\")","v":""},{"$f":"IFERROR(IF(INDIRECT(\"'game1 (\"&$AD147&\")'!$a$2\")=\"R\",Season_Summary!J147,\"\"),\"\")","v":""},{"$f":"IFERROR(IF(INDIRECT(\"'game1 (\"&$AD147&\")'!$a$2\")=\"R\",Season_Summary!K147,\"\"),\"\")","v":""},{"$f":"IFERROR(IF(INDIRECT(\"'game1 (\"&$AD147&\")'!$a$2\")=\"R\",Season_Summary!L147,\"\"),\"\")","v":""},{"$f":"IFERROR(IF(INDIRECT(\"'game1 (\"&$AD147&\")'!$a$2\")=\"R\",Season_Summary!M147,\"\"),\"\")","v":""},{"$f":"IFERROR(IF(INDIRECT(\"'game1 (\"&$AD147&\")'!$a$2\")=\"R\",Season_Summary!N147,\"\"),\"\")","v":""},{"$f":"IFERROR(IF(INDIRECT(\"'game1 (\"&$AD147&\")'!$a$2\")=\"R\",Season_Summary!O147,\"\"),\"\")","v":""},{"$f":"IFERROR(IF(INDIRECT(\"'game1 (\"&$AD147&\")'!$a$2\")=\"R\",Season_Summary!P147,\"\"),\"\")","v":""},{"$f":"IFERROR(IF(INDIRECT(\"'game1 (\"&$AD147&\")'!$a$2\")=\"R\",Season_Summary!Q147,\"\"),\"\")","v":""},{"$f":"IFERROR(IF(INDIRECT(\"'game1 (\"&$AD147&\")'!$a$2\")=\"R\",Season_Summary!R147,\"\"),\"\")","v":""},{"$f":"IFERROR(IF(INDIRECT(\"'game1 (\"&$AD147&\")'!$a$2\")=\"R\",Season_Summary!S147,\"\"),\"\")","v":""},{"$f":"IFERROR(IF(INDIRECT(\"'game1 (\"&$AD147&\")'!$a$2\")=\"R\",Season_Summary!T147,\"\"),\"\")","v":""},{"$f":"IFERROR(IF(INDIRECT(\"'game1 (\"&$AD147&\")'!$a$2\")=\"R\",Season_Summary!U147,\"\"),\"\")","v":""},{"$f":"IFERROR(IF(INDIRECT(\"'game1 (\"&$AD147&\")'!$a$2\")=\"R\",Season_Summary!V147,\"\"),\"\")","v":""},{"$f":"IFERROR(IF(INDIRECT(\"'game1 (\"&$AD147&\")'!$a$2\")=\"R\",Season_Summary!W147,\"\"),\"\")","v":""},{"$f":"IFERROR(IF(INDIRECT(\"'game1 (\"&$AD147&\")'!$a$2\")=\"R\",Season_Summary!X147,\"\"),\"\")","v":""},{"$f":"IFERROR(IF(INDIRECT(\"'game1 (\"&$AD147&\")'!$a$2\")=\"R\",Season_Summary!Y147,\"\"),\"\")","v":""},{"$f":"IFERROR(IF(INDIRECT(\"'game1 (\"&$AD147&\")'!$a$2\")=\"R\",Season_Summary!Z147,\"\"),\"\")","v":""},{"$f":"IFERROR(IF(INDIRECT(\"'game1 (\"&$AD147&\")'!$a$2\")=\"R\",Season_Summary!AA147,\"\"),\"\")","v":""},{"$f":"IFERROR(IF(INDIRECT(\"'game1 (\"&$AD147&\")'!$a$2\")=\"R\",Season_Summary!AB147,\"\"),\"\")","v":""},{"$f":"IFERROR(IF(INDIRECT(\"'game1 (\"&$AD147&\")'!$a$2\")=\"R\",Season_Summary!AC147,\"\"),\"\")","v":""},23]
[{"$f":"IFERROR(IF(INDIRECT(\"'game1 (\"&$AD148&\")'!$a$2\")=\"R\",Season_Summary!A148,\"\"),\"\")","v":""},{"$f":"IFERROR(IF(INDIRECT(\"'game1 (\"&$AD148&\")'!$a$2\")=\"R\",Season_Summary!B148,\"\"),\"\")","v":""},{"$f":"IFERROR(IF(INDIRECT(\"'game1 (\"&$AD148&\")'!$a$2\")=\"R\",Season_Summary!C148,\"\"),\"\")","v":""},{"$f":"IFERROR(IF(INDIRECT(\"'game1 (\"&$AD148&\")'!$a$2\")=\"R\",Season_Summary!D148,\"\"),\"\")","v":""},{"$f":"IFERROR(IF(INDIRECT(\"'game1 (\"&$AD148&\")'!$a$2\")=\"R\",Season_Summary!E148,\"\"),\"\")","v":""},{"$f":"IFERROR(IF(INDIRECT(\"'game1 (\"&$AD148&\")'!$a$2\")=\"R\",Season_Summary!F148,\"\"),\"\")","v":""},{"$f":"IFERROR(IF(INDIRECT(\"'game1 (\"&$AD148&\")'!$a$2\")=\"R\",Season_Summary!G148,\"\"),\"\")","v":""},{"$f":"IFERROR(IF(INDIRECT(\"'game1 (\"&$AD148&\")'!$a$2\")=\"R\",Season_Summary!H148,\"\"),\"\")","v":""},{"$f":"IFERROR(IF(INDIRECT(\"'game1 (\"&$AD148&\")'!$a$2\")=\"R\",Season_Summary!I148,\"\"),\"\")","v":""},{"$f":"IFERROR(IF(INDIRECT(\"'game1 (\"&$AD148&\")'!$a$2\")=\"R\",Season_Summary!J148,\"\"),\"\")","v":""},{"$f":"IFERROR(IF(INDIRECT(\"'game1 (\"&$AD148&\")'!$a$2\")=\"R\",Season_Summary!K148,\"\"),\"\")","v":""},{"$f":"IFERROR(IF(INDIRECT(\"'game1 (\"&$AD148&\")'!$a$2\")=\"R\",Season_Summary!L148,\"\"),\"\")","v":""},{"$f":"IFERROR(IF(INDIRECT(\"'game1 (\"&$AD148&\")'!$a$2\")=\"R\",Season_Summary!M148,\"\"),\"\")","v":""},{"$f":"IFERROR(IF(INDIRECT(\"'game1 (\"&$AD148&\")'!$a$2\")=\"R\",Season_Summary!N148,\"\"),\"\")","v":""},{"$f":"IFERROR(IF(INDIRECT(\"'game1 (\"&$AD148&\")'!$a$2\")=\"R\",Season_Summary!O148,\"\"),\"\")","v":""},{"$f":"IFERROR(IF(INDIRECT(\"'game1 (\"&$AD148&\")'!$a$2\")=\"R\",Season_Summary!P148,\"\"),\"\")","v":""},{"$f":"IFERROR(IF(INDIRECT(\"'game1 (\"&$AD148&\")'!$a$2\")=\"R\",Season_Summary!Q148,\"\"),\"\")","v":""},{"$f":"IFERROR(IF(INDIRECT(\"'game1 (\"&$AD148&\")'!$a$2\")=\"R\",Season_Summary!R148,\"\"),\"\")","v":""},{"$f":"IFERROR(IF(INDIRECT(\"'game1 (\"&$AD148&\")'!$a$2\")=\"R\",Season_Summary!S148,\"\"),\"\")","v":""},{"$f":"IFERROR(IF(INDIRECT(\"'game1 (\"&$AD148&\")'!$a$2\")=\"R\",Season_Summary!T148,\"\"),\"\")","v":""},{"$f":"IFERROR(IF(INDIRECT(\"'game1 (\"&$AD148&\")'!$a$2\")=\"R\",Season_Summary!U148,\"\"),\"\")","v":""},{"$f":"IFERROR(IF(INDIRECT(\"'game1 (\"&$AD148&\")'!$a$2\")=\"R\",Season_Summary!V148,\"\"),\"\")","v":""},{"$f":"IFERROR(IF(INDIRECT(\"'game1 (\"&$AD148&\")'!$a$2\")=\"R\",Season_Summary!W148,\"\"),\"\")","v":""},{"$f":"IFERROR(IF(INDIRECT(\"'game1 (\"&$AD148&\")'!$a$2\")=\"R\",Season_Summary!X148,\"\"),\"\")","v":""},{"$f":"IFERROR(IF(INDIRECT(\"'game1 (\"&$AD148&\")'!$a$2\")=\"R\",Season_Summary!Y148,\"\"),\"\")","v":""},{"$f":"IFERROR(IF(INDIRECT(\"'game1 (\"&$AD148&\")'!$a$2\")=\"R\",Season_Summary!Z148,\"\"),\"\")","v":""},{"$f":"IFERROR(IF(INDIRECT(\"'game1 (\"&$AD148&\")'!$a$2\")=\"R\",Season_Summary!AA148,\"\"),\"\")","v":""},{"$f":"IFERROR(IF(INDIRECT(\"'game1 (\"&$AD148&\")'!$a$2\")=\"R\",Season_Summary!AB148,\"\"),\"\")","v":""},{"$f":"IFERROR(IF(INDIRECT(\"'game1 (\"&$AD148&\")'!$a$2\")=\"R\",Season_Summary!AC148,\"\"),\"\")","v":""},23]
[{"$f":"IFERROR(IF(INDIRECT(\"'game1 (\"&$AD149&\")'!$a$2\")=\"R\",Season_Summary!A149,\"\"),\"\")","v":""},{"$f":"IFERROR(IF(INDIRECT(\"'game1 (\"&$AD149&\")'!$a$2\")=\"R\",Season_Summary!B149,\"\"),\"\")","v":""},{"$f":"IFERROR(IF(INDIRECT(\"'game1 (\"&$AD149&\")'!$a$2\")=\"R\",Season_Summary!C149,\"\"),\"\")","v":""},{"$f":"IFERROR(IF(INDIRECT(\"'game1 (\"&$AD149&\")'!$a$2\")=\"R\",Season_Summary!D149,\"\"),\"\")","v":""},{"$f":"IFERROR(IF(INDIRECT(\"'game1 (\"&$AD149&\")'!$a$2\")=\"R\",Season_Summary!E149,\"\"),\"\")","v":""},{"$f":"IFERROR(IF(INDIRECT(\"'game1 (\"&$AD149&\")'!$a$2\")=\"R\",Season_Summary!F149,\"\"),\"\")","v":""},{"$f":"IFERROR(IF(INDIRECT(\"'game1 (\"&$AD149&\")'!$a$2\")=\"R\",Season_Summary!G149,\"\"),\"\")","v":""},{"$f":"IFERROR(IF(INDIRECT(\"'game1 (\"&$AD149&\")'!$a$2\")=\"R\",Season_Summary!H149,\"\"),\"\")","v":""},{"$f":"IFERROR(IF(INDIRECT(\"'game1 (\"&$AD149&\")'!$a$2\")=\"R\",Season_Summary!I149,\"\"),\"\")","v":""},{"$f":"IFERROR(IF(INDIRECT(\"'game1 (\"&$AD149&\")'!$a$2\")=\"R\",Season_Summary!J149,\"\"),\"\")","v":""},{"$f":"IFERROR(IF(INDIRECT(\"'game1 (\"&$AD149&\")'!$a$2\")=\"R\",Season_Summary!K149,\"\"),\"\")","v":""},{"$f":"IFERROR(IF(INDIRECT(\"'game1 (\"&$AD149&\")'!$a$2\")=\"R\",Season_Summary!L149,\"\"),\"\")","v":""},{"$f":"IFERROR(IF(INDIRECT(\"'game1 (\"&$AD149&\")'!$a$2\")=\"R\",Season_Summary!M149,\"\"),\"\")","v":""},{"$f":"IFERROR(IF(INDIRECT(\"'game1 (\"&$AD149&\")'!$a$2\")=\"R\",Season_Summary!N149,\"\"),\"\")","v":""},{"$f":"IFERROR(IF(INDIRECT(\"'game1 (\"&$AD149&\")'!$a$2\")=\"R\",Season_Summary!O149,\"\"),\"\")","v":""},{"$f":"IFERROR(IF(INDIRECT(\"'game1 (\"&$AD149&\")'!$a$2\")=\"R\",Season_Summary!P149,\"\"),\"\")","v":""},{"$f":"IFERROR(IF(INDIRECT(\"'game1 (\"&$AD149&\")'!$a$2\")=\"R\",Season_Summary!Q149,\"\"),\"\")","v":""},{"$f":"IFERROR(IF(INDIRECT(\"'game1 (\"&$AD149&\")'!$a$2\")=\"R\",Season_Summary!R149,\"\"),\"\")","v":""},{"$f":"IFERROR(IF(INDIRECT(\"'game1 (\"&$AD149&\")'!$a$2\")=\"R\",Season_Summary!S149,\"\"),\"\")","v":""},{"$f":"IFERROR(IF(INDIRECT(\"'game1 (\"&$AD149&\")'!$a$2\")=\"R\",Season_Summary!T149,\"\"),\"\")","v":""},{"$f":"IFERROR(IF(INDIRECT(\"'game1 (\"&$AD149&\")'!$a$2\")=\"R\",Season_Summary!U149,\"\"),\"\")","v":""},{"$f":"IFERROR(IF(INDIRECT(\"'game1 (\"&$AD149&\")'!$a$2\")=\"R\",Season_Summary!V149,\"\"),\"\")","v":""},{"$f":"IFERROR(IF(INDIRECT(\"'game1 (\"&$AD149&\")'!$a$2\")=\"R\",Season_Summary!W149,\"\"),\"\")","v":""},{"$f":"IFERROR(IF(INDIRECT(\"'game1 (\"&$AD149&\")'!$a$2\")=\"R\",Season_Summary!X149,\"\"),\"\")","v":""},{"$f":"IFERROR(IF(INDIRECT(\"'game1 (\"&$AD149&\")'!$a$2\")=\"R\",Season_Summary!Y149,\"\"),\"\")","v":""},{"$f":"IFERROR(IF(INDIRECT(\"'game1 (\"&$AD149&\")'!$a$2\")=\"R\",Season_Summary!Z149,\"\"),\"\")","v":""},{"$f":"IFERROR(IF(INDIRECT(\"'game1 (\"&$AD149&\")'!$a$2\")=\"R\",Season_Summary!AA149,\"\"),\"\")","v":""},{"$f":"IFERROR(IF(INDIRECT(\"'game1 (\"&$AD149&\")'!$a$2\")=\"R\",Season_Summary!AB149,\"\"),\"\")","v":""},{"$f":"IFERROR(IF(INDIRECT(\"'game1 (\"&$AD149&\")'!$a$2\")=\"R\",Season_Summary!AC149,\"\"),\"\")","v":""},24]
[{"$f":"IFERROR(IF(INDIRECT(\"'game1 (\"&$AD150&\")'!$a$2\")=\"R\",Season_Summary!A150,\"\"),\"\")","v":""},{"$f":"IFERROR(IF(INDIRECT(\"'game1 (\"&$AD150&\")'!$a$2\")=\"R\",Season_Summary!B150,\"\"),\"\")","v":""},{"$f":"IFERROR(IF(INDIRECT(\"'game1 (\"&$AD150&\")'!$a$2\")=\"R\",Season_Summary!C150,\"\"),\"\")","v":""},{"$f":"IFERROR(IF(INDIRECT(\"'game1 (\"&$AD150&\")'!$a$2\")=\"R\",Season_Summary!D150,\"\"),\"\")","v":""},{"$f":"IFERROR(IF(INDIRECT(\"'game1 (\"&$AD150&\")'!$a$2\")=\"R\",Season_Summary!E150,\"\"),\"\")","v":""},{"$f":"IFERROR(IF(INDIRECT(\"'game1 (\"&$AD150&\")'!$a$2\")=\"R\",Season_Summary!F150,\"\"),\"\")","v":""},{"$f":"IFERROR(IF(INDIRECT(\"'game1 (\"&$AD150&\")'!$a$2\")=\"R\",Season_Summary!G150,\"\"),\"\")","v":""},{"$f":"IFERROR(IF(INDIRECT(\"'game1 (\"&$AD150&\")'!$a$2\")=\"R\",Season_Summary!H150,\"\"),\"\")","v":""},{"$f":"IFERROR(IF(INDIRECT(\"'game1 (\"&$AD150&\")'!$a$2\")=\"R\",Season_Summary!I150,\"\"),\"\")","v":""},{"$f":"IFERROR(IF(INDIRECT(\"'game1 (\"&$AD150&\")'!$a$2\")=\"R\",Season_Summary!J150,\"\"),\"\")","v":""},{"$f":"IFERROR(IF(INDIRECT(\"'game1 (\"&$AD150&\")'!$a$2\")=\"R\",Season_Summary!K150,\"\"),\"\")","v":""},{"$f":"IFERROR(IF(INDIRECT(\"'game1 (\"&$AD150&\")'!$a$2\")=\"R\",Season_Summary!L150,\"\"),\"\")","v":""},{"$f":"IFERROR(IF(INDIRECT(\"'game1 (\"&$AD150&\")'!$a$2\")=\"R\",Season_Summary!M150,\"\"),\"\")","v":""},{"$f":"IFERROR(IF(INDIRECT(\"'game1 (\"&$AD150&\")'!$a$2\")=\"R\",Season_Summary!N150,\"\"),\"\")","v":""},{"$f":"IFERROR(IF(INDIRECT(\"'game1 (\"&$AD150&\")'!$a$2\")=\"R\",Season_Summary!O150,\"\"),\"\")","v":""},{"$f":"IFERROR(IF(INDIRECT(\"'game1 (\"&$AD150&\")'!$a$2\")=\"R\",Season_Summary!P150,\"\"),\"\")","v":""},{"$f":"IFERROR(IF(INDIRECT(\"'game1 (\"&$AD150&\")'!$a$2\")=\"R\",Season_Summary!Q150,\"\"),\"\")","v":""},{"$f":"IFERROR(IF(INDIRECT(\"'game1 (\"&$AD150&\")'!$a$2\")=\"R\",Season_Summary!R150,\"\"),\"\")","v":""},{"$f":"IFERROR(IF(INDIRECT(\"'game1 (\"&$AD150&\")'!$a$2\")=\"R\",Season_Summary!S150,\"\"),\"\")","v":""},{"$f":"IFERROR(IF(INDIRECT(\"'game1 (\"&$AD150&\")'!$a$2\")=\"R\",Season_Summary!T150,\"\"),\"\")","v":""},{"$f":"IFERROR(IF(INDIRECT(\"'game1 (\"&$AD150&\")'!$a$2\")=\"R\",Season_Summary!U150,\"\"),\"\")","v":""},{"$f":"IFERROR(IF(INDIRECT(\"'game1 (\"&$AD150&\")'!$a$2\")=\"R\",Season_Summary!V150,\"\"),\"\")","v":""},{"$f":"IFERROR(IF(INDIRECT(\"'game1 (\"&$AD150&\")'!$a$2\")=\"R\",Season_Summary!W150,\"\"),\"\")","v":""},{"$f":"IFERROR(IF(INDIRECT(\"'game1 (\"&$AD150&\")'!$a$2\")=\"R\",Season_Summary!X150,\"\"),\"\")","v":""},{"$f":"IFERROR(IF(INDIRECT(\"'game1 (\"&$AD150&\")'!$a$2\")=\"R\",Season_Summary!Y150,\"\"),\"\")","v":""},{"$f":"IFERROR(IF(INDIRECT(\"'game1 (\"&$AD150&\")'!$a$2\")=\"R\",Season_Summary!Z150,\"\"),\"\")","v":""},{"$f":"IFERROR(IF(INDIRECT(\"'game1 (\"&$AD150&\")'!$a$2\")=\"R\",Season_Summary!AA150,\"\"),\"\")","v":""},{"$f":"IFERROR(IF(INDIRECT(\"'game1 (\"&$AD150&\")'!$a$2\")=\"R\",Season_Summary!AB150,\"\"),\"\")","v":""},{"$f":"IFERROR(IF(INDIRECT(\"'game1 (\"&$AD150&\")'!$a$2\")=\"R\",Season_Summary!AC150,\"\"),\"\")","v":""},24]
[{"$f":"IFERROR(IF(INDIRECT(\"'game1 (\"&$AD151&\")'!$a$2\")=\"R\",Season_Summary!A151,\"\"),\"\")","v":""},{"$f":"IFERROR(IF(INDIRECT(\"'game1 (\"&$AD151&\")'!$a$2\")=\"R\",Season_Summary!B151,\"\"),\"\")","v":""},{"$f":"IFERROR(IF(INDIRECT(\"'game1 (\"&$AD151&\")'!$a$2\")=\"R\",Season_Summary!C151,\"\"),\"\")","v":""},{"$f":"IFERROR(IF(INDIRECT(\"'game1 (\"&$AD151&\")'!$a$2\")=\"R\",Season_Summary!D151,\"\"),\"\")","v":""},{"$f":"IFERROR(IF(INDIRECT(\"'game1 (\"&$AD151&\")'!$a$2\")=\"R\",Season_Summary!E151,\"\"),\"\")","v":""},{"$f":"IFERROR(IF(INDIRECT(\"'game1 (\"&$AD151&\")'!$a$2\")=\"R\",Season_Summary!F151,\"\"),\"\")","v":""},{"$f":"IFERROR(IF(INDIRECT(\"'game1 (\"&$AD151&\")'!$a$2\")=\"R\",Season_Summary!G151,\"\"),\"\")","v":""},{"$f":"IFERROR(IF(INDIRECT(\"'game1 (\"&$AD151&\")'!$a$2\")=\"R\",Season_Summary!H151,\"\"),\"\")","v":""},{"$f":"IFERROR(IF(INDIRECT(\"'game1 (\"&$AD151&\")'!$a$2\")=\"R\",Season_Summary!I151,\"\"),\"\")","v":""},{"$f":"IFERROR(IF(INDIRECT(\"'game1 (\"&$AD151&\")'!$a$2\")=\"R\",Season_Summary!J151,\"\"),\"\")","v":""},{"$f":"IFERROR(IF(INDIRECT(\"'game1 (\"&$AD151&\")'!$a$2\")=\"R\",Season_Summary!K151,\"\"),\"\")","v":""},{"$f":"IFERROR(IF(INDIRECT(\"'game1 (\"&$AD151&\")'!$a$2\")=\"R\",Season_Summary!L151,\"\"),\"\")","v":""},{"$f":"IFERROR(IF(INDIRECT(\"'game1 (\"&$AD151&\")'!$a$2\")=\"R\",Season_Summary!M151,\"\"),\"\")","v":""},{"$f":"IFERROR(IF(INDIRECT(\"'game1 (\"&$AD151&\")'!$a$2\")=\"R\",Season_Summary!N151,\"\"),\"\")","v":""},{"$f":"IFERROR(IF(INDIRECT(\"'game1 (\"&$AD151&\")'!$a$2\")=\"R\",Season_Summary!O151,\"\"),\"\")","v":""},{"$f":"IFERROR(IF(INDIRECT(\"'game1 (\"&$AD151&\")'!$a$2\")=\"R\",Season_Summary!P151,\"\"),\"\")","v":""},{"$f":"IFERROR(IF(INDIRECT(\"'game1 (\"&$AD151&\")'!$a$2\")=\"R\",Season_Summary!Q151,\"\"),\"\")","v":""},{"$f":"IFERROR(IF(INDIRECT(\"'game1 (\"&$AD151&\")'!$a$2\")=\"R\",Season_Summary!R151,\"\"),\"\")","v":""},{"$f":"IFERROR(IF(INDIRECT(\"'game1 (\"&$AD151&\")'!$a$2\")=\"R\",Season_Summary!S151,\"\"),\"\")","v":""},{"$f":"IFERROR(IF(INDIRECT(\"'game1 (\"&$AD151&\")'!$a$2\")=\"R\",Season_Summary!T151,\"\"),\"\")","v":""},{"$f":"IFERROR(IF(INDIRECT(\"'game1 (\"&$AD151&\")'!$a$2\")=\"R\",Season_Summary!U151,\"\"),\"\")","v":""},{"$f":"IFERROR(IF(INDIRECT(\"'game1 (\"&$AD151&\")'!$a$2\")=\"R\",Season_Summary!V151,\"\"),\"\")","v":""},{"$f":"IFERROR(IF(INDIRECT(\"'game1 (\"&$AD151&\")'!$a$2\")=\"R\",Season_Summary!W151,\"\"),\"\")","v":""},{"$f":"IFERROR(IF(INDIRECT(\"'game1 (\"&$AD151&\")'!$a$2\")=\"R\",Season_Summary!X151,\"\"),\"\")","v":""},{"$f":"IFERROR(IF(INDIRECT(\"'game1 (\"&$AD151&\")'!$a$2\")=\"R\",Season_Summary!Y151,\"\"),\"\")","v":""},{"$f":"IFERROR(IF(INDIRECT(\"'game1 (\"&$AD151&\")'!$a$2\")=\"R\",Season_Summary!Z151,\"\"),\"\")","v":""},{"$f":"IFERROR(IF(INDIRECT(\"'game1 (\"&$AD151&\")'!$a$2\")=\"R\",Season_Summary!AA151,\"\"),\"\")","v":""},{"$f":"IFERROR(IF(INDIRECT(\"'game1 (\"&$AD151&\")'!$a$2\")=\"R\",Season_Summary!AB151,\"\"),\"\")","v":""},{"$f":"IFERROR(IF(INDIRECT(\"'game1 (\"&$AD151&\")'!$a$2\")=\"R\",Season_Summary!AC151,\"\"),\"\")","v":""},25]
[{"$f":"IFERROR(IF(INDIRECT(\"'game1 (\"&$AD152&\")'!$a$2\")=\"R\",Season_Summary!A152,\"\"),\"\")","v":""},{"$f":"IFERROR(IF(INDIRECT(\"'game1 (\"&$AD152&\")'!$a$2\")=\"R\",Season_Summary!B152,\"\"),\"\")","v":""},{"$f":"IFERROR(IF(INDIRECT(\"'game1 (\"&$AD152&\")'!$a$2\")=\"R\",Season_Summary!C152,\"\"),\"\")","v":""},{"$f":"IFERROR(IF(INDIRECT(\"'game1 (\"&$AD152&\")'!$a$2\")=\"R\",Season_Summary!D152,\"\"),\"\")","v":""},{"$f":"IFERROR(IF(INDIRECT(\"'game1 (\"&$AD152&\")'!$a$2\")=\"R\",Season_Summary!E152,\"\"),\"\")","v":""},{"$f":"IFERROR(IF(INDIRECT(\"'game1 (\"&$AD152&\")'!$a$2\")=\"R\",Season_Summary!F152,\"\"),\"\")","v":""},{"$f":"IFERROR(IF(INDIRECT(\"'game1 (\"&$AD152&\")'!$a$2\")=\"R\",Season_Summary!G152,\"\"),\"\")","v":""},{"$f":"IFERROR(IF(INDIRECT(\"'game1 (\"&$AD152&\")'!$a$2\")=\"R\",Season_Summary!H152,\"\"),\"\")","v":""},{"$f":"IFERROR(IF(INDIRECT(\"'game1 (\"&$AD152&\")'!$a$2\")=\"R\",Season_Summary!I152,\"\"),\"\")","v":""},{"$f":"IFERROR(IF(INDIRECT(\"'game1 (\"&$AD152&\")'!$a$2\")=\"R\",Season_Summary!J152,\"\"),\"\")","v":""},{"$f":"IFERROR(IF(INDIRECT(\"'game1 (\"&$AD152&\")'!$a$2\")=\"R\",Season_Summary!K152,\"\"),\"\")","v":""},{"$f":"IFERROR(IF(INDIRECT(\"'game1 (\"&$AD152&\")'!$a$2\")=\"R\",Season_Summary!L152,\"\"),\"\")","v":""},{"$f":"IFERROR(IF(INDIRECT(\"'game1 (\"&$AD152&\")'!$a$2\")=\"R\",Season_Summary!M152,\"\"),\"\")","v":""},{"$f":"IFERROR(IF(INDIRECT(\"'game1 (\"&$AD152&\")'!$a$2\")=\"R\",Season_Summary!N152,\"\"),\"\")","v":""},{"$f":"IFERROR(IF(INDIRECT(\"'game1 (\"&$AD152&\")'!$a$2\")=\"R\",Season_Summary!O152,\"\"),\"\")","v":""},{"$f":"IFERROR(IF(INDIRECT(\"'game1 (\"&$AD152&\")'!$a$2\")=\"R\",Season_Summary!P152,\"\"),\"\")","v":""},{"$f":"IFERROR(IF(INDIRECT(\"'game1 (\"&$AD152&\")'!$a$2\")=\"R\",Season_Summary!Q152,\"\"),\"\")","v":""},{"$f":"IFERROR(IF(INDIRECT(\"'game1 (\"&$AD152&\")'!$a$2\")=\"R\",Season_Summary!R152,\"\"),\"\")","v":""},{"$f":"IFERROR(IF(INDIRECT(\"'game1 (\"&$AD152&\")'!$a$2\")=\"R\",Season_Summary!S152,\"\"),\"\")","v":""},{"$f":"IFERROR(IF(INDIRECT(\"'game1 (\"&$AD152&\")'!$a$2\")=\"R\",Season_Summary!T152,\"\"),\"\")","v":""},{"$f":"IFERROR(IF(INDIRECT(\"'game1 (\"&$AD152&\")'!$a$2\")=\"R\",Season_Summary!U152,\"\"),\"\")","v":""},{"$f":"IFERROR(IF(INDIRECT(\"'game1 (\"&$AD152&\")'!$a$2\")=\"R\",Season_Summary!V152,\"\"),\"\")","v":""},{"$f":"IFERROR(IF(INDIRECT(\"'game1 (\"&$AD152&\")'!$a$2\")=\"R\",Season_Summary!W152,\"\"),\"\")","v":""},{"$f":"IFERROR(IF(INDIRECT(\"'game1 (\"&$AD152&\")'!$a$2\")=\"R\",Season_Summary!X152,\"\"),\"\")","v":""},{"$f":"IFERROR(IF(INDIRECT(\"'game1 (\"&$AD152&\")'!$a$2\")=\"R\",Season_Summary!Y152,\"\"),\"\")","v":""},{"$f":"IFERROR(IF(INDIRECT(\"'game1 (\"&$AD152&\")'!$a$2\")=\"R\",Season_Summary!Z152,\"\"),\"\")","v":""},{"$f":"IFERROR(IF(INDIRECT(\"'game1 (\"&$AD152&\")'!$a$2\")=\"R\",Season_Summary!AA152,\"\"),\"\")","v":""},{"$f":"IFERROR(IF(INDIRECT(\"'game1 (\"&$AD152&\")'!$a$2\")=\"R\",Season_Summary!AB152,\"\"),\"\")","v":""},{"$f":"IFERROR(IF(INDIRECT(\"'game1 (\"&$AD152&\")'!$a$2\")=\"R\",Season_Summary!AC152,\"\"),\"\")","v":""},25]
[{"$f":"IFERROR(IF(INDIRECT(\"'game1 (\"&$AD153&\")'!$a$2\")=\"R\",Season_Summary!A153,\"\"),\"\")","v":""},{"$f":"IFERROR(IF(INDIRECT(\"'game1 (\"&$AD153&\")'!$a$2\")=\"R\",Season_Summary!B153,\"\"),\"\")","v":""},{"$f":"IFERROR(IF(INDIRECT(\"'game1 (\"&$AD153&\")'!$a$2\")=\"R\",Season_Summary!C153,\"\"),\"\")","v":""},{"$f":"IFERROR(IF(INDIRECT(\"'game1 (\"&$AD153&\")'!$a$2\")=\"R\",Season_Summary!D153,\"\"),\"\")","v":""},{"$f":"IFERROR(IF(INDIRECT(\"'game1 (\"&$AD153&\")'!$a$2\")=\"R\",Season_Summary!E153,\"\"),\"\")","v":""},{"$f":"IFERROR(IF(INDIRECT(\"'game1 (\"&$AD153&\")'!$a$2\")=\"R\",Season_Summary!F153,\"\"),\"\")","v":""},{"$f":"IFERROR(IF(INDIRECT(\"'game1 (\"&$AD153&\")'!$a$2\")=\"R\",Season_Summary!G153,\"\"),\"\")","v":""},{"$f":"IFERROR(IF(INDIRECT(\"'game1 (\"&$AD153&\")'!$a$2\")=\"R\",Season_Summary!H153,\"\"),\"\")","v":""},{"$f":"IFERROR(IF(INDIRECT(\"'game1 (\"&$AD153&\")'!$a$2\")=\"R\",Season_Summary!I153,\"\"),\"\")","v":""},{"$f":"IFERROR(IF(INDIRECT(\"'game1 (\"&$AD153&\")'!$a$2\")=\"R\",Season_Summary!J153,\"\"),\"\")","v":""},{"$f":"IFERROR(IF(INDIRECT(\"'game1 (\"&$AD153&\")'!$a$2\")=\"R\",Season_Summary!K153,\"\"),\"\")","v":""},{"$f":"IFERROR(IF(INDIRECT(\"'game1 (\"&$AD153&\")'!$a$2\")=\"R\",Season_Summary!L153,\"\"),\"\")","v":""},{"$f":"IFERROR(IF(INDIRECT(\"'game1 (\"&$AD153&\")'!$a$2\")=\"R\",Season_Summary!M153,\"\"),\"\")","v":""},{"$f":"IFERROR(IF(INDIRECT(\"'game1 (\"&$AD153&\")'!$a$2\")=\"R\",Season_Summary!N153,\"\"),\"\")","v":""},{"$f":"IFERROR(IF(INDIRECT(\"'game1 (\"&$AD153&\")'!$a$2\")=\"R\",Season_Summary!O153,\"\"),\"\")","v":""},{"$f":"IFERROR(IF(INDIRECT(\"'game1 (\"&$AD153&\")'!$a$2\")=\"R\",Season_Summary!P153,\"\"),\"\")","v":""},{"$f":"IFERROR(IF(INDIRECT(\"'game1 (\"&$AD153&\")'!$a$2\")=\"R\",Season_Summary!Q153,\"\"),\"\")","v":""},{"$f":"IFERROR(IF(INDIRECT(\"'game1 (\"&$AD153&\")'!$a$2\")=\"R\",Season_Summary!R153,\"\"),\"\")","v":""},{"$f":"IFERROR(IF(INDIRECT(\"'game1 (\"&$AD153&\")'!$a$2\")=\"R\",Season_Summary!S153,\"\"),\"\")","v":""},{"$f":"IFERROR(IF(INDIRECT(\"'game1 (\"&$AD153&\")'!$a$2\")=\"R\",Season_Summary!T153,\"\"),\"\")","v":""},{"$f":"IFERROR(IF(INDIRECT(\"'game1 (\"&$AD153&\")'!$a$2\")=\"R\",Season_Summary!U153,\"\"),\"\")","v":""},{"$f":"IFERROR(IF(INDIRECT(\"'game1 (\"&$AD153&\")'!$a$2\")=\"R\",Season_Summary!V153,\"\"),\"\")","v":""},{"$f":"IFERROR(IF(INDIRECT(\"'game1 (\"&$AD153&\")'!$a$2\")=\"R\",Season_Summary!W153,\"\"),\"\")","v":""},{"$f":"IFERROR(IF(INDIRECT(\"'game1 (\"&$AD153&\")'!$a$2\")=\"R\",Season_Summary!X153,\"\"),\"\")","v":""},{"$f":"IFERROR(IF(INDIRECT(\"'game1 (\"&$AD153&\")'!$a$2\")=\"R\",Season_Summary!Y153,\"\"),\"\")","v":""},{"$f":"IFERROR(IF(INDIRECT(\"'game1 (\"&$AD153&\")'!$a$2\")=\"R\",Season_Summary!Z153,\"\"),\"\")","v":""},{"$f":"IFERROR(IF(INDIRECT(\"'game1 (\"&$AD153&\")'!$a$2\")=\"R\",Season_Summary!AA153,\"\"),\"\")","v":""},{"$f":"IFERROR(IF(INDIRECT(\"'game1 (\"&$AD153&\")'!$a$2\")=\"R\",Season_Summary!AB153,\"\"),\"\")","v":""},{"$f":"IFERROR(IF(INDIRECT(\"'game1 (\"&$AD153&\")'!$a$2\")=\"R\",Season_Summary!AC153,\"\"),\"\")","v":""},26]
[{"$f":"IFERROR(IF(INDIRECT(\"'game1 (\"&$AD154&\")'!$a$2\")=\"R\",Season_Summary!A154,\"\"),\"\")","v":""},{"$f":"IFERROR(IF(INDIRECT(\"'game1 (\"&$AD154&\")'!$a$2\")=\"R\",Season_Summary!B154,\"\"),\"\")","v":""},{"$f":"IFERROR(IF(INDIRECT(\"'game1 (\"&$AD154&\")'!$a$2\")=\"R\",Season_Summary!C154,\"\"),\"\")","v":""},{"$f":"IFERROR(IF(INDIRECT(\"'game1 (\"&$AD154&\")'!$a$2\")=\"R\",Season_Summary!D154,\"\"),\"\")","v":""},{"$f":"IFERROR(IF(INDIRECT(\"'game1 (\"&$AD154&\")'!$a$2\")=\"R\",Season_Summary!E154,\"\"),\"\")","v":""},{"$f":"IFERROR(IF(INDIRECT(\"'game1 (\"&$AD154&\")'!$a$2\")=\"R\",Season_Summary!F154,\"\"),\"\")","v":""},{"$f":"IFERROR(IF(INDIRECT(\"'game1 (\"&$AD154&\")'!$a$2\")=\"R\",Season_Summary!G154,\"\"),\"\")","v":""},{"$f":"IFERROR(IF(INDIRECT(\"'game1 (\"&$AD154&\")'!$a$2\")=\"R\",Season_Summary!H154,\"\"),\"\")","v":""},{"$f":"IFERROR(IF(INDIRECT(\"'game1 (\"&$AD154&\")'!$a$2\")=\"R\",Season_Summary!I154,\"\"),\"\")","v":""},{"$f":"IFERROR(IF(INDIRECT(\"'game1 (\"&$AD154&\")'!$a$2\")=\"R\",Season_Summary!J154,\"\"),\"\")","v":""},{"$f":"IFERROR(IF(INDIRECT(\"'game1 (\"&$AD154&\")'!$a$2\")=\"R\",Season_Summary!K154,\"\"),\"\")","v":""},{"$f":"IFERROR(IF(INDIRECT(\"'game1 (\"&$AD154&\")'!$a$2\")=\"R\",Season_Summary!L154,\"\"),\"\")","v":""},{"$f":"IFERROR(IF(INDIRECT(\"'game1 (\"&$AD154&\")'!$a$2\")=\"R\",Season_Summary!M154,\"\"),\"\")","v":""},{"$f":"IFERROR(IF(INDIRECT(\"'game1 (\"&$AD154&\")'!$a$2\")=\"R\",Season_Summary!N154,\"\"),\"\")","v":""},{"$f":"IFERROR(IF(INDIRECT(\"'game1 (\"&$AD154&\")'!$a$2\")=\"R\",Season_Summary!O154,\"\"),\"\")","v":""},{"$f":"IFERROR(IF(INDIRECT(\"'game1 (\"&$AD154&\")'!$a$2\")=\"R\",Season_Summary!P154,\"\"),\"\")","v":""},{"$f":"IFERROR(IF(INDIRECT(\"'game1 (\"&$AD154&\")'!$a$2\")=\"R\",Season_Summary!Q154,\"\"),\"\")","v":""},{"$f":"IFERROR(IF(INDIRECT(\"'game1 (\"&$AD154&\")'!$a$2\")=\"R\",Season_Summary!R154,\"\"),\"\")","v":""},{"$f":"IFERROR(IF(INDIRECT(\"'game1 (\"&$AD154&\")'!$a$2\")=\"R\",Season_Summary!S154,\"\"),\"\")","v":""},{"$f":"IFERROR(IF(INDIRECT(\"'game1 (\"&$AD154&\")'!$a$2\")=\"R\",Season_Summary!T154,\"\"),\"\")","v":""},{"$f":"IFERROR(IF(INDIRECT(\"'game1 (\"&$AD154&\")'!$a$2\")=\"R\",Season_Summary!U154,\"\"),\"\")","v":""},{"$f":"IFERROR(IF(INDIRECT(\"'game1 (\"&$AD154&\")'!$a$2\")=\"R\",Season_Summary!V154,\"\"),\"\")","v":""},{"$f":"IFERROR(IF(INDIRECT(\"'game1 (\"&$AD154&\")'!$a$2\")=\"R\",Season_Summary!W154,\"\"),\"\")","v":""},{"$f":"IFERROR(IF(INDIRECT(\"'game1 (\"&$AD154&\")'!$a$2\")=\"R\",Season_Summary!X154,\"\"),\"\")","v":""},{"$f":"IFERROR(IF(INDIRECT(\"'game1 (\"&$AD154&\")'!$a$2\")=\"R\",Season_Summary!Y154,\"\"),\"\")","v":""},{"$f":"IFERROR(IF(INDIRECT(\"'game1 (\"&$AD154&\")'!$a$2\")=\"R\",Season_Summary!Z154,\"\"),\"\")","v":""},{"$f":"IFERROR(IF(INDIRECT(\"'game1 (\"&$AD154&\")'!$a$2\")=\"R\",Season_Summary!AA154,\"\"),\"\")","v":""},{"$f":"IFERROR(IF(INDIRECT(\"'game1 (\"&$AD154&\")'!$a$2\")=\"R\",Season_Summary!AB154,\"\"),\"\")","v":""},{"$f":"IFERROR(IF(INDIRECT(\"'game1 (\"&$AD154&\")'!$a$2\")=\"R\",Season_Summary!AC154,\"\"),\"\")","v":""},26]
[{"$f":"IFERROR(IF(INDIRECT(\"'game1 (\"&$AD155&\")'!$a$2\")=\"R\",Season_Summary!A155,\"\"),\"\")","v":""},{"$f":"IFERROR(IF(INDIRECT(\"'game1 (\"&$AD155&\")'!$a$2\")=\"R\",Season_Summary!B155,\"\"),\"\")","v":""},{"$f":"IFERROR(IF(INDIRECT(\"'game1 (\"&$AD155&\")'!$a$2\")=\"R\",Season_Summary!C155,\"\"),\"\")","v":""},{"$f":"IFERROR(IF(INDIRECT(\"'game1 (\"&$AD155&\")'!$a$2\")=\"R\",Season_Summary!D155,\"\"),\"\")","v":""},{"$f":"IFERROR(IF(INDIRECT(\"'game1 (\"&$AD155&\")'!$a$2\")=\"R\",Season_Summary!E155,\"\"),\"\")","v":""},{"$f":"IFERROR(IF(INDIRECT(\"'game1 (\"&$AD155&\")'!$a$2\")=\"R\",Season_Summary!F155,\"\"),\"\")","v":""},{"$f":"IFERROR(IF(INDIRECT(\"'game1 (\"&$AD155&\")'!$a$2\")=\"R\",Season_Summary!G155,\"\"),\"\")","v":""},{"$f":"IFERROR(IF(INDIRECT(\"'game1 (\"&$AD155&\")'!$a$2\")=\"R\",Season_Summary!H155,\"\"),\"\")","v":""},{"$f":"IFERROR(IF(INDIRECT(\"'game1 (\"&$AD155&\")'!$a$2\")=\"R\",Season_Summary!I155,\"\"),\"\")","v":""},{"$f":"IFERROR(IF(INDIRECT(\"'game1 (\"&$AD155&\")'!$a$2\")=\"R\",Season_Summary!J155,\"\"),\"\")","v":""},{"$f":"IFERROR(IF(INDIRECT(\"'game1 (\"&$AD155&\")'!$a$2\")=\"R\",Season_Summary!K155,\"\"),\"\")","v":""},{"$f":"IFERROR(IF(INDIRECT(\"'game1 (\"&$AD155&\")'!$a$2\")=\"R\",Season_Summary!L155,\"\"),\"\")","v":""},{"$f":"IFERROR(IF(INDIRECT(\"'game1 (\"&$AD155&\")'!$a$2\")=\"R\",Season_Summary!M155,\"\"),\"\")","v":""},{"$f":"IFERROR(IF(INDIRECT(\"'game1 (\"&$AD155&\")'!$a$2\")=\"R\",Season_Summary!N155,\"\"),\"\")","v":""},{"$f":"IFERROR(IF(INDIRECT(\"'game1 (\"&$AD155&\")'!$a$2\")=\"R\",Season_Summary!O155,\"\"),\"\")","v":""},{"$f":"IFERROR(IF(INDIRECT(\"'game1 (\"&$AD155&\")'!$a$2\")=\"R\",Season_Summary!P155,\"\"),\"\")","v":""},{"$f":"IFERROR(IF(INDIRECT(\"'game1 (\"&$AD155&\")'!$a$2\")=\"R\",Season_Summary!Q155,\"\"),\"\")","v":""},{"$f":"IFERROR(IF(INDIRECT(\"'game1 (\"&$AD155&\")'!$a$2\")=\"R\",Season_Summary!R155,\"\"),\"\")","v":""},{"$f":"IFERROR(IF(INDIRECT(\"'game1 (\"&$AD155&\")'!$a$2\")=\"R\",Season_Summary!S155,\"\"),\"\")","v":""},{"$f":"IFERROR(IF(INDIRECT(\"'game1 (\"&$AD155&\")'!$a$2\")=\"R\",Season_Summary!T155,\"\"),\"\")","v":""},{"$f":"IFERROR(IF(INDIRECT(\"'game1 (\"&$AD155&\")'!$a$2\")=\"R\",Season_Summary!U155,\"\"),\"\")","v":""},{"$f":"IFERROR(IF(INDIRECT(\"'game1 (\"&$AD155&\")'!$a$2\")=\"R\",Season_Summary!V155,\"\"),\"\")","v":""},{"$f":"IFERROR(IF(INDIRECT(\"'game1 (\"&$AD155&\")'!$a$2\")=\"R\",Season_Summary!W155,\"\"),\"\")","v":""},{"$f":"IFERROR(IF(INDIRECT(\"'game1 (\"&$AD155&\")'!$a$2\")=\"R\",Season_Summary!X155,\"\"),\"\")","v":""},{"$f":"IFERROR(IF(INDIRECT(\"'game1 (\"&$AD155&\")'!$a$2\")=\"R\",Season_Summary!Y155,\"\"),\"\")","v":""},{"$f":"IFERROR(IF(INDIRECT(\"'game1 (\"&$AD155&\")'!$a$2\")=\"R\",Season_Summary!Z155,\"\"),\"\")","v":""},{"$f":"IFERROR(IF(INDIRECT(\"'game1 (\"&$AD155&\")'!$a$2\")=\"R\",Season_Summary!AA155,\"\"),\"\")","v":""},{"$f":"IFERROR(IF(INDIRECT(\"'game1 (\"&$AD155&\")'!$a$2\")=\"R\",Season_Summary!AB155,\"\"),\"\")","v":""},{"$f":"IFERROR(IF(INDIRECT(\"'game1 (\"&$AD155&\")'!$a$2\")=\"R\",Season_Summary!AC155,\"\"),\"\")","v":""},27]
[{"$f":"IFERROR(IF(INDIRECT(\"'game1 (\"&$AD156&\")'!$a$2\")=\"R\",Season_Summary!A156,\"\"),\"\")","v":""},{"$f":"IFERROR(IF(INDIRECT(\"'game1 (\"&$AD156&\")'!$a$2\")=\"R\",Season_Summary!B156,\"\"),\"\")","v":""},{"$f":"IFERROR(IF(INDIRECT(\"'game1 (\"&$AD156&\")'!$a$2\")=\"R\",Season_Summary!C156,\"\"),\"\")","v":""},{"$f":"IFERROR(IF(INDIRECT(\"'game1 (\"&$AD156&\")'!$a$2\")=\"R\",Season_Summary!D156,\"\"),\"\")","v":""},{"$f":"IFERROR(IF(INDIRECT(\"'game1 (\"&$AD156&\")'!$a$2\")=\"R\",Season_Summary!E156,\"\"),\"\")","v":""},{"$f":"IFERROR(IF(INDIRECT(\"'game1 (\"&$AD156&\")'!$a$2\")=\"R\",Season_Summary!F156,\"\"),\"\")","v":""},{"$f":"IFERROR(IF(INDIRECT(\"'game1 (\"&$AD156&\")'!$a$2\")=\"R\",Season_Summary!G156,\"\"),\"\")","v":""},{"$f":"IFERROR(IF(INDIRECT(\"'game1 (\"&$AD156&\")'!$a$2\")=\"R\",Season_Summary!H156,\"\"),\"\")","v":""},{"$f":"IFERROR(IF(INDIRECT(\"'game1 (\"&$AD156&\")'!$a$2\")=\"R\",Season_Summary!I156,\"\"),\"\")","v":""},{"$f":"IFERROR(IF(INDIRECT(\"'game1 (\"&$AD156&\")'!$a$2\")=\"R\",Season_Summary!J156,\"\"),\"\")","v":""},{"$f":"IFERROR(IF(INDIRECT(\"'game1 (\"&$AD156&\")'!$a$2\")=\"R\",Season_Summary!K156,\"\"),\"\")","v":""},{"$f":"IFERROR(IF(INDIRECT(\"'game1 (\"&$AD156&\")'!$a$2\")=\"R\",Season_Summary!L156,\"\"),\"\")","v":""},{"$f":"IFERROR(IF(INDIRECT(\"'game1 (\"&$AD156&\")'!$a$2\")=\"R\",Season_Summary!M156,\"\"),\"\")","v":""},{"$f":"IFERROR(IF(INDIRECT(\"'game1 (\"&$AD156&\")'!$a$2\")=\"R\",Season_Summary!N156,\"\"),\"\")","v":""},{"$f":"IFERROR(IF(INDIRECT(\"'game1 (\"&$AD156&\")'!$a$2\")=\"R\",Season_Summary!O156,\"\"),\"\")","v":""},{"$f":"IFERROR(IF(INDIRECT(\"'game1 (\"&$AD156&\")'!$a$2\")=\"R\",Season_Summary!P156,\"\"),\"\")","v":""},{"$f":"IFERROR(IF(INDIRECT(\"'game1 (\"&$AD156&\")'!$a$2\")=\"R\",Season_Summary!Q156,\"\"),\"\")","v":""},{"$f":"IFERROR(IF(INDIRECT(\"'game1 (\"&$AD156&\")'!$a$2\")=\"R\",Season_Summary!R156,\"\"),\"\")","v":""},{"$f":"IFERROR(IF(INDIRECT(\"'game1 (\"&$AD156&\")'!$a$2\")=\"R\",Season_Summary!S156,\"\"),\"\")","v":""},{"$f":"IFERROR(IF(INDIRECT(\"'game1 (\"&$AD156&\")'!$a$2\")=\"R\",Season_Summary!T156,\"\"),\"\")","v":""},{"$f":"IFERROR(IF(INDIRECT(\"'game1 (\"&$AD156&\")'!$a$2\")=\"R\",Season_Summary!U156,\"\"),\"\")","v":""},{"$f":"IFERROR(IF(INDIRECT(\"'game1 (\"&$AD156&\")'!$a$2\")=\"R\",Season_Summary!V156,\"\"),\"\")","v":""},{"$f":"IFERROR(IF(INDIRECT(\"'game1 (\"&$AD156&\")'!$a$2\")=\"R\",Season_Summary!W156,\"\"),\"\")","v":""},{"$f":"IFERROR(IF(INDIRECT(\"'game1 (\"&$AD156&\")'!$a$2\")=\"R\",Season_Summary!X156,\"\"),\"\")","v":""},{"$f":"IFERROR(IF(INDIRECT(\"'game1 (\"&$AD156&\")'!$a$2\")=\"R\",Season_Summary!Y156,\"\"),\"\")","v":""},{"$f":"IFERROR(IF(INDIRECT(\"'game1 (\"&$AD156&\")'!$a$2\")=\"R\",Season_Summary!Z156,\"\"),\"\")","v":""},{"$f":"IFERROR(IF(INDIRECT(\"'game1 (\"&$AD156&\")'!$a$2\")=\"R\",Season_Summary!AA156,\"\"),\"\")","v":""},{"$f":"IFERROR(IF(INDIRECT(\"'game1 (\"&$AD156&\")'!$a$2\")=\"R\",Season_Summary!AB156,\"\"),\"\")","v":""},{"$f":"IFERROR(IF(INDIRECT(\"'game1 (\"&$AD156&\")'!$a$2\")=\"R\",Season_Summary!AC156,\"\"),\"\")","v":""},27]
[{"$f":"IFERROR(IF(INDIRECT(\"'game1 (\"&$AD157&\")'!$a$2\")=\"R\",Season_Summary!A157,\"\"),\"\")","v":""},{"$f":"IFERROR(IF(INDIRECT(\"'game1 (\"&$AD157&\")'!$a$2\")=\"R\",Season_Summary!B157,\"\"),\"\")","v":""},{"$f":"IFERROR(IF(INDIRECT(\"'game1 (\"&$AD157&\")'!$a$2\")=\"R\",Season_Summary!C157,\"\"),\"\")","v":""},{"$f":"IFERROR(IF(INDIRECT(\"'game1 (\"&$AD157&\")'!$a$2\")=\"R\",Season_Summary!D157,\"\"),\"\")","v":""},{"$f":"IFERROR(IF(INDIRECT(\"'game1 (\"&$AD157&\")'!$a$2\")=\"R\",Season_Summary!E157,\"\"),\"\")","v":""},{"$f":"IFERROR(IF(INDIRECT(\"'game1 (\"&$AD157&\")'!$a$2\")=\"R\",Season_Summary!F157,\"\"),\"\")","v":""},{"$f":"IFERROR(IF(INDIRECT(\"'game1 (\"&$AD157&\")'!$a$2\")=\"R\",Season_Summary!G157,\"\"),\"\")","v":""},{"$f":"IFERROR(IF(INDIRECT(\"'game1 (\"&$AD157&\")'!$a$2\")=\"R\",Season_Summary!H157,\"\"),\"\")","v":""},{"$f":"IFERROR(IF(INDIRECT(\"'game1 (\"&$AD157&\")'!$a$2\")=\"R\",Season_Summary!I157,\"\"),\"\")","v":""},{"$f":"IFERROR(IF(INDIRECT(\"'game1 (\"&$AD157&\")'!$a$2\")=\"R\",Season_Summary!J157,\"\"),\"\")","v":""},{"$f":"IFERROR(IF(INDIRECT(\"'game1 (\"&$AD157&\")'!$a$2\")=\"R\",Season_Summary!K157,\"\"),\"\")","v":""},{"$f":"IFERROR(IF(INDIRECT(\"'game1 (\"&$AD157&\")'!$a$2\")=\"R\",Season_Summary!L157,\"\"),\"\")","v":""},{"$f":"IFERROR(IF(INDIRECT(\"'game1 (\"&$AD157&\")'!$a$2\")=\"R\",Season_Summary!M157,\"\"),\"\")","v":""},{"$f":"IFERROR(IF(INDIRECT(\"'game1 (\"&$AD157&\")'!$a$2\")=\"R\",Season_Summary!N157,\"\"),\"\")","v":""},{"$f":"IFERROR(IF(INDIRECT(\"'game1 (\"&$AD157&\")'!$a$2\")=\"R\",Season_Summary!O157,\"\"),\"\")","v":""},{"$f":"IFERROR(IF(INDIRECT(\"'game1 (\"&$AD157&\")'!$a$2\")=\"R\",Season_Summary!P157,\"\"),\"\")","v":""},{"$f":"IFERROR(IF(INDIRECT(\"'game1 (\"&$AD157&\")'!$a$2\")=\"R\",Season_Summary!Q157,\"\"),\"\")","v":""},{"$f":"IFERROR(IF(INDIRECT(\"'game1 (\"&$AD157&\")'!$a$2\")=\"R\",Season_Summary!R157,\"\"),\"\")","v":""},{"$f":"IFERROR(IF(INDIRECT(\"'game1 (\"&$AD157&\")'!$a$2\")=\"R\",Season_Summary!S157,\"\"),\"\")","v":""},{"$f":"IFERROR(IF(INDIRECT(\"'game1 (\"&$AD157&\")'!$a$2\")=\"R\",Season_Summary!T157,\"\"),\"\")","v":""},{"$f":"IFERROR(IF(INDIRECT(\"'game1 (\"&$AD157&\")'!$a$2\")=\"R\",Season_Summary!U157,\"\"),\"\")","v":""},{"$f":"IFERROR(IF(INDIRECT(\"'game1 (\"&$AD157&\")'!$a$2\")=\"R\",Season_Summary!V157,\"\"),\"\")","v":""},{"$f":"IFERROR(IF(INDIRECT(\"'game1 (\"&$AD157&\")'!$a$2\")=\"R\",Season_Summary!W157,\"\"),\"\")","v":""},{"$f":"IFERROR(IF(INDIRECT(\"'game1 (\"&$AD157&\")'!$a$2\")=\"R\",Season_Summary!X157,\"\"),\"\")","v":""},{"$f":"IFERROR(IF(INDIRECT(\"'game1 (\"&$AD157&\")'!$a$2\")=\"R\",Season_Summary!Y157,\"\"),\"\")","v":""},{"$f":"IFERROR(IF(INDIRECT(\"'game1 (\"&$AD157&\")'!$a$2\")=\"R\",Season_Summary!Z157,\"\"),\"\")","v":""},{"$f":"IFERROR(IF(INDIRECT(\"'game1 (\"&$AD157&\")'!$a$2\")=\"R\",Season_Summary!AA157,\"\"),\"\")","v":""},{"$f":"IFERROR(IF(INDIRECT(\"'game1 (\"&$AD157&\")'!$a$2\")=\"R\",Season_Summary!AB157,\"\"),\"\")","v":""},{"$f":"IFERROR(IF(INDIRECT(\"'game1 (\"&$AD157&\")'!$a$2\")=\"R\",Season_Summary!AC157,\"\"),\"\")","v":""},28]
[{"$f":"IFERROR(IF(INDIRECT(\"'game1 (\"&$AD158&\")'!$a$2\")=\"R\",Season_Summary!A158,\"\"),\"\")","v":""},{"$f":"IFERROR(IF(INDIRECT(\"'game1 (\"&$AD158&\")'!$a$2\")=\"R\",Season_Summary!B158,\"\"),\"\")","v":""},{"$f":"IFERROR(IF(INDIRECT(\"'game1 (\"&$AD158&\")'!$a$2\")=\"R\",Season_Summary!C158,\"\"),\"\")","v":""},{"$f":"IFERROR(IF(INDIRECT(\"'game1 (\"&$AD158&\")'!$a$2\")=\"R\",Season_Summary!D158,\"\"),\"\")","v":""},{"$f":"IFERROR(IF(INDIRECT(\"'game1 (\"&$AD158&\")'!$a$2\")=\"R\",Season_Summary!E158,\"\"),\"\")","v":""},{"$f":"IFERROR(IF(INDIRECT(\"'game1 (\"&$AD158&\")'!$a$2\")=\"R\",Season_Summary!F158,\"\"),\"\")","v":""},{"$f":"IFERROR(IF(INDIRECT(\"'game1 (\"&$AD158&\")'!$a$2\")=\"R\",Season_Summary!G158,\"\"),\"\")","v":""},{"$f":"IFERROR(IF(INDIRECT(\"'game1 (\"&$AD158&\")'!$a$2\")=\"R\",Season_Summary!H158,\"\"),\"\")","v":""},{"$f":"IFERROR(IF(INDIRECT(\"'game1 (\"&$AD158&\")'!$a$2\")=\"R\",Season_Summary!I158,\"\"),\"\")","v":""},{"$f":"IFERROR(IF(INDIRECT(\"'game1 (\"&$AD158&\")'!$a$2\")=\"R\",Season_Summary!J158,\"\"),\"\")","v":""},{"$f":"IFERROR(IF(INDIRECT(\"'game1 (\"&$AD158&\")'!$a$2\")=\"R\",Season_Summary!K158,\"\"),\"\")","v":""},{"$f":"IFERROR(IF(INDIRECT(\"'game1 (\"&$AD158&\")'!$a$2\")=\"R\",Season_Summary!L158,\"\"),\"\")","v":""},{"$f":"IFERROR(IF(INDIRECT(\"'game1 (\"&$AD158&\")'!$a$2\")=\"R\",Season_Summary!M158,\"\"),\"\")","v":""},{"$f":"IFERROR(IF(INDIRECT(\"'game1 (\"&$AD158&\")'!$a$2\")=\"R\",Season_Summary!N158,\"\"),\"\")","v":""},{"$f":"IFERROR(IF(INDIRECT(\"'game1 (\"&$AD158&\")'!$a$2\")=\"R\",Season_Summary!O158,\"\"),\"\")","v":""},{"$f":"IFERROR(IF(INDIRECT(\"'game1 (\"&$AD158&\")'!$a$2\")=\"R\",Season_Summary!P158,\"\"),\"\")","v":""},{"$f":"IFERROR(IF(INDIRECT(\"'game1 (\"&$AD158&\")'!$a$2\")=\"R\",Season_Summary!Q158,\"\"),\"\")","v":""},{"$f":"IFERROR(IF(INDIRECT(\"'game1 (\"&$AD158&\")'!$a$2\")=\"R\",Season_Summary!R158,\"\"),\"\")","v":""},{"$f":"IFERROR(IF(INDIRECT(\"'game1 (\"&$AD158&\")'!$a$2\")=\"R\",Season_Summary!S158,\"\"),\"\")","v":""},{"$f":"IFERROR(IF(INDIRECT(\"'game1 (\"&$AD158&\")'!$a$2\")=\"R\",Season_Summary!T158,\"\"),\"\")","v":""},{"$f":"IFERROR(IF(INDIRECT(\"'game1 (\"&$AD158&\")'!$a$2\")=\"R\",Season_Summary!U158,\"\"),\"\")","v":""},{"$f":"IFERROR(IF(INDIRECT(\"'game1 (\"&$AD158&\")'!$a$2\")=\"R\",Season_Summary!V158,\"\"),\"\")","v":""},{"$f":"IFERROR(IF(INDIRECT(\"'game1 (\"&$AD158&\")'!$a$2\")=\"R\",Season_Summary!W158,\"\"),\"\")","v":""},{"$f":"IFERROR(IF(INDIRECT(\"'game1 (\"&$AD158&\")'!$a$2\")=\"R\",Season_Summary!X158,\"\"),\"\")","v":""},{"$f":"IFERROR(IF(INDIRECT(\"'game1 (\"&$AD158&\")'!$a$2\")=\"R\",Season_Summary!Y158,\"\"),\"\")","v":""},{"$f":"IFERROR(IF(INDIRECT(\"'game1 (\"&$AD158&\")'!$a$2\")=\"R\",Season_Summary!Z158,\"\"),\"\")","v":""},{"$f":"IFERROR(IF(INDIRECT(\"'game1 (\"&$AD158&\")'!$a$2\")=\"R\",Season_Summary!AA158,\"\"),\"\")","v":""},{"$f":"IFERROR(IF(INDIRECT(\"'game1 (\"&$AD158&\")'!$a$2\")=\"R\",Season_Summary!AB158,\"\"),\"\")","v":""},{"$f":"IFERROR(IF(INDIRECT(\"'game1 (\"&$AD158&\")'!$a$2\")=\"R\",Season_Summary!AC158,\"\"),\"\")","v":""},28]
[{"$f":"IFERROR(IF(INDIRECT(\"'game1 (\"&$AD159&\")'!$a$2\")=\"R\",Season_Summary!A159,\"\"),\"\")","v":""},{"$f":"IFERROR(IF(INDIRECT(\"'game1 (\"&$AD159&\")'!$a$2\")=\"R\",Season_Summary!B159,\"\"),\"\")","v":""},{"$f":"IFERROR(IF(INDIRECT(\"'game1 (\"&$AD159&\")'!$a$2\")=\"R\",Season_Summary!C159,\"\"),\"\")","v":""},{"$f":"IFERROR(IF(INDIRECT(\"'game1 (\"&$AD159&\")'!$a$2\")=\"R\",Season_Summary!D159,\"\"),\"\")","v":""},{"$f":"IFERROR(IF(INDIRECT(\"'game1 (\"&$AD159&\")'!$a$2\")=\"R\",Season_Summary!E159,\"\"),\"\")","v":""},{"$f":"IFERROR(IF(INDIRECT(\"'game1 (\"&$AD159&\")'!$a$2\")=\"R\",Season_Summary!F159,\"\"),\"\")","v":""},{"$f":"IFERROR(IF(INDIRECT(\"'game1 (\"&$AD159&\")'!$a$2\")=\"R\",Season_Summary!G159,\"\"),\"\")","v":""},{"$f":"IFERROR(IF(INDIRECT(\"'game1 (\"&$AD159&\")'!$a$2\")=\"R\",Season_Summary!H159,\"\"),\"\")","v":""},{"$f":"IFERROR(IF(INDIRECT(\"'game1 (\"&$AD159&\")'!$a$2\")=\"R\",Season_Summary!I159,\"\"),\"\")","v":""},{"$f":"IFERROR(IF(INDIRECT(\"'game1 (\"&$AD159&\")'!$a$2\")=\"R\",Season_Summary!J159,\"\"),\"\")","v":""},{"$f":"IFERROR(IF(INDIRECT(\"'game1 (\"&$AD159&\")'!$a$2\")=\"R\",Season_Summary!K159,\"\"),\"\")","v":""},{"$f":"IFERROR(IF(INDIRECT(\"'game1 (\"&$AD159&\")'!$a$2\")=\"R\",Season_Summary!L159,\"\"),\"\")","v":""},{"$f":"IFERROR(IF(INDIRECT(\"'game1 (\"&$AD159&\")'!$a$2\")=\"R\",Season_Summary!M159,\"\"),\"\")","v":""},{"$f":"IFERROR(IF(INDIRECT(\"'game1 (\"&$AD159&\")'!$a$2\")=\"R\",Season_Summary!N159,\"\"),\"\")","v":""},{"$f":"IFERROR(IF(INDIRECT(\"'game1 (\"&$AD159&\")'!$a$2\")=\"R\",Season_Summary!O159,\"\"),\"\")","v":""},{"$f":"IFERROR(IF(INDIRECT(\"'game1 (\"&$AD159&\")'!$a$2\")=\"R\",Season_Summary!P159,\"\"),\"\")","v":""},{"$f":"IFERROR(IF(INDIRECT(\"'game1 (\"&$AD159&\")'!$a$2\")=\"R\",Season_Summary!Q159,\"\"),\"\")","v":""},{"$f":"IFERROR(IF(INDIRECT(\"'game1 (\"&$AD159&\")'!$a$2\")=\"R\",Season_Summary!R159,\"\"),\"\")","v":""},{"$f":"IFERROR(IF(INDIRECT(\"'game1 (\"&$AD159&\")'!$a$2\")=\"R\",Season_Summary!S159,\"\"),\"\")","v":""},{"$f":"IFERROR(IF(INDIRECT(\"'game1 (\"&$AD159&\")'!$a$2\")=\"R\",Season_Summary!T159,\"\"),\"\")","v":""},{"$f":"IFERROR(IF(INDIRECT(\"'game1 (\"&$AD159&\")'!$a$2\")=\"R\",Season_Summary!U159,\"\"),\"\")","v":""},{"$f":"IFERROR(IF(INDIRECT(\"'game1 (\"&$AD159&\")'!$a$2\")=\"R\",Season_Summary!V159,\"\"),\"\")","v":""},{"$f":"IFERROR(IF(INDIRECT(\"'game1 (\"&$AD159&\")'!$a$2\")=\"R\",Season_Summary!W159,\"\"),\"\")","v":""},{"$f":"IFERROR(IF(INDIRECT(\"'game1 (\"&$AD159&\")'!$a$2\")=\"R\",Season_Summary!X159,\"\"),\"\")","v":""},{"$f":"IFERROR(IF(INDIRECT(\"'game1 (\"&$AD159&\")'!$a$2\")=\"R\",Season_Summary!Y159,\"\"),\"\")","v":""},{"$f":"IFERROR(IF(INDIRECT(\"'game1 (\"&$AD159&\")'!$a$2\")=\"R\",Season_Summary!Z159,\"\"),\"\")","v":""},{"$f":"IFERROR(IF(INDIRECT(\"'game1 (\"&$AD159&\")'!$a$2\")=\"R\",Season_Summary!AA159,\"\"),\"\")","v":""},{"$f":"IFERROR(IF(INDIRECT(\"'game1 (\"&$AD159&\")'!$a$2\")=\"R\",Season_Summary!AB159,\"\"),\"\")","v":""},{"$f":"IFERROR(IF(INDIRECT(\"'game1 (\"&$AD159&\")'!$a$2\")=\"R\",Season_Summary!AC159,\"\"),\"\")","v":""},29]
[{"$f":"IFERROR(IF(INDIRECT(\"'game1 (\"&$AD160&\")'!$a$2\")=\"R\",Season_Summary!A160,\"\"),\"\")","v":""},{"$f":"IFERROR(IF(INDIRECT(\"'game1 (\"&$AD160&\")'!$a$2\")=\"R\",Season_Summary!B160,\"\"),\"\")","v":""},{"$f":"IFERROR(IF(INDIRECT(\"'game1 (\"&$AD160&\")'!$a$2\")=\"R\",Season_Summary!C160,\"\"),\"\")","v":""},{"$f":"IFERROR(IF(INDIRECT(\"'game1 (\"&$AD160&\")'!$a$2\")=\"R\",Season_Summary!D160,\"\"),\"\")","v":""},{"$f":"IFERROR(IF(INDIRECT(\"'game1 (\"&$AD160&\")'!$a$2\")=\"R\",Season_Summary!E160,\"\"),\"\")","v":""},{"$f":"IFERROR(IF(INDIRECT(\"'game1 (\"&$AD160&\")'!$a$2\")=\"R\",Season_Summary!F160,\"\"),\"\")","v":""},{"$f":"IFERROR(IF(INDIRECT(\"'game1 (\"&$AD160&\")'!$a$2\")=\"R\",Season_Summary!G160,\"\"),\"\")","v":""},{"$f":"IFERROR(IF(INDIRECT(\"'game1 (\"&$AD160&\")'!$a$2\")=\"R\",Season_Summary!H160,\"\"),\"\")","v":""},{"$f":"IFERROR(IF(INDIRECT(\"'game1 (\"&$AD160&\")'!$a$2\")=\"R\",Season_Summary!I160,\"\"),\"\")","v":""},{"$f":"IFERROR(IF(INDIRECT(\"'game1 (\"&$AD160&\")'!$a$2\")=\"R\",Season_Summary!J160,\"\"),\"\")","v":""},{"$f":"IFERROR(IF(INDIRECT(\"'game1 (\"&$AD160&\")'!$a$2\")=\"R\",Season_Summary!K160,\"\"),\"\")","v":""},{"$f":"IFERROR(IF(INDIRECT(\"'game1 (\"&$AD160&\")'!$a$2\")=\"R\",Season_Summary!L160,\"\"),\"\")","v":""},{"$f":"IFERROR(IF(INDIRECT(\"'game1 (\"&$AD160&\")'!$a$2\")=\"R\",Season_Summary!M160,\"\"),\"\")","v":""},{"$f":"IFERROR(IF(INDIRECT(\"'game1 (\"&$AD160&\")'!$a$2\")=\"R\",Season_Summary!N160,\"\"),\"\")","v":""},{"$f":"IFERROR(IF(INDIRECT(\"'game1 (\"&$AD160&\")'!$a$2\")=\"R\",Season_Summary!O160,\"\"),\"\")","v":""},{"$f":"IFERROR(IF(INDIRECT(\"'game1 (\"&$AD160&\")'!$a$2\")=\"R\",Season_Summary!P160,\"\"),\"\")","v":""},{"$f":"IFERROR(IF(INDIRECT(\"'game1 (\"&$AD160&\")'!$a$2\")=\"R\",Season_Summary!Q160,\"\"),\"\")","v":""},{"$f":"IFERROR(IF(INDIRECT(\"'game1 (\"&$AD160&\")'!$a$2\")=\"R\",Season_Summary!R160,\"\"),\"\")","v":""},{"$f":"IFERROR(IF(INDIRECT(\"'game1 (\"&$AD160&\")'!$a$2\")=\"R\",Season_Summary!S160,\"\"),\"\")","v":""},{"$f":"IFERROR(IF(INDIRECT(\"'game1 (\"&$AD160&\")'!$a$2\")=\"R\",Season_Summary!T160,\"\"),\"\")","v":""},{"$f":"IFERROR(IF(INDIRECT(\"'game1 (\"&$AD160&\")'!$a$2\")=\"R\",Season_Summary!U160,\"\"),\"\")","v":""},{"$f":"IFERROR(IF(INDIRECT(\"'game1 (\"&$AD160&\")'!$a$2\")=\"R\",Season_Summary!V160,\"\"),\"\")","v":""},{"$f":"IFERROR(IF(INDIRECT(\"'game1 (\"&$AD160&\")'!$a$2\")=\"R\",Season_Summary!W160,\"\"),\"\")","v":""},{"$f":"IFERROR(IF(INDIRECT(\"'game1 (\"&$AD160&\")'!$a$2\")=\"R\",Season_Summary!X160,\"\"),\"\")","v":""},{"$f":"IFERROR(IF(INDIRECT(\"'game1 (\"&$AD160&\")'!$a$2\")=\"R\",Season_Summary!Y160,\"\"),\"\")","v":""},{"$f":"IFERROR(IF(INDIRECT(\"'game1 (\"&$AD160&\")'!$a$2\")=\"R\",Season_Summary!Z160,\"\"),\"\")","v":""},{"$f":"IFERROR(IF(INDIRECT(\"'game1 (\"&$AD160&\")'!$a$2\")=\"R\",Season_Summary!AA160,\"\"),\"\")","v":""},{"$f":"IFERROR(IF(INDIRECT(\"'game1 (\"&$AD160&\")'!$a$2\")=\"R\",Season_Summary!AB160,\"\"),\"\")","v":""},{"$f":"IFERROR(IF(INDIRECT(\"'game1 (\"&$AD160&\")'!$a$2\")=\"R\",Season_Summary!AC160,\"\"),\"\")","v":""},29]
[{"$f":"IFERROR(IF(INDIRECT(\"'game1 (\"&$AD161&\")'!$a$2\")=\"R\",Season_Summary!A161,\"\"),\"\")","v":""},{"$f":"IFERROR(IF(INDIRECT(\"'game1 (\"&$AD161&\")'!$a$2\")=\"R\",Season_Summary!B161,\"\"),\"\")","v":""},{"$f":"IFERROR(IF(INDIRECT(\"'game1 (\"&$AD161&\")'!$a$2\")=\"R\",Season_Summary!C161,\"\"),\"\")","v":""},{"$f":"IFERROR(IF(INDIRECT(\"'game1 (\"&$AD161&\")'!$a$2\")=\"R\",Season_Summary!D161,\"\"),\"\")","v":""},{"$f":"IFERROR(IF(INDIRECT(\"'game1 (\"&$AD161&\")'!$a$2\")=\"R\",Season_Summary!E161,\"\"),\"\")","v":""},{"$f":"IFERROR(IF(INDIRECT(\"'game1 (\"&$AD161&\")'!$a$2\")=\"R\",Season_Summary!F161,\"\"),\"\")","v":""},{"$f":"IFERROR(IF(INDIRECT(\"'game1 (\"&$AD161&\")'!$a$2\")=\"R\",Season_Summary!G161,\"\"),\"\")","v":""},{"$f":"IFERROR(IF(INDIRECT(\"'game1 (\"&$AD161&\")'!$a$2\")=\"R\",Season_Summary!H161,\"\"),\"\")","v":""},{"$f":"IFERROR(IF(INDIRECT(\"'game1 (\"&$AD161&\")'!$a$2\")=\"R\",Season_Summary!I161,\"\"),\"\")","v":""},{"$f":"IFERROR(IF(INDIRECT(\"'game1 (\"&$AD161&\")'!$a$2\")=\"R\",Season_Summary!J161,\"\"),\"\")","v":""},{"$f":"IFERROR(IF(INDIRECT(\"'game1 (\"&$AD161&\")'!$a$2\")=\"R\",Season_Summary!K161,\"\"),\"\")","v":""},{"$f":"IFERROR(IF(INDIRECT(\"'game1 (\"&$AD161&\")'!$a$2\")=\"R\",Season_Summary!L161,\"\"),\"\")","v":""},{"$f":"IFERROR(IF(INDIRECT(\"'game1 (\"&$AD161&\")'!$a$2\")=\"R\",Season_Summary!M161,\"\"),\"\")","v":""},{"$f":"IFERROR(IF(INDIRECT(\"'game1 (\"&$AD161&\")'!$a$2\")=\"R\",Season_Summary!N161,\"\"),\"\")","v":""},{"$f":"IFERROR(IF(INDIRECT(\"'game1 (\"&$AD161&\")'!$a$2\")=\"R\",Season_Summary!O161,\"\"),\"\")","v":""},{"$f":"IFERROR(IF(INDIRECT(\"'game1 (\"&$AD161&\")'!$a$2\")=\"R\",Season_Summary!P161,\"\"),\"\")","v":""},{"$f":"IFERROR(IF(INDIRECT(\"'game1 (\"&$AD161&\")'!$a$2\")=\"R\",Season_Summary!Q161,\"\"),\"\")","v":""},{"$f":"IFERROR(IF(INDIRECT(\"'game1 (\"&$AD161&\")'!$a$2\")=\"R\",Season_Summary!R161,\"\"),\"\")","v":""},{"$f":"IFERROR(IF(INDIRECT(\"'game1 (\"&$AD161&\")'!$a$2\")=\"R\",Season_Summary!S161,\"\"),\"\")","v":""},{"$f":"IFERROR(IF(INDIRECT(\"'game1 (\"&$AD161&\")'!$a$2\")=\"R\",Season_Summary!T161,\"\"),\"\")","v":""},{"$f":"IFERROR(IF(INDIRECT(\"'game1 (\"&$AD161&\")'!$a$2\")=\"R\",Season_Summary!U161,\"\"),\"\")","v":""},{"$f":"IFERROR(IF(INDIRECT(\"'game1 (\"&$AD161&\")'!$a$2\")=\"R\",Season_Summary!V161,\"\"),\"\")","v":""},{"$f":"IFERROR(IF(INDIRECT(\"'game1 (\"&$AD161&\")'!$a$2\")=\"R\",Season_Summary!W161,\"\"),\"\")","v":""},{"$f":"IFERROR(IF(INDIRECT(\"'game1 (\"&$AD161&\")'!$a$2\")=\"R\",Season_Summary!X161,\"\"),\"\")","v":""},{"$f":"IFERROR(IF(INDIRECT(\"'game1 (\"&$AD161&\")'!$a$2\")=\"R\",Season_Summary!Y161,\"\"),\"\")","v":""},{"$f":"IFERROR(IF(INDIRECT(\"'game1 (\"&$AD161&\")'!$a$2\")=\"R\",Season_Summary!Z161,\"\"),\"\")","v":""},{"$f":"IFERROR(IF(INDIRECT(\"'game1 (\"&$AD161&\")'!$a$2\")=\"R\",Season_Summary!AA161,\"\"),\"\")","v":""},{"$f":"IFERROR(IF(INDIRECT(\"'game1 (\"&$AD161&\")'!$a$2\")=\"R\",Season_Summary!AB161,\"\"),\"\")","v":""},{"$f":"IFERROR(IF(INDIRECT(\"'game1 (\"&$AD161&\")'!$a$2\")=\"R\",Season_Summary!AC161,\"\"),\"\")","v":""},30]
[{"$f":"IFERROR(IF(INDIRECT(\"'game1 (\"&$AD162&\")'!$a$2\")=\"R\",Season_Summary!A162,\"\"),\"\")","v":""},{"$f":"IFERROR(IF(INDIRECT(\"'game1 (\"&$AD162&\")'!$a$2\")=\"R\",Season_Summary!B162,\"\"),\"\")","v":""},{"$f":"IFERROR(IF(INDIRECT(\"'game1 (\"&$AD162&\")'!$a$2\")=\"R\",Season_Summary!C162,\"\"),\"\")","v":""},{"$f":"IFERROR(IF(INDIRECT(\"'game1 (\"&$AD162&\")'!$a$2\")=\"R\",Season_Summary!D162,\"\"),\"\")","v":""},{"$f":"IFERROR(IF(INDIRECT(\"'game1 (\"&$AD162&\")'!$a$2\")=\"R\",Season_Summary!E162,\"\"),\"\")","v":""},{"$f":"IFERROR(IF(INDIRECT(\"'game1 (\"&$AD162&\")'!$a$2\")=\"R\",Season_Summary!F162,\"\"),\"\")","v":""},{"$f":"IFERROR(IF(INDIRECT(\"'game1 (\"&$AD162&\")'!$a$2\")=\"R\",Season_Summary!G162,\"\"),\"\")","v":""},{"$f":"IFERROR(IF(INDIRECT(\"'game1 (\"&$AD162&\")'!$a$2\")=\"R\",Season_Summary!H162,\"\"),\"\")","v":""},{"$f":"IFERROR(IF(INDIRECT(\"'game1 (\"&$AD162&\")'!$a$2\")=\"R\",Season_Summary!I162,\"\"),\"\")","v":""},{"$f":"IFERROR(IF(INDIRECT(\"'game1 (\"&$AD162&\")'!$a$2\")=\"R\",Season_Summary!J162,\"\"),\"\")","v":""},{"$f":"IFERROR(IF(INDIRECT(\"'game1 (\"&$AD162&\")'!$a$2\")=\"R\",Season_Summary!K162,\"\"),\"\")","v":""},{"$f":"IFERROR(IF(INDIRECT(\"'game1 (\"&$AD162&\")'!$a$2\")=\"R\",Season_Summary!L162,\"\"),\"\")","v":""},{"$f":"IFERROR(IF(INDIRECT(\"'game1 (\"&$AD162&\")'!$a$2\")=\"R\",Season_Summary!M162,\"\"),\"\")","v":""},{"$f":"IFERROR(IF(INDIRECT(\"'game1 (\"&$AD162&\")'!$a$2\")=\"R\",Season_Summary!N162,\"\"),\"\")","v":""},{"$f":"IFERROR(IF(INDIRECT(\"'game1 (\"&$AD162&\")'!$a$2\")=\"R\",Season_Summary!O162,\"\"),\"\")","v":""},{"$f":"IFERROR(IF(INDIRECT(\"'game1 (\"&$AD162&\")'!$a$2\")=\"R\",Season_Summary!P162,\"\"),\"\")","v":""},{"$f":"IFERROR(IF(INDIRECT(\"'game1 (\"&$AD162&\")'!$a$2\")=\"R\",Season_Summary!Q162,\"\"),\"\")","v":""},{"$f":"IFERROR(IF(INDIRECT(\"'game1 (\"&$AD162&\")'!$a$2\")=\"R\",Season_Summary!R162,\"\"),\"\")","v":""},{"$f":"IFERROR(IF(INDIRECT(\"'game1 (\"&$AD162&\")'!$a$2\")=\"R\",Season_Summary!S162,\"\"),\"\")","v":""},{"$f":"IFERROR(IF(INDIRECT(\"'game1 (\"&$AD162&\")'!$a$2\")=\"R\",Season_Summary!T162,\"\"),\"\")","v":""},{"$f":"IFERROR(IF(INDIRECT(\"'game1 (\"&$AD162&\")'!$a$2\")=\"R\",Season_Summary!U162,\"\"),\"\")","v":""},{"$f":"IFERROR(IF(INDIRECT(\"'game1 (\"&$AD162&\")'!$a$2\")=\"R\",Season_Summary!V162,\"\"),\"\")","v":""},{"$f":"IFERROR(IF(INDIRECT(\"'game1 (\"&$AD162&\")'!$a$2\")=\"R\",Season_Summary!W162,\"\"),\"\")","v":""},{"$f":"IFERROR(IF(INDIRECT(\"'game1 (\"&$AD162&\")'!$a$2\")=\"R\",Season_Summary!X162,\"\"),\"\")","v":""},{"$f":"IFERROR(IF(INDIRECT(\"'game1 (\"&$AD162&\")'!$a$2\")=\"R\",Season_Summary!Y162,\"\"),\"\")","v":""},{"$f":"IFERROR(IF(INDIRECT(\"'game1 (\"&$AD162&\")'!$a$2\")=\"R\",Season_Summary!Z162,\"\"),\"\")","v":""},{"$f":"IFERROR(IF(INDIRECT(\"'game1 (\"&$AD162&\")'!$a$2\")=\"R\",Season_Summary!AA162,\"\"),\"\")","v":""},{"$f":"IFERROR(IF(INDIRECT(\"'game1 (\"&$AD162&\")'!$a$2\")=\"R\",Season_Summary!AB162,\"\"),\"\")","v":""},{"$f":"IFERROR(IF(INDIRECT(\"'game1 (\"&$AD162&\")'!$a$2\")=\"R\",Season_Summary!AC162,\"\"),\"\")","v":""},30]
[{"$f":"IFERROR(IF(INDIRECT(\"'game1 (\"&$AD163&\")'!$a$2\")=\"R\",Season_Summary!A163,\"\"),\"\")","v":""},{"$f":"IFERROR(IF(INDIRECT(\"'game1 (\"&$AD163&\")'!$a$2\")=\"R\",Season_Summary!B163,\"\"),\"\")","v":""},{"$f":"IFERROR(IF(INDIRECT(\"'game1 (\"&$AD163&\")'!$a$2\")=\"R\",Season_Summary!C163,\"\"),\"\")","v":""},{"$f":"IFERROR(IF(INDIRECT(\"'game1 (\"&$AD163&\")'!$a$2\")=\"R\",Season_Summary!D163,\"\"),\"\")","v":""},{"$f":"IFERROR(IF(INDIRECT(\"'game1 (\"&$AD163&\")'!$a$2\")=\"R\",Season_Summary!E163,\"\"),\"\")","v":""},{"$f":"IFERROR(IF(INDIRECT(\"'game1 (\"&$AD163&\")'!$a$2\")=\"R\",Season_Summary!F163,\"\"),\"\")","v":""},{"$f":"IFERROR(IF(INDIRECT(\"'game1 (\"&$AD163&\")'!$a$2\")=\"R\",Season_Summary!G163,\"\"),\"\")","v":""},{"$f":"IFERROR(IF(INDIRECT(\"'game1 (\"&$AD163&\")'!$a$2\")=\"R\",Season_Summary!H163,\"\"),\"\")","v":""},{"$f":"IFERROR(IF(INDIRECT(\"'game1 (\"&$AD163&\")'!$a$2\")=\"R\",Season_Summary!I163,\"\"),\"\")","v":""},{"$f":"IFERROR(IF(INDIRECT(\"'game1 (\"&$AD163&\")'!$a$2\")=\"R\",Season_Summary!J163,\"\"),\"\")","v":""},{"$f":"IFERROR(IF(INDIRECT(\"'game1 (\"&$AD163&\")'!$a$2\")=\"R\",Season_Summary!K163,\"\"),\"\")","v":""},{"$f":"IFERROR(IF(INDIRECT(\"'game1 (\"&$AD163&\")'!$a$2\")=\"R\",Season_Summary!L163,\"\"),\"\")","v":""},{"$f":"IFERROR(IF(INDIRECT(\"'game1 (\"&$AD163&\")'!$a$2\")=\"R\",Season_Summary!M163,\"\"),\"\")","v":""},{"$f":"IFERROR(IF(INDIRECT(\"'game1 (\"&$AD163&\")'!$a$2\")=\"R\",Season_Summary!N163,\"\"),\"\")","v":""},{"$f":"IFERROR(IF(INDIRECT(\"'game1 (\"&$AD163&\")'!$a$2\")=\"R\",Season_Summary!O163,\"\"),\"\")","v":""},{"$f":"IFERROR(IF(INDIRECT(\"'game1 (\"&$AD163&\")'!$a$2\")=\"R\",Season_Summary!P163,\"\"),\"\")","v":""},{"$f":"IFERROR(IF(INDIRECT(\"'game1 (\"&$AD163&\")'!$a$2\")=\"R\",Season_Summary!Q163,\"\"),\"\")","v":""},{"$f":"IFERROR(IF(INDIRECT(\"'game1 (\"&$AD163&\")'!$a$2\")=\"R\",Season_Summary!R163,\"\"),\"\")","v":""},{"$f":"IFERROR(IF(INDIRECT(\"'game1 (\"&$AD163&\")'!$a$2\")=\"R\",Season_Summary!S163,\"\"),\"\")","v":""},{"$f":"IFERROR(IF(INDIRECT(\"'game1 (\"&$AD163&\")'!$a$2\")=\"R\",Season_Summary!T163,\"\"),\"\")","v":""},{"$f":"IFERROR(IF(INDIRECT(\"'game1 (\"&$AD163&\")'!$a$2\")=\"R\",Season_Summary!U163,\"\"),\"\")","v":""},{"$f":"IFERROR(IF(INDIRECT(\"'game1 (\"&$AD163&\")'!$a$2\")=\"R\",Season_Summary!V163,\"\"),\"\")","v":""},{"$f":"IFERROR(IF(INDIRECT(\"'game1 (\"&$AD163&\")'!$a$2\")=\"R\",Season_Summary!W163,\"\"),\"\")","v":""},{"$f":"IFERROR(IF(INDIRECT(\"'game1 (\"&$AD163&\")'!$a$2\")=\"R\",Season_Summary!X163,\"\"),\"\")","v":""},{"$f":"IFERROR(IF(INDIRECT(\"'game1 (\"&$AD163&\")'!$a$2\")=\"R\",Season_Summary!Y163,\"\"),\"\")","v":""},{"$f":"IFERROR(IF(INDIRECT(\"'game1 (\"&$AD163&\")'!$a$2\")=\"R\",Season_Summary!Z163,\"\"),\"\")","v":""},{"$f":"IFERROR(IF(INDIRECT(\"'game1 (\"&$AD163&\")'!$a$2\")=\"R\",Season_Summary!AA163,\"\"),\"\")","v":""},{"$f":"IFERROR(IF(INDIRECT(\"'game1 (\"&$AD163&\")'!$a$2\")=\"R\",Season_Summary!AB163,\"\"),\"\")","v":""},{"$f":"IFERROR(IF(INDIRECT(\"'game1 (\"&$AD163&\")'!$a$2\")=\"R\",Season_Summary!AC163,\"\"),\"\")","v":""},31]
[{"$f":"IFERROR(IF(INDIRECT(\"'game1 (\"&$AD164&\")'!$a$2\")=\"R\",Season_Summary!A164,\"\"),\"\")","v":""},{"$f":"IFERROR(IF(INDIRECT(\"'game1 (\"&$AD164&\")'!$a$2\")=\"R\",Season_Summary!B164,\"\"),\"\")","v":""},{"$f":"IFERROR(IF(INDIRECT(\"'game1 (\"&$AD164&\")'!$a$2\")=\"R\",Season_Summary!C164,\"\"),\"\")","v":""},{"$f":"IFERROR(IF(INDIRECT(\"'game1 (\"&$AD164&\")'!$a$2\")=\"R\",Season_Summary!D164,\"\"),\"\")","v":""},{"$f":"IFERROR(IF(INDIRECT(\"'game1 (\"&$AD164&\")'!$a$2\")=\"R\",Season_Summary!E164,\"\"),\"\")","v":""},{"$f":"IFERROR(IF(INDIRECT(\"'game1 (\"&$AD164&\")'!$a$2\")=\"R\",Season_Summary!F164,\"\"),\"\")","v":""},{"$f":"IFERROR(IF(INDIRECT(\"'game1 (\"&$AD164&\")'!$a$2\")=\"R\",Season_Summary!G164,\"\"),\"\")","v":""},{"$f":"IFERROR(IF(INDIRECT(\"'game1 (\"&$AD164&\")'!$a$2\")=\"R\",Season_Summary!H164,\"\"),\"\")","v":""},{"$f":"IFERROR(IF(INDIRECT(\"'game1 (\"&$AD164&\")'!$a$2\")=\"R\",Season_Summary!I164,\"\"),\"\")","v":""},{"$f":"IFERROR(IF(INDIRECT(\"'game1 (\"&$AD164&\")'!$a$2\")=\"R\",Season_Summary!J164,\"\"),\"\")","v":""},{"$f":"IFERROR(IF(INDIRECT(\"'game1 (\"&$AD164&\")'!$a$2\")=\"R\",Season_Summary!K164,\"\"),\"\")","v":""},{"$f":"IFERROR(IF(INDIRECT(\"'game1 (\"&$AD164&\")'!$a$2\")=\"R\",Season_Summary!L164,\"\"),\"\")","v":""},{"$f":"IFERROR(IF(INDIRECT(\"'game1 (\"&$AD164&\")'!$a$2\")=\"R\",Season_Summary!M164,\"\"),\"\")","v":""},{"$f":"IFERROR(IF(INDIRECT(\"'game1 (\"&$AD164&\")'!$a$2\")=\"R\",Season_Summary!N164,\"\"),\"\")","v":""},{"$f":"IFERROR(IF(INDIRECT(\"'game1 (\"&$AD164&\")'!$a$2\")=\"R\",Season_Summary!O164,\"\"),\"\")","v":""},{"$f":"IFERROR(IF(INDIRECT(\"'game1 (\"&$AD164&\")'!$a$2\")=\"R\",Season_Summary!P164,\"\"),\"\")","v":""},{"$f":"IFERROR(IF(INDIRECT(\"'game1 (\"&$AD164&\")'!$a$2\")=\"R\",Season_Summary!Q164,\"\"),\"\")","v":""},{"$f":"IFERROR(IF(INDIRECT(\"'game1 (\"&$AD164&\")'!$a$2\")=\"R\",Season_Summary!R164,\"\"),\"\")","v":""},{"$f":"IFERROR(IF(INDIRECT(\"'game1 (\"&$AD164&\")'!$a$2\")=\"R\",Season_Summary!S164,\"\"),\"\")","v":""},{"$f":"IFERROR(IF(INDIRECT(\"'game1 (\"&$AD164&\")'!$a$2\")=\"R\",Season_Summary!T164,\"\"),\"\")","v":""},{"$f":"IFERROR(IF(INDIRECT(\"'game1 (\"&$AD164&\")'!$a$2\")=\"R\",Season_Summary!U164,\"\"),\"\")","v":""},{"$f":"IFERROR(IF(INDIRECT(\"'game1 (\"&$AD164&\")'!$a$2\")=\"R\",Season_Summary!V164,\"\"),\"\")","v":""},{"$f":"IFERROR(IF(INDIRECT(\"'game1 (\"&$AD164&\")'!$a$2\")=\"R\",Season_Summary!W164,\"\"),\"\")","v":""},{"$f":"IFERROR(IF(INDIRECT(\"'game1 (\"&$AD164&\")'!$a$2\")=\"R\",Season_Summary!X164,\"\"),\"\")","v":""},{"$f":"IFERROR(IF(INDIRECT(\"'game1 (\"&$AD164&\")'!$a$2\")=\"R\",Season_Summary!Y164,\"\"),\"\")","v":""},{"$f":"IFERROR(IF(INDIRECT(\"'game1 (\"&$AD164&\")'!$a$2\")=\"R\",Season_Summary!Z164,\"\"),\"\")","v":""},{"$f":"IFERROR(IF(INDIRECT(\"'game1 (\"&$AD164&\")'!$a$2\")=\"R\",Season_Summary!AA164,\"\"),\"\")","v":""},{"$f":"IFERROR(IF(INDIRECT(\"'game1 (\"&$AD164&\")'!$a$2\")=\"R\",Season_Summary!AB164,\"\"),\"\")","v":""},{"$f":"IFERROR(IF(INDIRECT(\"'game1 (\"&$AD164&\")'!$a$2\")=\"R\",Season_Summary!AC164,\"\"),\"\")","v":""},31]
[{"$f":"IFERROR(IF(INDIRECT(\"'game1 (\"&$AD165&\")'!$a$2\")=\"R\",Season_Summary!A165,\"\"),\"\")","v":""},{"$f":"IFERROR(IF(INDIRECT(\"'game1 (\"&$AD165&\")'!$a$2\")=\"R\",Season_Summary!B165,\"\"),\"\")","v":""},{"$f":"IFERROR(IF(INDIRECT(\"'game1 (\"&$AD165&\")'!$a$2\")=\"R\",Season_Summary!C165,\"\"),\"\")","v":""},{"$f":"IFERROR(IF(INDIRECT(\"'game1 (\"&$AD165&\")'!$a$2\")=\"R\",Season_Summary!D165,\"\"),\"\")","v":""},{"$f":"IFERROR(IF(INDIRECT(\"'game1 (\"&$AD165&\")'!$a$2\")=\"R\",Season_Summary!E165,\"\"),\"\")","v":""},{"$f":"IFERROR(IF(INDIRECT(\"'game1 (\"&$AD165&\")'!$a$2\")=\"R\",Season_Summary!F165,\"\"),\"\")","v":""},{"$f":"IFERROR(IF(INDIRECT(\"'game1 (\"&$AD165&\")'!$a$2\")=\"R\",Season_Summary!G165,\"\"),\"\")","v":""},{"$f":"IFERROR(IF(INDIRECT(\"'game1 (\"&$AD165&\")'!$a$2\")=\"R\",Season_Summary!H165,\"\"),\"\")","v":""},{"$f":"IFERROR(IF(INDIRECT(\"'game1 (\"&$AD165&\")'!$a$2\")=\"R\",Season_Summary!I165,\"\"),\"\")","v":""},{"$f":"IFERROR(IF(INDIRECT(\"'game1 (\"&$AD165&\")'!$a$2\")=\"R\",Season_Summary!J165,\"\"),\"\")","v":""},{"$f":"IFERROR(IF(INDIRECT(\"'game1 (\"&$AD165&\")'!$a$2\")=\"R\",Season_Summary!K165,\"\"),\"\")","v":""},{"$f":"IFERROR(IF(INDIRECT(\"'game1 (\"&$AD165&\")'!$a$2\")=\"R\",Season_Summary!L165,\"\"),\"\")","v":""},{"$f":"IFERROR(IF(INDIRECT(\"'game1 (\"&$AD165&\")'!$a$2\")=\"R\",Season_Summary!M165,\"\"),\"\")","v":""},{"$f":"IFERROR(IF(INDIRECT(\"'game1 (\"&$AD165&\")'!$a$2\")=\"R\",Season_Summary!N165,\"\"),\"\")","v":""},{"$f":"IFERROR(IF(INDIRECT(\"'game1 (\"&$AD165&\")'!$a$2\")=\"R\",Season_Summary!O165,\"\"),\"\")","v":""},{"$f":"IFERROR(IF(INDIRECT(\"'game1 (\"&$AD165&\")'!$a$2\")=\"R\",Season_Summary!P165,\"\"),\"\")","v":""},{"$f":"IFERROR(IF(INDIRECT(\"'game1 (\"&$AD165&\")'!$a$2\")=\"R\",Season_Summary!Q165,\"\"),\"\")","v":""},{"$f":"IFERROR(IF(INDIRECT(\"'game1 (\"&$AD165&\")'!$a$2\")=\"R\",Season_Summary!R165,\"\"),\"\")","v":""},{"$f":"IFERROR(IF(INDIRECT(\"'game1 (\"&$AD165&\")'!$a$2\")=\"R\",Season_Summary!S165,\"\"),\"\")","v":""},{"$f":"IFERROR(IF(INDIRECT(\"'game1 (\"&$AD165&\")'!$a$2\")=\"R\",Season_Summary!T165,\"\"),\"\")","v":""},{"$f":"IFERROR(IF(INDIRECT(\"'game1 (\"&$AD165&\")'!$a$2\")=\"R\",Season_Summary!U165,\"\"),\"\")","v":""},{"$f":"IFERROR(IF(INDIRECT(\"'game1 (\"&$AD165&\")'!$a$2\")=\"R\",Season_Summary!V165,\"\"),\"\")","v":""},{"$f":"IFERROR(IF(INDIRECT(\"'game1 (\"&$AD165&\")'!$a$2\")=\"R\",Season_Summary!W165,\"\"),\"\")","v":""},{"$f":"IFERROR(IF(INDIRECT(\"'game1 (\"&$AD165&\")'!$a$2\")=\"R\",Season_Summary!X165,\"\"),\"\")","v":""},{"$f":"IFERROR(IF(INDIRECT(\"'game1 (\"&$AD165&\")'!$a$2\")=\"R\",Season_Summary!Y165,\"\"),\"\")","v":""},{"$f":"IFERROR(IF(INDIRECT(\"'game1 (\"&$AD165&\")'!$a$2\")=\"R\",Season_Summary!Z165,\"\"),\"\")","v":""},{"$f":"IFERROR(IF(INDIRECT(\"'game1 (\"&$AD165&\")'!$a$2\")=\"R\",Season_Summary!AA165,\"\"),\"\")","v":""},{"$f":"IFERROR(IF(INDIRECT(\"'game1 (\"&$AD165&\")'!$a$2\")=\"R\",Season_Summary!AB165,\"\"),\"\")","v":""},{"$f":"IFERROR(IF(INDIRECT(\"'game1 (\"&$AD165&\")'!$a$2\")=\"R\",Season_Summary!AC165,\"\"),\"\")","v":""},32]
[{"$f":"IFERROR(IF(INDIRECT(\"'game1 (\"&$AD166&\")'!$a$2\")=\"R\",Season_Summary!A166,\"\"),\"\")","v":""},{"$f":"IFERROR(IF(INDIRECT(\"'game1 (\"&$AD166&\")'!$a$2\")=\"R\",Season_Summary!B166,\"\"),\"\")","v":""},{"$f":"IFERROR(IF(INDIRECT(\"'game1 (\"&$AD166&\")'!$a$2\")=\"R\",Season_Summary!C166,\"\"),\"\")","v":""},{"$f":"IFERROR(IF(INDIRECT(\"'game1 (\"&$AD166&\")'!$a$2\")=\"R\",Season_Summary!D166,\"\"),\"\")","v":""},{"$f":"IFERROR(IF(INDIRECT(\"'game1 (\"&$AD166&\")'!$a$2\")=\"R\",Season_Summary!E166,\"\"),\"\")","v":""},{"$f":"IFERROR(IF(INDIRECT(\"'game1 (\"&$AD166&\")'!$a$2\")=\"R\",Season_Summary!F166,\"\"),\"\")","v":""},{"$f":"IFERROR(IF(INDIRECT(\"'game1 (\"&$AD166&\")'!$a$2\")=\"R\",Season_Summary!G166,\"\"),\"\")","v":""},{"$f":"IFERROR(IF(INDIRECT(\"'game1 (\"&$AD166&\")'!$a$2\")=\"R\",Season_Summary!H166,\"\"),\"\")","v":""},{"$f":"IFERROR(IF(INDIRECT(\"'game1 (\"&$AD166&\")'!$a$2\")=\"R\",Season_Summary!I166,\"\"),\"\")","v":""},{"$f":"IFERROR(IF(INDIRECT(\"'game1 (\"&$AD166&\")'!$a$2\")=\"R\",Season_Summary!J166,\"\"),\"\")","v":""},{"$f":"IFERROR(IF(INDIRECT(\"'game1 (\"&$AD166&\")'!$a$2\")=\"R\",Season_Summary!K166,\"\"),\"\")","v":""},{"$f":"IFERROR(IF(INDIRECT(\"'game1 (\"&$AD166&\")'!$a$2\")=\"R\",Season_Summary!L166,\"\"),\"\")","v":""},{"$f":"IFERROR(IF(INDIRECT(\"'game1 (\"&$AD166&\")'!$a$2\")=\"R\",Season_Summary!M166,\"\"),\"\")","v":""},{"$f":"IFERROR(IF(INDIRECT(\"'game1 (\"&$AD166&\")'!$a$2\")=\"R\",Season_Summary!N166,\"\"),\"\")","v":""},{"$f":"IFERROR(IF(INDIRECT(\"'game1 (\"&$AD166&\")'!$a$2\")=\"R\",Season_Summary!O166,\"\"),\"\")","v":""},{"$f":"IFERROR(IF(INDIRECT(\"'game1 (\"&$AD166&\")'!$a$2\")=\"R\",Season_Summary!P166,\"\"),\"\")","v":""},{"$f":"IFERROR(IF(INDIRECT(\"'game1 (\"&$AD166&\")'!$a$2\")=\"R\",Season_Summary!Q166,\"\"),\"\")","v":""},{"$f":"IFERROR(IF(INDIRECT(\"'game1 (\"&$AD166&\")'!$a$2\")=\"R\",Season_Summary!R166,\"\"),\"\")","v":""},{"$f":"IFERROR(IF(INDIRECT(\"'game1 (\"&$AD166&\")'!$a$2\")=\"R\",Season_Summary!S166,\"\"),\"\")","v":""},{"$f":"IFERROR(IF(INDIRECT(\"'game1 (\"&$AD166&\")'!$a$2\")=\"R\",Season_Summary!T166,\"\"),\"\")","v":""},{"$f":"IFERROR(IF(INDIRECT(\"'game1 (\"&$AD166&\")'!$a$2\")=\"R\",Season_Summary!U166,\"\"),\"\")","v":""},{"$f":"IFERROR(IF(INDIRECT(\"'game1 (\"&$AD166&\")'!$a$2\")=\"R\",Season_Summary!V166,\"\"),\"\")","v":""},{"$f":"IFERROR(IF(INDIRECT(\"'game1 (\"&$AD166&\")'!$a$2\")=\"R\",Season_Summary!W166,\"\"),\"\")","v":""},{"$f":"IFERROR(IF(INDIRECT(\"'game1 (\"&$AD166&\")'!$a$2\")=\"R\",Season_Summary!X166,\"\"),\"\")","v":""},{"$f":"IFERROR(IF(INDIRECT(\"'game1 (\"&$AD166&\")'!$a$2\")=\"R\",Season_Summary!Y166,\"\"),\"\")","v":""},{"$f":"IFERROR(IF(INDIRECT(\"'game1 (\"&$AD166&\")'!$a$2\")=\"R\",Season_Summary!Z166,\"\"),\"\")","v":""},{"$f":"IFERROR(IF(INDIRECT(\"'game1 (\"&$AD166&\")'!$a$2\")=\"R\",Season_Summary!AA166,\"\"),\"\")","v":""},{"$f":"IFERROR(IF(INDIRECT(\"'game1 (\"&$AD166&\")'!$a$2\")=\"R\",Season_Summary!AB166,\"\"),\"\")","v":""},{"$f":"IFERROR(IF(INDIRECT(\"'game1 (\"&$AD166&\")'!$a$2\")=\"R\",Season_Summary!AC166,\"\"),\"\")","v":""},32]
[{"$f":"IFERROR(IF(INDIRECT(\"'game1 (\"&$AD167&\")'!$a$2\")=\"R\",Season_Summary!A167,\"\"),\"\")","v":""},{"$f":"IFERROR(IF(INDIRECT(\"'game1 (\"&$AD167&\")'!$a$2\")=\"R\",Season_Summary!B167,\"\"),\"\")","v":""},{"$f":"IFERROR(IF(INDIRECT(\"'game1 (\"&$AD167&\")'!$a$2\")=\"R\",Season_Summary!C167,\"\"),\"\")","v":""},{"$f":"IFERROR(IF(INDIRECT(\"'game1 (\"&$AD167&\")'!$a$2\")=\"R\",Season_Summary!D167,\"\"),\"\")","v":""},{"$f":"IFERROR(IF(INDIRECT(\"'game1 (\"&$AD167&\")'!$a$2\")=\"R\",Season_Summary!E167,\"\"),\"\")","v":""},{"$f":"IFERROR(IF(INDIRECT(\"'game1 (\"&$AD167&\")'!$a$2\")=\"R\",Season_Summary!F167,\"\"),\"\")","v":""},{"$f":"IFERROR(IF(INDIRECT(\"'game1 (\"&$AD167&\")'!$a$2\")=\"R\",Season_Summary!G167,\"\"),\"\")","v":""},{"$f":"IFERROR(IF(INDIRECT(\"'game1 (\"&$AD167&\")'!$a$2\")=\"R\",Season_Summary!H167,\"\"),\"\")","v":""},{"$f":"IFERROR(IF(INDIRECT(\"'game1 (\"&$AD167&\")'!$a$2\")=\"R\",Season_Summary!I167,\"\"),\"\")","v":""},{"$f":"IFERROR(IF(INDIRECT(\"'game1 (\"&$AD167&\")'!$a$2\")=\"R\",Season_Summary!J167,\"\"),\"\")","v":""},{"$f":"IFERROR(IF(INDIRECT(\"'game1 (\"&$AD167&\")'!$a$2\")=\"R\",Season_Summary!K167,\"\"),\"\")","v":""},{"$f":"IFERROR(IF(INDIRECT(\"'game1 (\"&$AD167&\")'!$a$2\")=\"R\",Season_Summary!L167,\"\"),\"\")","v":""},{"$f":"IFERROR(IF(INDIRECT(\"'game1 (\"&$AD167&\")'!$a$2\")=\"R\",Season_Summary!M167,\"\"),\"\")","v":""},{"$f":"IFERROR(IF(INDIRECT(\"'game1 (\"&$AD167&\")'!$a$2\")=\"R\",Season_Summary!N167,\"\"),\"\")","v":""},{"$f":"IFERROR(IF(INDIRECT(\"'game1 (\"&$AD167&\")'!$a$2\")=\"R\",Season_Summary!O167,\"\"),\"\")","v":""},{"$f":"IFERROR(IF(INDIRECT(\"'game1 (\"&$AD167&\")'!$a$2\")=\"R\",Season_Summary!P167,\"\"),\"\")","v":""},{"$f":"IFERROR(IF(INDIRECT(\"'game1 (\"&$AD167&\")'!$a$2\")=\"R\",Season_Summary!Q167,\"\"),\"\")","v":""},{"$f":"IFERROR(IF(INDIRECT(\"'game1 (\"&$AD167&\")'!$a$2\")=\"R\",Season_Summary!R167,\"\"),\"\")","v":""},{"$f":"IFERROR(IF(INDIRECT(\"'game1 (\"&$AD167&\")'!$a$2\")=\"R\",Season_Summary!S167,\"\"),\"\")","v":""},{"$f":"IFERROR(IF(INDIRECT(\"'game1 (\"&$AD167&\")'!$a$2\")=\"R\",Season_Summary!T167,\"\"),\"\")","v":""},{"$f":"IFERROR(IF(INDIRECT(\"'game1 (\"&$AD167&\")'!$a$2\")=\"R\",Season_Summary!U167,\"\"),\"\")","v":""},{"$f":"IFERROR(IF(INDIRECT(\"'game1 (\"&$AD167&\")'!$a$2\")=\"R\",Season_Summary!V167,\"\"),\"\")","v":""},{"$f":"IFERROR(IF(INDIRECT(\"'game1 (\"&$AD167&\")'!$a$2\")=\"R\",Season_Summary!W167,\"\"),\"\")","v":""},{"$f":"IFERROR(IF(INDIRECT(\"'game1 (\"&$AD167&\")'!$a$2\")=\"R\",Season_Summary!X167,\"\"),\"\")","v":""},{"$f":"IFERROR(IF(INDIRECT(\"'game1 (\"&$AD167&\")'!$a$2\")=\"R\",Season_Summary!Y167,\"\"),\"\")","v":""},{"$f":"IFERROR(IF(INDIRECT(\"'game1 (\"&$AD167&\")'!$a$2\")=\"R\",Season_Summary!Z167,\"\"),\"\")","v":""},{"$f":"IFERROR(IF(INDIRECT(\"'game1 (\"&$AD167&\")'!$a$2\")=\"R\",Season_Summary!AA167,\"\"),\"\")","v":""},{"$f":"IFERROR(IF(INDIRECT(\"'game1 (\"&$AD167&\")'!$a$2\")=\"R\",Season_Summary!AB167,\"\"),\"\")","v":""},{"$f":"IFERROR(IF(INDIRECT(\"'game1 (\"&$AD167&\")'!$a$2\")=\"R\",Season_Summary!AC167,\"\"),\"\")","v":""},33]
[{"$f":"IFERROR(IF(INDIRECT(\"'game1 (\"&$AD168&\")'!$a$2\")=\"R\",Season_Summary!A168,\"\"),\"\")","v":""},{"$f":"IFERROR(IF(INDIRECT(\"'game1 (\"&$AD168&\")'!$a$2\")=\"R\",Season_Summary!B168,\"\"),\"\")","v":""},{"$f":"IFERROR(IF(INDIRECT(\"'game1 (\"&$AD168&\")'!$a$2\")=\"R\",Season_Summary!C168,\"\"),\"\")","v":""},{"$f":"IFERROR(IF(INDIRECT(\"'game1 (\"&$AD168&\")'!$a$2\")=\"R\",Season_Summary!D168,\"\"),\"\")","v":""},{"$f":"IFERROR(IF(INDIRECT(\"'game1 (\"&$AD168&\")'!$a$2\")=\"R\",Season_Summary!E168,\"\"),\"\")","v":""},{"$f":"IFERROR(IF(INDIRECT(\"'game1 (\"&$AD168&\")'!$a$2\")=\"R\",Season_Summary!F168,\"\"),\"\")","v":""},{"$f":"IFERROR(IF(INDIRECT(\"'game1 (\"&$AD168&\")'!$a$2\")=\"R\",Season_Summary!G168,\"\"),\"\")","v":""},{"$f":"IFERROR(IF(INDIRECT(\"'game1 (\"&$AD168&\")'!$a$2\")=\"R\",Season_Summary!H168,\"\"),\"\")","v":""},{"$f":"IFERROR(IF(INDIRECT(\"'game1 (\"&$AD168&\")'!$a$2\")=\"R\",Season_Summary!I168,\"\"),\"\")","v":""},{"$f":"IFERROR(IF(INDIRECT(\"'game1 (\"&$AD168&\")'!$a$2\")=\"R\",Season_Summary!J168,\"\"),\"\")","v":""},{"$f":"IFERROR(IF(INDIRECT(\"'game1 (\"&$AD168&\")'!$a$2\")=\"R\",Season_Summary!K168,\"\"),\"\")","v":""},{"$f":"IFERROR(IF(INDIRECT(\"'game1 (\"&$AD168&\")'!$a$2\")=\"R\",Season_Summary!L168,\"\"),\"\")","v":""},{"$f":"IFERROR(IF(INDIRECT(\"'game1 (\"&$AD168&\")'!$a$2\")=\"R\",Season_Summary!M168,\"\"),\"\")","v":""},{"$f":"IFERROR(IF(INDIRECT(\"'game1 (\"&$AD168&\")'!$a$2\")=\"R\",Season_Summary!N168,\"\"),\"\")","v":""},{"$f":"IFERROR(IF(INDIRECT(\"'game1 (\"&$AD168&\")'!$a$2\")=\"R\",Season_Summary!O168,\"\"),\"\")","v":""},{"$f":"IFERROR(IF(INDIRECT(\"'game1 (\"&$AD168&\")'!$a$2\")=\"R\",Season_Summary!P168,\"\"),\"\")","v":""},{"$f":"IFERROR(IF(INDIRECT(\"'game1 (\"&$AD168&\")'!$a$2\")=\"R\",Season_Summary!Q168,\"\"),\"\")","v":""},{"$f":"IFERROR(IF(INDIRECT(\"'game1 (\"&$AD168&\")'!$a$2\")=\"R\",Season_Summary!R168,\"\"),\"\")","v":""},{"$f":"IFERROR(IF(INDIRECT(\"'game1 (\"&$AD168&\")'!$a$2\")=\"R\",Season_Summary!S168,\"\"),\"\")","v":""},{"$f":"IFERROR(IF(INDIRECT(\"'game1 (\"&$AD168&\")'!$a$2\")=\"R\",Season_Summary!T168,\"\"),\"\")","v":""},{"$f":"IFERROR(IF(INDIRECT(\"'game1 (\"&$AD168&\")'!$a$2\")=\"R\",Season_Summary!U168,\"\"),\"\")","v":""},{"$f":"IFERROR(IF(INDIRECT(\"'game1 (\"&$AD168&\")'!$a$2\")=\"R\",Season_Summary!V168,\"\"),\"\")","v":""},{"$f":"IFERROR(IF(INDIRECT(\"'game1 (\"&$AD168&\")'!$a$2\")=\"R\",Season_Summary!W168,\"\"),\"\")","v":""},{"$f":"IFERROR(IF(INDIRECT(\"'game1 (\"&$AD168&\")'!$a$2\")=\"R\",Season_Summary!X168,\"\"),\"\")","v":""},{"$f":"IFERROR(IF(INDIRECT(\"'game1 (\"&$AD168&\")'!$a$2\")=\"R\",Season_Summary!Y168,\"\"),\"\")","v":""},{"$f":"IFERROR(IF(INDIRECT(\"'game1 (\"&$AD168&\")'!$a$2\")=\"R\",Season_Summary!Z168,\"\"),\"\")","v":""},{"$f":"IFERROR(IF(INDIRECT(\"'game1 (\"&$AD168&\")'!$a$2\")=\"R\",Season_Summary!AA168,\"\"),\"\")","v":""},{"$f":"IFERROR(IF(INDIRECT(\"'game1 (\"&$AD168&\")'!$a$2\")=\"R\",Season_Summary!AB168,\"\"),\"\")","v":""},{"$f":"IFERROR(IF(INDIRECT(\"'game1 (\"&$AD168&\")'!$a$2\")=\"R\",Season_Summary!AC168,\"\"),\"\")","v":""},33]
[{"$f":"IFERROR(IF(INDIRECT(\"'game1 (\"&$AD169&\")'!$a$2\")=\"R\",Season_Summary!A169,\"\"),\"\")","v":""},{"$f":"IFERROR(IF(INDIRECT(\"'game1 (\"&$AD169&\")'!$a$2\")=\"R\",Season_Summary!B169,\"\"),\"\")","v":""},{"$f":"IFERROR(IF(INDIRECT(\"'game1 (\"&$AD169&\")'!$a$2\")=\"R\",Season_Summary!C169,\"\"),\"\")","v":""},{"$f":"IFERROR(IF(INDIRECT(\"'game1 (\"&$AD169&\")'!$a$2\")=\"R\",Season_Summary!D169,\"\"),\"\")","v":""},{"$f":"IFERROR(IF(INDIRECT(\"'game1 (\"&$AD169&\")'!$a$2\")=\"R\",Season_Summary!E169,\"\"),\"\")","v":""},{"$f":"IFERROR(IF(INDIRECT(\"'game1 (\"&$AD169&\")'!$a$2\")=\"R\",Season_Summary!F169,\"\"),\"\")","v":""},{"$f":"IFERROR(IF(INDIRECT(\"'game1 (\"&$AD169&\")'!$a$2\")=\"R\",Season_Summary!G169,\"\"),\"\")","v":""},{"$f":"IFERROR(IF(INDIRECT(\"'game1 (\"&$AD169&\")'!$a$2\")=\"R\",Season_Summary!H169,\"\"),\"\")","v":""},{"$f":"IFERROR(IF(INDIRECT(\"'game1 (\"&$AD169&\")'!$a$2\")=\"R\",Season_Summary!I169,\"\"),\"\")","v":""},{"$f":"IFERROR(IF(INDIRECT(\"'game1 (\"&$AD169&\")'!$a$2\")=\"R\",Season_Summary!J169,\"\"),\"\")","v":""},{"$f":"IFERROR(IF(INDIRECT(\"'game1 (\"&$AD169&\")'!$a$2\")=\"R\",Season_Summary!K169,\"\"),\"\")","v":""},{"$f":"IFERROR(IF(INDIRECT(\"'game1 (\"&$AD169&\")'!$a$2\")=\"R\",Season_Summary!L169,\"\"),\"\")","v":""},{"$f":"IFERROR(IF(INDIRECT(\"'game1 (\"&$AD169&\")'!$a$2\")=\"R\",Season_Summary!M169,\"\"),\"\")","v":""},{"$f":"IFERROR(IF(INDIRECT(\"'game1 (\"&$AD169&\")'!$a$2\")=\"R\",Season_Summary!N169,\"\"),\"\")","v":""},{"$f":"IFERROR(IF(INDIRECT(\"'game1 (\"&$AD169&\")'!$a$2\")=\"R\",Season_Summary!O169,\"\"),\"\")","v":""},{"$f":"IFERROR(IF(INDIRECT(\"'game1 (\"&$AD169&\")'!$a$2\")=\"R\",Season_Summary!P169,\"\"),\"\")","v":""},{"$f":"IFERROR(IF(INDIRECT(\"'game1 (\"&$AD169&\")'!$a$2\")=\"R\",Season_Summary!Q169,\"\"),\"\")","v":""},{"$f":"IFERROR(IF(INDIRECT(\"'game1 (\"&$AD169&\")'!$a$2\")=\"R\",Season_Summary!R169,\"\"),\"\")","v":""},{"$f":"IFERROR(IF(INDIRECT(\"'game1 (\"&$AD169&\")'!$a$2\")=\"R\",Season_Summary!S169,\"\"),\"\")","v":""},{"$f":"IFERROR(IF(INDIRECT(\"'game1 (\"&$AD169&\")'!$a$2\")=\"R\",Season_Summary!T169,\"\"),\"\")","v":""},{"$f":"IFERROR(IF(INDIRECT(\"'game1 (\"&$AD169&\")'!$a$2\")=\"R\",Season_Summary!U169,\"\"),\"\")","v":""},{"$f":"IFERROR(IF(INDIRECT(\"'game1 (\"&$AD169&\")'!$a$2\")=\"R\",Season_Summary!V169,\"\"),\"\")","v":""},{"$f":"IFERROR(IF(INDIRECT(\"'game1 (\"&$AD169&\")'!$a$2\")=\"R\",Season_Summary!W169,\"\"),\"\")","v":""},{"$f":"IFERROR(IF(INDIRECT(\"'game1 (\"&$AD169&\")'!$a$2\")=\"R\",Season_Summary!X169,\"\"),\"\")","v":""},{"$f":"IFERROR(IF(INDIRECT(\"'game1 (\"&$AD169&\")'!$a$2\")=\"R\",Season_Summary!Y169,\"\"),\"\")","v":""},{"$f":"IFERROR(IF(INDIRECT(\"'game1 (\"&$AD169&\")'!$a$2\")=\"R\",Season_Summary!Z169,\"\"),\"\")","v":""},{"$f":"IFERROR(IF(INDIRECT(\"'game1 (\"&$AD169&\")'!$a$2\")=\"R\",Season_Summary!AA169,\"\"),\"\")","v":""},{"$f":"IFERROR(IF(INDIRECT(\"'game1 (\"&$AD169&\")'!$a$2\")=\"R\",Season_Summary!AB169,\"\"),\"\")","v":""},{"$f":"IFERROR(IF(INDIRECT(\"'game1 (\"&$AD169&\")'!$a$2\")=\"R\",Season_Summary!AC169,\"\"),\"\")","v":""},34]
[{"$f":"IFERROR(IF(INDIRECT(\"'game1 (\"&$AD170&\")'!$a$2\")=\"R\",Season_Summary!A170,\"\"),\"\")","v":""},{"$f":"IFERROR(IF(INDIRECT(\"'game1 (\"&$AD170&\")'!$a$2\")=\"R\",Season_Summary!B170,\"\"),\"\")","v":""},{"$f":"IFERROR(IF(INDIRECT(\"'game1 (\"&$AD170&\")'!$a$2\")=\"R\",Season_Summary!C170,\"\"),\"\")","v":""},{"$f":"IFERROR(IF(INDIRECT(\"'game1 (\"&$AD170&\")'!$a$2\")=\"R\",Season_Summary!D170,\"\"),\"\")","v":""},{"$f":"IFERROR(IF(INDIRECT(\"'game1 (\"&$AD170&\")'!$a$2\")=\"R\",Season_Summary!E170,\"\"),\"\")","v":""},{"$f":"IFERROR(IF(INDIRECT(\"'game1 (\"&$AD170&\")'!$a$2\")=\"R\",Season_Summary!F170,\"\"),\"\")","v":""},{"$f":"IFERROR(IF(INDIRECT(\"'game1 (\"&$AD170&\")'!$a$2\")=\"R\",Season_Summary!G170,\"\"),\"\")","v":""},{"$f":"IFERROR(IF(INDIRECT(\"'game1 (\"&$AD170&\")'!$a$2\")=\"R\",Season_Summary!H170,\"\"),\"\")","v":""},{"$f":"IFERROR(IF(INDIRECT(\"'game1 (\"&$AD170&\")'!$a$2\")=\"R\",Season_Summary!I170,\"\"),\"\")","v":""},{"$f":"IFERROR(IF(INDIRECT(\"'game1 (\"&$AD170&\")'!$a$2\")=\"R\",Season_Summary!J170,\"\"),\"\")","v":""},{"$f":"IFERROR(IF(INDIRECT(\"'game1 (\"&$AD170&\")'!$a$2\")=\"R\",Season_Summary!K170,\"\"),\"\")","v":""},{"$f":"IFERROR(IF(INDIRECT(\"'game1 (\"&$AD170&\")'!$a$2\")=\"R\",Season_Summary!L170,\"\"),\"\")","v":""},{"$f":"IFERROR(IF(INDIRECT(\"'game1 (\"&$AD170&\")'!$a$2\")=\"R\",Season_Summary!M170,\"\"),\"\")","v":""},{"$f":"IFERROR(IF(INDIRECT(\"'game1 (\"&$AD170&\")'!$a$2\")=\"R\",Season_Summary!N170,\"\"),\"\")","v":""},{"$f":"IFERROR(IF(INDIRECT(\"'game1 (\"&$AD170&\")'!$a$2\")=\"R\",Season_Summary!O170,\"\"),\"\")","v":""},{"$f":"IFERROR(IF(INDIRECT(\"'game1 (\"&$AD170&\")'!$a$2\")=\"R\",Season_Summary!P170,\"\"),\"\")","v":""},{"$f":"IFERROR(IF(INDIRECT(\"'game1 (\"&$AD170&\")'!$a$2\")=\"R\",Season_Summary!Q170,\"\"),\"\")","v":""},{"$f":"IFERROR(IF(INDIRECT(\"'game1 (\"&$AD170&\")'!$a$2\")=\"R\",Season_Summary!R170,\"\"),\"\")","v":""},{"$f":"IFERROR(IF(INDIRECT(\"'game1 (\"&$AD170&\")'!$a$2\")=\"R\",Season_Summary!S170,\"\"),\"\")","v":""},{"$f":"IFERROR(IF(INDIRECT(\"'game1 (\"&$AD170&\")'!$a$2\")=\"R\",Season_Summary!T170,\"\"),\"\")","v":""},{"$f":"IFERROR(IF(INDIRECT(\"'game1 (\"&$AD170&\")'!$a$2\")=\"R\",Season_Summary!U170,\"\"),\"\")","v":""},{"$f":"IFERROR(IF(INDIRECT(\"'game1 (\"&$AD170&\")'!$a$2\")=\"R\",Season_Summary!V170,\"\"),\"\")","v":""},{"$f":"IFERROR(IF(INDIRECT(\"'game1 (\"&$AD170&\")'!$a$2\")=\"R\",Season_Summary!W170,\"\"),\"\")","v":""},{"$f":"IFERROR(IF(INDIRECT(\"'game1 (\"&$AD170&\")'!$a$2\")=\"R\",Season_Summary!X170,\"\"),\"\")","v":""},{"$f":"IFERROR(IF(INDIRECT(\"'game1 (\"&$AD170&\")'!$a$2\")=\"R\",Season_Summary!Y170,\"\"),\"\")","v":""},{"$f":"IFERROR(IF(INDIRECT(\"'game1 (\"&$AD170&\")'!$a$2\")=\"R\",Season_Summary!Z170,\"\"),\"\")","v":""},{"$f":"IFERROR(IF(INDIRECT(\"'game1 (\"&$AD170&\")'!$a$2\")=\"R\",Season_Summary!AA170,\"\"),\"\")","v":""},{"$f":"IFERROR(IF(INDIRECT(\"'game1 (\"&$AD170&\")'!$a$2\")=\"R\",Season_Summary!AB170,\"\"),\"\")","v":""},{"$f":"IFERROR(IF(INDIRECT(\"'game1 (\"&$AD170&\")'!$a$2\")=\"R\",Season_Summary!AC170,\"\"),\"\")","v":""},{"$f":"AD168+1","v":34}]
[{"$f":"IFERROR(IF(INDIRECT(\"'game1 (\"&$AD171&\")'!$a$2\")=\"R\",Season_Summary!A171,\"\"),\"\")","v":""},{"$f":"IFERROR(IF(INDIRECT(\"'game1 (\"&$AD171&\")'!$a$2\")=\"R\",Season_Summary!B171,\"\"),\"\")","v":""},{"$f":"IFERROR(IF(INDIRECT(\"'game1 (\"&$AD171&\")'!$a$2\")=\"R\",Season_Summary!C171,\"\"),\"\")","v":""},{"$f":"IFERROR(IF(INDIRECT(\"'game1 (\"&$AD171&\")'!$a$2\")=\"R\",Season_Summary!D171,\"\"),\"\")","v":""},{"$f":"IFERROR(IF(INDIRECT(\"'game1 (\"&$AD171&\")'!$a$2\")=\"R\",Season_Summary!E171,\"\"),\"\")","v":""},{"$f":"IFERROR(IF(INDIRECT(\"'game1 (\"&$AD171&\")'!$a$2\")=\"R\",Season_Summary!F171,\"\"),\"\")","v":""},{"$f":"IFERROR(IF(INDIRECT(\"'game1 (\"&$AD171&\")'!$a$2\")=\"R\",Season_Summary!G171,\"\"),\"\")","v":""},{"$f":"IFERROR(IF(INDIRECT(\"'game1 (\"&$AD171&\")'!$a$2\")=\"R\",Season_Summary!H171,\"\"),\"\")","v":""},{"$f":"IFERROR(IF(INDIRECT(\"'game1 (\"&$AD171&\")'!$a$2\")=\"R\",Season_Summary!I171,\"\"),\"\")","v":""},{"$f":"IFERROR(IF(INDIRECT(\"'game1 (\"&$AD171&\")'!$a$2\")=\"R\",Season_Summary!J171,\"\"),\"\")","v":""},{"$f":"IFERROR(IF(INDIRECT(\"'game1 (\"&$AD171&\")'!$a$2\")=\"R\",Season_Summary!K171,\"\"),\"\")","v":""},{"$f":"IFERROR(IF(INDIRECT(\"'game1 (\"&$AD171&\")'!$a$2\")=\"R\",Season_Summary!L171,\"\"),\"\")","v":""},{"$f":"IFERROR(IF(INDIRECT(\"'game1 (\"&$AD171&\")'!$a$2\")=\"R\",Season_Summary!M171,\"\"),\"\")","v":""},{"$f":"IFERROR(IF(INDIRECT(\"'game1 (\"&$AD171&\")'!$a$2\")=\"R\",Season_Summary!N171,\"\"),\"\")","v":""},{"$f":"IFERROR(IF(INDIRECT(\"'game1 (\"&$AD171&\")'!$a$2\")=\"R\",Season_Summary!O171,\"\"),\"\")","v":""},{"$f":"IFERROR(IF(INDIRECT(\"'game1 (\"&$AD171&\")'!$a$2\")=\"R\",Season_Summary!P171,\"\"),\"\")","v":""},{"$f":"IFERROR(IF(INDIRECT(\"'game1 (\"&$AD171&\")'!$a$2\")=\"R\",Season_Summary!Q171,\"\"),\"\")","v":""},{"$f":"IFERROR(IF(INDIRECT(\"'game1 (\"&$AD171&\")'!$a$2\")=\"R\",Season_Summary!R171,\"\"),\"\")","v":""},{"$f":"IFERROR(IF(INDIRECT(\"'game1 (\"&$AD171&\")'!$a$2\")=\"R\",Season_Summary!S171,\"\"),\"\")","v":""},{"$f":"IFERROR(IF(INDIRECT(\"'game1 (\"&$AD171&\")'!$a$2\")=\"R\",Season_Summary!T171,\"\"),\"\")","v":""},{"$f":"IFERROR(IF(INDIRECT(\"'game1 (\"&$AD171&\")'!$a$2\")=\"R\",Season_Summary!U171,\"\"),\"\")","v":""},{"$f":"IFERROR(IF(INDIRECT(\"'game1 (\"&$AD171&\")'!$a$2\")=\"R\",Season_Summary!V171,\"\"),\"\")","v":""},{"$f":"IFERROR(IF(INDIRECT(\"'game1 (\"&$AD171&\")'!$a$2\")=\"R\",Season_Summary!W171,\"\"),\"\")","v":""},{"$f":"IFERROR(IF(INDIRECT(\"'game1 (\"&$AD171&\")'!$a$2\")=\"R\",Season_Summary!X171,\"\"),\"\")","v":""},{"$f":"IFERROR(IF(INDIRECT(\"'game1 (\"&$AD171&\")'!$a$2\")=\"R\",Season_Summary!Y171,\"\"),\"\")","v":""},{"$f":"IFERROR(IF(INDIRECT(\"'game1 (\"&$AD171&\")'!$a$2\")=\"R\",Season_Summary!Z171,\"\"),\"\")","v":""},{"$f":"IFERROR(IF(INDIRECT(\"'game1 (\"&$AD171&\")'!$a$2\")=\"R\",Season_Summary!AA171,\"\"),\"\")","v":""},{"$f":"IFERROR(IF(INDIRECT(\"'game1 (\"&$AD171&\")'!$a$2\")=\"R\",Season_Summary!AB171,\"\"),\"\")","v":""},{"$f":"IFERROR(IF(INDIRECT(\"'game1 (\"&$AD171&\")'!$a$2\")=\"R\",Season_Summary!AC171,\"\"),\"\")","v":""},35]
[{"$f":"IFERROR(IF(INDIRECT(\"'game1 (\"&$AD172&\")'!$a$2\")=\"R\",Season_Summary!A172,\"\"),\"\")","v":""},{"$f":"IFERROR(IF(INDIRECT(\"'game1 (\"&$AD172&\")'!$a$2\")=\"R\",Season_Summary!B172,\"\"),\"\")","v":""},{"$f":"IFERROR(IF(INDIRECT(\"'game1 (\"&$AD172&\")'!$a$2\")=\"R\",Season_Summary!C172,\"\"),\"\")","v":""},{"$f":"IFERROR(IF(INDIRECT(\"'game1 (\"&$AD172&\")'!$a$2\")=\"R\",Season_Summary!D172,\"\"),\"\")","v":""},{"$f":"IFERROR(IF(INDIRECT(\"'game1 (\"&$AD172&\")'!$a$2\")=\"R\",Season_Summary!E172,\"\"),\"\")","v":""},{"$f":"IFERROR(IF(INDIRECT(\"'game1 (\"&$AD172&\")'!$a$2\")=\"R\",Season_Summary!F172,\"\"),\"\")","v":""},{"$f":"IFERROR(IF(INDIRECT(\"'game1 (\"&$AD172&\")'!$a$2\")=\"R\",Season_Summary!G172,\"\"),\"\")","v":""},{"$f":"IFERROR(IF(INDIRECT(\"'game1 (\"&$AD172&\")'!$a$2\")=\"R\",Season_Summary!H172,\"\"),\"\")","v":""},{"$f":"IFERROR(IF(INDIRECT(\"'game1 (\"&$AD172&\")'!$a$2\")=\"R\",Season_Summary!I172,\"\"),\"\")","v":""},{"$f":"IFERROR(IF(INDIRECT(\"'game1 (\"&$AD172&\")'!$a$2\")=\"R\",Season_Summary!J172,\"\"),\"\")","v":""},{"$f":"IFERROR(IF(INDIRECT(\"'game1 (\"&$AD172&\")'!$a$2\")=\"R\",Season_Summary!K172,\"\"),\"\")","v":""},{"$f":"IFERROR(IF(INDIRECT(\"'game1 (\"&$AD172&\")'!$a$2\")=\"R\",Season_Summary!L172,\"\"),\"\")","v":""},{"$f":"IFERROR(IF(INDIRECT(\"'game1 (\"&$AD172&\")'!$a$2\")=\"R\",Season_Summary!M172,\"\"),\"\")","v":""},{"$f":"IFERROR(IF(INDIRECT(\"'game1 (\"&$AD172&\")'!$a$2\")=\"R\",Season_Summary!N172,\"\"),\"\")","v":""},{"$f":"IFERROR(IF(INDIRECT(\"'game1 (\"&$AD172&\")'!$a$2\")=\"R\",Season_Summary!O172,\"\"),\"\")","v":""},{"$f":"IFERROR(IF(INDIRECT(\"'game1 (\"&$AD172&\")'!$a$2\")=\"R\",Season_Summary!P172,\"\"),\"\")","v":""},{"$f":"IFERROR(IF(INDIRECT(\"'game1 (\"&$AD172&\")'!$a$2\")=\"R\",Season_Summary!Q172,\"\"),\"\")","v":""},{"$f":"IFERROR(IF(INDIRECT(\"'game1 (\"&$AD172&\")'!$a$2\")=\"R\",Season_Summary!R172,\"\"),\"\")","v":""},{"$f":"IFERROR(IF(INDIRECT(\"'game1 (\"&$AD172&\")'!$a$2\")=\"R\",Season_Summary!S172,\"\"),\"\")","v":""},{"$f":"IFERROR(IF(INDIRECT(\"'game1 (\"&$AD172&\")'!$a$2\")=\"R\",Season_Summary!T172,\"\"),\"\")","v":""},{"$f":"IFERROR(IF(INDIRECT(\"'game1 (\"&$AD172&\")'!$a$2\")=\"R\",Season_Summary!U172,\"\"),\"\")","v":""},{"$f":"IFERROR(IF(INDIRECT(\"'game1 (\"&$AD172&\")'!$a$2\")=\"R\",Season_Summary!V172,\"\"),\"\")","v":""},{"$f":"IFERROR(IF(INDIRECT(\"'game1 (\"&$AD172&\")'!$a$2\")=\"R\",Season_Summary!W172,\"\"),\"\")","v":""},{"$f":"IFERROR(IF(INDIRECT(\"'game1 (\"&$AD172&\")'!$a$2\")=\"R\",Season_Summary!X172,\"\"),\"\")","v":""},{"$f":"IFERROR(IF(INDIRECT(\"'game1 (\"&$AD172&\")'!$a$2\")=\"R\",Season_Summary!Y172,\"\"),\"\")","v":""},{"$f":"IFERROR(IF(INDIRECT(\"'game1 (\"&$AD172&\")'!$a$2\")=\"R\",Season_Summary!Z172,\"\"),\"\")","v":""},{"$f":"IFERROR(IF(INDIRECT(\"'game1 (\"&$AD172&\")'!$a$2\")=\"R\",Season_Summary!AA172,\"\"),\"\")","v":""},{"$f":"IFERROR(IF(INDIRECT(\"'game1 (\"&$AD172&\")'!$a$2\")=\"R\",Season_Summary!AB172,\"\"),\"\")","v":""},{"$f":"IFERROR(IF(INDIRECT(\"'game1 (\"&$AD172&\")'!$a$2\")=\"R\",Season_Summary!AC172,\"\"),\"\")","v":""},35]
[{"$f":"IFERROR(IF(INDIRECT(\"'game1 (\"&$AD173&\")'!$a$2\")=\"R\",Season_Summary!A173,\"\"),\"\")","v":""},{"$f":"IFERROR(IF(INDIRECT(\"'game1 (\"&$AD173&\")'!$a$2\")=\"R\",Season_Summary!B173,\"\"),\"\")","v":""},{"$f":"IFERROR(IF(INDIRECT(\"'game1 (\"&$AD173&\")'!$a$2\")=\"R\",Season_Summary!C173,\"\"),\"\")","v":""},{"$f":"IFERROR(IF(INDIRECT(\"'game1 (\"&$AD173&\")'!$a$2\")=\"R\",Season_Summary!D173,\"\"),\"\")","v":""},{"$f":"IFERROR(IF(INDIRECT(\"'game1 (\"&$AD173&\")'!$a$2\")=\"R\",Season_Summary!E173,\"\"),\"\")","v":""},{"$f":"IFERROR(IF(INDIRECT(\"'game1 (\"&$AD173&\")'!$a$2\")=\"R\",Season_Summary!F173,\"\"),\"\")","v":""},{"$f":"IFERROR(IF(INDIRECT(\"'game1 (\"&$AD173&\")'!$a$2\")=\"R\",Season_Summary!G173,\"\"),\"\")","v":""},{"$f":"IFERROR(IF(INDIRECT(\"'game1 (\"&$AD173&\")'!$a$2\")=\"R\",Season_Summary!H173,\"\"),\"\")","v":""},{"$f":"IFERROR(IF(INDIRECT(\"'game1 (\"&$AD173&\")'!$a$2\")=\"R\",Season_Summary!I173,\"\"),\"\")","v":""},{"$f":"IFERROR(IF(INDIRECT(\"'game1 (\"&$AD173&\")'!$a$2\")=\"R\",Season_Summary!J173,\"\"),\"\")","v":""},{"$f":"IFERROR(IF(INDIRECT(\"'game1 (\"&$AD173&\")'!$a$2\")=\"R\",Season_Summary!K173,\"\"),\"\")","v":""},{"$f":"IFERROR(IF(INDIRECT(\"'game1 (\"&$AD173&\")'!$a$2\")=\"R\",Season_Summary!L173,\"\"),\"\")","v":""},{"$f":"IFERROR(IF(INDIRECT(\"'game1 (\"&$AD173&\")'!$a$2\")=\"R\",Season_Summary!M173,\"\"),\"\")","v":""},{"$f":"IFERROR(IF(INDIRECT(\"'game1 (\"&$AD173&\")'!$a$2\")=\"R\",Season_Summary!N173,\"\"),\"\")","v":""},{"$f":"IFERROR(IF(INDIRECT(\"'game1 (\"&$AD173&\")'!$a$2\")=\"R\",Season_Summary!O173,\"\"),\"\")","v":""},{"$f":"IFERROR(IF(INDIRECT(\"'game1 (\"&$AD173&\")'!$a$2\")=\"R\",Season_Summary!P173,\"\"),\"\")","v":""},{"$f":"IFERROR(IF(INDIRECT(\"'game1 (\"&$AD173&\")'!$a$2\")=\"R\",Season_Summary!Q173,\"\"),\"\")","v":""},{"$f":"IFERROR(IF(INDIRECT(\"'game1 (\"&$AD173&\")'!$a$2\")=\"R\",Season_Summary!R173,\"\"),\"\")","v":""},{"$f":"IFERROR(IF(INDIRECT(\"'game1 (\"&$AD173&\")'!$a$2\")=\"R\",Season_Summary!S173,\"\"),\"\")","v":""},{"$f":"IFERROR(IF(INDIRECT(\"'game1 (\"&$AD173&\")'!$a$2\")=\"R\",Season_Summary!T173,\"\"),\"\")","v":""},{"$f":"IFERROR(IF(INDIRECT(\"'game1 (\"&$AD173&\")'!$a$2\")=\"R\",Season_Summary!U173,\"\"),\"\")","v":""},{"$f":"IFERROR(IF(INDIRECT(\"'game1 (\"&$AD173&\")'!$a$2\")=\"R\",Season_Summary!V173,\"\"),\"\")","v":""},{"$f":"IFERROR(IF(INDIRECT(\"'game1 (\"&$AD173&\")'!$a$2\")=\"R\",Season_Summary!W173,\"\"),\"\")","v":""},{"$f":"IFERROR(IF(INDIRECT(\"'game1 (\"&$AD173&\")'!$a$2\")=\"R\",Season_Summary!X173,\"\"),\"\")","v":""},{"$f":"IFERROR(IF(INDIRECT(\"'game1 (\"&$AD173&\")'!$a$2\")=\"R\",Season_Summary!Y173,\"\"),\"\")","v":""},{"$f":"IFERROR(IF(INDIRECT(\"'game1 (\"&$AD173&\")'!$a$2\")=\"R\",Season_Summary!Z173,\"\"),\"\")","v":""},{"$f":"IFERROR(IF(INDIRECT(\"'game1 (\"&$AD173&\")'!$a$2\")=\"R\",Season_Summary!AA173,\"\"),\"\")","v":""},{"$f":"IFERROR(IF(INDIRECT(\"'game1 (\"&$AD173&\")'!$a$2\")=\"R\",Season_Summary!AB173,\"\"),\"\")","v":""},{"$f":"IFERROR(IF(INDIRECT(\"'game1 (\"&$AD173&\")'!$a$2\")=\"R\",Season_Summary!AC173,\"\"),\"\")","v":""},36]
[{"$f":"IFERROR(IF(INDIRECT(\"'game1 (\"&$AD174&\")'!$a$2\")=\"R\",Season_Summary!A174,\"\"),\"\")","v":""},{"$f":"IFERROR(IF(INDIRECT(\"'game1 (\"&$AD174&\")'!$a$2\")=\"R\",Season_Summary!B174,\"\"),\"\")","v":""},{"$f":"IFERROR(IF(INDIRECT(\"'game1 (\"&$AD174&\")'!$a$2\")=\"R\",Season_Summary!C174,\"\"),\"\")","v":""},{"$f":"IFERROR(IF(INDIRECT(\"'game1 (\"&$AD174&\")'!$a$2\")=\"R\",Season_Summary!D174,\"\"),\"\")","v":""},{"$f":"IFERROR(IF(INDIRECT(\"'game1 (\"&$AD174&\")'!$a$2\")=\"R\",Season_Summary!E174,\"\"),\"\")","v":""},{"$f":"IFERROR(IF(INDIRECT(\"'game1 (\"&$AD174&\")'!$a$2\")=\"R\",Season_Summary!F174,\"\"),\"\")","v":""},{"$f":"IFERROR(IF(INDIRECT(\"'game1 (\"&$AD174&\")'!$a$2\")=\"R\",Season_Summary!G174,\"\"),\"\")","v":""},{"$f":"IFERROR(IF(INDIRECT(\"'game1 (\"&$AD174&\")'!$a$2\")=\"R\",Season_Summary!H174,\"\"),\"\")","v":""},{"$f":"IFERROR(IF(INDIRECT(\"'game1 (\"&$AD174&\")'!$a$2\")=\"R\",Season_Summary!I174,\"\"),\"\")","v":""},{"$f":"IFERROR(IF(INDIRECT(\"'game1 (\"&$AD174&\")'!$a$2\")=\"R\",Season_Summary!J174,\"\"),\"\")","v":""},{"$f":"IFERROR(IF(INDIRECT(\"'game1 (\"&$AD174&\")'!$a$2\")=\"R\",Season_Summary!K174,\"\"),\"\")","v":""},{"$f":"IFERROR(IF(INDIRECT(\"'game1 (\"&$AD174&\")'!$a$2\")=\"R\",Season_Summary!L174,\"\"),\"\")","v":""},{"$f":"IFERROR(IF(INDIRECT(\"'game1 (\"&$AD174&\")'!$a$2\")=\"R\",Season_Summary!M174,\"\"),\"\")","v":""},{"$f":"IFERROR(IF(INDIRECT(\"'game1 (\"&$AD174&\")'!$a$2\")=\"R\",Season_Summary!N174,\"\"),\"\")","v":""},{"$f":"IFERROR(IF(INDIRECT(\"'game1 (\"&$AD174&\")'!$a$2\")=\"R\",Season_Summary!O174,\"\"),\"\")","v":""},{"$f":"IFERROR(IF(INDIRECT(\"'game1 (\"&$AD174&\")'!$a$2\")=\"R\",Season_Summary!P174,\"\"),\"\")","v":""},{"$f":"IFERROR(IF(INDIRECT(\"'game1 (\"&$AD174&\")'!$a$2\")=\"R\",Season_Summary!Q174,\"\"),\"\")","v":""},{"$f":"IFERROR(IF(INDIRECT(\"'game1 (\"&$AD174&\")'!$a$2\")=\"R\",Season_Summary!R174,\"\"),\"\")","v":""},{"$f":"IFERROR(IF(INDIRECT(\"'game1 (\"&$AD174&\")'!$a$2\")=\"R\",Season_Summary!S174,\"\"),\"\")","v":""},{"$f":"IFERROR(IF(INDIRECT(\"'game1 (\"&$AD174&\")'!$a$2\")=\"R\",Season_Summary!T174,\"\"),\"\")","v":""},{"$f":"IFERROR(IF(INDIRECT(\"'game1 (\"&$AD174&\")'!$a$2\")=\"R\",Season_Summary!U174,\"\"),\"\")","v":""},{"$f":"IFERROR(IF(INDIRECT(\"'game1 (\"&$AD174&\")'!$a$2\")=\"R\",Season_Summary!V174,\"\"),\"\")","v":""},{"$f":"IFERROR(IF(INDIRECT(\"'game1 (\"&$AD174&\")'!$a$2\")=\"R\",Season_Summary!W174,\"\"),\"\")","v":""},{"$f":"IFERROR(IF(INDIRECT(\"'game1 (\"&$AD174&\")'!$a$2\")=\"R\",Season_Summary!X174,\"\"),\"\")","v":""},{"$f":"IFERROR(IF(INDIRECT(\"'game1 (\"&$AD174&\")'!$a$2\")=\"R\",Season_Summary!Y174,\"\"),\"\")","v":""},{"$f":"IFERROR(IF(INDIRECT(\"'game1 (\"&$AD174&\")'!$a$2\")=\"R\",Season_Summary!Z174,\"\"),\"\")","v":""},{"$f":"IFERROR(IF(INDIRECT(\"'game1 (\"&$AD174&\")'!$a$2\")=\"R\",Season_Summary!AA174,\"\"),\"\")","v":""},{"$f":"IFERROR(IF(INDIRECT(\"'game1 (\"&$AD174&\")'!$a$2\")=\"R\",Season_Summary!AB174,\"\"),\"\")","v":""},{"$f":"IFERROR(IF(INDIRECT(\"'game1 (\"&$AD174&\")'!$a$2\")=\"R\",Season_Summary!AC174,\"\"),\"\")","v":""},36]
[{"$f":"IFERROR(IF(INDIRECT(\"'game1 (\"&$AD175&\")'!$a$2\")=\"R\",Season_Summary!A175,\"\"),\"\")","v":""},{"$f":"IFERROR(IF(INDIRECT(\"'game1 (\"&$AD175&\")'!$a$2\")=\"R\",Season_Summary!B175,\"\"),\"\")","v":""},{"$f":"IFERROR(IF(INDIRECT(\"'game1 (\"&$AD175&\")'!$a$2\")=\"R\",Season_Summary!C175,\"\"),\"\")","v":""},{"$f":"IFERROR(IF(INDIRECT(\"'game1 (\"&$AD175&\")'!$a$2\")=\"R\",Season_Summary!D175,\"\"),\"\")","v":""},{"$f":"IFERROR(IF(INDIRECT(\"'game1 (\"&$AD175&\")'!$a$2\")=\"R\",Season_Summary!E175,\"\"),\"\")","v":""},{"$f":"IFERROR(IF(INDIRECT(\"'game1 (\"&$AD175&\")'!$a$2\")=\"R\",Season_Summary!F175,\"\"),\"\")","v":""},{"$f":"IFERROR(IF(INDIRECT(\"'game1 (\"&$AD175&\")'!$a$2\")=\"R\",Season_Summary!G175,\"\"),\"\")","v":""},{"$f":"IFERROR(IF(INDIRECT(\"'game1 (\"&$AD175&\")'!$a$2\")=\"R\",Season_Summary!H175,\"\"),\"\")","v":""},{"$f":"IFERROR(IF(INDIRECT(\"'game1 (\"&$AD175&\")'!$a$2\")=\"R\",Season_Summary!I175,\"\"),\"\")","v":""},{"$f":"IFERROR(IF(INDIRECT(\"'game1 (\"&$AD175&\")'!$a$2\")=\"R\",Season_Summary!J175,\"\"),\"\")","v":""},{"$f":"IFERROR(IF(INDIRECT(\"'game1 (\"&$AD175&\")'!$a$2\")=\"R\",Season_Summary!K175,\"\"),\"\")","v":""},{"$f":"IFERROR(IF(INDIRECT(\"'game1 (\"&$AD175&\")'!$a$2\")=\"R\",Season_Summary!L175,\"\"),\"\")","v":""},{"$f":"IFERROR(IF(INDIRECT(\"'game1 (\"&$AD175&\")'!$a$2\")=\"R\",Season_Summary!M175,\"\"),\"\")","v":""},{"$f":"IFERROR(IF(INDIRECT(\"'game1 (\"&$AD175&\")'!$a$2\")=\"R\",Season_Summary!N175,\"\"),\"\")","v":""},{"$f":"IFERROR(IF(INDIRECT(\"'game1 (\"&$AD175&\")'!$a$2\")=\"R\",Season_Summary!O175,\"\"),\"\")","v":""},{"$f":"IFERROR(IF(INDIRECT(\"'game1 (\"&$AD175&\")'!$a$2\")=\"R\",Season_Summary!P175,\"\"),\"\")","v":""},{"$f":"IFERROR(IF(INDIRECT(\"'game1 (\"&$AD175&\")'!$a$2\")=\"R\",Season_Summary!Q175,\"\"),\"\")","v":""},{"$f":"IFERROR(IF(INDIRECT(\"'game1 (\"&$AD175&\")'!$a$2\")=\"R\",Season_Summary!R175,\"\"),\"\")","v":""},{"$f":"IFERROR(IF(INDIRECT(\"'game1 (\"&$AD175&\")'!$a$2\")=\"R\",Season_Summary!S175,\"\"),\"\")","v":""},{"$f":"IFERROR(IF(INDIRECT(\"'game1 (\"&$AD175&\")'!$a$2\")=\"R\",Season_Summary!T175,\"\"),\"\")","v":""},{"$f":"IFERROR(IF(INDIRECT(\"'game1 (\"&$AD175&\")'!$a$2\")=\"R\",Season_Summary!U175,\"\"),\"\")","v":""},{"$f":"IFERROR(IF(INDIRECT(\"'game1 (\"&$AD175&\")'!$a$2\")=\"R\",Season_Summary!V175,\"\"),\"\")","v":""},{"$f":"IFERROR(IF(INDIRECT(\"'game1 (\"&$AD175&\")'!$a$2\")=\"R\",Season_Summary!W175,\"\"),\"\")","v":""},{"$f":"IFERROR(IF(INDIRECT(\"'game1 (\"&$AD175&\")'!$a$2\")=\"R\",Season_Summary!X175,\"\"),\"\")","v":""},{"$f":"IFERROR(IF(INDIRECT(\"'game1 (\"&$AD175&\")'!$a$2\")=\"R\",Season_Summary!Y175,\"\"),\"\")","v":""},{"$f":"IFERROR(IF(INDIRECT(\"'game1 (\"&$AD175&\")'!$a$2\")=\"R\",Season_Summary!Z175,\"\"),\"\")","v":""},{"$f":"IFERROR(IF(INDIRECT(\"'game1 (\"&$AD175&\")'!$a$2\")=\"R\",Season_Summary!AA175,\"\"),\"\")","v":""},{"$f":"IFERROR(IF(INDIRECT(\"'game1 (\"&$AD175&\")'!$a$2\")=\"R\",Season_Summary!AB175,\"\"),\"\")","v":""},{"$f":"IFERROR(IF(INDIRECT(\"'game1 (\"&$AD175&\")'!$a$2\")=\"R\",Season_Summary!AC175,\"\"),\"\")","v":""},37]
[{"$f":"IFERROR(IF(INDIRECT(\"'game1 (\"&$AD176&\")'!$a$2\")=\"R\",Season_Summary!A176,\"\"),\"\")","v":""},{"$f":"IFERROR(IF(INDIRECT(\"'game1 (\"&$AD176&\")'!$a$2\")=\"R\",Season_Summary!B176,\"\"),\"\")","v":""},{"$f":"IFERROR(IF(INDIRECT(\"'game1 (\"&$AD176&\")'!$a$2\")=\"R\",Season_Summary!C176,\"\"),\"\")","v":""},{"$f":"IFERROR(IF(INDIRECT(\"'game1 (\"&$AD176&\")'!$a$2\")=\"R\",Season_Summary!D176,\"\"),\"\")","v":""},{"$f":"IFERROR(IF(INDIRECT(\"'game1 (\"&$AD176&\")'!$a$2\")=\"R\",Season_Summary!E176,\"\"),\"\")","v":""},{"$f":"IFERROR(IF(INDIRECT(\"'game1 (\"&$AD176&\")'!$a$2\")=\"R\",Season_Summary!F176,\"\"),\"\")","v":""},{"$f":"IFERROR(IF(INDIRECT(\"'game1 (\"&$AD176&\")'!$a$2\")=\"R\",Season_Summary!G176,\"\"),\"\")","v":""},{"$f":"IFERROR(IF(INDIRECT(\"'game1 (\"&$AD176&\")'!$a$2\")=\"R\",Season_Summary!H176,\"\"),\"\")","v":""},{"$f":"IFERROR(IF(INDIRECT(\"'game1 (\"&$AD176&\")'!$a$2\")=\"R\",Season_Summary!I176,\"\"),\"\")","v":""},{"$f":"IFERROR(IF(INDIRECT(\"'game1 (\"&$AD176&\")'!$a$2\")=\"R\",Season_Summary!J176,\"\"),\"\")","v":""},{"$f":"IFERROR(IF(INDIRECT(\"'game1 (\"&$AD176&\")'!$a$2\")=\"R\",Season_Summary!K176,\"\"),\"\")","v":""},{"$f":"IFERROR(IF(INDIRECT(\"'game1 (\"&$AD176&\")'!$a$2\")=\"R\",Season_Summary!L176,\"\"),\"\")","v":""},{"$f":"IFERROR(IF(INDIRECT(\"'game1 (\"&$AD176&\")'!$a$2\")=\"R\",Season_Summary!M176,\"\"),\"\")","v":""},{"$f":"IFERROR(IF(INDIRECT(\"'game1 (\"&$AD176&\")'!$a$2\")=\"R\",Season_Summary!N176,\"\"),\"\")","v":""},{"$f":"IFERROR(IF(INDIRECT(\"'game1 (\"&$AD176&\")'!$a$2\")=\"R\",Season_Summary!O176,\"\"),\"\")","v":""},{"$f":"IFERROR(IF(INDIRECT(\"'game1 (\"&$AD176&\")'!$a$2\")=\"R\",Season_Summary!P176,\"\"),\"\")","v":""},{"$f":"IFERROR(IF(INDIRECT(\"'game1 (\"&$AD176&\")'!$a$2\")=\"R\",Season_Summary!Q176,\"\"),\"\")","v":""},{"$f":"IFERROR(IF(INDIRECT(\"'game1 (\"&$AD176&\")'!$a$2\")=\"R\",Season_Summary!R176,\"\"),\"\")","v":""},{"$f":"IFERROR(IF(INDIRECT(\"'game1 (\"&$AD176&\")'!$a$2\")=\"R\",Season_Summary!S176,\"\"),\"\")","v":""},{"$f":"IFERROR(IF(INDIRECT(\"'game1 (\"&$AD176&\")'!$a$2\")=\"R\",Season_Summary!T176,\"\"),\"\")","v":""},{"$f":"IFERROR(IF(INDIRECT(\"'game1 (\"&$AD176&\")'!$a$2\")=\"R\",Season_Summary!U176,\"\"),\"\")","v":""},{"$f":"IFERROR(IF(INDIRECT(\"'game1 (\"&$AD176&\")'!$a$2\")=\"R\",Season_Summary!V176,\"\"),\"\")","v":""},{"$f":"IFERROR(IF(INDIRECT(\"'game1 (\"&$AD176&\")'!$a$2\")=\"R\",Season_Summary!W176,\"\"),\"\")","v":""},{"$f":"IFERROR(IF(INDIRECT(\"'game1 (\"&$AD176&\")'!$a$2\")=\"R\",Season_Summary!X176,\"\"),\"\")","v":""},{"$f":"IFERROR(IF(INDIRECT(\"'game1 (\"&$AD176&\")'!$a$2\")=\"R\",Season_Summary!Y176,\"\"),\"\")","v":""},{"$f":"IFERROR(IF(INDIRECT(\"'game1 (\"&$AD176&\")'!$a$2\")=\"R\",Season_Summary!Z176,\"\"),\"\")","v":""},{"$f":"IFERROR(IF(INDIRECT(\"'game1 (\"&$AD176&\")'!$a$2\")=\"R\",Season_Summary!AA176,\"\"),\"\")","v":""},{"$f":"IFERROR(IF(INDIRECT(\"'game1 (\"&$AD176&\")'!$a$2\")=\"R\",Season_Summary!AB176,\"\"),\"\")","v":""},{"$f":"IFERROR(IF(INDIRECT(\"'game1 (\"&$AD176&\")'!$a$2\")=\"R\",Season_Summary!AC176,\"\"),\"\")","v":""},37]
[{"$f":"IFERROR(IF(INDIRECT(\"'game1 (\"&$AD177&\")'!$a$2\")=\"R\",Season_Summary!A177,\"\"),\"\")","v":""},{"$f":"IFERROR(IF(INDIRECT(\"'game1 (\"&$AD177&\")'!$a$2\")=\"R\",Season_Summary!B177,\"\"),\"\")","v":""},{"$f":"IFERROR(IF(INDIRECT(\"'game1 (\"&$AD177&\")'!$a$2\")=\"R\",Season_Summary!C177,\"\"),\"\")","v":""},{"$f":"IFERROR(IF(INDIRECT(\"'game1 (\"&$AD177&\")'!$a$2\")=\"R\",Season_Summary!D177,\"\"),\"\")","v":""},{"$f":"IFERROR(IF(INDIRECT(\"'game1 (\"&$AD177&\")'!$a$2\")=\"R\",Season_Summary!E177,\"\"),\"\")","v":""},{"$f":"IFERROR(IF(INDIRECT(\"'game1 (\"&$AD177&\")'!$a$2\")=\"R\",Season_Summary!F177,\"\"),\"\")","v":""},{"$f":"IFERROR(IF(INDIRECT(\"'game1 (\"&$AD177&\")'!$a$2\")=\"R\",Season_Summary!G177,\"\"),\"\")","v":""},{"$f":"IFERROR(IF(INDIRECT(\"'game1 (\"&$AD177&\")'!$a$2\")=\"R\",Season_Summary!H177,\"\"),\"\")","v":""},{"$f":"IFERROR(IF(INDIRECT(\"'game1 (\"&$AD177&\")'!$a$2\")=\"R\",Season_Summary!I177,\"\"),\"\")","v":""},{"$f":"IFERROR(IF(INDIRECT(\"'game1 (\"&$AD177&\")'!$a$2\")=\"R\",Season_Summary!J177,\"\"),\"\")","v":""},{"$f":"IFERROR(IF(INDIRECT(\"'game1 (\"&$AD177&\")'!$a$2\")=\"R\",Season_Summary!K177,\"\"),\"\")","v":""},{"$f":"IFERROR(IF(INDIRECT(\"'game1 (\"&$AD177&\")'!$a$2\")=\"R\",Season_Summary!L177,\"\"),\"\")","v":""},{"$f":"IFERROR(IF(INDIRECT(\"'game1 (\"&$AD177&\")'!$a$2\")=\"R\",Season_Summary!M177,\"\"),\"\")","v":""},{"$f":"IFERROR(IF(INDIRECT(\"'game1 (\"&$AD177&\")'!$a$2\")=\"R\",Season_Summary!N177,\"\"),\"\")","v":""},{"$f":"IFERROR(IF(INDIRECT(\"'game1 (\"&$AD177&\")'!$a$2\")=\"R\",Season_Summary!O177,\"\"),\"\")","v":""},{"$f":"IFERROR(IF(INDIRECT(\"'game1 (\"&$AD177&\")'!$a$2\")=\"R\",Season_Summary!P177,\"\"),\"\")","v":""},{"$f":"IFERROR(IF(INDIRECT(\"'game1 (\"&$AD177&\")'!$a$2\")=\"R\",Season_Summary!Q177,\"\"),\"\")","v":""},{"$f":"IFERROR(IF(INDIRECT(\"'game1 (\"&$AD177&\")'!$a$2\")=\"R\",Season_Summary!R177,\"\"),\"\")","v":""},{"$f":"IFERROR(IF(INDIRECT(\"'game1 (\"&$AD177&\")'!$a$2\")=\"R\",Season_Summary!S177,\"\"),\"\")","v":""},{"$f":"IFERROR(IF(INDIRECT(\"'game1 (\"&$AD177&\")'!$a$2\")=\"R\",Season_Summary!T177,\"\"),\"\")","v":""},{"$f":"IFERROR(IF(INDIRECT(\"'game1 (\"&$AD177&\")'!$a$2\")=\"R\",Season_Summary!U177,\"\"),\"\")","v":""},{"$f":"IFERROR(IF(INDIRECT(\"'game1 (\"&$AD177&\")'!$a$2\")=\"R\",Season_Summary!V177,\"\"),\"\")","v":""},{"$f":"IFERROR(IF(INDIRECT(\"'game1 (\"&$AD177&\")'!$a$2\")=\"R\",Season_Summary!W177,\"\"),\"\")","v":""},{"$f":"IFERROR(IF(INDIRECT(\"'game1 (\"&$AD177&\")'!$a$2\")=\"R\",Season_Summary!X177,\"\"),\"\")","v":""},{"$f":"IFERROR(IF(INDIRECT(\"'game1 (\"&$AD177&\")'!$a$2\")=\"R\",Season_Summary!Y177,\"\"),\"\")","v":""},{"$f":"IFERROR(IF(INDIRECT(\"'game1 (\"&$AD177&\")'!$a$2\")=\"R\",Season_Summary!Z177,\"\"),\"\")","v":""},{"$f":"IFERROR(IF(INDIRECT(\"'game1 (\"&$AD177&\")'!$a$2\")=\"R\",Season_Summary!AA177,\"\"),\"\")","v":""},{"$f":"IFERROR(IF(INDIRECT(\"'game1 (\"&$AD177&\")'!$a$2\")=\"R\",Season_Summary!AB177,\"\"),\"\")","v":""},{"$f":"IFERROR(IF(INDIRECT(\"'game1 (\"&$AD177&\")'!$a$2\")=\"R\",Season_Summary!AC177,\"\"),\"\")","v":""},38]
[{"$f":"IFERROR(IF(INDIRECT(\"'game1 (\"&$AD178&\")'!$a$2\")=\"R\",Season_Summary!A178,\"\"),\"\")","v":""},{"$f":"IFERROR(IF(INDIRECT(\"'game1 (\"&$AD178&\")'!$a$2\")=\"R\",Season_Summary!B178,\"\"),\"\")","v":""},{"$f":"IFERROR(IF(INDIRECT(\"'game1 (\"&$AD178&\")'!$a$2\")=\"R\",Season_Summary!C178,\"\"),\"\")","v":""},{"$f":"IFERROR(IF(INDIRECT(\"'game1 (\"&$AD178&\")'!$a$2\")=\"R\",Season_Summary!D178,\"\"),\"\")","v":""},{"$f":"IFERROR(IF(INDIRECT(\"'game1 (\"&$AD178&\")'!$a$2\")=\"R\",Season_Summary!E178,\"\"),\"\")","v":""},{"$f":"IFERROR(IF(INDIRECT(\"'game1 (\"&$AD178&\")'!$a$2\")=\"R\",Season_Summary!F178,\"\"),\"\")","v":""},{"$f":"IFERROR(IF(INDIRECT(\"'game1 (\"&$AD178&\")'!$a$2\")=\"R\",Season_Summary!G178,\"\"),\"\")","v":""},{"$f":"IFERROR(IF(INDIRECT(\"'game1 (\"&$AD178&\")'!$a$2\")=\"R\",Season_Summary!H178,\"\"),\"\")","v":""},{"$f":"IFERROR(IF(INDIRECT(\"'game1 (\"&$AD178&\")'!$a$2\")=\"R\",Season_Summary!I178,\"\"),\"\")","v":""},{"$f":"IFERROR(IF(INDIRECT(\"'game1 (\"&$AD178&\")'!$a$2\")=\"R\",Season_Summary!J178,\"\"),\"\")","v":""},{"$f":"IFERROR(IF(INDIRECT(\"'game1 (\"&$AD178&\")'!$a$2\")=\"R\",Season_Summary!K178,\"\"),\"\")","v":""},{"$f":"IFERROR(IF(INDIRECT(\"'game1 (\"&$AD178&\")'!$a$2\")=\"R\",Season_Summary!L178,\"\"),\"\")","v":""},{"$f":"IFERROR(IF(INDIRECT(\"'game1 (\"&$AD178&\")'!$a$2\")=\"R\",Season_Summary!M178,\"\"),\"\")","v":""},{"$f":"IFERROR(IF(INDIRECT(\"'game1 (\"&$AD178&\")'!$a$2\")=\"R\",Season_Summary!N178,\"\"),\"\")","v":""},{"$f":"IFERROR(IF(INDIRECT(\"'game1 (\"&$AD178&\")'!$a$2\")=\"R\",Season_Summary!O178,\"\"),\"\")","v":""},{"$f":"IFERROR(IF(INDIRECT(\"'game1 (\"&$AD178&\")'!$a$2\")=\"R\",Season_Summary!P178,\"\"),\"\")","v":""},{"$f":"IFERROR(IF(INDIRECT(\"'game1 (\"&$AD178&\")'!$a$2\")=\"R\",Season_Summary!Q178,\"\"),\"\")","v":""},{"$f":"IFERROR(IF(INDIRECT(\"'game1 (\"&$AD178&\")'!$a$2\")=\"R\",Season_Summary!R178,\"\"),\"\")","v":""},{"$f":"IFERROR(IF(INDIRECT(\"'game1 (\"&$AD178&\")'!$a$2\")=\"R\",Season_Summary!S178,\"\"),\"\")","v":""},{"$f":"IFERROR(IF(INDIRECT(\"'game1 (\"&$AD178&\")'!$a$2\")=\"R\",Season_Summary!T178,\"\"),\"\")","v":""},{"$f":"IFERROR(IF(INDIRECT(\"'game1 (\"&$AD178&\")'!$a$2\")=\"R\",Season_Summary!U178,\"\"),\"\")","v":""},{"$f":"IFERROR(IF(INDIRECT(\"'game1 (\"&$AD178&\")'!$a$2\")=\"R\",Season_Summary!V178,\"\"),\"\")","v":""},{"$f":"IFERROR(IF(INDIRECT(\"'game1 (\"&$AD178&\")'!$a$2\")=\"R\",Season_Summary!W178,\"\"),\"\")","v":""},{"$f":"IFERROR(IF(INDIRECT(\"'game1 (\"&$AD178&\")'!$a$2\")=\"R\",Season_Summary!X178,\"\"),\"\")","v":""},{"$f":"IFERROR(IF(INDIRECT(\"'game1 (\"&$AD178&\")'!$a$2\")=\"R\",Season_Summary!Y178,\"\"),\"\")","v":""},{"$f":"IFERROR(IF(INDIRECT(\"'game1 (\"&$AD178&\")'!$a$2\")=\"R\",Season_Summary!Z178,\"\"),\"\")","v":""},{"$f":"IFERROR(IF(INDIRECT(\"'game1 (\"&$AD178&\")'!$a$2\")=\"R\",Season_Summary!AA178,\"\"),\"\")","v":""},{"$f":"IFERROR(IF(INDIRECT(\"'game1 (\"&$AD178&\")'!$a$2\")=\"R\",Season_Summary!AB178,\"\"),\"\")","v":""},{"$f":"IFERROR(IF(INDIRECT(\"'game1 (\"&$AD178&\")'!$a$2\")=\"R\",Season_Summary!AC178,\"\"),\"\")","v":""},38]
[{"$f":"IFERROR(IF(INDIRECT(\"'game1 (\"&$AD179&\")'!$a$2\")=\"R\",Season_Summary!A179,\"\"),\"\")","v":""},{"$f":"IFERROR(IF(INDIRECT(\"'game1 (\"&$AD179&\")'!$a$2\")=\"R\",Season_Summary!B179,\"\"),\"\")","v":""},{"$f":"IFERROR(IF(INDIRECT(\"'game1 (\"&$AD179&\")'!$a$2\")=\"R\",Season_Summary!C179,\"\"),\"\")","v":""},{"$f":"IFERROR(IF(INDIRECT(\"'game1 (\"&$AD179&\")'!$a$2\")=\"R\",Season_Summary!D179,\"\"),\"\")","v":""},{"$f":"IFERROR(IF(INDIRECT(\"'game1 (\"&$AD179&\")'!$a$2\")=\"R\",Season_Summary!E179,\"\"),\"\")","v":""},{"$f":"IFERROR(IF(INDIRECT(\"'game1 (\"&$AD179&\")'!$a$2\")=\"R\",Season_Summary!F179,\"\"),\"\")","v":""},{"$f":"IFERROR(IF(INDIRECT(\"'game1 (\"&$AD179&\")'!$a$2\")=\"R\",Season_Summary!G179,\"\"),\"\")","v":""},{"$f":"IFERROR(IF(INDIRECT(\"'game1 (\"&$AD179&\")'!$a$2\")=\"R\",Season_Summary!H179,\"\"),\"\")","v":""},{"$f":"IFERROR(IF(INDIRECT(\"'game1 (\"&$AD179&\")'!$a$2\")=\"R\",Season_Summary!I179,\"\"),\"\")","v":""},{"$f":"IFERROR(IF(INDIRECT(\"'game1 (\"&$AD179&\")'!$a$2\")=\"R\",Season_Summary!J179,\"\"),\"\")","v":""},{"$f":"IFERROR(IF(INDIRECT(\"'game1 (\"&$AD179&\")'!$a$2\")=\"R\",Season_Summary!K179,\"\"),\"\")","v":""},{"$f":"IFERROR(IF(INDIRECT(\"'game1 (\"&$AD179&\")'!$a$2\")=\"R\",Season_Summary!L179,\"\"),\"\")","v":""},{"$f":"IFERROR(IF(INDIRECT(\"'game1 (\"&$AD179&\")'!$a$2\")=\"R\",Season_Summary!M179,\"\"),\"\")","v":""},{"$f":"IFERROR(IF(INDIRECT(\"'game1 (\"&$AD179&\")'!$a$2\")=\"R\",Season_Summary!N179,\"\"),\"\")","v":""},{"$f":"IFERROR(IF(INDIRECT(\"'game1 (\"&$AD179&\")'!$a$2\")=\"R\",Season_Summary!O179,\"\"),\"\")","v":""},{"$f":"IFERROR(IF(INDIRECT(\"'game1 (\"&$AD179&\")'!$a$2\")=\"R\",Season_Summary!P179,\"\"),\"\")","v":""},{"$f":"IFERROR(IF(INDIRECT(\"'game1 (\"&$AD179&\")'!$a$2\")=\"R\",Season_Summary!Q179,\"\"),\"\")","v":""},{"$f":"IFERROR(IF(INDIRECT(\"'game1 (\"&$AD179&\")'!$a$2\")=\"R\",Season_Summary!R179,\"\"),\"\")","v":""},{"$f":"IFERROR(IF(INDIRECT(\"'game1 (\"&$AD179&\")'!$a$2\")=\"R\",Season_Summary!S179,\"\"),\"\")","v":""},{"$f":"IFERROR(IF(INDIRECT(\"'game1 (\"&$AD179&\")'!$a$2\")=\"R\",Season_Summary!T179,\"\"),\"\")","v":""},{"$f":"IFERROR(IF(INDIRECT(\"'game1 (\"&$AD179&\")'!$a$2\")=\"R\",Season_Summary!U179,\"\"),\"\")","v":""},{"$f":"IFERROR(IF(INDIRECT(\"'game1 (\"&$AD179&\")'!$a$2\")=\"R\",Season_Summary!V179,\"\"),\"\")","v":""},{"$f":"IFERROR(IF(INDIRECT(\"'game1 (\"&$AD179&\")'!$a$2\")=\"R\",Season_Summary!W179,\"\"),\"\")","v":""},{"$f":"IFERROR(IF(INDIRECT(\"'game1 (\"&$AD179&\")'!$a$2\")=\"R\",Season_Summary!X179,\"\"),\"\")","v":""},{"$f":"IFERROR(IF(INDIRECT(\"'game1 (\"&$AD179&\")'!$a$2\")=\"R\",Season_Summary!Y179,\"\"),\"\")","v":""},{"$f":"IFERROR(IF(INDIRECT(\"'game1 (\"&$AD179&\")'!$a$2\")=\"R\",Season_Summary!Z179,\"\"),\"\")","v":""},{"$f":"IFERROR(IF(INDIRECT(\"'game1 (\"&$AD179&\")'!$a$2\")=\"R\",Season_Summary!AA179,\"\"),\"\")","v":""},{"$f":"IFERROR(IF(INDIRECT(\"'game1 (\"&$AD179&\")'!$a$2\")=\"R\",Season_Summary!AB179,\"\"),\"\")","v":""},{"$f":"IFERROR(IF(INDIRECT(\"'game1 (\"&$AD179&\")'!$a$2\")=\"R\",Season_Summary!AC179,\"\"),\"\")","v":""},39]
[{"$f":"IFERROR(IF(INDIRECT(\"'game1 (\"&$AD180&\")'!$a$2\")=\"R\",Season_Summary!A180,\"\"),\"\")","v":""},{"$f":"IFERROR(IF(INDIRECT(\"'game1 (\"&$AD180&\")'!$a$2\")=\"R\",Season_Summary!B180,\"\"),\"\")","v":""},{"$f":"IFERROR(IF(INDIRECT(\"'game1 (\"&$AD180&\")'!$a$2\")=\"R\",Season_Summary!C180,\"\"),\"\")","v":""},{"$f":"IFERROR(IF(INDIRECT(\"'game1 (\"&$AD180&\")'!$a$2\")=\"R\",Season_Summary!D180,\"\"),\"\")","v":""},{"$f":"IFERROR(IF(INDIRECT(\"'game1 (\"&$AD180&\")'!$a$2\")=\"R\",Season_Summary!E180,\"\"),\"\")","v":""},{"$f":"IFERROR(IF(INDIRECT(\"'game1 (\"&$AD180&\")'!$a$2\")=\"R\",Season_Summary!F180,\"\"),\"\")","v":""},{"$f":"IFERROR(IF(INDIRECT(\"'game1 (\"&$AD180&\")'!$a$2\")=\"R\",Season_Summary!G180,\"\"),\"\")","v":""},{"$f":"IFERROR(IF(INDIRECT(\"'game1 (\"&$AD180&\")'!$a$2\")=\"R\",Season_Summary!H180,\"\"),\"\")","v":""},{"$f":"IFERROR(IF(INDIRECT(\"'game1 (\"&$AD180&\")'!$a$2\")=\"R\",Season_Summary!I180,\"\"),\"\")","v":""},{"$f":"IFERROR(IF(INDIRECT(\"'game1 (\"&$AD180&\")'!$a$2\")=\"R\",Season_Summary!J180,\"\"),\"\")","v":""},{"$f":"IFERROR(IF(INDIRECT(\"'game1 (\"&$AD180&\")'!$a$2\")=\"R\",Season_Summary!K180,\"\"),\"\")","v":""},{"$f":"IFERROR(IF(INDIRECT(\"'game1 (\"&$AD180&\")'!$a$2\")=\"R\",Season_Summary!L180,\"\"),\"\")","v":""},{"$f":"IFERROR(IF(INDIRECT(\"'game1 (\"&$AD180&\")'!$a$2\")=\"R\",Season_Summary!M180,\"\"),\"\")","v":""},{"$f":"IFERROR(IF(INDIRECT(\"'game1 (\"&$AD180&\")'!$a$2\")=\"R\",Season_Summary!N180,\"\"),\"\")","v":""},{"$f":"IFERROR(IF(INDIRECT(\"'game1 (\"&$AD180&\")'!$a$2\")=\"R\",Season_Summary!O180,\"\"),\"\")","v":""},{"$f":"IFERROR(IF(INDIRECT(\"'game1 (\"&$AD180&\")'!$a$2\")=\"R\",Season_Summary!P180,\"\"),\"\")","v":""},{"$f":"IFERROR(IF(INDIRECT(\"'game1 (\"&$AD180&\")'!$a$2\")=\"R\",Season_Summary!Q180,\"\"),\"\")","v":""},{"$f":"IFERROR(IF(INDIRECT(\"'game1 (\"&$AD180&\")'!$a$2\")=\"R\",Season_Summary!R180,\"\"),\"\")","v":""},{"$f":"IFERROR(IF(INDIRECT(\"'game1 (\"&$AD180&\")'!$a$2\")=\"R\",Season_Summary!S180,\"\"),\"\")","v":""},{"$f":"IFERROR(IF(INDIRECT(\"'game1 (\"&$AD180&\")'!$a$2\")=\"R\",Season_Summary!T180,\"\"),\"\")","v":""},{"$f":"IFERROR(IF(INDIRECT(\"'game1 (\"&$AD180&\")'!$a$2\")=\"R\",Season_Summary!U180,\"\"),\"\")","v":""},{"$f":"IFERROR(IF(INDIRECT(\"'game1 (\"&$AD180&\")'!$a$2\")=\"R\",Season_Summary!V180,\"\"),\"\")","v":""},{"$f":"IFERROR(IF(INDIRECT(\"'game1 (\"&$AD180&\")'!$a$2\")=\"R\",Season_Summary!W180,\"\"),\"\")","v":""},{"$f":"IFERROR(IF(INDIRECT(\"'game1 (\"&$AD180&\")'!$a$2\")=\"R\",Season_Summary!X180,\"\"),\"\")","v":""},{"$f":"IFERROR(IF(INDIRECT(\"'game1 (\"&$AD180&\")'!$a$2\")=\"R\",Season_Summary!Y180,\"\"),\"\")","v":""},{"$f":"IFERROR(IF(INDIRECT(\"'game1 (\"&$AD180&\")'!$a$2\")=\"R\",Season_Summary!Z180,\"\"),\"\")","v":""},{"$f":"IFERROR(IF(INDIRECT(\"'game1 (\"&$AD180&\")'!$a$2\")=\"R\",Season_Summary!AA180,\"\"),\"\")","v":""},{"$f":"IFERROR(IF(INDIRECT(\"'game1 (\"&$AD180&\")'!$a$2\")=\"R\",Season_Summary!AB180,\"\"),\"\")","v":""},{"$f":"IFERROR(IF(INDIRECT(\"'game1 (\"&$AD180&\")'!$a$2\")=\"R\",Season_Summary!AC180,\"\"),\"\")","v":""},39]
[{"$f":"IFERROR(IF(INDIRECT(\"'game1 (\"&$AD181&\")'!$a$2\")=\"R\",Season_Summary!A181,\"\"),\"\")","v":""},{"$f":"IFERROR(IF(INDIRECT(\"'game1 (\"&$AD181&\")'!$a$2\")=\"R\",Season_Summary!B181,\"\"),\"\")","v":""},{"$f":"IFERROR(IF(INDIRECT(\"'game1 (\"&$AD181&\")'!$a$2\")=\"R\",Season_Summary!C181,\"\"),\"\")","v":""},{"$f":"IFERROR(IF(INDIRECT(\"'game1 (\"&$AD181&\")'!$a$2\")=\"R\",Season_Summary!D181,\"\"),\"\")","v":""},{"$f":"IFERROR(IF(INDIRECT(\"'game1 (\"&$AD181&\")'!$a$2\")=\"R\",Season_Summary!E181,\"\"),\"\")","v":""},{"$f":"IFERROR(IF(INDIRECT(\"'game1 (\"&$AD181&\")'!$a$2\")=\"R\",Season_Summary!F181,\"\"),\"\")","v":""},{"$f":"IFERROR(IF(INDIRECT(\"'game1 (\"&$AD181&\")'!$a$2\")=\"R\",Season_Summary!G181,\"\"),\"\")","v":""},{"$f":"IFERROR(IF(INDIRECT(\"'game1 (\"&$AD181&\")'!$a$2\")=\"R\",Season_Summary!H181,\"\"),\"\")","v":""},{"$f":"IFERROR(IF(INDIRECT(\"'game1 (\"&$AD181&\")'!$a$2\")=\"R\",Season_Summary!I181,\"\"),\"\")","v":""},{"$f":"IFERROR(IF(INDIRECT(\"'game1 (\"&$AD181&\")'!$a$2\")=\"R\",Season_Summary!J181,\"\"),\"\")","v":""},{"$f":"IFERROR(IF(INDIRECT(\"'game1 (\"&$AD181&\")'!$a$2\")=\"R\",Season_Summary!K181,\"\"),\"\")","v":""},{"$f":"IFERROR(IF(INDIRECT(\"'game1 (\"&$AD181&\")'!$a$2\")=\"R\",Season_Summary!L181,\"\"),\"\")","v":""},{"$f":"IFERROR(IF(INDIRECT(\"'game1 (\"&$AD181&\")'!$a$2\")=\"R\",Season_Summary!M181,\"\"),\"\")","v":""},{"$f":"IFERROR(IF(INDIRECT(\"'game1 (\"&$AD181&\")'!$a$2\")=\"R\",Season_Summary!N181,\"\"),\"\")","v":""},{"$f":"IFERROR(IF(INDIRECT(\"'game1 (\"&$AD181&\")'!$a$2\")=\"R\",Season_Summary!O181,\"\"),\"\")","v":""},{"$f":"IFERROR(IF(INDIRECT(\"'game1 (\"&$AD181&\")'!$a$2\")=\"R\",Season_Summary!P181,\"\"),\"\")","v":""},{"$f":"IFERROR(IF(INDIRECT(\"'game1 (\"&$AD181&\")'!$a$2\")=\"R\",Season_Summary!Q181,\"\"),\"\")","v":""},{"$f":"IFERROR(IF(INDIRECT(\"'game1 (\"&$AD181&\")'!$a$2\")=\"R\",Season_Summary!R181,\"\"),\"\")","v":""},{"$f":"IFERROR(IF(INDIRECT(\"'game1 (\"&$AD181&\")'!$a$2\")=\"R\",Season_Summary!S181,\"\"),\"\")","v":""},{"$f":"IFERROR(IF(INDIRECT(\"'game1 (\"&$AD181&\")'!$a$2\")=\"R\",Season_Summary!T181,\"\"),\"\")","v":""},{"$f":"IFERROR(IF(INDIRECT(\"'game1 (\"&$AD181&\")'!$a$2\")=\"R\",Season_Summary!U181,\"\"),\"\")","v":""},{"$f":"IFERROR(IF(INDIRECT(\"'game1 (\"&$AD181&\")'!$a$2\")=\"R\",Season_Summary!V181,\"\"),\"\")","v":""},{"$f":"IFERROR(IF(INDIRECT(\"'game1 (\"&$AD181&\")'!$a$2\")=\"R\",Season_Summary!W181,\"\"),\"\")","v":""},{"$f":"IFERROR(IF(INDIRECT(\"'game1 (\"&$AD181&\")'!$a$2\")=\"R\",Season_Summary!X181,\"\"),\"\")","v":""},{"$f":"IFERROR(IF(INDIRECT(\"'game1 (\"&$AD181&\")'!$a$2\")=\"R\",Season_Summary!Y181,\"\"),\"\")","v":""},{"$f":"IFERROR(IF(INDIRECT(\"'game1 (\"&$AD181&\")'!$a$2\")=\"R\",Season_Summary!Z181,\"\"),\"\")","v":""},{"$f":"IFERROR(IF(INDIRECT(\"'game1 (\"&$AD181&\")'!$a$2\")=\"R\",Season_Summary!AA181,\"\"),\"\")","v":""},{"$f":"IFERROR(IF(INDIRECT(\"'game1 (\"&$AD181&\")'!$a$2\")=\"R\",Season_Summary!AB181,\"\"),\"\")","v":""},{"$f":"IFERROR(IF(INDIRECT(\"'game1 (\"&$AD181&\")'!$a$2\")=\"R\",Season_Summary!AC181,\"\"),\"\")","v":""},40]
[{"$f":"IFERROR(IF(INDIRECT(\"'game1 (\"&$AD182&\")'!$a$2\")=\"R\",Season_Summary!A182,\"\"),\"\")","v":""},{"$f":"IFERROR(IF(INDIRECT(\"'game1 (\"&$AD182&\")'!$a$2\")=\"R\",Season_Summary!B182,\"\"),\"\")","v":""},{"$f":"IFERROR(IF(INDIRECT(\"'game1 (\"&$AD182&\")'!$a$2\")=\"R\",Season_Summary!C182,\"\"),\"\")","v":""},{"$f":"IFERROR(IF(INDIRECT(\"'game1 (\"&$AD182&\")'!$a$2\")=\"R\",Season_Summary!D182,\"\"),\"\")","v":""},{"$f":"IFERROR(IF(INDIRECT(\"'game1 (\"&$AD182&\")'!$a$2\")=\"R\",Season_Summary!E182,\"\"),\"\")","v":""},{"$f":"IFERROR(IF(INDIRECT(\"'game1 (\"&$AD182&\")'!$a$2\")=\"R\",Season_Summary!F182,\"\"),\"\")","v":""},{"$f":"IFERROR(IF(INDIRECT(\"'game1 (\"&$AD182&\")'!$a$2\")=\"R\",Season_Summary!G182,\"\"),\"\")","v":""},{"$f":"IFERROR(IF(INDIRECT(\"'game1 (\"&$AD182&\")'!$a$2\")=\"R\",Season_Summary!H182,\"\"),\"\")","v":""},{"$f":"IFERROR(IF(INDIRECT(\"'game1 (\"&$AD182&\")'!$a$2\")=\"R\",Season_Summary!I182,\"\"),\"\")","v":""},{"$f":"IFERROR(IF(INDIRECT(\"'game1 (\"&$AD182&\")'!$a$2\")=\"R\",Season_Summary!J182,\"\"),\"\")","v":""},{"$f":"IFERROR(IF(INDIRECT(\"'game1 (\"&$AD182&\")'!$a$2\")=\"R\",Season_Summary!K182,\"\"),\"\")","v":""},{"$f":"IFERROR(IF(INDIRECT(\"'game1 (\"&$AD182&\")'!$a$2\")=\"R\",Season_Summary!L182,\"\"),\"\")","v":""},{"$f":"IFERROR(IF(INDIRECT(\"'game1 (\"&$AD182&\")'!$a$2\")=\"R\",Season_Summary!M182,\"\"),\"\")","v":""},{"$f":"IFERROR(IF(INDIRECT(\"'game1 (\"&$AD182&\")'!$a$2\")=\"R\",Season_Summary!N182,\"\"),\"\")","v":""},{"$f":"IFERROR(IF(INDIRECT(\"'game1 (\"&$AD182&\")'!$a$2\")=\"R\",Season_Summary!O182,\"\"),\"\")","v":""},{"$f":"IFERROR(IF(INDIRECT(\"'game1 (\"&$AD182&\")'!$a$2\")=\"R\",Season_Summary!P182,\"\"),\"\")","v":""},{"$f":"IFERROR(IF(INDIRECT(\"'game1 (\"&$AD182&\")'!$a$2\")=\"R\",Season_Summary!Q182,\"\"),\"\")","v":""},{"$f":"IFERROR(IF(INDIRECT(\"'game1 (\"&$AD182&\")'!$a$2\")=\"R\",Season_Summary!R182,\"\"),\"\")","v":""},{"$f":"IFERROR(IF(INDIRECT(\"'game1 (\"&$AD182&\")'!$a$2\")=\"R\",Season_Summary!S182,\"\"),\"\")","v":""},{"$f":"IFERROR(IF(INDIRECT(\"'game1 (\"&$AD182&\")'!$a$2\")=\"R\",Season_Summary!T182,\"\"),\"\")","v":""},{"$f":"IFERROR(IF(INDIRECT(\"'game1 (\"&$AD182&\")'!$a$2\")=\"R\",Season_Summary!U182,\"\"),\"\")","v":""},{"$f":"IFERROR(IF(INDIRECT(\"'game1 (\"&$AD182&\")'!$a$2\")=\"R\",Season_Summary!V182,\"\"),\"\")","v":""},{"$f":"IFERROR(IF(INDIRECT(\"'game1 (\"&$AD182&\")'!$a$2\")=\"R\",Season_Summary!W182,\"\"),\"\")","v":""},{"$f":"IFERROR(IF(INDIRECT(\"'game1 (\"&$AD182&\")'!$a$2\")=\"R\",Season_Summary!X182,\"\"),\"\")","v":""},{"$f":"IFERROR(IF(INDIRECT(\"'game1 (\"&$AD182&\")'!$a$2\")=\"R\",Season_Summary!Y182,\"\"),\"\")","v":""},{"$f":"IFERROR(IF(INDIRECT(\"'game1 (\"&$AD182&\")'!$a$2\")=\"R\",Season_Summary!Z182,\"\"),\"\")","v":""},{"$f":"IFERROR(IF(INDIRECT(\"'game1 (\"&$AD182&\")'!$a$2\")=\"R\",Season_Summary!AA182,\"\"),\"\")","v":""},{"$f":"IFERROR(IF(INDIRECT(\"'game1 (\"&$AD182&\")'!$a$2\")=\"R\",Season_Summary!AB182,\"\"),\"\")","v":""},{"$f":"IFERROR(IF(INDIRECT(\"'game1 (\"&$AD182&\")'!$a$2\")=\"R\",Season_Summary!AC182,\"\"),\"\")","v":""},40]

{"sheet":"Season_Summary","index":1,"n_rows":182,"n_cols":109,"rows_kept":182,"merged":[[0,0,0,9],[0,18,0,20],[0,21,0,22],[0,23,0,26],[0,27,0,28],[33,0,33,20],[34,1,34,2],[34,3,34,4],[34,6,34,8],[34,9,34,10],[34,11,34,12],[34,14,34,16],[34,17,34,18],[34,19,34,20],[34,22,34,24],[34,25,34,26],[34,27,34,28],[35,1,35,2],[35,3,35,4],[35,6,35,8],[35,9,35,10],[35,11,35,12],[35,14,35,16],[35,17,35,18],[35,19,35,20],[35,22,35,24],[35,25,35,26],[35,27,35,28],[36,1,36,2],[36,3,36,4],[36,6,36,8],[36,9,36,10],[36,11,36,12],[36,14,36,16],[36,17,36,18],[36,19,36,20],[36,22,36,24],[36,25,36,26],[36,27,36,28],[37,1,37,2],[37,3,37,4],[37,6,37,8],[37,9,37,10],[37,11,37,12],[37,14,37,16],[37,17,37,18],[37,19,37,20],[37,22,37,24],[37,25,37,26],[37,27,37,28],[38,1,38,2],[38,3,38,4],[38,6,38,8],[38,9,38,10],[38,11,38,12],[38,14,38,16],[38,17,38,18],[38,19,38,20],[38,22,38,24],[38,25,38,26],[38,27,38,28],[39,1,39,2],[39,3,39,4],[39,6,39,8],[39,9,39,10],[39,11,39,12],[39,14,39,16],[39,17,39,18],[39,19,39,20],[39,22,39,24],[39,25,39,26],[39,27,39,28],[41,1,41,2],[41,3,41,4],[41,6,41,8],[41,9,41,10],[41,11,41,12],[41,14,41,16],[41,17,41,18],[41,19,41,20],[41,22,41,24],[41,25,41,26],[41,27,41,28],[42,1,42,2],[42,3,42,4],[42,6,42,8],[42,9,42,10],[42,11,42,12],[42,14,42,16],[42,17,42,18],[42,19,42,20],[42,22,42,24],[42,25,42,26],[42,27,42,28],[43,1,43,2],[43,3,43,4],[43,6,43,8],[43,9,43,10],[43,11,43,12],[43,14,43,16],[43,17,43,18],[43,19,43,20],[43,22,43,24],[43,25,43,26],[43,27,43,28],[44,1,44,2],[44,3,44,4],[44,6,44,8],[44,9,44,10],[44,11,44,12],[44,14,44,16],[44,17,44,18],[44,19,44,20],[44,22,44,24],[44,25,44,26],[44,27,44,28],[45,1,45,2],[45,3,45,4],[45,6,45,8],[45,9,45,10],[45,11,45,12],[45,14,45,16],[45,17,45,18],[45,19,45,20],[45,22,45,24],[45,25,45,26],[45,27,45,28],[46,1,46,2],[46,3,46,4],[46,6,46,8],[46,9,46,10],[46,11,46,12],[46,14,46,16],[46,17,46,18],[46,19,46,20],[46,22,46,24],[46,25,46,26],[46,27,46,28],[48,1,48,2],[48,3,48,4],[48,6,48,8],[48,9,48,10],[48,11,48,12],[48,14,48,16],[48,17,48,18],[48,19,48,20],[48,22,48,24],[48,25,48,26],[48,27,48,28],[49,1,49,2],[49,3,49,4],[49,6,49,8],[49,9,49,10],[49,11,49,12],[49,14,49,16],[49,17,49,18],[49,19,49,20],[49,22,49,24],[49,25,49,26],[49,27,49,28],[50,1,50,2],[50,3,50,4],[50,6,50,8],[50,9,50,10],[50,11,50,12],[50,14,50,16],[50,17,50,18],[50,19,50,20],[50,22,50,24],[50,25,50,26],[50,27,50,28],[51,1,51,2],[51,3,51,4],[51,6,51,8],[51,9,51,10],[51,11,51,12],[51,14,51,16],[51,17,51,18],[51,19,51,20],[51,22,51,24],[51,25,51,26],[51,27,51,28],[52,1,52,2],[52,3,52,4],[52,6,52,8],[52,9,52,10],[52,11,52,12],[52,14,52,16],[52,17,52,18],[52,19,52,20],[52,22,52,24],[52,25,52,26],[52,27,52,28],[53,1,53,2],[53,3,53,4],[53,6,53,8],[53,9,53,10],[53,11,53,12],[53,14,53,16],[53,17,53,18],[53,19,53,20],[53,22,53,24],[53,25,53,26],[53,27,53,28],[55,1,55,2],[55,3,55,4],[55,6,55,8],[55,9,55,10],[55,11,55,12],[55,14,55,16],[55,17,55,18],[55,19,55,20],[55,22,55,24],[55,25,55,26],[55,27,55,28],[56,1,56,2],[56,3,56,4],[56,6,56,8],[56,9,56,10],[56,11,56,12],[56,14,56,16],[56,17,56,18],[56,19,56,20],[56,22,56,24],[56,25,56,26],[56,27,56,28],[57,1,57,2],[57,3,57,4],[57,6,57,8],[57,9,57,10],[57,11,57,12],[57,14,57,16],[57,17,57,18],[57,19,57,20],[57,22,57,24],[57,25,57,26],[57,27,57,28],[58,1,58,2],[58,3,58,4],[58,6,58,8],[58,9,58,10],[58,11,58,12],[58,14,58,16],[58,17,58,18],[58,19,58,20],[58,22,58,24],[58,25,58,26],[58,27,58,28],[59,1,59,2],[59,3,59,4],[59,6,59,8],[59,9,59,10],[59,11,59,12],[59,14,59,16],[59,17,59,18],[59,19,59,20],[59,22,59,24],[59,25,59,26],[59,27,59,28],[60,1,60,2],[60,3,60,4],[60,6,60,8],[60,9,60,10],[60,11,60,12],[60,14,60,16],[60,17,60,18],[60,19,60,20],[60,22,60,24],[60,25,60,26],[60,27,60,28],[63,0,63,18],[64,1,64,3],[64,4,64,5],[64,6,64,7],[64,9,64,11],[64,12,64,14],[64,15,64,16],[64,17,64,18],[64,20,64,22],[64,23,64,25],[64,26,64,27],[65,1,65,3],[65,4,65,5],[65,6,65,7],[65,9,65,11],[65,12,65,14],[65,15,65,16],[65,17,65,18],[65,20,65,22],[65,23,65,25],[65,26,65,27],[66,1,66,3],[66,4,66,5],[66,6,66,7],[66,9,66,11],[66,12,66,14],[66,15,66,16],[66,17,66,18],[66,20,66,22],[66,23,66,25],[66,26,66,27],[67,1,67,3],[67,4,67,5],[67,6,67,7],[67,9,67,11],[67,12,67,14],[67,15,67,16],[67,17,67,18],[67,20,67,22],[67,23,67,25],[67,26,67,27],[68,1,68,3],[68,4,68,5],[68,6,68,7],[68,9,68,11],[68,12,68,14],[68,15,68,16],[68,17,68,18],[68,20,68,22],[68,23,68,25],[68,26,68,27],[69,1,69,3],[69,4,69,5],[69,6,69,7],[69,9,69,11],[69,12,69,14],[69,15,69,16],[69,17,69,18],[69,20,69,22],[69,23,69,25],[69,26,69,27],[71,1,71,3],[71,4,71,5],[71,6,71,7],[71,9,71,11],[71,12,71,14],[71,15,71,16],[71,17,71,18],[71,20,71,22],[71,23,71,25],[71,26,71,27],[72,1,72,3],[72,4,72,5],[72,6,72,7],[72,9,72,11],[72,12,72,14],[72,15,72,16],[72,17,72,18],[72,20,72,22],[72,23,72,25],[72,26,72,27],[73,1,73,3],[73,4,73,5],[73,6,73,7],[73,9,73,11],[73,12,73,14],[73,15,73,16],[73,17,73,18],[73,20,73,22],[73,23,73,25],[73,26,73,27],[74,1,74,3],[74,4,74,5],[74,6,74,7],[74,9,74,11],[74,12,74,14],[74,15,74,16],[74,17,74,18],[74,20,74,22],[74,23,74,25],[74,26,74,27],[75,1,75,3],[75,4,75,5],[75,6,75,7],[75,9,75,11],[75,12,75,14],[75,15,75,16],[75,17,75,18],[75,20,75,22],[75,23,75,25],[75,26,75,27],[76,1,76,3],[76,4,76,5],[76,6,76,7],[76,9,76,11],[76,12,76,14],[76,15,76,16],[76,17,76,18],[76,20,76,22],[76,23,76,25],[76,26,76,27],[78,1,78,3],[78,4,78,5],[78,6,78,7],[78,9,78,11],[78,12,78,14],[78,15,78,16],[78,17,78,18],[78,20,78,22],[78,23,78,25],[78,26,78,27],[79,1,79,3],[79,4,79,5],[79,6,79,7],[79,9,79,11],[79,12,79,14],[79,15,79,16],[79,17,79,18],[79,20,79,22],[79,23,79,25],[79,26,79,27],[80,1,80,3],[80,4,80,5],[80,6,80,7],[80,9,80,11],[80,12,80,14],[80,15,80,16],[80,17,80,18],[80,20,80,22],[80,23,80,25],[80,26,80,27],[81,1,81,3],[81,4,81,5],[81,6,81,7],[81,9,81,11],[81,12,81,14],[81,15,81,16],[81,17,81,18],[81,20,81,22],[81,23,81,25],[81,26,81,27],[82,1,82,3],[82,4,82,5],[82,6,82,7],[82,9,82,11],[82,12,82,14],[82,15,82,16],[82,17,82,18],[82,20,82,22],[82,23,82,25],[82,26,82,27],[83,1,83,3],[83,4,83,5],[83,6,83,7],[83,9,83,11],[83,12,83,14],[83,15,83,16],[83,17,83,18],[83,20,83,22],[83,23,83,25],[83,26,83,27],[85,1,85,3],[85,4,85,5],[85,6,85,7],[85,9,85,11],[85,12,85,14],[85,15,85,16],[85,17,85,18],[85,20,85,22],[85,23,85,25],[85,26,85,27],[86,1,86,3],[86,4,86,5],[86,6,86,7],[86,9,86,11],[86,12,86,14],[86,15,86,16],[86,17,86,18],[86,20,86,22],[86,23,86,25],[86,26,86,27],[87,1,87,3],[87,4,87,5],[87,6,87,7],[87,9,87,11],[87,12,87,14],[87,15,87,16],[87,17,87,18],[87,20,87,22],[87,23,87,25],[87,26,87,27],[88,1,88,3],[88,4,88,5],[88,6,88,7],[88,9,88,11],[88,12,88,14],[88,15,88,16],[88,17,88,18],[88,20,88,22],[88,23,88,25],[88,26,88,27],[89,1,89,3],[89,4,89,5],[89,6,89,7],[89,9,89,11],[89,12,89,14],[89,15,89,16],[89,17,89,18],[89,20,89,22],[89,23,89,25],[89,26,89,27],[90,1,90,3],[90,4,90,5],[90,6,90,7],[90,9,90,11],[90,12,90,14],[90,15,90,16],[90,17,90,18],[90,20,90,22],[90,23,90,25],[90,26,90,27],[92,1,92,3],[92,4,92,5],[92,6,92,7],[92,9,92,11],[92,12,92,14],[92,15,92,16],[92,17,92,18],[92,20,92,22],[92,23,92,25],[92,26,92,27],[93,1,93,3],[93,4,93,5],[93,6,93,7],[93,9,93,11],[93,12,93,14],[93,15,93,16],[93,17,93,18],[93,20,93,22],[93,23,93,25],[93,26,93,27],[94,1,94,3],[94,4,94,5],[94,6,94,7],[94,9,94,11],[94,12,94,14],[94,15,94,16],[94,17,94,18],[94,20,94,22],[94,23,94,25],[94,26,94,27],[95,1,95,3],[95,4,95,5],[95,6,95,7],[95,9,95,11],[95,12,95,14],[95,15,95,16],[95,17,95,18],[95,20,95,22],[95,23,95,25],[95,26,95,27],[96,1,96,3],[96,4,96,5],[96,6,96,7],[96,9,96,11],[96,12,96,14],[96,15,96,16],[96,17,96,18],[96,20,96,22],[96,23,96,25],[96,26,96,27],[97,1,97,3],[97,4,97,5],[97,6,97,7],[97,9,97,11],[97,12,97,14],[97,15,97,16],[97,17,97,18],[97,20,97,22],[97,23,97,25],[97,26,97,27],[100,1,100,3],[100,19,100,27],[101,19,101,21],[101,22,101,24],[101,25,101,28],[102,19,103,21],[102,22,103,24],[102,25,103,28],[104,19,105,21],[104,22,105,24],[104,25,105,28],[106,19,107,21],[106,22,107,24],[106,25,107,28],[108,19,109,21],[108,22,109,24],[108,25,109,28],[110,19,111,21],[110,22,111,24],[110,25,111,28],[112,19,113,21],[112,22,113,24],[112,25,113,28],[114,19,115,21],[114,22,115,24],[114,25,115,28],[116,19,117,21],[116,22,117,24],[116,25,117,28],[118,19,119,21],[118,22,119,24],[118,25,119,28],[120,19,121,21],[120,22,121,24],[120,25,121,28],[122,19,123,21],[122,22,123,24],[122,25,123,28],[124,19,125,21],[124,22,125,24],[124,25,125,28],[126,19,127,21],[126,22,127,24],[126,25,127,28],[128,19,129,21],[128,22,129,24],[128,25,129,28],[130,19,131,21],[130,22,131,24],[130,25,131,28],[132,19,133,21],[132,22,133,24],[132,25,133,28],[134,19,135,21],[134,22,135,24],[134,25,135,28],[136,19,137,21],[136,22,137,24],[136,25,137,28],[138,19,139,21],[138,22,139,24],[138,25,139,28],[140,19,141,21],[140,22,141,24],[140,25,141,28],[142,19,143,21],[142,22,143,24],[142,25,143,28],[144,19,145,21],[144,22,145,24],[144,25,145,28],[146,19,147,21],[146,22,147,24],[146,25,147,28],[148,19,149,21],[148,22,149,24],[148,25,149,28],[150,19,151,21],[150,22,151,24],[150,25,151,28],[152,19,153,21],[152,22,153,24],[152,25,153,28],[154,19,155,21],[154,22,155,24],[154,25,155,28],[156,19,157,21],[156,22,157,24],[156,25,157,28],[158,19,159,21],[158,22,159,24],[158,25,159,28],[160,19,161,21],[160,22,161,24],[160,25,161,28],[162,19,163,21],[162,22,163,24],[162,25,163,28],[164,19,165,21],[164,22,165,24],[164,25,165,28],[166,19,167,21],[166,22,167,24],[166,25,167,28],[168,19,169,21],[168,22,169,24],[168,25,169,28],[170,19,171,21],[170,22,171,24],[170,25,171,28],[172,19,173,21],[172,22,173,24],[172,25,173,28],[174,19,175,21],[174,22,175,24],[174,25,175,28],[176,19,177,21],[176,22,177,24],[176,25,177,28],[178,19,179,21],[178,22,179,24],[178,25,179,28],[180,19,181,21],[180,22,181,24],[180,25,181,28]]}
[{"$f":"Roster!B1&\" \"&Roster!B2","v":"Upton Bobcats"},{"$nulls":14},{"$f":"CONCATENATE(Roster!$D$1,\" \",Roster!$D$5)","v":"2A BB"},{"$f":"Roster!$D$2","v":"Northeast"},null,"Overall Record",null,null,{"$f":"SUM('game1 (1):game1 (40)'!$G$4) & \" - \" & SUM('game1 (1):game1 (40)'!$I$4)","v":"20 - 8"},null,"Conference Record",{"$nulls":3},{"$f":"SUM('game1 (1):game1 (40)'!$H$4) & \" - \" & SUM('game1 (1):game1 (40)'!$J$4)","v":"7 - 3"},null,null,{"$f":"COUNT('game1 (1):game1 (40)'!$G$4)+COUNT('game1 (1):game1 (40)'!$I$4)","v":28}]
[]
[]
[]
[{"$nulls":17},{"$f":"COUNTA('game1 (1):game1 (40)'!$C$2)","v":28},{"$nulls":3},{"$f":"SUM('game1 (1):game1 (40)'!$G$4)","v":20},{"$f":"SUM('game1 (1):game1 (40)'!$I$4)","v":8},{"$nulls":4},{"$f":"SUM('game1 (1):game1 (40)'!$H$4)","v":7},{"$f":"SUM('game1 (1):game1 (40)'!$J$4)","v":3}]
["PLAYER,#","GP","3FGM","3FGA","3FG %","2FGM","2FGA","2FG %","FTM","FTA","FT %","PTS","OFF REB","DEF REB","REB","AST","STL","BLK","TO'S","FOUL","PTS / GM","O REB /GM","D REB /GM","REB / GM","AST / GM","STL / GM","BLK / GM","TO'S / GM","FOUL / GM","School","3 FGA/Gm","FTA / GM","FG %","FGA / GM","Conf","Team GP","Class",{"$nulls":9},"School","GP","3FGM","3FGA","3FG %","2FGM","2FGA","2FG %","FTM","FTA","FT %","PTS","OFF REB","DEF REB","REB","AST","STL","BLK","TO'S","FOUL","PTS / GM","O REB /GM","D REB /GM","REB / GM","AST / GM","STL / GM","BLK / GM","TO'S / GM","FOUL / GM","Opp_GP","Opp_3FGM","Opp_3FGA","Opp_3FG %","Opp_2FGM","Opp_2FGA","Opp_2FG %","Opp_FTM","Opp_FTA","Opp_FT %","Opp_PTS","Opp_OFF REB","Opp_DEF REB","Opp_REB","Opp_AST","Opp_STL","Opp_BLK","Opp_TO'S","Opp_FOUL","Opp_PTS / GM","Opp_O REB /GM","Opp_D REB /GM","Opp_REB / GM","Opp_AST / GM","Opp_STL / GM","Opp_BLK / GM","Opp_TO'S / GM","Opp_FOUL / GM","Conference","Wins","Losses","Conf Wins","Conf Losses","Class"]
[{"$f":"IF(OR(Roster!A7<>\"\",Roster!B7<>\"\"),PROPER(Roster!B7)&\", \"&Roster!A7,\"\")","v":"Payton Watt, 24"},{"$f":"SUM('game1 (1):game1 (40)'!C7)","v":28},{"$f":"(SUM('game1 (1):game1 (40)'!D7))","v":65},{"$f":"(SUM('game1 (1):game1 (40)'!E7))","v":191},{"$f":"IF(D7>0,C7/D7,\"\")","v":{"v":0.3403141361256545,"d":"34%"}},{"$f":"(SUM('game1 (1):game1 (40)'!F7))","v":139},{"$f":"(SUM('game1 (1):game1 (40)'!G7))","v":242},{"$f":"IF(G7>0,F7/G7,\"\")","v":{"v":0.5743801652892562,"d":"57%"}},{"$f":"(SUM('game1 (1):game1 (40)'!H7))","v":58},{"$f":"(SUM('game1 (1):game1 (40)'!I7))","v":85},{"$f":"IF(J7>0,I7/J7,\"\")","v":{"v":0.6823529411764706,"d":"68%"}},{"$f":"(SUM('game1 (1):game1 (40)'!Q7))","v":531},{"$f":"(SUM('game1 (1):game1 (40)'!J7))","v":57},{"$f":"(SUM('game1 (1):game1 (40)'!K7))","v":126},{"$f":"(SUM('game1 (1):game1 (40)'!W7))","v":183},{"$f":"(SUM('game1 (1):game1 (40)'!L7))","v":76},{"$f":"(SUM('game1 (1):game1 (40)'!M7))","v":33},{"$f":"(SUM('game1 (1):game1 (40)'!N7))","v":11},{"$f":"(SUM('game1 (1):game1 (40)'!O7))","v":58},{"$f":"(SUM('game1 (1):game1 (40)'!P7))","v":53},{"$f":"IF($B7>0,L7/$B7,\"\")","v":{"v":18.964285714285715,"d":"19.0"}},{"$f":"IF($B7>0,M7/$B7,0)","v":{"v":2.0357142857142856,"d":"2.0"}},{"$f":"IF($B7>0,N7/$B7,0)","v":4.5},{"$f":"IF($B7>0,O7/$B7,0)","v":{"v":6.535714285714286,"d":"6.5"}},{"v":2.7142857142857144,"d":"2.7"},{"v":1.1785714285714286,"d":"1.2"},{"v":0.39285714285714285,"d":"0.4"},{"v":2.0714285714285716,"d":"2.1"},{"v":1.8928571428571428,"d":"1.9"},{"$f":"Roster!$B$1","v":"Upton"},{"$f":"IF($B7>0,$D7/$B7,0)","v":{"v":6.821428571428571,"d":"6.8"}},{"$f":"IF($B7>0,$J7/$B7,0)","v":{"v":3.0357142857142856,"d":"3.0"}},{"$f":"IF($D7+$G7>0,($C7+$F7)/($D7+$G7),0)","v":{"v":0.47113163972286376,"d":"47%"}},{"$f":"IF($B7>0,($D7+$G7)/$B7,0)","v":{"v":15.464285714285714,"d":"15.5"}},{"$f":"Roster!$D$2","v":"Northeast"},{"$f":"$B$31","v":28},{"$f":"$P$1","v":"2A BB"},{"$nulls":9},{"$f":"Roster!$B$1","v":"Upton"},{"$f":"B$31","v":28},{"$f":"C$31","v":185},587,{"v":0.3151618398637138,"d":"32%"},538,1013,{"v":0.5310957551826259,"d":"53%"},293,478,{"v":0.6129707112970711,"d":"61%"},1924,374,633,1007,513,316,24,378,434,{"v":68.71428571428571,"d":"68.7"},{"v":13.357142857142858,"d":"13.4"},{"v":22.607142857142858,"d":"22.6"},{"v":35.964285714285715,"d":"36.0"},{"v":18.321428571428573,"d":"18.3"},{"v":11.285714285714286,"d":"11.3"},{"v":0.8571428571428571,"d":"0.9"},13.5,15.5,{"$f":"B$32","v":28},{"$f":"C$32","v":121},413,{"v":0.2929782082324455,"d":"29%"},419,957,{"v":0.4378265412748171,"d":"44%"},218,410,{"v":0.5317073170731708,"d":"53%"},1419,262,580,842,238,164,33,562,452,{"v":50.714285714285715,"d":"50.7"},{"v":9.357142857142858,"d":"9.4"},{"v":20.714285714285715,"d":"20.7"},{"v":30.071428571428573,"d":"30.1"},8.5,{"v":5.857142857142857,"d":"5.9"},{"v":1.5714285714285714,"d":"1.6"},{"v":20.071428571428573,"d":"20.1"},{"v":16.142857142857142,"d":"16.1"},{"$f":"Roster!$D$2","v":"Northeast"},{"$f":"$V$5","v":20},{"$f":"$W$5","v":8},{"$f":"$AB$5","v":7},{"$f":"$AC$5","v":3},{"$f":"$P$1","v":"2A BB"}]
[{"$f":"IF(OR(Roster!A8<>\"\",Roster!B8<>\"\"),PROPER(Roster!B8)&\", \"&Roster!A8,\"\")","v":"Dillon Barritt, 20"},{"$f":"SUM('game1 (1):game1 (40)'!C8)","v":28},{"$f":"(SUM('game1 (1):game1 (40)'!D8))","v":66},{"$f":"(SUM('game1 (1):game1 (40)'!E8))","v":188},{"$f":"IF(D8>0,C8/D8,\"\")","v":{"v":0.35106382978723405,"d":"35%"}},{"$f":"(SUM('game1 (1):game1 (40)'!F8))","v":38},{"$f":"(SUM('game1 (1):game1 (40)'!G8))","v":92},{"$f":"IF(G8>0,F8/G8,\"\")","v":{"v":0.41304347826086957,"d":"41%"}},{"$f":"(SUM('game1 (1):game1 (40)'!H8))","v":30},{"$f":"(SUM('game1 (1):game1 (40)'!I8))","v":38},{"$f":"IF(J8>0,I8/J8,\"\")","v":{"v":0.7894736842105263,"d":"79%"}},{"$f":"(SUM('game1 (1):game1 (40)'!Q8))","v":304},{"$f":"(SUM('game1 (1):game1 (40)'!J8))","v":25},{"$f":"(SUM('game1 (1):game1 (40)'!K8))","v":59},{"$f":"(SUM('game1 (1):game1 (40)'!W8))","v":84},{"$f":"(SUM('game1 (1):game1 (40)'!L8))","v":55},{"$f":"(SUM('game1 (1):game1 (40)'!M8))","v":59},{"$f":"(SUM('game1 (1):game1 (40)'!N8))","v":1},{"$f":"(SUM('game1 (1):game1 (40)'!O8))","v":46},{"$f":"(SUM('game1 (1):game1 (40)'!P8))","v":56},{"$f":"IF($B8>0,L8/$B8,\"\")","v":{"v":10.857142857142858,"d":"10.9"}},{"$f":"IF($B8>0,M8/$B8,0)","v":{"v":0.8928571428571429,"d":"0.9"}},{"v":2.107142857142857,"d":"2.1"},{"v":3,"d":"3.0"},{"v":1.9642857142857142,"d":"2.0"},{"v":2.107142857142857,"d":"2.1"},{"v":0.03571428571428571,"d":"0.0"},{"v":1.6428571428571428,"d":"1.6"},{"v":2,"d":"2.0"},{"$f":"Roster!$B$1","v":"Upton"},{"$f":"IF($B8>0,$D8/$B8,0)","v":{"v":6.714285714285714,"d":"6.7"}},{"$f":"IF($B8>0,$J8/$B8,0)","v":{"v":1.3571428571428572,"d":"1.4"}},{"$f":"IF($D8+$G8>0,($C8+$F8)/($D8+$G8),0)","v":{"v":0.37142857142857144,"d":"37%"}},{"$f":"IF($B8>0,($D8+$G8)/$B8,0)","v":{"v":10,"d":"10.0"}},{"$f":"Roster!$D$2","v":"Northeast"},{"$f":"$B$31","v":28},{"$f":"$P$1","v":"2A BB"}]
[{"$f":"IF(OR(Roster!A9<>\"\",Roster!B9<>\"\"),PROPER(Roster!B9)&\", \"&Roster!A9,\"\")","v":"Dawson Butts, 14"},{"$f":"SUM('game1 (1):game1 (40)'!C9)","v":28},{"$f":"(SUM('game1 (1):game1 (40)'!D9))","v":3},{"$f":"(SUM('game1 (1):game1 (40)'!E9))","v":15},{"v":0.2,"d":"20%"},{"$f":"(SUM('game1 (1):game1 (40)'!F9))","v":47},{"$f":"(SUM('game1 (1):game1 (40)'!G9))","v":99},{"v":0.47474747474747475,"d":"47%"},{"$f":"(SUM('game1 (1):game1 (40)'!H9))","v":19},{"$f":"(SUM('game1 (1):game1 (40)'!I9))","v":59},{"v":0.3220338983050847,"d":"32%"},{"$f":"(SUM('game1 (1):game1 (40)'!Q9))","v":122},{"$f":"(SUM('game1 (1):game1 (40)'!J9))","v":56},{"$f":"(SUM('game1 (1):game1 (40)'!K9))","v":69},{"$f":"(SUM('game1 (1):game1 (40)'!W9))","v":125},{"$f":"(SUM('game1 (1):game1 (40)'!L9))","v":94},{"$f":"(SUM('game1 (1):game1 (40)'!M9))","v":57},{"$f":"(SUM('game1 (1):game1 (40)'!N9))","v":3},{"$f":"(SUM('game1 (1):game1 (40)'!O9))","v":44},{"$f":"(SUM('game1 (1):game1 (40)'!P9))","v":50},{"v":4.357142857142857,"d":"4.4"},{"v":2,"d":"2.0"},{"v":2.4642857142857144,"d":"2.5"},{"v":4.464285714285714,"d":"4.5"},{"v":3.357142857142857,"d":"3.4"},{"v":2.0357142857142856,"d":"2.0"},{"v":0.10714285714285714,"d":"0.1"},{"v":1.5714285714285714,"d":"1.6"},{"v":1.7857142857142858,"d":"1.8"},{"$f":"Roster!$B$1","v":"Upton"},{"v":0.5357142857142857,"d":"0.5"},{"v":2.107142857142857,"d":"2.1"},{"v":0.43859649122807015,"d":"44%"},{"v":4.071428571428571,"d":"4.1"},{"$f":"Roster!$D$2","v":"Northeast"},28,"2A BB"]
[{"$f":"IF(OR(Roster!A10<>\"\",Roster!B10<>\"\"),PROPER(Roster!B10)&\", \"&Roster!A10,\"\")","v":"Jayden Caylor, 12"},{"$f":"SUM('game1 (1):game1 (40)'!C10)","v":23},{"$f":"(SUM('game1 (1):game1 (40)'!D10))","v":8},{"$f":"(SUM('game1 (1):game1 (40)'!E10))","v":20},{"v":0.4,"d":"40%"},{"$f":"(SUM('game1 (1):game1 (40)'!F10))","v":42},{"$f":"(SUM('game1 (1):game1 (40)'!G10))","v":78},{"v":0.5384615384615384,"d":"54%"},{"$f":"(SUM('game1 (1):game1 (40)'!H10))","v":30},{"$f":"(SUM('game1 (1):game1 (40)'!I10))","v":50},{"v":0.6,"d":"60%"},{"$f":"(SUM('game1 (1):game1 (40)'!Q10))","v":138},{"$f":"(SUM('game1 (1):game1 (40)'!J10))","v":43},{"$f":"(SUM('game1 (1):game1 (40)'!K10))","v":66},{"$f":"(SUM('game1 (1):game1 (40)'!W10))","v":109},{"$f":"(SUM('game1 (1):game1 (40)'!L10))","v":58},{"$f":"(SUM('game1 (1):game1 (40)'!M10))","v":54},{"$f":"(SUM('game1 (1):game1 (40)'!N10))","v":2},{"$f":"(SUM('game1 (1):game1 (40)'!O10))","v":46},{"$f":"(SUM('game1 (1):game1 (40)'!P10))","v":62},{"v":6,"d":"6.0"},{"v":1.8695652173913044,"d":"1.9"},{"v":2.869565217391304,"d":"2.9"},{"v":4.739130434782608,"d":"4.7"},{"v":2.5217391304347827,"d":"2.5"},{"v":2.347826086956522,"d":"2.3"},{"v":0.08695652173913043,"d":"0.1"},{"v":2,"d":"2.0"},{"v":2.6956521739130435,"d":"2.7"},{"$f":"Roster!$B$1","v":"Upton"},{"v":0.8695652173913043,"d":"0.9"},{"v":2.1739130434782608,"d":"2.2"},{"v":0.5102040816326531,"d":"51%"},{"v":4.260869565217392,"d":"4.3"},{"$f":"Roster!$D$2","v":"Northeast"},28,"2A BB"]
[{"$f":"IF(OR(Roster!A11<>\"\",Roster!B11<>\"\"),PROPER(Roster!B11)&\", \"&Roster!A11,\"\")","v":"Clayton Louderback, 23"},{"$f":"SUM('game1 (1):game1 (40)'!C11)","v":23},{"$f":"(SUM('game1 (1):game1 (40)'!D11))","v":14},{"$f":"(SUM('game1 (1):game1 (40)'!E11))","v":52},{"v":0.2692307692307692,"d":"27%"},{"$f":"(SUM('game1 (1):game1 (40)'!F11))","v":138},{"$f":"(SUM('game1 (1):game1 (40)'!G11))","v":266},{"v":0.518796992481203,"d":"52%"},{"$f":"(SUM('game1 (1):game1 (40)'!H11))","v":74},{"$f":"(SUM('game1 (1):game1 (40)'!I11))","v":119},{"v":0.6218487394957983,"d":"62%"},{"$f":"(SUM('game1 (1):game1 (40)'!Q11))","v":392},{"$f":"(SUM('game1 (1):game1 (40)'!J11))","v":74},{"$f":"(SUM('game1 (1):game1 (40)'!K11))","v":124},{"$f":"(SUM('game1 (1):game1 (40)'!W11))","v":198},{"$f":"(SUM('game1 (1):game1 (40)'!L11))","v":68},{"$f":"(SUM('game1 (1):game1 (40)'!M11))","v":53},{"$f":"(SUM('game1 (1):game1 (40)'!N11))","v":5},{"$f":"(SUM('game1 (1):game1 (40)'!O11))","v":68},{"$f":"(SUM('game1 (1):game1 (40)'!P11))","v":59},{"v":17.043478260869566,"d":"17.0"},{"v":3.217391304347826,"d":"3.2"},{"v":5.391304347826087,"d":"5.4"},{"v":8.608695652173912,"d":"8.6"},{"v":2.9565217391304346,"d":"3.0"},{"v":2.3043478260869565,"d":"2.3"},{"v":0.21739130434782608,"d":"0.2"},{"v":2.9565217391304346,"d":"3.0"},{"v":2.5652173913043477,"d":"2.6"},{"$f":"Roster!$B$1","v":"Upton"},{"v":2.260869565217391,"d":"2.3"},{"v":5.173913043478261,"d":"5.2"},{"v":0.4779874213836478,"d":"48%"},{"v":13.826086956521738,"d":"13.8"},{"$f":"Roster!$D$2","v":"Northeast"},28,"2A BB"]
[{"$f":"IF(OR(Roster!A12<>\"\",Roster!B12<>\"\"),PROPER(Roster!B12)&\", \"&Roster!A12,\"\")","v":"Jess Claycomb, 10"},{"$f":"SUM('game1 (1):game1 (40)'!C12)","v":28},{"$f":"(SUM('game1 (1):game1 (40)'!D12))","v":16},{"$f":"(SUM('game1 (1):game1 (40)'!E12))","v":50},{"v":0.32,"d":"32%"},{"$f":"(SUM('game1 (1):game1 (40)'!F12))","v":89},{"$f":"(SUM('game1 (1):game1 (40)'!G12))","v":134},{"v":0.664179104477612,"d":"66%"},{"$f":"(SUM('game1 (1):game1 (40)'!H12))","v":50},{"$f":"(SUM('game1 (1):game1 (40)'!I12))","v":73},{"v":0.684931506849315,"d":"68%"},{"$f":"(SUM('game1 (1):game1 (40)'!Q12))","v":276},{"$f":"(SUM('game1 (1):game1 (40)'!J12))","v":33},{"$f":"(SUM('game1 (1):game1 (40)'!K12))","v":54},{"$f":"(SUM('game1 (1):game1 (40)'!W12))","v":87},{"$f":"(SUM('game1 (1):game1 (40)'!L12))","v":60},{"$f":"(SUM('game1 (1):game1 (40)'!M12))","v":31},{"$f":"(SUM('game1 (1):game1 (40)'!N12))","v":1},{"$f":"(SUM('game1 (1):game1 (40)'!O12))","v":30},{"$f":"(SUM('game1 (1):game1 (40)'!P12))","v":59},{"v":9.857142857142858,"d":"9.9"},{"v":1.1785714285714286,"d":"1.2"},{"v":1.9285714285714286,"d":"1.9"},{"v":3.107142857142857,"d":"3.1"},{"v":2.142857142857143,"d":"2.1"},{"v":1.1071428571428572,"d":"1.1"},{"v":0.03571428571428571,"d":"0.0"},{"v":1.0714285714285714,"d":"1.1"},{"v":2.107142857142857,"d":"2.1"},{"$f":"Roster!$B$1","v":"Upton"},{"v":1.7857142857142858,"d":"1.8"},{"v":2.607142857142857,"d":"2.6"},{"v":0.5706521739130435,"d":"57%"},{"v":6.571428571428571,"d":"6.6"},{"$f":"Roster!$D$2","v":"Northeast"},28,"2A BB"]
[{"$f":"IF(OR(Roster!A13<>\"\",Roster!B13<>\"\"),PROPER(Roster!B13)&\", \"&Roster!A13,\"\")","v":"Maxx Cowger, 4"},{"$f":"SUM('game1 (1):game1 (40)'!C13)","v":4},{"$f":"(SUM('game1 (1):game1 (40)'!D13))","v":0},{"$f":"(SUM('game1 (1):game1 (40)'!E13))","v":0},"",{"$f":"(SUM('game1 (1):game1 (40)'!F13))","v":1},{"$f":"(SUM('game1 (1):game1 (40)'!G13))","v":2},{"v":0.5,"d":"50%"},{"$f":"(SUM('game1 (1):game1 (40)'!H13))","v":5},{"$f":"(SUM('game1 (1):game1 (40)'!I13))","v":6},{"v":0.8333333333333334,"d":"83%"},{"$f":"(SUM('game1 (1):game1 (40)'!Q13))","v":7},{"$f":"(SUM('game1 (1):game1 (40)'!J13))","v":2},{"$f":"(SUM('game1 (1):game1 (40)'!K13))","v":1},{"$f":"(SUM('game1 (1):game1 (40)'!W13))","v":3},{"$f":"(SUM('game1 (1):game1 (40)'!L13))","v":1},{"$f":"(SUM('game1 (1):game1 (40)'!M13))","v":1},{"$f":"(SUM('game1 (1):game1 (40)'!N13))","v":0},{"$f":"(SUM('game1 (1):game1 (40)'!O13))","v":3},{"$f":"(SUM('game1 (1):game1 (40)'!P13))","v":2},{"v":1.75,"d":"1.8"},0.5,{"v":0.25,"d":"0.3"},{"v":0.75,"d":"0.8"},{"v":0.25,"d":"0.3"},{"v":0.25,"d":"0.3"},{"v":0,"d":"0.0"},{"v":0.75,"d":"0.8"},0.5,{"$f":"Roster!$B$1","v":"Upton"},{"v":0,"d":"0.0"},1.5,{"v":0.5,"d":"50%"},0.5,{"$f":"Roster!$D$2","v":"Northeast"},28,"2A BB"]
[{"$f":"IF(OR(Roster!A14<>\"\",Roster!B14<>\"\"),PROPER(Roster!B14)&\", \"&Roster!A14,\"\")","v":"Brayden Bruce, 22"},{"$f":"SUM('game1 (1):game1 (40)'!C14)","v":28},{"$f":"(SUM('game1 (1):game1 (40)'!D14))","v":12},{"$f":"(SUM('game1 (1):game1 (40)'!E14))","v":40},{"v":0.3,"d":"30%"},{"$f":"(SUM('game1 (1):game1 (40)'!F14))","v":19},{"$f":"(SUM('game1 (1):game1 (40)'!G14))","v":48},{"v":0.3958333333333333,"d":"40%"},{"$f":"(SUM('game1 (1):game1 (40)'!H14))","v":24},{"$f":"(SUM('game1 (1):game1 (40)'!I14))","v":37},{"v":0.6486486486486487,"d":"65%"},{"$f":"(SUM('game1 (1):game1 (40)'!Q14))","v":98},{"$f":"(SUM('game1 (1):game1 (40)'!J14))","v":24},{"$f":"(SUM('game1 (1):game1 (40)'!K14))","v":33},{"$f":"(SUM('game1 (1):game1 (40)'!W14))","v":57},{"$f":"(SUM('game1 (1):game1 (40)'!L14))","v":79},{"$f":"(SUM('game1 (1):game1 (40)'!M14))","v":17},{"$f":"(SUM('game1 (1):game1 (40)'!N14))","v":0},{"$f":"(SUM('game1 (1):game1 (40)'!O14))","v":44},{"$f":"(SUM('game1 (1):game1 (40)'!P14))","v":36},3.5,{"v":0.8571428571428571,"d":"0.9"},{"v":1.1785714285714286,"d":"1.2"},{"v":2.0357142857142856,"d":"2.0"},{"v":2.8214285714285716,"d":"2.8"},{"v":0.6071428571428571,"d":"0.6"},{"v":0,"d":"0.0"},{"v":1.5714285714285714,"d":"1.6"},{"v":1.2857142857142858,"d":"1.3"},{"$f":"Roster!$B$1","v":"Upton"},{"v":1.4285714285714286,"d":"1.4"},{"v":1.3214285714285714,"d":"1.3"},{"v":0.3522727272727273,"d":"35%"},{"v":3.142857142857143,"d":"3.1"},{"$f":"Roster!$D$2","v":"Northeast"},28,"2A BB"]
[{"$f":"IF(OR(Roster!A15<>\"\",Roster!B15<>\"\"),PROPER(Roster!B15)&\", \"&Roster!A15,\"\")","v":"Jo Bishop, 30"},{"$f":"SUM('game1 (1):game1 (40)'!C15)","v":18},{"$f":"(SUM('game1 (1):game1 (40)'!D15))","v":0},{"$f":"(SUM('game1 (1):game1 (40)'!E15))","v":2},{"v":0,"d":"0%"},{"$f":"(SUM('game1 (1):game1 (40)'!F15))","v":6},{"$f":"(SUM('game1 (1):game1 (40)'!G15))","v":13},{"v":0.46153846153846156,"d":"46%"},{"$f":"(SUM('game1 (1):game1 (40)'!H15))","v":2},{"$f":"(SUM('game1 (1):game1 (40)'!I15))","v":3},{"v":0.6666666666666666,"d":"67%"},{"$f":"(SUM('game1 (1):game1 (40)'!Q15))","v":14},{"$f":"(SUM('game1 (1):game1 (40)'!J15))","v":10},{"$f":"(SUM('game1 (1):game1 (40)'!K15))","v":14},{"$f":"(SUM('game1 (1):game1 (40)'!W15))","v":24},{"$f":"(SUM('game1 (1):game1 (40)'!L15))","v":6},{"$f":"(SUM('game1 (1):game1 (40)'!M15))","v":4},{"$f":"(SUM('game1 (1):game1 (40)'!N15))","v":0},{"$f":"(SUM('game1 (1):game1 (40)'!O15))","v":11},{"$f":"(SUM('game1 (1):game1 (40)'!P15))","v":12},{"v":0.7777777777777778,"d":"0.8"},{"v":0.5555555555555556,"d":"0.6"},{"v":0.7777777777777778,"d":"0.8"},{"v":1.3333333333333333,"d":"1.3"},{"v":0.3333333333333333,"d":"0.3"},{"v":0.2222222222222222,"d":"0.2"},{"v":0,"d":"0.0"},{"v":0.6111111111111112,"d":"0.6"},{"v":0.6666666666666666,"d":"0.7"},{"$f":"Roster!$B$1","v":"Upton"},{"v":0.1111111111111111,"d":"0.1"},{"v":0.16666666666666666,"d":"0.2"},{"v":0.4,"d":"40%"},{"v":0.8333333333333334,"d":"0.8"},{"$f":"Roster!$D$2","v":"Northeast"},28,"2A BB"]
[{"$f":"IF(OR(Roster!A16<>\"\",Roster!B16<>\"\"),PROPER(Roster!B16)&\", \"&Roster!A16,\"\")","v":"Nolan Turner, 33"},{"$f":"SUM('game1 (1):game1 (40)'!C16)","v":19},{"$f":"(SUM('game1 (1):game1 (40)'!D16))","v":0},{"$f":"(SUM('game1 (1):game1 (40)'!E16))","v":2},{"v":0,"d":"0%"},{"$f":"(SUM('game1 (1):game1 (40)'!F16))","v":6},{"$f":"(SUM('game1 (1):game1 (40)'!G16))","v":13},{"v":0.46153846153846156,"d":"46%"},{"$f":"(SUM('game1 (1):game1 (40)'!H16))","v":0},{"$f":"(SUM('game1 (1):game1 (40)'!I16))","v":3},{"v":0,"d":"0%"},{"$f":"(SUM('game1 (1):game1 (40)'!Q16))","v":12},{"$f":"(SUM('game1 (1):game1 (40)'!J16))","v":8},{"$f":"(SUM('game1 (1):game1 (40)'!K16))","v":22},{"$f":"(SUM('game1 (1):game1 (40)'!W16))","v":30},{"$f":"(SUM('game1 (1):game1 (40)'!L16))","v":4},{"$f":"(SUM('game1 (1):game1 (40)'!M16))","v":2},{"$f":"(SUM('game1 (1):game1 (40)'!N16))","v":1},{"$f":"(SUM('game1 (1):game1 (40)'!O16))","v":10},{"$f":"(SUM('game1 (1):game1 (40)'!P16))","v":23},{"v":0.631578947368421,"d":"0.6"},{"v":0.42105263157894735,"d":"0.4"},{"v":1.1578947368421053,"d":"1.2"},{"v":1.5789473684210527,"d":"1.6"},{"v":0.21052631578947367,"d":"0.2"},{"v":0.10526315789473684,"d":"0.1"},{"v":0.05263157894736842,"d":"0.1"},{"v":0.5263157894736842,"d":"0.5"},{"v":1.2105263157894737,"d":"1.2"},{"$f":"Roster!$B$1","v":"Upton"},{"v":0.10526315789473684,"d":"0.1"},{"v":0.15789473684210525,"d":"0.2"},{"v":0.4,"d":"40%"},{"v":0.7894736842105263,"d":"0.8"},{"$f":"Roster!$D$2","v":"Northeast"},28,"2A BB"]
[{"$f":"IF(OR(Roster!A17<>\"\",Roster!B17<>\"\"),PROPER(Roster!B17)&\", \"&Roster!A17,\"\")","v":"Robert Crawford, 32"},{"$f":"SUM('game1 (1):game1 (40)'!C17)","v":16},{"$f":"(SUM('game1 (1):game1 (40)'!D17))","v":0},{"$f":"(SUM('game1 (1):game1 (40)'!E17))","v":3},{"v":0,"d":"0%"},{"$f":"(SUM('game1 (1):game1 (40)'!F17))","v":10},{"$f":"(SUM('game1 (1):game1 (40)'!G17))","v":15},{"v":0.6666666666666666,"d":"67%"},{"$f":"(SUM('game1 (1):game1 (40)'!H17))","v":1},{"$f":"(SUM('game1 (1):game1 (40)'!I17))","v":4},{"v":0.25,"d":"25%"},{"$f":"(SUM('game1 (1):game1 (40)'!Q17))","v":21},{"$f":"(SUM('game1 (1):game1 (40)'!J17))","v":5},{"$f":"(SUM('game1 (1):game1 (40)'!K17))","v":10},{"$f":"(SUM('game1 (1):game1 (40)'!W17))","v":15},{"$f":"(SUM('game1 (1):game1 (40)'!L17))","v":5},{"$f":"(SUM('game1 (1):game1 (40)'!M17))","v":0},{"$f":"(SUM('game1 (1):game1 (40)'!N17))","v":0},{"$f":"(SUM('game1 (1):game1 (40)'!O17))","v":10},{"$f":"(SUM('game1 (1):game1 (40)'!P17))","v":14},{"v":1.3125,"d":"1.3"},{"v":0.3125,"d":"0.3"},{"v":0.625,"d":"0.6"},{"v":0.9375,"d":"0.9"},{"v":0.3125,"d":"0.3"},{"v":0,"d":"0.0"},{"v":0,"d":"0.0"},{"v":0.625,"d":"0.6"},{"v":0.875,"d":"0.9"},{"$f":"Roster!$B$1","v":"Upton"},{"v":0.1875,"d":"0.2"},{"v":0.25,"d":"0.3"},{"v":0.5555555555555556,"d":"56%"},{"v":1.125,"d":"1.1"},{"$f":"Roster!$D$2","v":"Northeast"},28,"2A BB"]
[{"$f":"IF(OR(Roster!A18<>\"\",Roster!B18<>\"\"),PROPER(Roster!B18)&\", \"&Roster!A18,\"\")","v":"Jace Bruce, 40"},{"$f":"SUM('game1 (1):game1 (40)'!C18)","v":16},{"$f":"(SUM('game1 (1):game1 (40)'!D18))","v":0},{"$f":"(SUM('game1 (1):game1 (40)'!E18))","v":17},{"v":0,"d":"0%"},{"$f":"(SUM('game1 (1):game1 (40)'!F18))","v":1},{"$f":"(SUM('game1 (1):game1 (40)'!G18))","v":4},{"v":0.25,"d":"25%"},{"$f":"(SUM('game1 (1):game1 (40)'!H18))","v":0},{"$f":"(SUM('game1 (1):game1 (40)'!I18))","v":1},{"v":0,"d":"0%"},{"$f":"(SUM('game1 (1):game1 (40)'!Q18))","v":2},{"$f":"(SUM('game1 (1):game1 (40)'!J18))","v":3},{"$f":"(SUM('game1 (1):game1 (40)'!K18))","v":4},{"$f":"(SUM('game1 (1):game1 (40)'!W18))","v":7},{"$f":"(SUM('game1 (1):game1 (40)'!L18))","v":6},{"$f":"(SUM('game1 (1):game1 (40)'!M18))","v":4},{"$f":"(SUM('game1 (1):game1 (40)'!N18))","v":0},{"$f":"(SUM('game1 (1):game1 (40)'!O18))","v":6},{"$f":"(SUM('game1 (1):game1 (40)'!P18))","v":8},{"v":0.125,"d":"0.1"},{"v":0.1875,"d":"0.2"},{"v":0.25,"d":"0.3"},{"v":0.4375,"d":"0.4"},{"v":0.375,"d":"0.4"},{"v":0.25,"d":"0.3"},{"v":0,"d":"0.0"},{"v":0.375,"d":"0.4"},0.5,{"$f":"Roster!$B$1","v":"Upton"},{"v":1.0625,"d":"1.1"},{"v":0.0625,"d":"0.1"},{"v":0.047619047619047616,"d":"5%"},{"v":1.3125,"d":"1.3"},{"$f":"Roster!$D$2","v":"Northeast"},28,"2A BB"]
[{"$f":"IF(OR(Roster!A19<>\"\",Roster!B19<>\"\"),PROPER(Roster!B19)&\", \"&Roster!A19,\"\")","v":"Ethan Mills, 2"},{"$f":"SUM('game1 (1):game1 (40)'!C19)","v":7},{"$f":"(SUM('game1 (1):game1 (40)'!D19))","v":0},{"$f":"(SUM('game1 (1):game1 (40)'!E19))","v":2},{"v":0,"d":"0%"},{"$f":"(SUM('game1 (1):game1 (40)'!F19))","v":1},{"$f":"(SUM('game1 (1):game1 (40)'!G19))","v":2},{"v":0.5,"d":"50%"},{"$f":"(SUM('game1 (1):game1 (40)'!H19))","v":0},{"$f":"(SUM('game1 (1):game1 (40)'!I19))","v":0},"",{"$f":"(SUM('game1 (1):game1 (40)'!Q19))","v":2},{"$f":"(SUM('game1 (1):game1 (40)'!J19))","v":1},{"$f":"(SUM('game1 (1):game1 (40)'!K19))","v":0},{"$f":"(SUM('game1 (1):game1 (40)'!W19))","v":1},{"$f":"(SUM('game1 (1):game1 (40)'!L19))","v":0},{"$f":"(SUM('game1 (1):game1 (40)'!M19))","v":0},{"$f":"(SUM('game1 (1):game1 (40)'!N19))","v":0},{"$f":"(SUM('game1 (1):game1 (40)'!O19))","v":2},{"$f":"(SUM('game1 (1):game1 (40)'!P19))","v":0},{"v":0.2857142857142857,"d":"0.3"},{"v":0.14285714285714285,"d":"0.1"},{"v":0,"d":"0.0"},{"v":0.14285714285714285,"d":"0.1"},{"v":0,"d":"0.0"},{"v":0,"d":"0.0"},{"v":0,"d":"0.0"},{"v":0.2857142857142857,"d":"0.3"},{"v":0,"d":"0.0"},{"$f":"Roster!$B$1","v":"Upton"},{"v":0.2857142857142857,"d":"0.3"},{"v":0,"d":"0.0"},{"v":0.25,"d":"25%"},{"v":0.5714285714285714,"d":"0.6"},{"$f":"Roster!$D$2","v":"Northeast"},28,"2A BB"]
[{"$f":"IF(OR(Roster!A20<>\"\",Roster!B20<>\"\"),PROPER(Roster!B20)&\", \"&Roster!A20,\"\")","v":"Bridger Alishouse, 2"},{"$f":"SUM('game1 (1):game1 (40)'!C20)","v":1},{"$f":"(SUM('game1 (1):game1 (40)'!D20))","v":0},{"$f":"(SUM('game1 (1):game1 (40)'!E20))","v":0},"",{"$f":"(SUM('game1 (1):game1 (40)'!F20))","v":0},{"$f":"(SUM('game1 (1):game1 (40)'!G20))","v":1},{"v":0,"d":"0%"},{"$f":"(SUM('game1 (1):game1 (40)'!H20))","v":0},{"$f":"(SUM('game1 (1):game1 (40)'!I20))","v":0},"",{"$f":"(SUM('game1 (1):game1 (40)'!Q20))","v":0},{"$f":"(SUM('game1 (1):game1 (40)'!J20))","v":0},{"$f":"(SUM('game1 (1):game1 (40)'!K20))","v":1},{"$f":"(SUM('game1 (1):game1 (40)'!W20))","v":1},{"$f":"(SUM('game1 (1):game1 (40)'!L20))","v":1},{"$f":"(SUM('game1 (1):game1 (40)'!M20))","v":0},{"$f":"(SUM('game1 (1):game1 (40)'!N20))","v":0},{"$f":"(SUM('game1 (1):game1 (40)'!O20))","v":0},{"$f":"(SUM('game1 (1):game1 (40)'!P20))","v":0},{"v":0,"d":"0.0"},{"v":0,"d":"0.0"},{"v":1,"d":"1.0"},{"v":1,"d":"1.0"},{"v":1,"d":"1.0"},{"v":0,"d":"0.0"},{"v":0,"d":"0.0"},{"v":0,"d":"0.0"},{"v":0,"d":"0.0"},{"$f":"Roster!$B$1","v":"Upton"},{"v":0,"d":"0.0"},{"v":0,"d":"0.0"},{"v":0,"d":"0%"},{"v":1,"d":"1.0"},{"$f":"Roster!$D$2","v":"Northeast"},28,"2A BB"]
[{"$f":"IF(OR(Roster!A21<>\"\",Roster!B21<>\"\"),PROPER(Roster!B21)&\", \"&Roster!A21,\"\")","v":"Landon Keever, 4"},{"$f":"SUM('game1 (1):game1 (40)'!C21)","v":1},{"$f":"(SUM('game1 (1):game1 (40)'!D21))","v":1},{"$f":"(SUM('game1 (1):game1 (40)'!E21))","v":2},{"v":0.5,"d":"50%"},{"$f":"(SUM('game1 (1):game1 (40)'!F21))","v":0},{"$f":"(SUM('game1 (1):game1 (40)'!G21))","v":1},{"v":0,"d":"0%"},{"$f":"(SUM('game1 (1):game1 (40)'!H21))","v":0},{"$f":"(SUM('game1 (1):game1 (40)'!I21))","v":0},"",{"$f":"(SUM('game1 (1):game1 (40)'!Q21))","v":3},{"$f":"(SUM('game1 (1):game1 (40)'!J21))","v":0},{"$f":"(SUM('game1 (1):game1 (40)'!K21))","v":0},{"$f":"(SUM('game1 (1):game1 (40)'!W21))","v":0},{"$f":"(SUM('game1 (1):game1 (40)'!L21))","v":0},{"$f":"(SUM('game1 (1):game1 (40)'!M21))","v":0},{"$f":"(SUM('game1 (1):game1 (40)'!N21))","v":0},{"$f":"(SUM('game1 (1):game1 (40)'!O21))","v":0},{"$f":"(SUM('game1 (1):game1 (40)'!P21))","v":0},{"v":3,"d":"3.0"},{"v":0,"d":"0.0"},{"v":0,"d":"0.0"},{"v":0,"d":"0.0"},{"v":0,"d":"0.0"},{"v":0,"d":"0.0"},{"v":0,"d":"0.0"},{"v":0,"d":"0.0"},{"v":0,"d":"0.0"},{"$f":"Roster!$B$1","v":"Upton"},{"v":2,"d":"2.0"},{"v":0,"d":"0.0"},{"v":0.3333333333333333,"d":"33%"},{"v":3,"d":"3.0"},{"$f":"Roster!$D$2","v":"Northeast"},28,"2A BB"]
[{"$f":"IF(OR(Roster!A22<>\"\",Roster!B22<>\"\"),PROPER(Roster!B22)&\", \"&Roster!A22,\"\")","v":"Dj Till, 4"},{"$f":"SUM('game1 (1):game1 (40)'!C22)","v":5},{"$f":"(SUM('game1 (1):game1 (40)'!D22))","v":0},{"$f":"(SUM('game1 (1):game1 (40)'!E22))","v":3},{"v":0,"d":"0%"},{"$f":"(SUM('game1 (1):game1 (40)'!F22))","v":1},{"$f":"(SUM('game1 (1):game1 (40)'!G22))","v":3},{"v":0.3333333333333333,"d":"33%"},{"$f":"(SUM('game1 (1):game1 (40)'!H22))","v":0},{"$f":"(SUM('game1 (1):game1 (40)'!I22))","v":0},"",{"$f":"(SUM('game1 (1):game1 (40)'!Q22))","v":2},{"$f":"(SUM('game1 (1):game1 (40)'!J22))","v":2},{"$f":"(SUM('game1 (1):game1 (40)'!K22))","v":1},{"$f":"(SUM('game1 (1):game1 (40)'!W22))","v":3},{"$f":"(SUM('game1 (1):game1 (40)'!L22))","v":0},{"$f":"(SUM('game1 (1):game1 (40)'!M22))","v":1},{"$f":"(SUM('game1 (1):game1 (40)'!N22))","v":0},{"$f":"(SUM('game1 (1):game1 (40)'!O22))","v":0},{"$f":"(SUM('game1 (1):game1 (40)'!P22))","v":0},0.4,0.4,0.2,0.6,{"v":0,"d":"0.0"},0.2,{"v":0,"d":"0.0"},{"v":0,"d":"0.0"},{"v":0,"d":"0.0"},{"$f":"Roster!$B$1","v":"Upton"},0.6,{"v":0,"d":"0.0"},{"v":0.16666666666666666,"d":"17%"},1.2,{"$f":"Roster!$D$2","v":"Northeast"},28,"2A BB"]
[{"$f":"IF(OR(Roster!A23<>\"\",Roster!B23<>\"\"),PROPER(Roster!B23)&\", \"&Roster!A23,\"\")","v":""},{"$f":"SUM('game1 (1):game1 (40)'!C23)","v":0},{"$f":"(SUM('game1 (1):game1 (40)'!D23))","v":0},{"$f":"(SUM('game1 (1):game1 (40)'!E23))","v":0},"",{"$f":"(SUM('game1 (1):game1 (40)'!F23))","v":0},{"$f":"(SUM('game1 (1):game1 (40)'!G23))","v":0},"",{"$f":"(SUM('game1 (1):game1 (40)'!H23))","v":0},{"$f":"(SUM('game1 (1):game1 (40)'!I23))","v":0},"",{"$f":"(SUM('game1 (1):game1 (40)'!Q23))","v":0},{"$f":"(SUM('game1 (1):game1 (40)'!J23))","v":0},{"$f":"(SUM('game1 (1):game1 (40)'!K23))","v":0},{"$f":"(SUM('game1 (1):game1 (40)'!W23))","v":0},{"$f":"(SUM('game1 (1):game1 (40)'!L23))","v":0},{"$f":"(SUM('game1 (1):game1 (40)'!M23))","v":0},{"$f":"(SUM('game1 (1):game1 (40)'!N23))","v":0},{"$f":"(SUM('game1 (1):game1 (40)'!O23))","v":0},{"$f":"(SUM('game1 (1):game1 (40)'!P23))","v":0},"",{"v":0,"d":"0.0"},{"v":0,"d":"0.0"},{"v":0,"d":"0.0"},{"v":0,"d":"0.0"},{"v":0,"d":"0.0"},{"v":0,"d":"0.0"},{"v":0,"d":"0.0"},{"v":0,"d":"0.0"},{"$f":"Roster!$B$1","v":"Upton"},{"v":0,"d":"0.0"},{"v":0,"d":"0.0"},{"v":0,"d":"0%"},{"v":0,"d":"0.0"},{"$f":"Roster!$D$2","v":"Northeast"},28,"2A BB"]
[{"$f":"IF(OR(Roster!A24<>\"\",Roster!B24<>\"\"),PROPER(Roster!B24)&\", \"&Roster!A24,\"\")","v":""},{"$f":"SUM('game1 (1):game1 (40)'!C24)","v":0},{"$f":"(SUM('game1 (1):game1 (40)'!D24))","v":0},{"$f":"(SUM('game1 (1):game1 (40)'!E24))","v":0},"",{"$f":"(SUM('game1 (1):game1 (40)'!F24))","v":0},{"$f":"(SUM('game1 (1):game1 (40)'!G24))","v":0},"",{"$f":"(SUM('game1 (1):game1 (40)'!H24))","v":0},{"$f":"(SUM('game1 (1):game1 (40)'!I24))","v":0},"",{"$f":"(SUM('game1 (1):game1 (40)'!Q24))","v":0},{"$f":"(SUM('game1 (1):game1 (40)'!J24))","v":0},{"$f":"(SUM('game1 (1):game1 (40)'!K24))","v":0},{"$f":"(SUM('game1 (1):game1 (40)'!W24))","v":0},{"$f":"(SUM('game1 (1):game1 (40)'!L24))","v":0},{"$f":"(SUM('game1 (1):game1 (40)'!M24))","v":0},{"$f":"(SUM('game1 (1):game1 (40)'!N24))","v":0},{"$f":"(SUM('game1 (1):game1 (40)'!O24))","v":0},{"$f":"(SUM('game1 (1):game1 (40)'!P24))","v":0},"",{"v":0,"d":"0.0"},{"v":0,"d":"0.0"},{"v":0,"d":"0.0"},{"v":0,"d":"0.0"},{"v":0,"d":"0.0"},{"v":0,"d":"0.0"},{"v":0,"d":"0.0"},{"v":0,"d":"0.0"},{"$f":"Roster!$B$1","v":"Upton"},{"v":0,"d":"0.0"},{"v":0,"d":"0.0"},{"v":0,"d":"0%"},{"v":0,"d":"0.0"},{"$f":"Roster!$D$2","v":"Northeast"},28,"2A BB"]
[{"$f":"IF(OR(Roster!A25<>\"\",Roster!B25<>\"\"),PROPER(Roster!B25)&\", \"&Roster!A25,\"\")","v":""},{"$f":"SUM('game1 (1):game1 (40)'!C25)","v":0},{"$f":"(SUM('game1 (1):game1 (40)'!D25))","v":0},{"$f":"(SUM('game1 (1):game1 (40)'!E25))","v":0},"",{"$f":"(SUM('game1 (1):game1 (40)'!F25))","v":0},{"$f":"(SUM('game1 (1):game1 (40)'!G25))","v":0},"",{"$f":"(SUM('game1 (1):game1 (40)'!H25))","v":0},{"$f":"(SUM('game1 (1):game1 (40)'!I25))","v":0},"",{"$f":"(SUM('game1 (1):game1 (40)'!Q25))","v":0},{"$f":"(SUM('game1 (1):game1 (40)'!J25))","v":0},{"$f":"(SUM('game1 (1):game1 (40)'!K25))","v":0},{"$f":"(SUM('game1 (1):game1 (40)'!W25))","v":0},{"$f":"(SUM('game1 (1):game1 (40)'!L25))","v":0},{"$f":"(SUM('game1 (1):game1 (40)'!M25))","v":0},{"$f":"(SUM('game1 (1):game1 (40)'!N25))","v":0},{"$f":"(SUM('game1 (1):game1 (40)'!O25))","v":0},{"$f":"(SUM('game1 (1):game1 (40)'!P25))","v":0},"",{"v":0,"d":"0.0"},{"v":0,"d":"0.0"},{"v":0,"d":"0.0"},{"v":0,"d":"0.0"},{"v":0,"d":"0.0"},{"v":0,"d":"0.0"},{"v":0,"d":"0.0"},{"v":0,"d":"0.0"},{"$f":"Roster!$B$1","v":"Upton"},{"v":0,"d":"0.0"},{"v":0,"d":"0.0"},{"v":0,"d":"0%"},{"v":0,"d":"0.0"},{"$f":"Roster!$D$2","v":"Northeast"},28,"2A BB"]
[{"$f":"IF(OR(Roster!A26<>\"\",Roster!B26<>\"\"),PROPER(Roster!B26)&\", \"&Roster!A26,\"\")","v":""},{"$f":"SUM('game1 (1):game1 (40)'!C26)","v":0},{"$f":"(SUM('game1 (1):game1 (40)'!D26))","v":0},{"$f":"(SUM('game1 (1):game1 (40)'!E26))","v":0},"",{"$f":"(SUM('game1 (1):game1 (40)'!F26))","v":0},{"$f":"(SUM('game1 (1):game1 (40)'!G26))","v":0},"",{"$f":"(SUM('game1 (1):game1 (40)'!H26))","v":0},{"$f":"(SUM('game1 (1):game1 (40)'!I26))","v":0},"",{"$f":"(SUM('game1 (1):game1 (40)'!Q26))","v":0},{"$f":"(SUM('game1 (1):game1 (40)'!J26))","v":0},{"$f":"(SUM('game1 (1):game1 (40)'!K26))","v":0},{"$f":"(SUM('game1 (1):game1 (40)'!W26))","v":0},{"$f":"(SUM('game1 (1):game1 (40)'!L26))","v":0},{"$f":"(SUM('game1 (1):game1 (40)'!M26))","v":0},{"$f":"(SUM('game1 (1):game1 (40)'!N26))","v":0},{"$f":"(SUM('game1 (1):game1 (40)'!O26))","v":0},{"$f":"(SUM('game1 (1):game1 (40)'!P26))","v":0},"",{"v":0,"d":"0.0"},{"v":0,"d":"0.0"},{"v":0,"d":"0.0"},{"v":0,"d":"0.0"},{"v":0,"d":"0.0"},{"v":0,"d":"0.0"},{"v":0,"d":"0.0"},{"v":0,"d":"0.0"},{"$f":"Roster!$B$1","v":"Upton"},{"v":0,"d":"0.0"},{"v":0,"d":"0.0"},{"v":0,"d":"0%"},{"v":0,"d":"0.0"},{"$f":"Roster!$D$2","v":"Northeast"},28,"2A BB"]
[{"$f":"IF(OR(Roster!A27<>\"\",Roster!B27<>\"\"),PROPER(Roster!B27)&\", \"&Roster!A27,\"\")","v":""},{"$f":"SUM('game1 (1):game1 (40)'!C27)","v":0},{"$f":"(SUM('game1 (1):game1 (40)'!D27))","v":0},{"$f":"(SUM('game1 (1):game1 (40)'!E27))","v":0},"",{"$f":"(SUM('game1 (1):game1 (40)'!F27))","v":0},{"$f":"(SUM('game1 (1):game1 (40)'!G27))","v":0},"",{"$f":"(SUM('game1 (1):game1 (40)'!H27))","v":0},{"$f":"(SUM('game1 (1):game1 (40)'!I27))","v":0},"",{"$f":"(SUM('game1 (1):game1 (40)'!Q27))","v":0},{"$f":"(SUM('game1 (1):game1 (40)'!J27))","v":0},{"$f":"(SUM('game1 (1):game1 (40)'!K27))","v":0},{"$f":"(SUM('game1 (1):game1 (40)'!W27))","v":0},{"$f":"(SUM('game1 (1):game1 (40)'!L27))","v":0},{"$f":"(SUM('game1 (1):game1 (40)'!M27))","v":0},{"$f":"(SUM('game1 (1):game1 (40)'!N27))","v":0},{"$f":"(SUM('game1 (1):game1 (40)'!O27))","v":0},{"$f":"(SUM('game1 (1):game1 (40)'!P27))","v":0},"",{"v":0,"d":"0.0"},{"v":0,"d":"0.0"},{"v":0,"d":"0.0"},{"v":0,"d":"0.0"},{"v":0,"d":"0.0"},{"v":0,"d":"0.0"},{"v":0,"d":"0.0"},{"v":0,"d":"0.0"},{"$f":"Roster!$B$1","v":"Upton"},{"v":0,"d":"0.0"},{"v":0,"d":"0.0"},{"v":0,"d":"0%"},{"v":0,"d":"0.0"},{"$f":"Roster!$D$2","v":"Northeast"},28,"2A BB"]
[{"$f":"IF(OR(Roster!A28<>\"\",Roster!B28<>\"\"),PROPER(Roster!B28)&\", \"&Roster!A28,\"\")","v":""},{"$f":"SUM('game1 (1):game1 (40)'!C28)","v":0},{"$f":"(SUM('game1 (1):game1 (40)'!D28))","v":0},{"$f":"(SUM('game1 (1):game1 (40)'!E28))","v":0},"",{"$f":"(SUM('game1 (1):game1 (40)'!F28))","v":0},{"$f":"(SUM('game1 (1):game1 (40)'!G28))","v":0},"",{"$f":"(SUM('game1 (1):game1 (40)'!H28))","v":0},{"$f":"(SUM('game1 (1):game1 (40)'!I28))","v":0},"",{"$f":"(SUM('game1 (1):game1 (40)'!Q28))","v":0},{"$f":"(SUM('game1 (1):game1 (40)'!J28))","v":0},{"$f":"(SUM('game1 (1):game1 (40)'!K28))","v":0},{"$f":"(SUM('game1 (1):game1 (40)'!W28))","v":0},{"$f":"(SUM('game1 (1):game1 (40)'!L28))","v":0},{"$f":"(SUM('game1 (1):game1 (40)'!M28))","v":0},{"$f":"(SUM('game1 (1):game1 (40)'!N28))","v":0},{"$f":"(SUM('game1 (1):game1 (40)'!O28))","v":0},{"$f":"(SUM('game1 (1):game1 (40)'!P28))","v":0},"",{"v":0,"d":"0.0"},{"v":0,"d":"0.0"},{"v":0,"d":"0.0"},{"v":0,"d":"0.0"},{"v":0,"d":"0.0"},{"v":0,"d":"0.0"},{"v":0,"d":"0.0"},{"v":0,"d":"0.0"},{"$f":"Roster!$B$1","v":"Upton"},{"v":0,"d":"0.0"},{"v":0,"d":"0.0"},{"v":0,"d":"0%"},{"v":0,"d":"0.0"},{"$f":"Roster!$D$2","v":"Northeast"},28,"2A BB"]
[{"$f":"IF(OR(Roster!A29<>\"\",Roster!B29<>\"\"),PROPER(Roster!B29)&\", \"&Roster!A29,\"\")","v":""},{"$f":"SUM('game1 (1):game1 (40)'!C29)","v":0},{"$f":"(SUM('game1 (1):game1 (40)'!D29))","v":0},{"$f":"(SUM('game1 (1):game1 (40)'!E29))","v":0},"",{"$f":"(SUM('game1 (1):game1 (40)'!F29))","v":0},{"$f":"(SUM('game1 (1):game1 (40)'!G29))","v":0},"",{"$f":"(SUM('game1 (1):game1 (40)'!H29))","v":0},{"$f":"(SUM('game1 (1):game1 (40)'!I29))","v":0},"",{"$f":"(SUM('game1 (1):game1 (40)'!Q29))","v":0},{"$f":"(SUM('game1 (1):game1 (40)'!J29))","v":0},{"$f":"(SUM('game1 (1):game1 (40)'!K29))","v":0},{"$f":"(SUM('game1 (1):game1 (40)'!W29))","v":0},{"$f":"(SUM('game1 (1):game1 (40)'!L29))","v":0},{"$f":"(SUM('game1 (1):game1 (40)'!M29))","v":0},{"$f":"(SUM('game1 (1):game1 (40)'!N29))","v":0},{"$f":"(SUM('game1 (1):game1 (40)'!O29))","v":0},{"$f":"(SUM('game1 (1):game1 (40)'!P29))","v":0},"",{"v":0,"d":"0.0"},{"v":0,"d":"0.0"},{"v":0,"d":"0.0"},{"v":0,"d":"0.0"},{"v":0,"d":"0.0"},{"v":0,"d":"0.0"},{"v":0,"d":"0.0"},{"v":0,"d":"0.0"},{"$f":"Roster!$B$1","v":"Upton"},{"v":0,"d":"0.0"},{"v":0,"d":"0.0"},{"v":0,"d":"0%"},{"v":0,"d":"0.0"},{"$f":"Roster!$D$2","v":"Northeast"},28,"2A BB"]
[{"$f":"IF(OR(Roster!A30<>\"\",Roster!B30<>\"\"),PROPER(Roster!B30)&\", \"&Roster!A30,\"\")","v":"Team, "},{"$f":"SUM('game1 (1):game1 (40)'!C30)","v":23},{"$f":"(SUM('game1 (1):game1 (40)'!D30))","v":0},{"$f":"(SUM('game1 (1):game1 (40)'!E30))","v":0},"",{"$f":"(SUM('game1 (1):game1 (40)'!F30))","v":0},{"$f":"(SUM('game1 (1):game1 (40)'!G30))","v":0},"",{"$f":"(SUM('game1 (1):game1 (40)'!H30))","v":0},{"$f":"(SUM('game1 (1):game1 (40)'!I30))","v":0},"",{"$f":"(SUM('game1 (1):game1 (40)'!Q30))","v":0},{"$f":"(SUM('game1 (1):game1 (40)'!J30))","v":31},{"$f":"(SUM('game1 (1):game1 (40)'!K30))","v":49},{"$f":"(SUM('game1 (1):game1 (40)'!W30))","v":80},{"$f":"(SUM('game1 (1):game1 (40)'!L30))","v":0},{"$f":"(SUM('game1 (1):game1 (40)'!M30))","v":0},{"$f":"(SUM('game1 (1):game1 (40)'!N30))","v":0},{"$f":"(SUM('game1 (1):game1 (40)'!O30))","v":0},{"$f":"(SUM('game1 (1):game1 (40)'!P30))","v":0},{"v":0,"d":"0.0"},{"v":1.3478260869565217,"d":"1.3"},{"v":2.130434782608696,"d":"2.1"},{"v":3.4782608695652173,"d":"3.5"},{"v":0,"d":"0.0"},{"v":0,"d":"0.0"},{"v":0,"d":"0.0"},{"v":0,"d":"0.0"},{"v":0,"d":"0.0"},{"$f":"Roster!$B$1","v":"Upton"},{"v":0,"d":"0.0"},{"v":0,"d":"0.0"},{"v":0,"d":"0%"},{"v":0,"d":"0.0"},{"$f":"Roster!$D$2","v":"Northeast"},28,"2A BB"]
["Team Totals",{"$f":"SUM('game1 (1):game1 (40)'!C31)","v":28},{"$f":"(SUM('game1 (1):game1 (40)'!D31))","v":185},{"$f":"(SUM('game1 (1):game1 (40)'!E31))","v":587},{"v":0.3151618398637138,"d":"32%"},{"$f":"(SUM('game1 (1):game1 (40)'!F31))","v":538},{"$f":"(SUM('game1 (1):game1 (40)'!G31))","v":1013},{"v":0.5310957551826259,"d":"53%"},{"$f":"(SUM('game1 (1):game1 (40)'!H31))","v":293},{"$f":"(SUM('game1 (1):game1 (40)'!I31))","v":478},{"v":0.6129707112970711,"d":"61%"},{"$f":"(SUM('game1 (1):game1 (40)'!Q31))","v":1924},{"$f":"(SUM('game1 (1):game1 (40)'!J31))","v":374},{"$f":"(SUM('game1 (1):game1 (40)'!K31))","v":633},{"$f":"IF(SUM(M31:N31)>0,SUM(M31:N31),0)","v":1007},{"$f":"(SUM('game1 (1):game1 (40)'!L31))","v":513},{"$f":"(SUM('game1 (1):game1 (40)'!M31))","v":316},{"$f":"(SUM('game1 (1):game1 (40)'!N31))","v":24},{"$f":"(SUM('game1 (1):game1 (40)'!O31))","v":378},{"$f":"(SUM('game1 (1):game1 (40)'!P31))","v":434},{"$f":"IF(COUNTA('game1 (1):game1 (40)'!$C$4)>0,SUM('game1 (1):game1 (40)'!$C$4)/COUNTA('game1 (1):game1 (40)'!$C$4),\"\")","v":{"v":68.71428571428571,"d":"68.7"}},{"$f":"IF($B31>0,M31/$B31,0)","v":{"v":13.357142857142858,"d":"13.4"}},{"v":22.607142857142858,"d":"22.6"},{"v":35.964285714285715,"d":"36.0"},{"v":18.321428571428573,"d":"18.3"},{"v":11.285714285714286,"d":"11.3"},{"v":0.8571428571428571,"d":"0.9"},13.5,15.5,{"$f":"Roster!$B$1","v":"Upton"},{"v":20.964285714285715,"d":"21.0"},{"v":17.071428571428573,"d":"17.1"},{"v":0.451875,"d":"45%"},{"v":57.142857142857146,"d":"57.1"},{"$f":"Roster!$D$2","v":"Northeast"}]
["Opponent Totals",{"$f":"SUM('game1 (1):game1 (40)'!C32)","v":28},{"$f":"(SUM('game1 (1):game1 (40)'!D32))","v":121},{"$f":"(SUM('game1 (1):game1 (40)'!E32))","v":413},{"v":0.2929782082324455,"d":"29%"},{"$f":"(SUM('game1 (1):game1 (40)'!F32))","v":419},{"$f":"(SUM('game1 (1):game1 (40)'!G32))","v":957},{"v":0.4378265412748171,"d":"44%"},{"$f":"(SUM('game1 (1):game1 (40)'!H32))","v":218},{"$f":"(SUM('game1 (1):game1 (40)'!I32))","v":410},{"v":0.5317073170731708,"d":"53%"},{"$f":"(SUM('game1 (1):game1 (40)'!Q32))","v":1419},{"$f":"(SUM('game1 (1):game1 (40)'!J32))","v":262},{"$f":"(SUM('game1 (1):game1 (40)'!K32))","v":580},{"$f":"SUM(M32:N32)","v":842},{"$f":"(SUM('game1 (1):game1 (40)'!L32))","v":238},{"$f":"(SUM('game1 (1):game1 (40)'!M32))","v":164},{"$f":"(SUM('game1 (1):game1 (40)'!N32))","v":33},{"$f":"(SUM('game1 (1):game1 (40)'!O32))","v":562},{"$f":"(SUM('game1 (1):game1 (40)'!P32))","v":452},{"$f":"IF(COUNTA('game1 (1):game1 (40)'!$D$4)>0,SUM('game1 (1):game1 (40)'!$D$4)/COUNTA('game1 (1):game1 (40)'!$D$4),\"\")","v":{"v":50.714285714285715,"d":"50.7"}},{"$f":"IF(COUNTA('game1 (1):game1 (40)'!J$32)>0,M32/COUNTA('game1 (1):game1 (40)'!J$32),0)","v":{"v":9.357142857142858,"d":"9.4"}},{"$f":"IF(COUNTA('game1 (1):game1 (40)'!K$32)>0,N32/COUNTA('game1 (1):game1 (40)'!K$32),0)","v":{"v":20.714285714285715,"d":"20.7"}},{"$f":"SUM(V32:W32)","v":{"v":30.071428571428573,"d":"30.1"}},{"$f":"IF(COUNTA('game1 (1):game1 (40)'!L$32)>0,P32/COUNTA('game1 (1):game1 (40)'!L$32),0)","v":8.5},{"$f":"IF(COUNTA('game1 (1):game1 (40)'!M$32)>0,Q32/COUNTA('game1 (1):game1 (40)'!M$32),0)","v":{"v":5.857142857142857,"d":"5.9"}},{"$f":"IF(COUNTA('game1 (1):game1 (40)'!N$32)>0,R32/COUNTA('game1 (1):game1 (40)'!N$32),0)","v":{"v":1.5714285714285714,"d":"1.6"}},{"$f":"IF(COUNTA('game1 (1):game1 (40)'!O$32)>0,S32/COUNTA('game1 (1):game1 (40)'!O$32),0)","v":{"v":20.071428571428573,"d":"20.1"}},{"$f":"IF(COUNTA('game1 (1):game1 (40)'!P$32)>0,T32/COUNTA('game1 (1):game1 (40)'!P$32),0)","v":{"v":16.142857142857142,"d":"16.1"}},{"$f":"Roster!$B$1","v":"Upton"},{"v":14.75,"d":"14.8"},{"v":14.642857142857142,"d":"14.6"},{"v":0.39416058394160586,"d":"39%"},{"v":48.92857142857143,"d":"48.9"},{"$f":"Roster!$D$2","v":"Northeast"}]
[]
["Top 5 Performances - Team",{"$nulls":27},{"$f":"CONCATENATE(\"* minimum of \",TeamGameSummary!$D$2,\" attempts\")","v":"* minimum of 5 attempts"}]
["Opponent","Date",null,"Off. Points",null,null,"Opponent",null,null,"Date",null,"Def. Points",null,null,"Opponent",null,null,"Date",null,"Score Margin",null,null,"Opponent",null,null,"Date",null,"Assists"]
[{"$f":"TeamGameSummary!$C101","v":"Hulett"},{"$f":"TeamGameSummary!$D101","v":"2017-12-08"},null,{"$f":"TeamGameSummary!$E101","v":94},null,null,{"$f":"TeamGameSummary!$U101","v":"Riverside"},null,null,{"$f":"TeamGameSummary!$V101","v":"2017-12-14"},null,{"$f":"TeamGameSummary!$W101","v":24},null,null,{"$f":"TeamGameSummary!$AA101","v":"Riverside"},null,null,{"$f":"TeamGameSummary!$AB101","v":"2017-12-14"},null,{"$f":"TeamGameSummary!$AC101","v":54},null,null,{"$f":"TeamGameSummary!$EK101","v":"Riverside"},null,null,{"$f":"TeamGameSummary!$EL101","v":"2017-12-14"},null,{"$f":"TeamGameSummary!$EM101","v":30}]
[{"$f":"TeamGameSummary!$C102","v":"Tongue River"},{"$f":"TeamGameSummary!$D102","v":"2018-02-02"},null,{"$f":"TeamGameSummary!$E102","v":83},null,null,{"$f":"TeamGameSummary!$U102","v":"Lead-Deadwood"},null,null,{"$f":"TeamGameSummary!$V102","v":"2018-01-04"},null,{"$f":"TeamGameSummary!$W102","v":29},null,null,{"$f":"TeamGameSummary!$AA102","v":"Shoshoni"},null,null,{"$f":"TeamGameSummary!$AB102","v":"2017-12-16"},null,{"$f":"TeamGameSummary!$AC102","v":42},null,null,{"$f":"TeamGameSummary!$EK102","v":"Tongue River"},null,null,{"$f":"TeamGameSummary!$EL102","v":"2018-02-02"},null,{"$f":"TeamGameSummary!$EM102","v":28}]
[{"$f":"TeamGameSummary!$C103","v":"Lusk   "},{"$f":"TeamGameSummary!$D103","v":"2018-02-23"},null,{"$f":"TeamGameSummary!$E103","v":83},null,null,{"$f":"TeamGameSummary!$U103","v":"Shoshoni"},null,null,{"$f":"TeamGameSummary!$V103","v":"2017-12-16"},null,{"$f":"TeamGameSummary!$W103","v":31},null,null,{"$f":"TeamGameSummary!$AA103","v":"Hulett"},null,null,{"$f":"TeamGameSummary!$AB103","v":"2017-12-08"},null,{"$f":"TeamGameSummary!$AC103","v":40},null,null,{"$f":"TeamGameSummary!$EK103","v":"Hulett"},null,null,{"$f":"TeamGameSummary!$EL103","v":"2017-12-08"},null,{"$f":"TeamGameSummary!$EM103","v":28}]
[{"$f":"TeamGameSummary!$C104","v":"Wright  "},{"$f":"TeamGameSummary!$D104","v":"2018-02-24"},null,{"$f":"TeamGameSummary!$E104","v":82},null,null,{"$f":"TeamGameSummary!$U104","v":"Cokeville"},null,null,{"$f":"TeamGameSummary!$V104","v":"2017-12-15"},null,{"$f":"TeamGameSummary!$W104","v":33},null,null,{"$f":"TeamGameSummary!$AA104","v":"Moorcroft"},null,null,{"$f":"TeamGameSummary!$AB104","v":"2018-01-18"},null,{"$f":"TeamGameSummary!$AC104","v":36},null,null,{"$f":"TeamGameSummary!$EK104","v":"Moorcroft"},null,null,{"$f":"TeamGameSummary!$EL104","v":"2018-01-18"},null,{"$f":"TeamGameSummary!$EM104","v":24}]
[{"$f":"TeamGameSummary!$C105","v":"Tongue River"},{"$f":"TeamGameSummary!$D105","v":"2018-02-17"},null,{"$f":"TeamGameSummary!$E105","v":81},null,null,{"$f":"TeamGameSummary!$U105","v":"Moorcroft"},null,null,{"$f":"TeamGameSummary!$V105","v":"2018-01-18"},null,{"$f":"TeamGameSummary!$W105","v":38},null,null,{"$f":"TeamGameSummary!$AA105","v":"Lusk   "},null,null,{"$f":"TeamGameSummary!$AB105","v":"2018-02-23"},null,{"$f":"TeamGameSummary!$AC105","v":36},null,null,{"$f":"TeamGameSummary!$EK105","v":"Tongue River"},null,null,{"$f":"TeamGameSummary!$EL105","v":"2018-02-17"},null,{"$f":"TeamGameSummary!$EM105","v":24}]
[]
["Opponent","Date",null,"FG%*",null,null,"Opponent",null,null,"Date",null,"Def. FG%*",null,null,"Opponent",null,null,"Date",null,"Rebounds",null,null,"Opponent",null,null,"Date",null,"Off. Rebs"]
[{"$f":"TeamGameSummary!$GN101","v":"Tongue River"},{"$f":"TeamGameSummary!$GO101","v":"2018-02-02"},null,{"$f":"TeamGameSummary!$GP101","v":{"v":0.5645161290322581,"d":"56%"}},null,null,{"$f":"TeamGameSummary!$GT101","v":"Riverside"},null,null,{"$f":"TeamGameSummary!$GU101","v":"2017-12-14"},null,{"$f":"TeamGameSummary!$GV101","v":{"v":0.22727272727272727,"d":"23%"}},null,null,{"$f":"TeamGameSummary!$AG101","v":"Riverside"},null,null,{"$f":"TeamGameSummary!$AH101","v":"2017-12-14"},null,{"$f":"TeamGameSummary!$AI101","v":45},null,null,{"$f":"TeamGameSummary!$BE101","v":"Riverside"},null,null,{"$f":"TeamGameSummary!$BF101","v":"2017-12-14"},null,{"$f":"TeamGameSummary!$BG101","v":22}]
[{"$f":"TeamGameSummary!$GN102","v":"Lusk   "},{"$f":"TeamGameSummary!$GO102","v":"2018-02-23"},null,{"$f":"TeamGameSummary!$GP102","v":{"v":0.5555555555555556,"d":"56%"}},null,null,{"$f":"TeamGameSummary!$GT102","v":"Cokeville"},null,null,{"$f":"TeamGameSummary!$GU102","v":"2017-12-15"},null,{"$f":"TeamGameSummary!$GV102","v":{"v":0.2826086956521739,"d":"28%"}},null,null,{"$f":"TeamGameSummary!$AG102","v":"Tongue River"},null,null,{"$f":"TeamGameSummary!$AH102","v":"2018-02-17"},null,{"$f":"TeamGameSummary!$AI102","v":45},null,null,{"$f":"TeamGameSummary!$BE102","v":"Wright"},null,null,{"$f":"TeamGameSummary!$BF102","v":"2018-02-08"},null,{"$f":"TeamGameSummary!$BG102","v":20}]
[{"$f":"TeamGameSummary!$GN103","v":"Faith"},{"$f":"TeamGameSummary!$GO103","v":"2018-01-12"},null,{"$f":"TeamGameSummary!$GP103","v":{"v":0.5416666666666666,"d":"54%"}},null,null,{"$f":"TeamGameSummary!$GT103","v":"Lead-Deadwood"},null,null,{"$f":"TeamGameSummary!$GU103","v":"2018-01-04"},null,{"$f":"TeamGameSummary!$GV103","v":{"v":0.29411764705882354,"d":"29%"}},null,null,{"$f":"TeamGameSummary!$AG103","v":"Sundance"},null,null,{"$f":"TeamGameSummary!$AH103","v":"2018-02-06"},null,{"$f":"TeamGameSummary!$AI103","v":44},null,null,{"$f":"TeamGameSummary!$BE103","v":"Sundance"},null,null,{"$f":"TeamGameSummary!$BF103","v":"2018-02-06"},null,{"$f":"TeamGameSummary!$BG103","v":20}]
[{"$f":"TeamGameSummary!$GN104","v":"Hulett"},{"$f":"TeamGameSummary!$GO104","v":"2017-12-08"},null,{"$f":"TeamGameSummary!$GP104","v":{"v":0.5277777777777778,"d":"53%"}},null,null,{"$f":"TeamGameSummary!$GT104","v":"Moorcroft"},null,null,{"$f":"TeamGameSummary!$GU104","v":"2018-01-18"},null,{"$f":"TeamGameSummary!$GV104","v":{"v":0.29411764705882354,"d":"29%"}},null,null,{"$f":"TeamGameSummary!$AG104","v":"Moorcroft"},null,null,{"$f":"TeamGameSummary!$AH104","v":"2018-01-18"},null,{"$f":"TeamGameSummary!$AI104","v":43},null,null,{"$f":"TeamGameSummary!$BE104","v":"Wright  "},null,null,{"$f":"TeamGameSummary!$BF104","v":"2018-02-24"},null,{"$f":"TeamGameSummary!$BG104","v":18}]
[{"$f":"TeamGameSummary!$GN105","v":"Shoshoni"},{"$f":"TeamGameSummary!$GO105","v":"2017-12-16"},null,{"$f":"TeamGameSummary!$GP105","v":{"v":0.5087719298245614,"d":"51%"}},null,null,{"$f":"TeamGameSummary!$GT105","v":"Shoshoni"},null,null,{"$f":"TeamGameSummary!$GU105","v":"2017-12-16"},null,{"$f":"TeamGameSummary!$GV105","v":{"v":0.29411764705882354,"d":"29%"}},null,null,{"$f":"TeamGameSummary!$AG105","v":"Wright  "},null,null,{"$f":"TeamGameSummary!$AH105","v":"2018-02-24"},null,{"$f":"TeamGameSummary!$AI105","v":42},null,null,{"$f":"TeamGameSummary!$BE105","v":"Wright"},null,null,{"$f":"TeamGameSummary!$BF105","v":"2018-01-20"},null,{"$f":"TeamGameSummary!$BG105","v":18}]
[]
["Opponent","Date",null,"FT%*",null,null,"Opponent",null,null,"Date",null,"3FG%*",null,null,"Opponent",null,null,"Date",null,"Def. Rebs",null,null,"Opponent",null,null,"Date",null,"Reb Margin"]
[{"$f":"TeamGameSummary!$HL101","v":"Shoshoni"},{"$f":"TeamGameSummary!$HM101","v":"2017-12-16"},null,{"$f":"TeamGameSummary!$HN101","v":{"v":0.9090909090909091,"d":"91%"}},null,null,{"$f":"TeamGameSummary!$ID101","v":"Big Horn"},null,null,{"$f":"TeamGameSummary!$IE101","v":"2018-01-27"},null,{"$f":"TeamGameSummary!$IF101","v":{"v":0.4583333333333333,"d":"46%"}},null,null,{"$f":"TeamGameSummary!$CC101","v":"Wyoming Indian"},null,null,{"$f":"TeamGameSummary!$CD101","v":"2018-03-01"},null,{"$f":"TeamGameSummary!$CE101","v":31},null,null,{"$f":"TeamGameSummary!$DA101","v":"Sundance"},null,null,{"$f":"TeamGameSummary!$DB101","v":"2018-02-06"},null,{"$f":"TeamGameSummary!$DC101","v":19}]
[{"$f":"TeamGameSummary!$HL102","v":"Faith"},{"$f":"TeamGameSummary!$HM102","v":"2018-01-12"},null,{"$f":"TeamGameSummary!$HN102","v":{"v":0.7727272727272727,"d":"77%"}},null,null,{"$f":"TeamGameSummary!$ID102","v":"Lusk   "},null,null,{"$f":"TeamGameSummary!$IE102","v":"2018-02-23"},null,{"$f":"TeamGameSummary!$IF102","v":{"v":0.45454545454545453,"d":"45%"}},null,null,{"$f":"TeamGameSummary!$CC102","v":"Tongue River"},null,null,{"$f":"TeamGameSummary!$CD102","v":"2018-02-17"},null,{"$f":"TeamGameSummary!$CE102","v":30},null,null,{"$f":"TeamGameSummary!$DA102","v":"Riverside"},null,null,{"$f":"TeamGameSummary!$DB102","v":"2017-12-14"},null,{"$f":"TeamGameSummary!$DC102","v":19}]
[{"$f":"TeamGameSummary!$HL103","v":"Sundance"},{"$f":"TeamGameSummary!$HM103","v":"2018-01-25"},null,{"$f":"TeamGameSummary!$HN103","v":{"v":0.7692307692307693,"d":"77%"}},null,null,{"$f":"TeamGameSummary!$ID103","v":"Faith"},null,null,{"$f":"TeamGameSummary!$IE103","v":"2018-01-12"},null,{"$f":"TeamGameSummary!$IF103","v":{"v":0.4444444444444444,"d":"44%"}},null,null,{"$f":"TeamGameSummary!$CC103","v":"Moorcroft"},null,null,{"$f":"TeamGameSummary!$CD103","v":"2018-01-18"},null,{"$f":"TeamGameSummary!$CE103","v":29},null,null,{"$f":"TeamGameSummary!$DA103","v":"Wyoming Indian"},null,null,{"$f":"TeamGameSummary!$DB103","v":"2018-03-01"},null,{"$f":"TeamGameSummary!$DC103","v":16}]
[{"$f":"TeamGameSummary!$HL104","v":"Wright"},{"$f":"TeamGameSummary!$HM104","v":"2018-01-20"},null,{"$f":"TeamGameSummary!$HN104","v":{"v":0.7647058823529411,"d":"76%"}},null,null,{"$f":"TeamGameSummary!$ID104","v":"Newell"},null,null,{"$f":"TeamGameSummary!$IE104","v":"2018-01-11"},null,{"$f":"TeamGameSummary!$IF104","v":{"v":0.42857142857142855,"d":"43%"}},null,null,{"$f":"TeamGameSummary!$CC104","v":"Cokeville"},null,null,{"$f":"TeamGameSummary!$CD104","v":"2017-12-15"},null,{"$f":"TeamGameSummary!$CE104","v":28},null,null,{"$f":"TeamGameSummary!$DA104","v":"Shoshoni"},null,null,{"$f":"TeamGameSummary!$DB104","v":"2017-12-16"},null,{"$f":"TeamGameSummary!$DC104","v":14}]
[{"$f":"TeamGameSummary!$HL105","v":"Pine Bluffs  "},{"$f":"TeamGameSummary!$HM105","v":"2018-03-02"},null,{"$f":"TeamGameSummary!$HN105","v":{"v":0.75,"d":"75%"}},null,null,{"$f":"TeamGameSummary!$ID105","v":"Moorcroft"},null,null,{"$f":"TeamGameSummary!$IE105","v":"2018-01-18"},null,{"$f":"TeamGameSummary!$IF105","v":{"v":0.42105263157894735,"d":"42%"}},null,null,{"$f":"TeamGameSummary!$CC105","v":"Faith"},null,null,{"$f":"TeamGameSummary!$CD105","v":"2018-01-12"},null,{"$f":"TeamGameSummary!$CE105","v":27},null,null,{"$f":"TeamGameSummary!$DA105","v":"Moorcroft"},null,null,{"$f":"TeamGameSummary!$DB105","v":"2018-01-18"},null,{"$f":"TeamGameSummary!$DC105","v":14}]
[]
["Opponent","Date",null,"FTM",null,null,"Opponent",null,null,"Date",null,"3FGM",null,null,"Opponent",null,null,"Date",null,"Steals",null,null,"Opponent",null,null,"Date",null,"Blocks"]
[{"$f":"TeamGameSummary!$GZ101","v":"Big Horn"},{"$f":"TeamGameSummary!$HA101","v":"2018-02-24"},null,{"$f":"TeamGameSummary!$HB101","v":22},null,null,{"$f":"TeamGameSummary!$HR101","v":"Big Horn"},null,null,{"$f":"TeamGameSummary!$HS101","v":"2018-01-27"},null,{"$f":"TeamGameSummary!$HT101","v":11},null,null,{"$f":"TeamGameSummary!$EQ101","v":"Hulett"},null,null,{"$f":"TeamGameSummary!$ER101","v":"2017-12-08"},null,{"$f":"TeamGameSummary!$ES101","v":20},null,null,{"$f":"TeamGameSummary!$EW101","v":"Moorcroft"},null,null,{"$f":"TeamGameSummary!$EX101","v":"2018-02-01"},null,{"$f":"TeamGameSummary!$EY101","v":5}]
[{"$f":"TeamGameSummary!$GZ102","v":"Wright"},{"$f":"TeamGameSummary!$HA102","v":"2018-02-08"},null,{"$f":"TeamGameSummary!$HB102","v":20},null,null,{"$f":"TeamGameSummary!$HR102","v":"Sundance"},null,null,{"$f":"TeamGameSummary!$HS102","v":"2018-01-25"},null,{"$f":"TeamGameSummary!$HT102","v":10},null,null,{"$f":"TeamGameSummary!$EQ102","v":"Shoshoni"},null,null,{"$f":"TeamGameSummary!$ER102","v":"2017-12-16"},null,{"$f":"TeamGameSummary!$ES102","v":19},null,null,{"$f":"TeamGameSummary!$EW102","v":"Wright"},null,null,{"$f":"TeamGameSummary!$EX102","v":"2018-02-08"},null,{"$f":"TeamGameSummary!$EY102","v":3}]
[{"$f":"TeamGameSummary!$GZ103","v":"Wright  "},{"$f":"TeamGameSummary!$HA103","v":"2018-02-24"},null,{"$f":"TeamGameSummary!$HB103","v":19},null,null,{"$f":"TeamGameSummary!$HR103","v":"Lusk   "},null,null,{"$f":"TeamGameSummary!$HS103","v":"2018-02-23"},null,{"$f":"TeamGameSummary!$HT103","v":10},null,null,{"$f":"TeamGameSummary!$EQ103","v":"Sundance"},null,null,{"$f":"TeamGameSummary!$ER103","v":"2018-01-25"},null,{"$f":"TeamGameSummary!$ES103","v":16},null,null,{"$f":"TeamGameSummary!$EW103","v":"Big Horn"},null,null,{"$f":"TeamGameSummary!$EX103","v":"2018-01-27"},null,{"$f":"TeamGameSummary!$EY103","v":3}]
[{"$f":"TeamGameSummary!$GZ104","v":"Faith"},{"$f":"TeamGameSummary!$HA104","v":"2018-01-12"},null,{"$f":"TeamGameSummary!$HB104","v":17},null,null,{"$f":"TeamGameSummary!$HR104","v":"Cokeville"},null,null,{"$f":"TeamGameSummary!$HS104","v":"2017-12-15"},null,{"$f":"TeamGameSummary!$HT104","v":10},null,null,{"$f":"TeamGameSummary!$EQ104","v":"Newell"},null,null,{"$f":"TeamGameSummary!$ER104","v":"2018-01-11"},null,{"$f":"TeamGameSummary!$ES104","v":15},null,null,{"$f":"TeamGameSummary!$EW104","v":"Shoshoni"},null,null,{"$f":"TeamGameSummary!$EX104","v":"2017-12-16"},null,{"$f":"TeamGameSummary!$EY104","v":2}]
[{"$f":"TeamGameSummary!$GZ105","v":"Wyoming Indian"},{"$f":"TeamGameSummary!$HA105","v":"2018-03-01"},null,{"$f":"TeamGameSummary!$HB105","v":16},null,null,{"$f":"TeamGameSummary!$HR105","v":"Newell"},null,null,{"$f":"TeamGameSummary!$HS105","v":"2018-01-11"},null,{"$f":"TeamGameSummary!$HT105","v":9},null,null,{"$f":"TeamGameSummary!$EQ105","v":"Lusk   "},null,null,{"$f":"TeamGameSummary!$ER105","v":"2018-02-23"},null,{"$f":"TeamGameSummary!$ES105","v":15},null,null,{"$f":"TeamGameSummary!$EW105","v":"Southeast HS"},null,null,{"$f":"TeamGameSummary!$EX105","v":"2018-02-22"},null,{"$f":"TeamGameSummary!$EY105","v":2}]
[]
[]
["Top 5 Performances - Player",{"$nulls":27},{"$f":"CONCATENATE(\"* minimum of \",PlayerGameSummary!$D$2,\" attempts\")","v":"* minimum of 5 attempts"}]
["Player","Opponent",null,null,"Date",null,"Points",null,null,"Player",null,null,"Opponent",null,null,"Date",null,"Assists",null,null,"Player",null,null,"Opponent",null,null,"Date",null,"Steals"]
[{"$f":"PlayerGameSummary!$B1001","v":"Clayton Louderback, 23"},{"$f":"PlayerGameSummary!$D1001","v":"Big Horn"},{"$f":"PlayerGameSummary!$B1001","v":"Clayton Louderback, 23"},{"$f":"PlayerGameSummary!$B1001","v":"Clayton Louderback, 23"},{"$f":"PlayerGameSummary!$E1001","v":"2018-02-24"},{"$f":"PlayerGameSummary!$B1001","v":"Clayton Louderback, 23"},{"$f":"PlayerGameSummary!$F1001","v":30},{"$f":"PlayerGameSummary!$B1001","v":"Clayton Louderback, 23"},null,{"$f":"PlayerGameSummary!$W1001","v":"Clayton Louderback, 23"},{"$f":"PlayerGameSummary!$B1001","v":"Clayton Louderback, 23"},{"$f":"PlayerGameSummary!$B1001","v":"Clayton Louderback, 23"},{"$f":"PlayerGameSummary!$Y1001","v":"Wright  "},{"$f":"PlayerGameSummary!$B1001","v":"Clayton Louderback, 23"},{"$f":"PlayerGameSummary!$B1001","v":"Clayton Louderback, 23"},{"$f":"PlayerGameSummary!$Z1001","v":"2018-02-24"},{"$f":"PlayerGameSummary!$B1001","v":"Clayton Louderback, 23"},{"$f":"PlayerGameSummary!$AA1001","v":8},{"$f":"PlayerGameSummary!$B1001","v":"Clayton Louderback, 23"},null,{"$f":"PlayerGameSummary!$AD1001","v":"Dawson Butts, 14"},{"$f":"PlayerGameSummary!$B1001","v":"Clayton Louderback, 23"},{"$f":"PlayerGameSummary!$B1001","v":"Clayton Louderback, 23"},{"$f":"PlayerGameSummary!$AF1001","v":"Shoshoni"},{"$f":"PlayerGameSummary!$B1001","v":"Clayton Louderback, 23"},{"$f":"PlayerGameSummary!$B1001","v":"Clayton Louderback, 23"},{"$f":"PlayerGameSummary!$AG1001","v":"2017-12-16"},{"$f":"PlayerGameSummary!$B1001","v":"Clayton Louderback, 23"},{"$f":"PlayerGameSummary!$AH1001","v":6}]
[{"$f":"PlayerGameSummary!$B1002","v":"Payton Watt, 24"},{"$f":"PlayerGameSummary!$D1002","v":"Wright  "},{"$f":"PlayerGameSummary!$B1002","v":"Payton Watt, 24"},{"$f":"PlayerGameSummary!$B1002","v":"Payton Watt, 24"},{"$f":"PlayerGameSummary!$E1002","v":"2018-02-24"},{"$f":"PlayerGameSummary!$B1002","v":"Payton Watt, 24"},{"$f":"PlayerGameSummary!$F1002","v":30},{"$f":"PlayerGameSummary!$B1002","v":"Payton Watt, 24"},null,{"$f":"PlayerGameSummary!$W1002","v":"Dawson Butts, 14"},{"$f":"PlayerGameSummary!$B1002","v":"Payton Watt, 24"},{"$f":"PlayerGameSummary!$B1002","v":"Payton Watt, 24"},{"$f":"PlayerGameSummary!$Y1002","v":"Tongue River"},{"$f":"PlayerGameSummary!$B1002","v":"Payton Watt, 24"},{"$f":"PlayerGameSummary!$B1002","v":"Payton Watt, 24"},{"$f":"PlayerGameSummary!$Z1002","v":"2018-02-02"},{"$f":"PlayerGameSummary!$B1002","v":"Payton Watt, 24"},{"$f":"PlayerGameSummary!$AA1002","v":7},{"$f":"PlayerGameSummary!$B1002","v":"Payton Watt, 24"},null,{"$f":"PlayerGameSummary!$AD1002","v":"Dillon Barritt, 20"},{"$f":"PlayerGameSummary!$B1002","v":"Payton Watt, 24"},{"$f":"PlayerGameSummary!$B1002","v":"Payton Watt, 24"},{"$f":"PlayerGameSummary!$AF1002","v":"Sundance"},{"$f":"PlayerGameSummary!$B1002","v":"Payton Watt, 24"},{"$f":"PlayerGameSummary!$B1002","v":"Payton Watt, 24"},{"$f":"PlayerGameSummary!$AG1002","v":"2018-01-25"},{"$f":"PlayerGameSummary!$B1002","v":"Payton Watt, 24"},{"$f":"PlayerGameSummary!$AH1002","v":6}]
[{"$f":"PlayerGameSummary!$B1003","v":"Payton Watt, 24"},{"$f":"PlayerGameSummary!$D1003","v":"Faith"},{"$f":"PlayerGameSummary!$B1003","v":"Payton Watt, 24"},{"$f":"PlayerGameSummary!$B1003","v":"Payton Watt, 24"},{"$f":"PlayerGameSummary!$E1003","v":"2018-01-12"},{"$f":"PlayerGameSummary!$B1003","v":"Payton Watt, 24"},{"$f":"PlayerGameSummary!$F1003","v":29},{"$f":"PlayerGameSummary!$B1003","v":"Payton Watt, 24"},null,{"$f":"PlayerGameSummary!$W1003","v":"Dillon Barritt, 20"},{"$f":"PlayerGameSummary!$B1003","v":"Payton Watt, 24"},{"$f":"PlayerGameSummary!$B1003","v":"Payton Watt, 24"},{"$f":"PlayerGameSummary!$Y1003","v":"Moorcroft"},{"$f":"PlayerGameSummary!$B1003","v":"Payton Watt, 24"},{"$f":"PlayerGameSummary!$B1003","v":"Payton Watt, 24"},{"$f":"PlayerGameSummary!$Z1003","v":"2018-02-01"},{"$f":"PlayerGameSummary!$B1003","v":"Payton Watt, 24"},{"$f":"PlayerGameSummary!$AA1003","v":7},{"$f":"PlayerGameSummary!$B1003","v":"Payton Watt, 24"},null,{"$f":"PlayerGameSummary!$AD1003","v":"Payton Watt, 24"},{"$f":"PlayerGameSummary!$B1003","v":"Payton Watt, 24"},{"$f":"PlayerGameSummary!$B1003","v":"Payton Watt, 24"},{"$f":"PlayerGameSummary!$AF1003","v":"Newell"},{"$f":"PlayerGameSummary!$B1003","v":"Payton Watt, 24"},{"$f":"PlayerGameSummary!$B1003","v":"Payton Watt, 24"},{"$f":"PlayerGameSummary!$AG1003","v":"2018-01-11"},{"$f":"PlayerGameSummary!$B1003","v":"Payton Watt, 24"},{"$f":"PlayerGameSummary!$AH1003","v":5}]
[{"$f":"PlayerGameSummary!$B1004","v":"Payton Watt, 24"},{"$f":"PlayerGameSummary!$D1004","v":"Sundance"},{"$f":"PlayerGameSummary!$B1004","v":"Payton Watt, 24"},{"$f":"PlayerGameSummary!$B1004","v":"Payton Watt, 24"},{"$f":"PlayerGameSummary!$E1004","v":"2018-01-25"},{"$f":"PlayerGameSummary!$B1004","v":"Payton Watt, 24"},{"$f":"PlayerGameSummary!$F1004","v":29},{"$f":"PlayerGameSummary!$B1004","v":"Payton Watt, 24"},null,{"$f":"PlayerGameSummary!$W1004","v":"Jayden Caylor, 12"},{"$f":"PlayerGameSummary!$B1004","v":"Payton Watt, 24"},{"$f":"PlayerGameSummary!$B1004","v":"Payton Watt, 24"},{"$f":"PlayerGameSummary!$Y1004","v":"Riverside"},{"$f":"PlayerGameSummary!$B1004","v":"Payton Watt, 24"},{"$f":"PlayerGameSummary!$B1004","v":"Payton Watt, 24"},{"$f":"PlayerGameSummary!$Z1004","v":"2017-12-14"},{"$f":"PlayerGameSummary!$B1004","v":"Payton Watt, 24"},{"$f":"PlayerGameSummary!$AA1004","v":7},{"$f":"PlayerGameSummary!$B1004","v":"Payton Watt, 24"},null,{"$f":"PlayerGameSummary!$AD1004","v":"Clayton Louderback, 23"},{"$f":"PlayerGameSummary!$B1004","v":"Payton Watt, 24"},{"$f":"PlayerGameSummary!$B1004","v":"Payton Watt, 24"},{"$f":"PlayerGameSummary!$AF1004","v":"Tongue River"},{"$f":"PlayerGameSummary!$B1004","v":"Payton Watt, 24"},{"$f":"PlayerGameSummary!$B1004","v":"Payton Watt, 24"},{"$f":"PlayerGameSummary!$AG1004","v":"2018-02-02"},{"$f":"PlayerGameSummary!$B1004","v":"Payton Watt, 24"},{"$f":"PlayerGameSummary!$AH1004","v":5}]
[{"$f":"PlayerGameSummary!$B1005","v":"Clayton Louderback, 23"},{"$f":"PlayerGameSummary!$D1005","v":"Wyoming Indian"},{"$f":"PlayerGameSummary!$B1005","v":"Clayton Louderback, 23"},{"$f":"PlayerGameSummary!$B1005","v":"Clayton Louderback, 23"},{"$f":"PlayerGameSummary!$E1005","v":"2018-03-01"},{"$f":"PlayerGameSummary!$B1005","v":"Clayton Louderback, 23"},{"$f":"PlayerGameSummary!$F1005","v":28},{"$f":"PlayerGameSummary!$B1005","v":"Clayton Louderback, 23"},null,{"$f":"PlayerGameSummary!$W1005","v":"Dawson Butts, 14"},{"$f":"PlayerGameSummary!$B1005","v":"Clayton Louderback, 23"},{"$f":"PlayerGameSummary!$B1005","v":"Clayton Louderback, 23"},{"$f":"PlayerGameSummary!$Y1005","v":"Tongue River"},{"$f":"PlayerGameSummary!$B1005","v":"Clayton Louderback, 23"},{"$f":"PlayerGameSummary!$B1005","v":"Clayton Louderback, 23"},{"$f":"PlayerGameSummary!$Z1005","v":"2018-02-17"},{"$f":"PlayerGameSummary!$B1005","v":"Clayton Louderback, 23"},{"$f":"PlayerGameSummary!$AA1005","v":7},{"$f":"PlayerGameSummary!$B1005","v":"Clayton Louderback, 23"},null,{"$f":"PlayerGameSummary!$AD1005","v":"Clayton Louderback, 23"},{"$f":"PlayerGameSummary!$B1005","v":"Clayton Louderback, 23"},{"$f":"PlayerGameSummary!$B1005","v":"Clayton Louderback, 23"},{"$f":"PlayerGameSummary!$AF1005","v":"Sundance"},{"$f":"PlayerGameSummary!$B1005","v":"Clayton Louderback, 23"},{"$f":"PlayerGameSummary!$B1005","v":"Clayton Louderback, 23"},{"$f":"PlayerGameSummary!$AG1005","v":"2018-01-25"},{"$f":"PlayerGameSummary!$B1005","v":"Clayton Louderback, 23"},{"$f":"PlayerGameSummary!$AH1005","v":5}]
[]
["Player","Opponent",null,null,"Date",null,"Rebs",null,null,"Player",null,null,"Opponent",null,null,"Date",null,"Off. Rebs",null,null,"Player",null,null,"Opponent",null,null,"Date",null,"Block"]
[{"$f":"PlayerGameSummary!$I1001","v":"Payton Watt, 24"},{"$f":"PlayerGameSummary!$K1001","v":"Tongue River"},{"$f":"PlayerGameSummary!$B1008","v":"Payton Watt, 24"},{"$f":"PlayerGameSummary!$B1008","v":"Payton Watt, 24"},{"$f":"PlayerGameSummary!$L1001","v":"2018-02-17"},{"$f":"PlayerGameSummary!$B1008","v":"Payton Watt, 24"},{"$f":"PlayerGameSummary!$M1001","v":17},{"$f":"PlayerGameSummary!$B1008","v":"Payton Watt, 24"},null,{"$f":"PlayerGameSummary!$P1001","v":"Clayton Louderback, 23"},{"$f":"PlayerGameSummary!$B1008","v":"Payton Watt, 24"},{"$f":"PlayerGameSummary!$B1008","v":"Payton Watt, 24"},{"$f":"PlayerGameSummary!$R1001","v":"Wright"},{"$f":"PlayerGameSummary!$B1008","v":"Payton Watt, 24"},{"$f":"PlayerGameSummary!$B1008","v":"Payton Watt, 24"},{"$f":"PlayerGameSummary!$S1001","v":"2018-02-08"},{"$f":"PlayerGameSummary!$B1008","v":"Payton Watt, 24"},{"$f":"PlayerGameSummary!$T1001","v":7},{"$f":"PlayerGameSummary!$B1008","v":"Payton Watt, 24"},null,{"$f":"PlayerGameSummary!$AK1001","v":"Payton Watt, 24"},{"$f":"PlayerGameSummary!$B1008","v":"Payton Watt, 24"},{"$f":"PlayerGameSummary!$B1008","v":"Payton Watt, 24"},{"$f":"PlayerGameSummary!$AM1001","v":"Moorcroft"},{"$f":"PlayerGameSummary!$B1008","v":"Payton Watt, 24"},{"$f":"PlayerGameSummary!$B1008","v":"Payton Watt, 24"},{"$f":"PlayerGameSummary!$AN1001","v":"2018-02-01"},{"$f":"PlayerGameSummary!$B1008","v":"Payton Watt, 24"},{"$f":"PlayerGameSummary!$AO1001","v":3}]
[{"$f":"PlayerGameSummary!$I1002","v":"Clayton Louderback, 23"},{"$f":"PlayerGameSummary!$K1002","v":"Wyoming Indian"},{"$f":"PlayerGameSummary!$B1009","v":"Payton Watt, 24"},{"$f":"PlayerGameSummary!$B1009","v":"Payton Watt, 24"},{"$f":"PlayerGameSummary!$L1002","v":"2018-03-01"},{"$f":"PlayerGameSummary!$B1009","v":"Payton Watt, 24"},{"$f":"PlayerGameSummary!$M1002","v":14},{"$f":"PlayerGameSummary!$B1009","v":"Payton Watt, 24"},null,{"$f":"PlayerGameSummary!$P1002","v":"Payton Watt, 24"},{"$f":"PlayerGameSummary!$B1009","v":"Payton Watt, 24"},{"$f":"PlayerGameSummary!$B1009","v":"Payton Watt, 24"},{"$f":"PlayerGameSummary!$R1002","v":"Tongue River"},{"$f":"PlayerGameSummary!$B1009","v":"Payton Watt, 24"},{"$f":"PlayerGameSummary!$B1009","v":"Payton Watt, 24"},{"$f":"PlayerGameSummary!$S1002","v":"2018-02-17"},{"$f":"PlayerGameSummary!$B1009","v":"Payton Watt, 24"},{"$f":"PlayerGameSummary!$T1002","v":6},{"$f":"PlayerGameSummary!$B1009","v":"Payton Watt, 24"},null,{"$f":"PlayerGameSummary!$AK1002","v":"Payton Watt, 24"},{"$f":"PlayerGameSummary!$B1009","v":"Payton Watt, 24"},{"$f":"PlayerGameSummary!$B1009","v":"Payton Watt, 24"},{"$f":"PlayerGameSummary!$AM1002","v":"Shoshoni"},{"$f":"PlayerGameSummary!$B1009","v":"Payton Watt, 24"},{"$f":"PlayerGameSummary!$B1009","v":"Payton Watt, 24"},{"$f":"PlayerGameSummary!$AN1002","v":"2017-12-16"},{"$f":"PlayerGameSummary!$B1009","v":"Payton Watt, 24"},{"$f":"PlayerGameSummary!$AO1002","v":2}]
[{"$f":"PlayerGameSummary!$I1003","v":"Clayton Louderback, 23"},{"$f":"PlayerGameSummary!$K1003","v":"Big Horn"},{"$f":"PlayerGameSummary!$B1010","v":"Dillon Barritt, 20"},{"$f":"PlayerGameSummary!$B1010","v":"Dillon Barritt, 20"},{"$f":"PlayerGameSummary!$L1003","v":"2018-01-27"},{"$f":"PlayerGameSummary!$B1010","v":"Dillon Barritt, 20"},{"$f":"PlayerGameSummary!$M1003","v":13},{"$f":"PlayerGameSummary!$B1010","v":"Dillon Barritt, 20"},null,{"$f":"PlayerGameSummary!$P1003","v":"Payton Watt, 24"},{"$f":"PlayerGameSummary!$B1010","v":"Dillon Barritt, 20"},{"$f":"PlayerGameSummary!$B1010","v":"Dillon Barritt, 20"},{"$f":"PlayerGameSummary!$R1003","v":"Sundance"},{"$f":"PlayerGameSummary!$B1010","v":"Dillon Barritt, 20"},{"$f":"PlayerGameSummary!$B1010","v":"Dillon Barritt, 20"},{"$f":"PlayerGameSummary!$S1003","v":"2018-02-06"},{"$f":"PlayerGameSummary!$B1010","v":"Dillon Barritt, 20"},{"$f":"PlayerGameSummary!$T1003","v":6},{"$f":"PlayerGameSummary!$B1010","v":"Dillon Barritt, 20"},null,{"$f":"PlayerGameSummary!$AK1003","v":"Payton Watt, 24"},{"$f":"PlayerGameSummary!$B1010","v":"Dillon Barritt, 20"},{"$f":"PlayerGameSummary!$B1010","v":"Dillon Barritt, 20"},{"$f":"PlayerGameSummary!$AM1003","v":"Big Horn"},{"$f":"PlayerGameSummary!$B1010","v":"Dillon Barritt, 20"},{"$f":"PlayerGameSummary!$B1010","v":"Dillon Barritt, 20"},{"$f":"PlayerGameSummary!$AN1003","v":"2018-01-27"},{"$f":"PlayerGameSummary!$B1010","v":"Dillon Barritt, 20"},{"$f":"PlayerGameSummary!$AO1003","v":2}]
[{"$f":"PlayerGameSummary!$I1004","v":"Clayton Louderback, 23"},{"$f":"PlayerGameSummary!$K1004","v":"Lusk   "},{"$f":"PlayerGameSummary!$B1011","v":"Clayton Louderback, 23"},{"$f":"PlayerGameSummary!$B1011","v":"Clayton Louderback, 23"},{"$f":"PlayerGameSummary!$L1004","v":"2018-02-23"},{"$f":"PlayerGameSummary!$B1011","v":"Clayton Louderback, 23"},{"$f":"PlayerGameSummary!$M1004","v":13},{"$f":"PlayerGameSummary!$B1011","v":"Clayton Louderback, 23"},null,{"$f":"PlayerGameSummary!$P1004","v":"Team, "},{"$f":"PlayerGameSummary!$B1011","v":"Clayton Louderback, 23"},{"$f":"PlayerGameSummary!$B1011","v":"Clayton Louderback, 23"},{"$f":"PlayerGameSummary!$R1004","v":"Wright"},{"$f":"PlayerGameSummary!$B1011","v":"Clayton Louderback, 23"},{"$f":"PlayerGameSummary!$B1011","v":"Clayton Louderback, 23"},{"$f":"PlayerGameSummary!$S1004","v":"2018-01-20"},{"$f":"PlayerGameSummary!$B1011","v":"Clayton Louderback, 23"},{"$f":"PlayerGameSummary!$T1004","v":5},{"$f":"PlayerGameSummary!$B1011","v":"Clayton Louderback, 23"},null,{"$f":"PlayerGameSummary!$AK1004","v":"Clayton Louderback, 23"},{"$f":"PlayerGameSummary!$B1011","v":"Clayton Louderback, 23"},{"$f":"PlayerGameSummary!$B1011","v":"Clayton Louderback, 23"},{"$f":"PlayerGameSummary!$AM1004","v":"Moorcroft"},{"$f":"PlayerGameSummary!$B1011","v":"Clayton Louderback, 23"},{"$f":"PlayerGameSummary!$B1011","v":"Clayton Louderback, 23"},{"$f":"PlayerGameSummary!$AN1004","v":"2018-02-01"},{"$f":"PlayerGameSummary!$B1011","v":"Clayton Louderback, 23"},{"$f":"PlayerGameSummary!$AO1004","v":1}]
[{"$f":"PlayerGameSummary!$I1005","v":"Payton Watt, 24"},{"$f":"PlayerGameSummary!$K1005","v":"Big Horn"},{"$f":"PlayerGameSummary!$B1012","v":0},{"$f":"PlayerGameSummary!$B1012","v":0},{"$f":"PlayerGameSummary!$L1005","v":"2018-02-24"},{"$f":"PlayerGameSummary!$B1012","v":"00:00:00"},{"$f":"PlayerGameSummary!$M1005","v":12},{"$f":"PlayerGameSummary!$B1012","v":0},null,{"$f":"PlayerGameSummary!$P1005","v":"Jayden Caylor, 12"},{"$f":"PlayerGameSummary!$B1012","v":0},{"$f":"PlayerGameSummary!$B1012","v":0},{"$f":"PlayerGameSummary!$R1005","v":"Rocky Mountain"},{"$f":"PlayerGameSummary!$B1012","v":0},{"$f":"PlayerGameSummary!$B1012","v":0},{"$f":"PlayerGameSummary!$S1005","v":"2018-03-03"},{"$f":"PlayerGameSummary!$B1012","v":"00:00:00"},{"$f":"PlayerGameSummary!$T1005","v":5},{"$f":"PlayerGameSummary!$B1012","v":0},null,{"$f":"PlayerGameSummary!$AK1005","v":"Payton Watt, 24"},{"$f":"PlayerGameSummary!$B1012","v":0},{"$f":"PlayerGameSummary!$B1012","v":0},{"$f":"PlayerGameSummary!$AM1005","v":"Southeast HS"},{"$f":"PlayerGameSummary!$B1012","v":0},{"$f":"PlayerGameSummary!$B1012","v":0},{"$f":"PlayerGameSummary!$AN1005","v":"2018-02-22"},{"$f":"PlayerGameSummary!$B1012","v":"00:00:00"},{"$f":"PlayerGameSummary!$AO1005","v":1}]
[]
["Player","Opponent",null,null,"Date",null,"3FG%*",null,null,"Player",null,null,"Opponent",null,null,"Date",null,"FT%*",null,null,"Player",null,null,"Opponent",null,null,"Date",null,"FG%*"]
[{"$f":"PlayerGameSummary!$DG1001","v":"Dillon Barritt, 20"},{"$f":"PlayerGameSummary!$DI1001","v":"Ten Sleep"},{"$f":"PlayerGameSummary!$B1015","v":0},{"$f":"PlayerGameSummary!$B1015","v":0},{"$f":"PlayerGameSummary!$DJ1001","v":"2017-12-09"},{"$f":"PlayerGameSummary!$B1015","v":"00:00:00"},{"$f":"PlayerGameSummary!$DK1001","v":{"v":0.8,"d":"80%"}},{"$f":"PlayerGameSummary!$B1015","v":{"v":0,"d":"0%"}},null,{"$f":"PlayerGameSummary!$CJ1001","v":"Clayton Louderback, 23"},{"$f":"PlayerGameSummary!$B1015","v":0},{"$f":"PlayerGameSummary!$B1015","v":0},{"$f":"PlayerGameSummary!$CL1001","v":"Sundance"},{"$f":"PlayerGameSummary!$B1015","v":0},{"$f":"PlayerGameSummary!$B1015","v":0},{"$f":"PlayerGameSummary!$CM1001","v":"2018-01-25"},{"$f":"PlayerGameSummary!$B1015","v":"00:00:00"},{"$f":"PlayerGameSummary!$CN1001","v":{"v":1,"d":"100%"}},{"$f":"PlayerGameSummary!$B1015","v":{"v":0,"d":"0%"}},null,{"$f":"PlayerGameSummary!$BM1001","v":"Jess Claycomb, 10"},{"$f":"PlayerGameSummary!$B1015","v":0},{"$f":"PlayerGameSummary!$B1015","v":0},{"$f":"PlayerGameSummary!$BO1001","v":"Hulett"},{"$f":"PlayerGameSummary!$B1015","v":0},{"$f":"PlayerGameSummary!$B1015","v":0},{"$f":"PlayerGameSummary!$BP1001","v":"2017-12-08"},{"$f":"PlayerGameSummary!$B1015","v":"00:00:00"},{"$f":"PlayerGameSummary!$BQ1001","v":{"v":0.9,"d":"90%"}}]
[{"$f":"PlayerGameSummary!$DG1002","v":"Payton Watt, 24"},{"$f":"PlayerGameSummary!$DI1002","v":"Big Horn"},{"$f":"PlayerGameSummary!$B1016","v":0},{"$f":"PlayerGameSummary!$B1016","v":0},{"$f":"PlayerGameSummary!$DJ1002","v":"2018-01-27"},{"$f":"PlayerGameSummary!$B1016","v":"00:00:00"},{"$f":"PlayerGameSummary!$DK1002","v":{"v":0.75,"d":"75%"}},{"$f":"PlayerGameSummary!$B1016","v":{"v":0,"d":"0%"}},null,{"$f":"PlayerGameSummary!$CJ1002","v":"Jess Claycomb, 10"},{"$f":"PlayerGameSummary!$B1016","v":0},{"$f":"PlayerGameSummary!$B1016","v":0},{"$f":"PlayerGameSummary!$CL1002","v":"Wyoming Indian"},{"$f":"PlayerGameSummary!$B1016","v":0},{"$f":"PlayerGameSummary!$B1016","v":0},{"$f":"PlayerGameSummary!$CM1002","v":"2018-03-01"},{"$f":"PlayerGameSummary!$B1016","v":"00:00:00"},{"$f":"PlayerGameSummary!$CN1002","v":{"v":0.8333333333333334,"d":"83%"}},{"$f":"PlayerGameSummary!$B1016","v":{"v":0,"d":"0%"}},null,{"$f":"PlayerGameSummary!$BM1002","v":"Jess Claycomb, 10"},{"$f":"PlayerGameSummary!$B1016","v":0},{"$f":"PlayerGameSummary!$B1016","v":0},{"$f":"PlayerGameSummary!$BO1002","v":"Newell"},{"$f":"PlayerGameSummary!$B1016","v":0},{"$f":"PlayerGameSummary!$B1016","v":0},{"$f":"PlayerGameSummary!$BP1002","v":"2018-01-11"},{"$f":"PlayerGameSummary!$B1016","v":"00:00:00"},{"$f":"PlayerGameSummary!$BQ1002","v":{"v":0.8571428571428571,"d":"86%"}}]
[{"$f":"PlayerGameSummary!$DG1003","v":"Payton Watt, 24"},{"$f":"PlayerGameSummary!$DI1003","v":"Sundance"},{"$f":"PlayerGameSummary!$B1017","v":0},{"$f":"PlayerGameSummary!$B1017","v":0},{"$f":"PlayerGameSummary!$DJ1003","v":"2018-01-25"},{"$f":"PlayerGameSummary!$B1017","v":"00:00:00"},{"$f":"PlayerGameSummary!$DK1003","v":{"v":0.7,"d":"70%"}},{"$f":"PlayerGameSummary!$B1017","v":{"v":0,"d":"0%"}},null,{"$f":"PlayerGameSummary!$CJ1003","v":"Clayton Louderback, 23"},{"$f":"PlayerGameSummary!$B1017","v":0},{"$f":"PlayerGameSummary!$B1017","v":0},{"$f":"PlayerGameSummary!$CL1003","v":"Wyoming Indian"},{"$f":"PlayerGameSummary!$B1017","v":0},{"$f":"PlayerGameSummary!$B1017","v":0},{"$f":"PlayerGameSummary!$CM1003","v":"2018-03-01"},{"$f":"PlayerGameSummary!$B1017","v":"00:00:00"},{"$f":"PlayerGameSummary!$CN1003","v":{"v":0.8333333333333334,"d":"83%"}},{"$f":"PlayerGameSummary!$B1017","v":{"v":0,"d":"0%"}},null,{"$f":"PlayerGameSummary!$BM1003","v":"Jayden Caylor, 12"},{"$f":"PlayerGameSummary!$B1017","v":0},{"$f":"PlayerGameSummary!$B1017","v":0},{"$f":"PlayerGameSummary!$BO1003","v":"Southeast HS"},{"$f":"PlayerGameSummary!$B1017","v":0},{"$f":"PlayerGameSummary!$B1017","v":0},{"$f":"PlayerGameSummary!$BP1003","v":"2018-02-22"},{"$f":"PlayerGameSummary!$B1017","v":"00:00:00"},{"$f":"PlayerGameSummary!$BQ1003","v":{"v":0.8571428571428571,"d":"86%"}}]
[{"$f":"PlayerGameSummary!$DG1004","v":"Dillon Barritt, 20"},{"$f":"PlayerGameSummary!$DI1004","v":"Newell"},{"$f":"PlayerGameSummary!$B1018","v":0},{"$f":"PlayerGameSummary!$B1018","v":0},{"$f":"PlayerGameSummary!$DJ1004","v":"2018-01-11"},{"$f":"PlayerGameSummary!$B1018","v":"00:00:00"},{"$f":"PlayerGameSummary!$DK1004","v":{"v":0.6666666666666666,"d":"67%"}},{"$f":"PlayerGameSummary!$B1018","v":{"v":0,"d":"0%"}},null,{"$f":"PlayerGameSummary!$CJ1004","v":"Dillon Barritt, 20"},{"$f":"PlayerGameSummary!$B1018","v":0},{"$f":"PlayerGameSummary!$B1018","v":0},{"$f":"PlayerGameSummary!$CL1004","v":"Rocky Mountain"},{"$f":"PlayerGameSummary!$B1018","v":0},{"$f":"PlayerGameSummary!$B1018","v":0},{"$f":"PlayerGameSummary!$CM1004","v":"2018-03-03"},{"$f":"PlayerGameSummary!$B1018","v":"00:00:00"},{"$f":"PlayerGameSummary!$CN1004","v":{"v":0.8333333333333334,"d":"83%"}},{"$f":"PlayerGameSummary!$B1018","v":{"v":0,"d":"0%"}},null,{"$f":"PlayerGameSummary!$BM1004","v":"Dillon Barritt, 20"},{"$f":"PlayerGameSummary!$B1018","v":0},{"$f":"PlayerGameSummary!$B1018","v":0},{"$f":"PlayerGameSummary!$BO1004","v":"Ten Sleep"},{"$f":"PlayerGameSummary!$B1018","v":0},{"$f":"PlayerGameSummary!$B1018","v":0},{"$f":"PlayerGameSummary!$BP1004","v":"2017-12-09"},{"$f":"PlayerGameSummary!$B1018","v":"00:00:00"},{"$f":"PlayerGameSummary!$BQ1004","v":{"v":0.8571428571428571,"d":"86%"}}]
[{"$f":"PlayerGameSummary!$DG1005","v":"Payton Watt, 24"},{"$f":"PlayerGameSummary!$DI1005","v":"Wright  "},{"$f":"PlayerGameSummary!$B1019","v":0},{"$f":"PlayerGameSummary!$B1019","v":0},{"$f":"PlayerGameSummary!$DJ1005","v":"2018-02-24"},{"$f":"PlayerGameSummary!$B1019","v":"00:00:00"},{"$f":"PlayerGameSummary!$DK1005","v":{"v":0.6,"d":"60%"}},{"$f":"PlayerGameSummary!$B1019","v":{"v":0,"d":"0%"}},null,{"$f":"PlayerGameSummary!$CJ1005","v":"Clayton Louderback, 23"},{"$f":"PlayerGameSummary!$B1019","v":0},{"$f":"PlayerGameSummary!$B1019","v":0},{"$f":"PlayerGameSummary!$CL1005","v":"Lusk   "},{"$f":"PlayerGameSummary!$B1019","v":0},{"$f":"PlayerGameSummary!$B1019","v":0},{"$f":"PlayerGameSummary!$CM1005","v":"2018-02-23"},{"$f":"PlayerGameSummary!$B1019","v":"00:00:00"},{"$f":"PlayerGameSummary!$CN1005","v":{"v":0.8333333333333334,"d":"83%"}},{"$f":"PlayerGameSummary!$B1019","v":{"v":0,"d":"0%"}},null,{"$f":"PlayerGameSummary!$BM1005","v":"Jess Claycomb, 10"},{"$f":"PlayerGameSummary!$B1019","v":0},{"$f":"PlayerGameSummary!$B1019","v":0},{"$f":"PlayerGameSummary!$BO1005","v":"Riverside"},{"$f":"PlayerGameSummary!$B1019","v":0},{"$f":"PlayerGameSummary!$B1019","v":0},{"$f":"PlayerGameSummary!$BP1005","v":"2017-12-14"},{"$f":"PlayerGameSummary!$B1019","v":"00:00:00"},{"$f":"PlayerGameSummary!$BQ1005","v":{"v":0.8,"d":"80%"}}]
[]
["Player","Opponent",null,null,"Date",null,"3FGM",null,null,"Player",null,null,"Opponent",null,null,"Date",null,"FTM",null,null,"Player",null,null,"Opponent",null,null,"Date",null,"FGM"]
[{"$f":"PlayerGameSummary!$CZ1001","v":"Payton Watt, 24"},{"$f":"PlayerGameSummary!$DB1001","v":"Sundance"},{"$f":"PlayerGameSummary!$B1022","v":0},{"$f":"PlayerGameSummary!$B1022","v":0},{"$f":"PlayerGameSummary!$DC1001","v":"2018-01-25"},{"$f":"PlayerGameSummary!$B1022","v":"00:00:00"},{"$f":"PlayerGameSummary!$DD1001","v":7},{"$f":"PlayerGameSummary!$B1022","v":0},null,{"$f":"PlayerGameSummary!$CC1001","v":"Clayton Louderback, 23"},{"$f":"PlayerGameSummary!$B1022","v":0},{"$f":"PlayerGameSummary!$B1022","v":0},{"$f":"PlayerGameSummary!$CE1001","v":"New Underwood"},{"$f":"PlayerGameSummary!$B1022","v":0},{"$f":"PlayerGameSummary!$B1022","v":0},{"$f":"PlayerGameSummary!$CF1001","v":"2018-02-10"},{"$f":"PlayerGameSummary!$B1022","v":"00:00:00"},{"$f":"PlayerGameSummary!$CG1001","v":9},{"$f":"PlayerGameSummary!$B1022","v":0},null,{"$f":"PlayerGameSummary!$BF1001","v":"Clayton Louderback, 23"},{"$f":"PlayerGameSummary!$B1022","v":0},{"$f":"PlayerGameSummary!$B1022","v":0},{"$f":"PlayerGameSummary!$BH1001","v":"Moorcroft"},{"$f":"PlayerGameSummary!$B1022","v":0},{"$f":"PlayerGameSummary!$B1022","v":0},{"$f":"PlayerGameSummary!$BI1001","v":"2018-02-01"},{"$f":"PlayerGameSummary!$B1022","v":"00:00:00"},{"$f":"PlayerGameSummary!$BJ1001","v":12}]
[{"$f":"PlayerGameSummary!$CZ1002","v":"Payton Watt, 24"},{"$f":"PlayerGameSummary!$DB1002","v":"Wright  "},{"$f":"PlayerGameSummary!$B1023","v":0},{"$f":"PlayerGameSummary!$B1023","v":0},{"$f":"PlayerGameSummary!$DC1002","v":"2018-02-24"},{"$f":"PlayerGameSummary!$B1023","v":"00:00:00"},{"$f":"PlayerGameSummary!$DD1002","v":6},{"$f":"PlayerGameSummary!$B1023","v":0},null,{"$f":"PlayerGameSummary!$CC1002","v":"Payton Watt, 24"},{"$f":"PlayerGameSummary!$B1023","v":0},{"$f":"PlayerGameSummary!$B1023","v":0},{"$f":"PlayerGameSummary!$CE1002","v":"Wright"},{"$f":"PlayerGameSummary!$B1023","v":0},{"$f":"PlayerGameSummary!$B1023","v":0},{"$f":"PlayerGameSummary!$CF1002","v":"2018-01-20"},{"$f":"PlayerGameSummary!$B1023","v":"00:00:00"},{"$f":"PlayerGameSummary!$CG1002","v":8},{"$f":"PlayerGameSummary!$B1023","v":0},null,{"$f":"PlayerGameSummary!$BF1002","v":"Clayton Louderback, 23"},{"$f":"PlayerGameSummary!$B1023","v":0},{"$f":"PlayerGameSummary!$B1023","v":0},{"$f":"PlayerGameSummary!$BH1002","v":"Big Horn"},{"$f":"PlayerGameSummary!$B1023","v":0},{"$f":"PlayerGameSummary!$B1023","v":0},{"$f":"PlayerGameSummary!$BI1002","v":"2018-02-24"},{"$f":"PlayerGameSummary!$B1023","v":"00:00:00"},{"$f":"PlayerGameSummary!$BJ1002","v":11}]
[{"$f":"PlayerGameSummary!$CZ1003","v":"Dillon Barritt, 20"},{"$f":"PlayerGameSummary!$DB1003","v":"Newell"},{"$f":"PlayerGameSummary!$B1024","v":0},{"$f":"PlayerGameSummary!$B1024","v":0},{"$f":"PlayerGameSummary!$DC1003","v":"2018-01-11"},{"$f":"PlayerGameSummary!$B1024","v":"00:00:00"},{"$f":"PlayerGameSummary!$DD1003","v":6},{"$f":"PlayerGameSummary!$B1024","v":0},null,{"$f":"PlayerGameSummary!$CC1003","v":"Clayton Louderback, 23"},{"$f":"PlayerGameSummary!$B1024","v":0},{"$f":"PlayerGameSummary!$B1024","v":0},{"$f":"PlayerGameSummary!$CE1003","v":"Big Horn"},{"$f":"PlayerGameSummary!$B1024","v":0},{"$f":"PlayerGameSummary!$B1024","v":0},{"$f":"PlayerGameSummary!$CF1003","v":"2018-02-16"},{"$f":"PlayerGameSummary!$B1024","v":"00:00:00"},{"$f":"PlayerGameSummary!$CG1003","v":8},{"$f":"PlayerGameSummary!$B1024","v":0},null,{"$f":"PlayerGameSummary!$BF1003","v":"Clayton Louderback, 23"},{"$f":"PlayerGameSummary!$B1024","v":0},{"$f":"PlayerGameSummary!$B1024","v":0},{"$f":"PlayerGameSummary!$BH1003","v":"Wyoming Indian"},{"$f":"PlayerGameSummary!$B1024","v":0},{"$f":"PlayerGameSummary!$B1024","v":0},{"$f":"PlayerGameSummary!$BI1003","v":"2018-03-01"},{"$f":"PlayerGameSummary!$B1024","v":"00:00:00"},{"$f":"PlayerGameSummary!$BJ1003","v":11}]
[{"$f":"PlayerGameSummary!$CZ1004","v":"Payton Watt, 24"},{"$f":"PlayerGameSummary!$DB1004","v":"Big Horn"},{"$f":"PlayerGameSummary!$B1025","v":0},{"$f":"PlayerGameSummary!$B1025","v":0},{"$f":"PlayerGameSummary!$DC1004","v":"2018-01-27"},{"$f":"PlayerGameSummary!$B1025","v":"00:00:00"},{"$f":"PlayerGameSummary!$DD1004","v":6},{"$f":"PlayerGameSummary!$B1025","v":0},null,{"$f":"PlayerGameSummary!$CC1004","v":"Clayton Louderback, 23"},{"$f":"PlayerGameSummary!$B1025","v":0},{"$f":"PlayerGameSummary!$B1025","v":0},{"$f":"PlayerGameSummary!$CE1004","v":"Big Horn"},{"$f":"PlayerGameSummary!$B1025","v":0},{"$f":"PlayerGameSummary!$B1025","v":0},{"$f":"PlayerGameSummary!$CF1004","v":"2018-02-24"},{"$f":"PlayerGameSummary!$B1025","v":"00:00:00"},{"$f":"PlayerGameSummary!$CG1004","v":7},{"$f":"PlayerGameSummary!$B1025","v":0},null,{"$f":"PlayerGameSummary!$BF1004","v":"Payton Watt, 24"},{"$f":"PlayerGameSummary!$B1025","v":0},{"$f":"PlayerGameSummary!$B1025","v":0},{"$f":"PlayerGameSummary!$BH1004","v":"Faith"},{"$f":"PlayerGameSummary!$B1025","v":0},{"$f":"PlayerGameSummary!$B1025","v":0},{"$f":"PlayerGameSummary!$BI1004","v":"2018-01-12"},{"$f":"PlayerGameSummary!$B1025","v":"00:00:00"},{"$f":"PlayerGameSummary!$BJ1004","v":11}]
[{"$f":"PlayerGameSummary!$CZ1005","v":"Payton Watt, 24"},{"$f":"PlayerGameSummary!$DB1005","v":"Lusk   "},{"$f":"PlayerGameSummary!$B1026","v":0},{"$f":"PlayerGameSummary!$B1026","v":0},{"$f":"PlayerGameSummary!$DC1005","v":"2018-02-23"},{"$f":"PlayerGameSummary!$B1026","v":"00:00:00"},{"$f":"PlayerGameSummary!$DD1005","v":5},{"$f":"PlayerGameSummary!$B1026","v":0},null,{"$f":"PlayerGameSummary!$CC1005","v":"Brayden Bruce, 22"},{"$f":"PlayerGameSummary!$B1026","v":0},{"$f":"PlayerGameSummary!$B1026","v":0},{"$f":"PlayerGameSummary!$CE1005","v":"Big Horn"},{"$f":"PlayerGameSummary!$B1026","v":0},{"$f":"PlayerGameSummary!$B1026","v":0},{"$f":"PlayerGameSummary!$CF1005","v":"2018-02-24"},{"$f":"PlayerGameSummary!$B1026","v":"00:00:00"},{"$f":"PlayerGameSummary!$CG1005","v":6},{"$f":"PlayerGameSummary!$B1026","v":0},null,{"$f":"PlayerGameSummary!$BF1005","v":"Clayton Louderback, 23"},{"$f":"PlayerGameSummary!$B1026","v":0},{"$f":"PlayerGameSummary!$B1026","v":0},{"$f":"PlayerGameSummary!$BH1005","v":"Tongue River"},{"$f":"PlayerGameSummary!$B1026","v":0},{"$f":"PlayerGameSummary!$B1026","v":0},{"$f":"PlayerGameSummary!$BI1005","v":"2018-02-02"},{"$f":"PlayerGameSummary!$B1026","v":"00:00:00"},{"$f":"PlayerGameSummary!$BJ1005","v":11}]
[]
["Player","Opponent",null,null,"Date",null,"3FGA",null,null,"Player",null,null,"Opponent",null,null,"Date",null,"FTA",null,null,"Player",null,null,"Opponent",null,null,"Date",null,"FGA"]
[{"$f":"PlayerGameSummary!$DO1001","v":"Dillon Barritt, 20"},{"$f":"PlayerGameSummary!$DQ1001","v":"Sundance"},{"$f":"PlayerGameSummary!$B1029","v":0},{"$f":"PlayerGameSummary!$B1029","v":0},{"$f":"PlayerGameSummary!$DR1001","v":"2018-02-06"},{"$f":"PlayerGameSummary!$B1029","v":"00:00:00"},{"$f":"PlayerGameSummary!$DS1001","v":12},{"$f":"PlayerGameSummary!$B1029","v":0},null,{"$f":"PlayerGameSummary!$CR1001","v":"Clayton Louderback, 23"},{"$f":"PlayerGameSummary!$B1029","v":0},{"$f":"PlayerGameSummary!$B1029","v":0},{"$f":"PlayerGameSummary!$CT1001","v":"Big Horn"},{"$f":"PlayerGameSummary!$B1029","v":0},{"$f":"PlayerGameSummary!$B1029","v":0},{"$f":"PlayerGameSummary!$CU1001","v":"2018-02-24"},{"$f":"PlayerGameSummary!$B1029","v":"00:00:00"},{"$f":"PlayerGameSummary!$CV1001","v":12},{"$f":"PlayerGameSummary!$B1029","v":0},null,{"$f":"PlayerGameSummary!$BU1001","v":"Payton Watt, 24"},{"$f":"PlayerGameSummary!$B1029","v":0},{"$f":"PlayerGameSummary!$B1029","v":0},{"$f":"PlayerGameSummary!$BW1001","v":"Faith"},{"$f":"PlayerGameSummary!$B1029","v":0},{"$f":"PlayerGameSummary!$B1029","v":0},{"$f":"PlayerGameSummary!$BX1001","v":"2018-01-12"},{"$f":"PlayerGameSummary!$B1029","v":"00:00:00"},{"$f":"PlayerGameSummary!$BY1001","v":24}]
[{"$f":"PlayerGameSummary!$DO1002","v":"Payton Watt, 24"},{"$f":"PlayerGameSummary!$DQ1002","v":"Rocky Mountain"},{"$f":"PlayerGameSummary!$B1030","v":0},{"$f":"PlayerGameSummary!$B1030","v":0},{"$f":"PlayerGameSummary!$DR1002","v":"2018-03-03"},{"$f":"PlayerGameSummary!$B1030","v":"00:00:00"},{"$f":"PlayerGameSummary!$DS1002","v":11},{"$f":"PlayerGameSummary!$B1030","v":0},null,{"$f":"PlayerGameSummary!$CR1002","v":"Clayton Louderback, 23"},{"$f":"PlayerGameSummary!$B1030","v":0},{"$f":"PlayerGameSummary!$B1030","v":0},{"$f":"PlayerGameSummary!$CT1002","v":"New Underwood"},{"$f":"PlayerGameSummary!$B1030","v":0},{"$f":"PlayerGameSummary!$B1030","v":0},{"$f":"PlayerGameSummary!$CU1002","v":"2018-02-10"},{"$f":"PlayerGameSummary!$B1030","v":"00:00:00"},{"$f":"PlayerGameSummary!$CV1002","v":11},{"$f":"PlayerGameSummary!$B1030","v":0},null,{"$f":"PlayerGameSummary!$BU1002","v":"Clayton Louderback, 23"},{"$f":"PlayerGameSummary!$B1030","v":0},{"$f":"PlayerGameSummary!$B1030","v":0},{"$f":"PlayerGameSummary!$BW1002","v":"Big Horn"},{"$f":"PlayerGameSummary!$B1030","v":0},{"$f":"PlayerGameSummary!$B1030","v":0},{"$f":"PlayerGameSummary!$BX1002","v":"2018-01-27"},{"$f":"PlayerGameSummary!$B1030","v":"00:00:00"},{"$f":"PlayerGameSummary!$BY1002","v":22}]
[{"$f":"PlayerGameSummary!$DO1003","v":"Dillon Barritt, 20"},{"$f":"PlayerGameSummary!$DQ1003","v":"Wright"},{"$f":"PlayerGameSummary!$B1031","v":0},{"$f":"PlayerGameSummary!$B1031","v":0},{"$f":"PlayerGameSummary!$DR1003","v":"2018-02-08"},{"$f":"PlayerGameSummary!$B1031","v":"00:00:00"},{"$f":"PlayerGameSummary!$DS1003","v":11},{"$f":"PlayerGameSummary!$B1031","v":0},null,{"$f":"PlayerGameSummary!$CR1003","v":"Payton Watt, 24"},{"$f":"PlayerGameSummary!$B1031","v":0},{"$f":"PlayerGameSummary!$B1031","v":0},{"$f":"PlayerGameSummary!$CT1003","v":"Wright"},{"$f":"PlayerGameSummary!$B1031","v":0},{"$f":"PlayerGameSummary!$B1031","v":0},{"$f":"PlayerGameSummary!$CU1003","v":"2018-01-20"},{"$f":"PlayerGameSummary!$B1031","v":"00:00:00"},{"$f":"PlayerGameSummary!$CV1003","v":11},{"$f":"PlayerGameSummary!$B1031","v":0},null,{"$f":"PlayerGameSummary!$BU1003","v":"Clayton Louderback, 23"},{"$f":"PlayerGameSummary!$B1031","v":0},{"$f":"PlayerGameSummary!$B1031","v":0},{"$f":"PlayerGameSummary!$BW1003","v":"Big Horn"},{"$f":"PlayerGameSummary!$B1031","v":0},{"$f":"PlayerGameSummary!$B1031","v":0},{"$f":"PlayerGameSummary!$BX1003","v":"2018-02-24"},{"$f":"PlayerGameSummary!$B1031","v":"00:00:00"},{"$f":"PlayerGameSummary!$BY1003","v":21}]
[{"$f":"PlayerGameSummary!$DO1004","v":"Dillon Barritt, 20"},{"$f":"PlayerGameSummary!$DQ1004","v":"Wright"},{"$f":"PlayerGameSummary!$B1032","v":0},{"$f":"PlayerGameSummary!$B1032","v":0},{"$f":"PlayerGameSummary!$DR1004","v":"2018-01-20"},{"$f":"PlayerGameSummary!$B1032","v":"00:00:00"},{"$f":"PlayerGameSummary!$DS1004","v":11},{"$f":"PlayerGameSummary!$B1032","v":0},null,{"$f":"PlayerGameSummary!$CR1004","v":"Clayton Louderback, 23"},{"$f":"PlayerGameSummary!$B1032","v":0},{"$f":"PlayerGameSummary!$B1032","v":0},{"$f":"PlayerGameSummary!$CT1004","v":"Big Horn"},{"$f":"PlayerGameSummary!$B1032","v":0},{"$f":"PlayerGameSummary!$B1032","v":0},{"$f":"PlayerGameSummary!$CU1004","v":"2018-02-16"},{"$f":"PlayerGameSummary!$B1032","v":"00:00:00"},{"$f":"PlayerGameSummary!$CV1004","v":10},{"$f":"PlayerGameSummary!$B1032","v":0},null,{"$f":"PlayerGameSummary!$BU1004","v":"Payton Watt, 24"},{"$f":"PlayerGameSummary!$B1032","v":0},{"$f":"PlayerGameSummary!$B1032","v":0},{"$f":"PlayerGameSummary!$BW1004","v":"Rocky Mountain"},{"$f":"PlayerGameSummary!$B1032","v":0},{"$f":"PlayerGameSummary!$B1032","v":0},{"$f":"PlayerGameSummary!$BX1004","v":"2018-03-03"},{"$f":"PlayerGameSummary!$B1032","v":"00:00:00"},{"$f":"PlayerGameSummary!$BY1004","v":21}]
[{"$f":"PlayerGameSummary!$DO1005","v":"Payton Watt, 24"},{"$f":"PlayerGameSummary!$DQ1005","v":"Kaycee"},{"$f":"PlayerGameSummary!$B1033","v":0},{"$f":"PlayerGameSummary!$B1033","v":0},{"$f":"PlayerGameSummary!$DR1005","v":"2017-12-09"},{"$f":"PlayerGameSummary!$B1033","v":"00:00:00"},{"$f":"PlayerGameSummary!$DS1005","v":11},{"$f":"PlayerGameSummary!$B1033","v":0},null,{"$f":"PlayerGameSummary!$CR1005","v":"Brayden Bruce, 22"},{"$f":"PlayerGameSummary!$B1033","v":0},{"$f":"PlayerGameSummary!$B1033","v":0},{"$f":"PlayerGameSummary!$CT1005","v":"Hot Springs"},{"$f":"PlayerGameSummary!$B1033","v":0},{"$f":"PlayerGameSummary!$B1033","v":0},{"$f":"PlayerGameSummary!$CU1005","v":"2018-01-13"},{"$f":"PlayerGameSummary!$B1033","v":"00:00:00"},{"$f":"PlayerGameSummary!$CV1005","v":9},{"$f":"PlayerGameSummary!$B1033","v":0},null,{"$f":"PlayerGameSummary!$BU1005","v":"Clayton Louderback, 23"},{"$f":"PlayerGameSummary!$B1033","v":0},{"$f":"PlayerGameSummary!$B1033","v":0},{"$f":"PlayerGameSummary!$BW1005","v":"Lead-Deadwood"},{"$f":"PlayerGameSummary!$B1033","v":0},{"$f":"PlayerGameSummary!$B1033","v":0},{"$f":"PlayerGameSummary!$BX1005","v":"2018-01-04"},{"$f":"PlayerGameSummary!$B1033","v":"00:00:00"},{"$f":"PlayerGameSummary!$BY1005","v":20}]
[]
[]
["Season Recap","Defensive Stats",{"$nulls":3},"** Indicates game counted toward conference record",{"$nulls":13},"PEAK PERFORMERS"]
["Opponent: Score","3FG","3FGA","3FG %","2FG","2FGA","2FG %","FT","FTA","FT %","FG %","O REB","D REB","REB","AST","STL","BLK","TO'S","FOUL","POINTS",null,null,"REB",null,null,"AST"]
[{"$f":"IF('game1 (1)'!$C$2<>\"\",'game1 (1)'!$X$2,\"\")","v":"Hulett: 12/8/17"},{"$f":"'game1 (1)'!D$31","v":4},{"$f":"'game1 (1)'!E$31","v":16},{"$f":"'game1 (1)'!R$31","v":{"v":0.25,"d":"25%"}},{"$f":"'game1 (1)'!F$31","v":34},{"$f":"'game1 (1)'!G$31","v":56},{"$f":"'game1 (1)'!S$31","v":{"v":0.6071428571428571,"d":"61%"}},{"$f":"'game1 (1)'!H$31","v":14},{"$f":"'game1 (1)'!I$31","v":23},{"$f":"'game1 (1)'!T$31","v":{"v":0.6086956521739131,"d":"61%"}},{"$f":"'game1 (1)'!U$31","v":{"v":0.5277777777777778,"d":"53%"}},{"$f":"'game1 (1)'!J$31","v":16},{"$f":"'game1 (1)'!K$31","v":25},{"$f":"SUM($L103:$M103)","v":41},{"$f":"'game1 (1)'!L$31","v":28},{"$f":"'game1 (1)'!M$31","v":20},{"$f":"'game1 (1)'!N$31","v":0},{"$f":"'game1 (1)'!O$31","v":13},{"$f":"'game1 (1)'!P$31","v":26},{"$f":"IF(A103<>\"\",CONCATENATE('game1 (1)'!$B$36,\" - \",IF('game1 (1)'!$B$49=1,'game1 (1)'!$C$36,IF('game1 (1)'!$B$49=2,CONCATENATE('game1 (1)'!$C$36,\": \",'game1 (1)'!$C$37),IF('game1 (1)'!$B$49=3,CONCATENATE('game1 (1)'!$C$36,\": \",'game1 (1)'!$C$37,\": \",'game1 (1)'!$C$38),IF('game1 (1)'!$B$49=4,CONCATENATE('game1 (1)'!$C$36,\": \",'game1 (1)'!$C$37,\": \",'game1 (1)'!$C$38,\": \",'game1 (1)'!$C$39),CONCATENATE('game1 (1)'!$C$36,\": \",'game1 (1)'!$C$37,\": \",'game1 (1)'!$C$38,\": \",'game1 (1)'!$C$39,\": \",'game1 (1)'!$C$40)))))),\"\")","v":"22 - J Claycomb, 10"},null,null,{"$f":"IF(A103<>\"\",CONCATENATE('game1 (1)'!$E$36,\" - \",IF('game1 (1)'!$E$49=1,'game1 (1)'!$F$36,IF('game1 (1)'!$E$49=2,CONCATENATE('game1 (1)'!$F$36,\": \",'game1 (1)'!$F$37),IF('game1 (1)'!$E$49=3,CONCATENATE('game1 (1)'!$F$36,\": \",'game1 (1)'!$F$37,\": \",'game1 (1)'!$F$38),IF('game1 (1)'!$E$49=4,CONCATENATE('game1 (1)'!$F$36,\": \",'game1 (1)'!$F$37,\": \",'game1 (1)'!$F$38,\": \",'game1 (1)'!$F$39),CONCATENATE('game1 (1)'!$F$36,\": \",'game1 (1)'!$F$37,\": \",'game1 (1)'!$F$38,\": \",'game1 (1)'!$F$39,\": \",'game1 (1)'!$F$40)))))),\"\")","v":"8 - J Caylor, 12: C Louderback, 23"},null,null,{"$f":"IF(A103<>\"\",CONCATENATE('game1 (1)'!$H$36,\" - \",IF('game1 (1)'!$H$49=1,'game1 (1)'!$I$36,IF('game1 (1)'!$H$49=2,CONCATENATE('game1 (1)'!$I$36,\": \",'game1 (1)'!$I$37),IF('game1 (1)'!$H$49=3,CONCATENATE('game1 (1)'!$I$36,\": \",'game1 (1)'!$I$37,\": \",'game1 (1)'!$I$38),IF('game1 (1)'!$H$49=4,CONCATENATE('game1 (1)'!$I$36,\": \",'game1 (1)'!$I$37,\": \",'game1 (1)'!$I$38,\": \",'game1 (1)'!$I$39),CONCATENATE('game1 (1)'!$I$36,\": \",'game1 (1)'!$I$37,\": \",'game1 (1)'!$I$38,\": \",'game1 (1)'!$I$39,\": \",'game1 (1)'!$I$40)))))),\"\")","v":"5 - P Watt, 24: B Bruce, 22"}]
[{"$f":"IF(A103<>\"\",CONCATENATE('game1 (1)'!$C$4,\" - \",'game1 (1)'!$D$4, \" \", UPPER('game1 (1)'!$E$4)),\"\")","v":"94 - 54 "},{"$f":"'game1 (1)'!D$32","v":8},{"$f":"'game1 (1)'!E$32","v":21},{"$f":"'game1 (1)'!R$32","v":{"v":0.38095238095238093,"d":"38%"}},{"$f":"'game1 (1)'!F$32","v":13},{"$f":"'game1 (1)'!G$32","v":28},{"$f":"'game1 (1)'!S$32","v":{"v":0.4642857142857143,"d":"46%"}},{"$f":"'game1 (1)'!H$32","v":4},{"$f":"'game1 (1)'!I$32","v":21},{"$f":"'game1 (1)'!T$32","v":{"v":0.19047619047619047,"d":"19%"}},{"$f":"'game1 (1)'!U$32","v":{"v":0.42857142857142855,"d":"43%"}},{"$f":"'game1 (1)'!J$32","v":11},{"$f":"'game1 (1)'!K$32","v":25},{"$f":"SUM($L104:$M104)","v":36},{"$f":"'game1 (1)'!L$32","v":8},{"$f":"'game1 (1)'!M$32","v":3},{"$f":"'game1 (1)'!N$32","v":3},{"$f":"'game1 (1)'!O$32","v":33},{"$f":"'game1 (1)'!P$32","v":20}]
[{"$f":"IF('game1 (2)'!$C$2<>\"\",'game1 (2)'!$X$2,\"\")","v":"Ten Sleep: 12/9/17"},{"$f":"'game1 (2)'!D$31","v":7},{"$f":"'game1 (2)'!E$31","v":22},{"$f":"'game1 (2)'!R$31","v":{"v":0.3181818181818182,"d":"32%"}},{"$f":"'game1 (2)'!F$31","v":23},{"$f":"'game1 (2)'!G$31","v":38},{"$f":"'game1 (2)'!S$31","v":{"v":0.6052631578947368,"d":"61%"}},{"$f":"'game1 (2)'!H$31","v":10},{"$f":"'game1 (2)'!I$31","v":17},{"$f":"'game1 (2)'!T$31","v":{"v":0.5882352941176471,"d":"59%"}},{"$f":"'game1 (2)'!U$31","v":{"v":0.5,"d":"50%"}},{"$f":"'game1 (2)'!J$31","v":15},{"$f":"'game1 (2)'!K$31","v":19},{"$f":"SUM($L105:$M105)","v":34},{"$f":"'game1 (2)'!L$31","v":21},{"$f":"'game1 (2)'!M$31","v":11},{"$f":"'game1 (2)'!N$31","v":0},{"$f":"'game1 (2)'!O$31","v":9},{"$f":"'game1 (2)'!P$31","v":16},{"$f":"IF(A105<>\"\",CONCATENATE('game1 (2)'!$B$36,\" - \",IF('game1 (2)'!$B$49=1,'game1 (2)'!$C$36,IF('game1 (2)'!$B$49=2,CONCATENATE('game1 (2)'!$C$36,\": \",'game1 (2)'!$C$37),IF('game1 (2)'!$B$49=3,CONCATENATE('game1 (2)'!$C$36,\": \",'game1 (2)'!$C$37,\": \",'game1 (2)'!$C$38),IF('game1 (2)'!$B$49=4,CONCATENATE('game1 (2)'!$C$36,\": \",'game1 (2)'!$C$37,\": \",'game1 (2)'!$C$38,\": \",'game1 (2)'!$C$39),CONCATENATE('game1 (2)'!$C$36,\": \",'game1 (2)'!$C$37,\": \",'game1 (2)'!$C$38,\": \",'game1 (2)'!$C$39,\": \",'game1 (2)'!$C$40)))))),\"\")","v":"19 - D Barritt, 20"},null,null,{"$f":"IF(A105<>\"\",CONCATENATE('game1 (2)'!$E$36,\" - \",IF('game1 (2)'!$E$49=1,'game1 (2)'!$F$36,IF('game1 (2)'!$E$49=2,CONCATENATE('game1 (2)'!$F$36,\": \",'game1 (2)'!$F$37),IF('game1 (2)'!$E$49=3,CONCATENATE('game1 (2)'!$F$36,\": \",'game1 (2)'!$F$37,\": \",'game1 (2)'!$F$38),IF('game1 (2)'!$E$49=4,CONCATENATE('game1 (2)'!$F$36,\": \",'game1 (2)'!$F$37,\": \",'game1 (2)'!$F$38,\": \",'game1 (2)'!$F$39),CONCATENATE('game1 (2)'!$F$36,\": \",'game1 (2)'!$F$37,\": \",'game1 (2)'!$F$38,\": \",'game1 (2)'!$F$39,\": \",'game1 (2)'!$F$40)))))),\"\")","v":"8 - C Louderback, 23"},null,null,{"$f":"IF(A105<>\"\",CONCATENATE('game1 (2)'!$H$36,\" - \",IF('game1 (2)'!$H$49=1,'game1 (2)'!$I$36,IF('game1 (2)'!$H$49=2,CONCATENATE('game1 (2)'!$I$36,\": \",'game1 (2)'!$I$37),IF('game1 (2)'!$H$49=3,CONCATENATE('game1 (2)'!$I$36,\": \",'game1 (2)'!$I$37,\": \",'game1 (2)'!$I$38),IF('game1 (2)'!$H$49=4,CONCATENATE('game1 (2)'!$I$36,\": \",'game1 (2)'!$I$37,\": \",'game1 (2)'!$I$38,\": \",'game1 (2)'!$I$39),CONCATENATE('game1 (2)'!$I$36,\": \",'game1 (2)'!$I$37,\": \",'game1 (2)'!$I$38,\": \",'game1 (2)'!$I$39,\": \",'game1 (2)'!$I$40)))))),\"\")","v":"6 - P Watt, 24"}]
[{"$f":"IF(A105<>\"\",CONCATENATE('game1 (2)'!$C$4,\" - \",'game1 (2)'!$D$4, \" \", UPPER('game1 (2)'!$E$4)),\"\")","v":"77 - 43 "},{"$f":"'game1 (2)'!D$32","v":4},{"$f":"'game1 (2)'!E$32","v":9},{"$f":"'game1 (2)'!R$32","v":{"v":0.4444444444444444,"d":"44%"}},{"$f":"'game1 (2)'!F$32","v":11},{"$f":"'game1 (2)'!G$32","v":33},{"$f":"'game1 (2)'!S$32","v":{"v":0.3333333333333333,"d":"33%"}},{"$f":"'game1 (2)'!H$32","v":9},{"$f":"'game1 (2)'!I$32","v":21},{"$f":"'game1 (2)'!T$32","v":{"v":0.42857142857142855,"d":"43%"}},{"$f":"'game1 (2)'!U$32","v":{"v":0.35714285714285715,"d":"36%"}},{"$f":"'game1 (2)'!J$32","v":8},{"$f":"'game1 (2)'!K$32","v":21},{"$f":"SUM($L106:$M106)","v":29},{"$f":"'game1 (2)'!L$32","v":8},{"$f":"'game1 (2)'!M$32","v":4},{"$f":"'game1 (2)'!N$32","v":0},{"$f":"'game1 (2)'!O$32","v":21},{"$f":"'game1 (2)'!P$32","v":21}]
[{"$f":"IF('game1 (3)'!$C$2<>\"\",'game1 (3)'!$X$2,\"\")","v":"Kaycee: 12/9/17"},{"$f":"'game1 (3)'!D$31","v":5},{"$f":"'game1 (3)'!E$31","v":15},{"$f":"'game1 (3)'!R$31","v":{"v":0.3333333333333333,"d":"33%"}},{"$f":"'game1 (3)'!F$31","v":20},{"$f":"'game1 (3)'!G$31","v":39},{"$f":"'game1 (3)'!S$31","v":{"v":0.5128205128205128,"d":"51%"}},{"$f":"'game1 (3)'!H$31","v":6},{"$f":"'game1 (3)'!I$31","v":11},{"$f":"'game1 (3)'!T$31","v":{"v":0.5454545454545454,"d":"55%"}},{"$f":"'game1 (3)'!U$31","v":{"v":0.46296296296296297,"d":"46%"}},{"$f":"'game1 (3)'!J$31","v":12},{"$f":"'game1 (3)'!K$31","v":19},{"$f":"SUM($L107:$M107)","v":31},{"$f":"'game1 (3)'!L$31","v":15},{"$f":"'game1 (3)'!M$31","v":12},{"$f":"'game1 (3)'!N$31","v":0},{"$f":"'game1 (3)'!O$31","v":17},{"$f":"'game1 (3)'!P$31","v":16},{"$f":"IF(A107<>\"\",CONCATENATE('game1 (3)'!$B$36,\" - \",IF('game1 (3)'!$B$49=1,'game1 (3)'!$C$36,IF('game1 (3)'!$B$49=2,CONCATENATE('game1 (3)'!$C$36,\": \",'game1 (3)'!$C$37),IF('game1 (3)'!$B$49=3,CONCATENATE('game1 (3)'!$C$36,\": \",'game1 (3)'!$C$37,\": \",'game1 (3)'!$C$38),IF('game1 (3)'!$B$49=4,CONCATENATE('game1 (3)'!$C$36,\": \",'game1 (3)'!$C$37,\": \",'game1 (3)'!$C$38,\": \",'game1 (3)'!$C$39),CONCATENATE('game1 (3)'!$C$36,\": \",'game1 (3)'!$C$37,\": \",'game1 (3)'!$C$38,\": \",'game1 (3)'!$C$39,\": \",'game1 (3)'!$C$40)))))),\"\")","v":"21 - P Watt, 24"},null,null,{"$f":"IF(A107<>\"\",CONCATENATE('game1 (3)'!$E$36,\" - \",IF('game1 (3)'!$E$49=1,'game1 (3)'!$F$36,IF('game1 (3)'!$E$49=2,CONCATENATE('game1 (3)'!$F$36,\": \",'game1 (3)'!$F$37),IF('game1 (3)'!$E$49=3,CONCATENATE('game1 (3)'!$F$36,\": \",'game1 (3)'!$F$37,\": \",'game1 (3)'!$F$38),IF('game1 (3)'!$E$49=4,CONCATENATE('game1 (3)'!$F$36,\": \",'game1 (3)'!$F$37,\": \",'game1 (3)'!$F$38,\": \",'game1 (3)'!$F$39),CONCATENATE('game1 (3)'!$F$36,\": \",'game1 (3)'!$F$37,\": \",'game1 (3)'!$F$38,\": \",'game1 (3)'!$F$39,\": \",'game1 (3)'!$F$40)))))),\"\")","v":"10 - C Louderback, 23"},null,null,{"$f":"IF(A107<>\"\",CONCATENATE('game1 (3)'!$H$36,\" - \",IF('game1 (3)'!$H$49=1,'game1 (3)'!$I$36,IF('game1 (3)'!$H$49=2,CONCATENATE('game1 (3)'!$I$36,\": \",'game1 (3)'!$I$37),IF('game1 (3)'!$H$49=3,CONCATENATE('game1 (3)'!$I$36,\": \",'game1 (3)'!$I$37,\": \",'game1 (3)'!$I$38),IF('game1 (3)'!$H$49=4,CONCATENATE('game1 (3)'!$I$36,\": \",'game1 (3)'!$I$37,\": \",'game1 (3)'!$I$38,\": \",'game1 (3)'!$I$39),CONCATENATE('game1 (3)'!$I$36,\": \",'game1 (3)'!$I$37,\": \",'game1 (3)'!$I$38,\": \",'game1 (3)'!$I$39,\": \",'game1 (3)'!$I$40)))))),\"\")","v":"4 - P Watt, 24: D Butts, 14"}]
[{"$f":"IF(A107<>\"\",CONCATENATE('game1 (3)'!$C$4,\" - \",'game1 (3)'!$D$4, \" \", UPPER('game1 (3)'!$E$4)),\"\")","v":"61 - 62 "},{"$f":"'game1 (3)'!D$32","v":5},{"$f":"'game1 (3)'!E$32","v":14},{"$f":"'game1 (3)'!R$32","v":{"v":0.35714285714285715,"d":"36%"}},{"$f":"'game1 (3)'!F$32","v":20},{"$f":"'game1 (3)'!G$32","v":39},{"$f":"'game1 (3)'!S$32","v":{"v":0.5128205128205128,"d":"51%"}},{"$f":"'game1 (3)'!H$32","v":6},{"$f":"'game1 (3)'!I$32","v":11},{"$f":"'game1 (3)'!T$32","v":{"v":0.5454545454545454,"d":"55%"}},{"$f":"'game1 (3)'!U$32","v":{"v":0.4716981132075472,"d":"47%"}},{"$f":"'game1 (3)'!J$32","v":13},{"$f":"'game1 (3)'!K$32","v":20},33,{"$f":"'game1 (3)'!L$32","v":15},{"$f":"'game1 (3)'!M$32","v":12},{"$f":"'game1 (3)'!N$32","v":0},{"$f":"'game1 (3)'!O$32","v":19},{"$f":"'game1 (3)'!P$32","v":15}]
[{"$f":"IF('game1 (4)'!$C$2<>\"\",'game1 (4)'!$X$2,\"\")","v":"Riverside: 12/15/17"},{"$f":"'game1 (4)'!D$31","v":7},{"$f":"'game1 (4)'!E$31","v":22},{"$f":"'game1 (4)'!R$31","v":{"v":0.3181818181818182,"d":"32%"}},{"$f":"'game1 (4)'!F$31","v":27},{"$f":"'game1 (4)'!G$31","v":48},{"$f":"'game1 (4)'!S$31","v":{"v":0.5625,"d":"56%"}},{"$f":"'game1 (4)'!H$31","v":3},{"$f":"'game1 (4)'!I$31","v":4},{"$f":"'game1 (4)'!T$31","v":{"v":0.75,"d":"75%"}},{"$f":"'game1 (4)'!U$31","v":{"v":0.4857142857142857,"d":"49%"}},{"$f":"'game1 (4)'!J$31","v":22},{"$f":"'game1 (4)'!K$31","v":23},45,{"$f":"'game1 (4)'!L$31","v":30},{"$f":"'game1 (4)'!M$31","v":13},{"$f":"'game1 (4)'!N$31","v":1},{"$f":"'game1 (4)'!O$31","v":11},{"$f":"'game1 (4)'!P$31","v":3},{"$f":"IF(A109<>\"\",CONCATENATE('game1 (4)'!$B$36,\" - \",IF('game1 (4)'!$B$49=1,'game1 (4)'!$C$36,IF('game1 (4)'!$B$49=2,CONCATENATE('game1 (4)'!$C$36,\": \",'game1 (4)'!$C$37),IF('game1 (4)'!$B$49=3,CONCATENATE('game1 (4)'!$C$36,\": \",'game1 (4)'!$C$37,\": \",'game1 (4)'!$C$38),IF('game1 (4)'!$B$49=4,CONCATENATE('game1 (4)'!$C$36,\": \",'game1 (4)'!$C$37,\": \",'game1 (4)'!$C$38,\": \",'game1 (4)'!$C$39),CONCATENATE('game1 (4)'!$C$36,\": \",'game1 (4)'!$C$37,\": \",'game1 (4)'!$C$38,\": \",'game1 (4)'!$C$39,\": \",'game1 (4)'!$C$40)))))),\"\")","v":"14 - P Watt, 24"},null,null,{"$f":"IF(A109<>\"\",CONCATENATE('game1 (4)'!$E$36,\" - \",IF('game1 (4)'!$E$49=1,'game1 (4)'!$F$36,IF('game1 (4)'!$E$49=2,CONCATENATE('game1 (4)'!$F$36,\": \",'game1 (4)'!$F$37),IF('game1 (4)'!$E$49=3,CONCATENATE('game1 (4)'!$F$36,\": \",'game1 (4)'!$F$37,\": \",'game1 (4)'!$F$38),IF('game1 (4)'!$E$49=4,CONCATENATE('game1 (4)'!$F$36,\": \",'game1 (4)'!$F$37,\": \",'game1 (4)'!$F$38,\": \",'game1 (4)'!$F$39),CONCATENATE('game1 (4)'!$F$36,\": \",'game1 (4)'!$F$37,\": \",'game1 (4)'!$F$38,\": \",'game1 (4)'!$F$39,\": \",'game1 (4)'!$F$40)))))),\"\")","v":"9 - C Louderback, 23"},null,null,{"$f":"IF(A109<>\"\",CONCATENATE('game1 (4)'!$H$36,\" - \",IF('game1 (4)'!$H$49=1,'game1 (4)'!$I$36,IF('game1 (4)'!$H$49=2,CONCATENATE('game1 (4)'!$I$36,\": \",'game1 (4)'!$I$37),IF('game1 (4)'!$H$49=3,CONCATENATE('game1 (4)'!$I$36,\": \",'game1 (4)'!$I$37,\": \",'game1 (4)'!$I$38),IF('game1 (4)'!$H$49=4,CONCATENATE('game1 (4)'!$I$36,\": \",'game1 (4)'!$I$37,\": \",'game1 (4)'!$I$38,\": \",'game1 (4)'!$I$39),CONCATENATE('game1 (4)'!$I$36,\": \",'game1 (4)'!$I$37,\": \",'game1 (4)'!$I$38,\": \",'game1 (4)'!$I$39,\": \",'game1 (4)'!$I$40)))))),\"\")","v":"7 - J Caylor, 12"}]
[{"$f":"IF(A109<>\"\",CONCATENATE('game1 (4)'!$C$4,\" - \",'game1 (4)'!$D$4, \" \", UPPER('game1 (4)'!$E$4)),\"\")","v":"78 - 24 "},{"$f":"'game1 (4)'!D$32","v":1},{"$f":"'game1 (4)'!E$32","v":10},{"$f":"'game1 (4)'!R$32","v":{"v":0.1,"d":"10%"}},{"$f":"'game1 (4)'!F$32","v":9},{"$f":"'game1 (4)'!G$32","v":34},{"$f":"'game1 (4)'!S$32","v":{"v":0.2647058823529412,"d":"26%"}},{"$f":"'game1 (4)'!H$32","v":3},{"$f":"'game1 (4)'!I$32","v":4},{"$f":"'game1 (4)'!T$32","v":{"v":0.75,"d":"75%"}},{"$f":"'game1 (4)'!U$32","v":{"v":0.22727272727272727,"d":"23%"}},{"$f":"'game1 (4)'!J$32","v":11},{"$f":"'game1 (4)'!K$32","v":15},26,{"$f":"'game1 (4)'!L$32","v":4},{"$f":"'game1 (4)'!M$32","v":5},{"$f":"'game1 (4)'!N$32","v":0},{"$f":"'game1 (4)'!O$32","v":27},{"$f":"'game1 (4)'!P$32","v":7}]
[{"$f":"IF('game1 (5)'!$C$2<>\"\",'game1 (5)'!$X$2,\"\")","v":"Cokeville: 12/15/17"},{"$f":"'game1 (5)'!D$31","v":10},{"$f":"'game1 (5)'!E$31","v":24},{"$f":"'game1 (5)'!R$31","v":{"v":0.4166666666666667,"d":"42%"}},{"$f":"'game1 (5)'!F$31","v":15},{"$f":"'game1 (5)'!G$31","v":30},{"$f":"'game1 (5)'!S$31","v":{"v":0.5,"d":"50%"}},{"$f":"'game1 (5)'!H$31","v":2},{"$f":"'game1 (5)'!I$31","v":7},{"$f":"'game1 (5)'!T$31","v":{"v":0.2857142857142857,"d":"29%"}},{"$f":"'game1 (5)'!U$31","v":{"v":0.46296296296296297,"d":"46%"}},{"$f":"'game1 (5)'!J$31","v":8},{"$f":"'game1 (5)'!K$31","v":28},36,{"$f":"'game1 (5)'!L$31","v":20},{"$f":"'game1 (5)'!M$31","v":10},{"$f":"'game1 (5)'!N$31","v":1},{"$f":"'game1 (5)'!O$31","v":14},{"$f":"'game1 (5)'!P$31","v":9},{"$f":"IF(A111<>\"\",CONCATENATE('game1 (5)'!$B$36,\" - \",IF('game1 (5)'!$B$49=1,'game1 (5)'!$C$36,IF('game1 (5)'!$B$49=2,CONCATENATE('game1 (5)'!$C$36,\": \",'game1 (5)'!$C$37),IF('game1 (5)'!$B$49=3,CONCATENATE('game1 (5)'!$C$36,\": \",'game1 (5)'!$C$37,\": \",'game1 (5)'!$C$38),IF('game1 (5)'!$B$49=4,CONCATENATE('game1 (5)'!$C$36,\": \",'game1 (5)'!$C$37,\": \",'game1 (5)'!$C$38,\": \",'game1 (5)'!$C$39),CONCATENATE('game1 (5)'!$C$36,\": \",'game1 (5)'!$C$37,\": \",'game1 (5)'!$C$38,\": \",'game1 (5)'!$C$39,\": \",'game1 (5)'!$C$40)))))),\"\")","v":"19 - P Watt, 24"},null,null,{"$f":"IF(A111<>\"\",CONCATENATE('game1 (5)'!$E$36,\" - \",IF('game1 (5)'!$E$49=1,'game1 (5)'!$F$36,IF('game1 (5)'!$E$49=2,CONCATENATE('game1 (5)'!$F$36,\": \",'game1 (5)'!$F$37),IF('game1 (5)'!$E$49=3,CONCATENATE('game1 (5)'!$F$36,\": \",'game1 (5)'!$F$37,\": \",'game1 (5)'!$F$38),IF('game1 (5)'!$E$49=4,CONCATENATE('game1 (5)'!$F$36,\": \",'game1 (5)'!$F$37,\": \",'game1 (5)'!$F$38,\": \",'game1 (5)'!$F$39),CONCATENATE('game1 (5)'!$F$36,\": \",'game1 (5)'!$F$37,\": \",'game1 (5)'!$F$38,\": \",'game1 (5)'!$F$39,\": \",'game1 (5)'!$F$40)))))),\"\")","v":"7 - D Barritt, 20"},null,null,{"$f":"IF(A111<>\"\",CONCATENATE('game1 (5)'!$H$36,\" - \",IF('game1 (5)'!$H$49=1,'game1 (5)'!$I$36,IF('game1 (5)'!$H$49=2,CONCATENATE('game1 (5)'!$I$36,\": \",'game1 (5)'!$I$37),IF('game1 (5)'!$H$49=3,CONCATENATE('game1 (5)'!$I$36,\": \",'game1 (5)'!$I$37,\": \",'game1 (5)'!$I$38),IF('game1 (5)'!$H$49=4,CONCATENATE('game1 (5)'!$I$36,\": \",'game1 (5)'!$I$37,\": \",'game1 (5)'!$I$38,\": \",'game1 (5)'!$I$39),CONCATENATE('game1 (5)'!$I$36,\": \",'game1 (5)'!$I$37,\": \",'game1 (5)'!$I$38,\": \",'game1 (5)'!$I$39,\": \",'game1 (5)'!$I$40)))))),\"\")","v":"4 - D Butts, 14: J Claycomb, 10: B Bruce, 22"}]
[{"$f":"IF(A111<>\"\",CONCATENATE('game1 (5)'!$C$4,\" - \",'game1 (5)'!$D$4, \" \", UPPER('game1 (5)'!$E$4)),\"\")","v":"62 - 33 "},{"$f":"'game1 (5)'!D$32","v":3},{"$f":"'game1 (5)'!E$32","v":12},{"$f":"'game1 (5)'!R$32","v":{"v":0.25,"d":"25%"}},{"$f":"'game1 (5)'!F$32","v":10},{"$f":"'game1 (5)'!G$32","v":34},{"$f":"'game1 (5)'!S$32","v":{"v":0.29411764705882354,"d":"29%"}},{"$f":"'game1 (5)'!H$32","v":4},{"$f":"'game1 (5)'!I$32","v":8},{"$f":"'game1 (5)'!T$32","v":{"v":0.5,"d":"50%"}},{"$f":"'game1 (5)'!U$32","v":{"v":0.2826086956521739,"d":"28%"}},{"$f":"'game1 (5)'!J$32","v":6},{"$f":"'game1 (5)'!K$32","v":24},30,{"$f":"'game1 (5)'!L$32","v":11},{"$f":"'game1 (5)'!M$32","v":4},{"$f":"'game1 (5)'!N$32","v":1},{"$f":"'game1 (5)'!O$32","v":19},{"$f":"'game1 (5)'!P$32","v":10}]
[{"$f":"IF('game1 (6)'!$C$2<>\"\",'game1 (6)'!$X$2,\"\")","v":"Shoshoni: 12/16/17"},{"$f":"'game1 (6)'!D$31","v":5},{"$f":"'game1 (6)'!E$31","v":12},{"$f":"'game1 (6)'!R$31","v":{"v":0.4166666666666667,"d":"42%"}},{"$f":"'game1 (6)'!F$31","v":24},{"$f":"'game1 (6)'!G$31","v":45},{"$f":"'game1 (6)'!S$31","v":{"v":0.5333333333333333,"d":"53%"}},{"$f":"'game1 (6)'!H$31","v":10},{"$f":"'game1 (6)'!I$31","v":11},{"$f":"'game1 (6)'!T$31","v":{"v":0.9090909090909091,"d":"91%"}},{"$f":"'game1 (6)'!U$31","v":{"v":0.5087719298245614,"d":"51%"}},{"$f":"'game1 (6)'!J$31","v":13},{"$f":"'game1 (6)'!K$31","v":20},33,{"$f":"'game1 (6)'!L$31","v":20},{"$f":"'game1 (6)'!M$31","v":19},{"$f":"'game1 (6)'!N$31","v":2},{"$f":"'game1 (6)'!O$31","v":6},{"$f":"'game1 (6)'!P$31","v":18},{"$f":"IF(A113<>\"\",CONCATENATE('game1 (6)'!$B$36,\" - \",IF('game1 (6)'!$B$49=1,'game1 (6)'!$C$36,IF('game1 (6)'!$B$49=2,CONCATENATE('game1 (6)'!$C$36,\": \",'game1 (6)'!$C$37),IF('game1 (6)'!$B$49=3,CONCATENATE('game1 (6)'!$C$36,\": \",'game1 (6)'!$C$37,\": \",'game1 (6)'!$C$38),IF('game1 (6)'!$B$49=4,CONCATENATE('game1 (6)'!$C$36,\": \",'game1 (6)'!$C$37,\": \",'game1 (6)'!$C$38,\": \",'game1 (6)'!$C$39),CONCATENATE('game1 (6)'!$C$36,\": \",'game1 (6)'!$C$37,\": \",'game1 (6)'!$C$38,\": \",'game1 (6)'!$C$39,\": \",'game1 (6)'!$C$40)))))),\"\")","v":"22 - P Watt, 24"},null,null,{"$f":"IF(A113<>\"\",CONCATENATE('game1 (6)'!$E$36,\" - \",IF('game1 (6)'!$E$49=1,'game1 (6)'!$F$36,IF('game1 (6)'!$E$49=2,CONCATENATE('game1 (6)'!$F$36,\": \",'game1 (6)'!$F$37),IF('game1 (6)'!$E$49=3,CONCATENATE('game1 (6)'!$F$36,\": \",'game1 (6)'!$F$37,\": \",'game1 (6)'!$F$38),IF('game1 (6)'!$E$49=4,CONCATENATE('game1 (6)'!$F$36,\": \",'game1 (6)'!$F$37,\": \",'game1 (6)'!$F$38,\": \",'game1 (6)'!$F$39),CONCATENATE('game1 (6)'!$F$36,\": \",'game1 (6)'!$F$37,\": \",'game1 (6)'!$F$38,\": \",'game1 (6)'!$F$39,\": \",'game1 (6)'!$F$40)))))),\"\")","v":"9 - C Louderback, 23"},null,null,{"$f":"IF(A113<>\"\",CONCATENATE('game1 (6)'!$H$36,\" - \",IF('game1 (6)'!$H$49=1,'game1 (6)'!$I$36,IF('game1 (6)'!$H$49=2,CONCATENATE('game1 (6)'!$I$36,\": \",'game1 (6)'!$I$37),IF('game1 (6)'!$H$49=3,CONCATENATE('game1 (6)'!$I$36,\": \",'game1 (6)'!$I$37,\": \",'game1 (6)'!$I$38),IF('game1 (6)'!$H$49=4,CONCATENATE('game1 (6)'!$I$36,\": \",'game1 (6)'!$I$37,\": \",'game1 (6)'!$I$38,\": \",'game1 (6)'!$I$39),CONCATENATE('game1 (6)'!$I$36,\": \",'game1 (6)'!$I$37,\": \",'game1 (6)'!$I$38,\": \",'game1 (6)'!$I$39,\": \",'game1 (6)'!$I$40)))))),\"\")","v":"5 - D Butts, 14"}]
[{"$f":"IF(A113<>\"\",CONCATENATE('game1 (6)'!$C$4,\" - \",'game1 (6)'!$D$4, \" \", UPPER('game1 (6)'!$E$4)),\"\")","v":"73 - 31 "},{"$f":"'game1 (6)'!D$32","v":7},{"$f":"'game1 (6)'!E$32","v":21},{"$f":"'game1 (6)'!R$32","v":{"v":0.3333333333333333,"d":"33%"}},{"$f":"'game1 (6)'!F$32","v":3},{"$f":"'game1 (6)'!G$32","v":13},{"$f":"'game1 (6)'!S$32","v":{"v":0.23076923076923078,"d":"23%"}},{"$f":"'game1 (6)'!H$32","v":4},{"$f":"'game1 (6)'!I$32","v":8},{"$f":"'game1 (6)'!T$32","v":{"v":0.5,"d":"50%"}},{"$f":"'game1 (6)'!U$32","v":{"v":0.29411764705882354,"d":"29%"}},{"$f":"'game1 (6)'!J$32","v":5},{"$f":"'game1 (6)'!K$32","v":14},19,{"$f":"'game1 (6)'!L$32","v":6},{"$f":"'game1 (6)'!M$32","v":1},{"$f":"'game1 (6)'!N$32","v":1},{"$f":"'game1 (6)'!O$32","v":27},{"$f":"'game1 (6)'!P$32","v":11}]
[{"$f":"IF('game1 (7)'!$C$2<>\"\",'game1 (7)'!$X$2,\"\")","v":"Lead-Deadwood: 1/4/18"},{"$f":"'game1 (7)'!D$31","v":6},{"$f":"'game1 (7)'!E$31","v":18},{"$f":"'game1 (7)'!R$31","v":{"v":0.3333333333333333,"d":"33%"}},{"$f":"'game1 (7)'!F$31","v":19},{"$f":"'game1 (7)'!G$31","v":33},{"$f":"'game1 (7)'!S$31","v":{"v":0.5757575757575758,"d":"58%"}},{"$f":"'game1 (7)'!H$31","v":3},{"$f":"'game1 (7)'!I$31","v":4},{"$f":"'game1 (7)'!T$31","v":{"v":0.75,"d":"75%"}},{"$f":"'game1 (7)'!U$31","v":{"v":0.49019607843137253,"d":"49%"}},{"$f":"'game1 (7)'!J$31","v":12},{"$f":"'game1 (7)'!K$31","v":20},32,{"$f":"'game1 (7)'!L$31","v":17},{"$f":"'game1 (7)'!M$31","v":9},{"$f":"'game1 (7)'!N$31","v":1},{"$f":"'game1 (7)'!O$31","v":21},{"$f":"'game1 (7)'!P$31","v":19},{"$f":"IF(A115<>\"\",CONCATENATE('game1 (7)'!$B$36,\" - \",IF('game1 (7)'!$B$49=1,'game1 (7)'!$C$36,IF('game1 (7)'!$B$49=2,CONCATENATE('game1 (7)'!$C$36,\": \",'game1 (7)'!$C$37),IF('game1 (7)'!$B$49=3,CONCATENATE('game1 (7)'!$C$36,\": \",'game1 (7)'!$C$37,\": \",'game1 (7)'!$C$38),IF('game1 (7)'!$B$49=4,CONCATENATE('game1 (7)'!$C$36,\": \",'game1 (7)'!$C$37,\": \",'game1 (7)'!$C$38,\": \",'game1 (7)'!$C$39),CONCATENATE('game1 (7)'!$C$36,\": \",'game1 (7)'!$C$37,\": \",'game1 (7)'!$C$38,\": \",'game1 (7)'!$C$39,\": \",'game1 (7)'!$C$40)))))),\"\")","v":"24 - C Louderback, 23"},null,null,{"$f":"IF(A115<>\"\",CONCATENATE('game1 (7)'!$E$36,\" - \",IF('game1 (7)'!$E$49=1,'game1 (7)'!$F$36,IF('game1 (7)'!$E$49=2,CONCATENATE('game1 (7)'!$F$36,\": \",'game1 (7)'!$F$37),IF('game1 (7)'!$E$49=3,CONCATENATE('game1 (7)'!$F$36,\": \",'game1 (7)'!$F$37,\": \",'game1 (7)'!$F$38),IF('game1 (7)'!$E$49=4,CONCATENATE('game1 (7)'!$F$36,\": \",'game1 (7)'!$F$37,\": \",'game1 (7)'!$F$38,\": \",'game1 (7)'!$F$39),CONCATENATE('game1 (7)'!$F$36,\": \",'game1 (7)'!$F$37,\": \",'game1 (7)'!$F$38,\": \",'game1 (7)'!$F$39,\": \",'game1 (7)'!$F$40)))))),\"\")","v":"8 - J Caylor, 12"},null,null,{"$f":"IF(A115<>\"\",CONCATENATE('game1 (7)'!$H$36,\" - \",IF('game1 (7)'!$H$49=1,'game1 (7)'!$I$36,IF('game1 (7)'!$H$49=2,CONCATENATE('game1 (7)'!$I$36,\": \",'game1 (7)'!$I$37),IF('game1 (7)'!$H$49=3,CONCATENATE('game1 (7)'!$I$36,\": \",'game1 (7)'!$I$37,\": \",'game1 (7)'!$I$38),IF('game1 (7)'!$H$49=4,CONCATENATE('game1 (7)'!$I$36,\": \",'game1 (7)'!$I$37,\": \",'game1 (7)'!$I$38,\": \",'game1 (7)'!$I$39),CONCATENATE('game1 (7)'!$I$36,\": \",'game1 (7)'!$I$37,\": \",'game1 (7)'!$I$38,\": \",'game1 (7)'!$I$39,\": \",'game1 (7)'!$I$40)))))),\"\")","v":"6 - P Watt, 24"}]
[{"$f":"IF(A115<>\"\",CONCATENATE('game1 (7)'!$C$4,\" - \",'game1 (7)'!$D$4, \" \", UPPER('game1 (7)'!$E$4)),\"\")","v":"59 - 29 "},{"$f":"'game1 (7)'!D$32","v":3},{"$f":"'game1 (7)'!E$32","v":16},{"$f":"'game1 (7)'!R$32","v":{"v":0.1875,"d":"19%"}},{"$f":"'game1 (7)'!F$32","v":7},{"$f":"'game1 (7)'!G$32","v":18},{"$f":"'game1 (7)'!S$32","v":{"v":0.3888888888888889,"d":"39%"}},{"$f":"'game1 (7)'!H$32","v":6},{"$f":"'game1 (7)'!I$32","v":14},{"$f":"'game1 (7)'!T$32","v":{"v":0.42857142857142855,"d":"43%"}},{"$f":"'game1 (7)'!U$32","v":{"v":0.29411764705882354,"d":"29%"}},{"$f":"'game1 (7)'!J$32","v":7},{"$f":"'game1 (7)'!K$32","v":14},21,{"$f":"'game1 (7)'!L$32","v":7},{"$f":"'game1 (7)'!M$32","v":7},{"$f":"'game1 (7)'!N$32","v":3},{"$f":"'game1 (7)'!O$32","v":25},{"$f":"'game1 (7)'!P$32","v":9}]
[{"$f":"IF('game1 (8)'!$C$2<>\"\",'game1 (8)'!$X$2,\"\")","v":"Newell: 1/11/18"},{"$f":"'game1 (8)'!D$31","v":9},{"$f":"'game1 (8)'!E$31","v":21},{"$f":"'game1 (8)'!R$31","v":{"v":0.42857142857142855,"d":"43%"}},{"$f":"'game1 (8)'!F$31","v":17},{"$f":"'game1 (8)'!G$31","v":34},{"$f":"'game1 (8)'!S$31","v":{"v":0.5,"d":"50%"}},{"$f":"'game1 (8)'!H$31","v":10},{"$f":"'game1 (8)'!I$31","v":16},{"$f":"'game1 (8)'!T$31","v":{"v":0.625,"d":"63%"}},{"$f":"'game1 (8)'!U$31","v":{"v":0.4727272727272727,"d":"47%"}},{"$f":"'game1 (8)'!J$31","v":11},{"$f":"'game1 (8)'!K$31","v":20},31,{"$f":"'game1 (8)'!L$31","v":22},{"$f":"'game1 (8)'!M$31","v":15},{"$f":"'game1 (8)'!N$31","v":0},{"$f":"'game1 (8)'!O$31","v":10},{"$f":"'game1 (8)'!P$31","v":24},{"$f":"IF(A117<>\"\",CONCATENATE('game1 (8)'!$B$36,\" - \",IF('game1 (8)'!$B$49=1,'game1 (8)'!$C$36,IF('game1 (8)'!$B$49=2,CONCATENATE('game1 (8)'!$C$36,\": \",'game1 (8)'!$C$37),IF('game1 (8)'!$B$49=3,CONCATENATE('game1 (8)'!$C$36,\": \",'game1 (8)'!$C$37,\": \",'game1 (8)'!$C$38),IF('game1 (8)'!$B$49=4,CONCATENATE('game1 (8)'!$C$36,\": \",'game1 (8)'!$C$37,\": \",'game1 (8)'!$C$38,\": \",'game1 (8)'!$C$39),CONCATENATE('game1 (8)'!$C$36,\": \",'game1 (8)'!$C$37,\": \",'game1 (8)'!$C$38,\": \",'game1 (8)'!$C$39,\": \",'game1 (8)'!$C$40)))))),\"\")","v":"24 - D Barritt, 20"},null,null,{"$f":"IF(A117<>\"\",CONCATENATE('game1 (8)'!$E$36,\" - \",IF('game1 (8)'!$E$49=1,'game1 (8)'!$F$36,IF('game1 (8)'!$E$49=2,CONCATENATE('game1 (8)'!$F$36,\": \",'game1 (8)'!$F$37),IF('game1 (8)'!$E$49=3,CONCATENATE('game1 (8)'!$F$36,\": \",'game1 (8)'!$F$37,\": \",'game1 (8)'!$F$38),IF('game1 (8)'!$E$49=4,CONCATENATE('game1 (8)'!$F$36,\": \",'game1 (8)'!$F$37,\": \",'game1 (8)'!$F$38,\": \",'game1 (8)'!$F$39),CONCATENATE('game1 (8)'!$F$36,\": \",'game1 (8)'!$F$37,\": \",'game1 (8)'!$F$38,\": \",'game1 (8)'!$F$39,\": \",'game1 (8)'!$F$40)))))),\"\")","v":"7 - P Watt, 24"},null,null,{"$f":"IF(A117<>\"\",CONCATENATE('game1 (8)'!$H$36,\" - \",IF('game1 (8)'!$H$49=1,'game1 (8)'!$I$36,IF('game1 (8)'!$H$49=2,CONCATENATE('game1 (8)'!$I$36,\": \",'game1 (8)'!$I$37),IF('game1 (8)'!$H$49=3,CONCATENATE('game1 (8)'!$I$36,\": \",'game1 (8)'!$I$37,\": \",'game1 (8)'!$I$38),IF('game1 (8)'!$H$49=4,CONCATENATE('game1 (8)'!$I$36,\": \",'game1 (8)'!$I$37,\": \",'game1 (8)'!$I$38,\": \",'game1 (8)'!$I$39),CONCATENATE('game1 (8)'!$I$36,\": \",'game1 (8)'!$I$37,\": \",'game1 (8)'!$I$38,\": \",'game1 (8)'!$I$39,\": \",'game1 (8)'!$I$40)))))),\"\")","v":"5 - B Bruce, 22"}]
[{"$f":"IF(A117<>\"\",CONCATENATE('game1 (8)'!$C$4,\" - \",'game1 (8)'!$D$4, \" \", UPPER('game1 (8)'!$E$4)),\"\")","v":"71 - 41 "},{"$f":"'game1 (8)'!D$32","v":4},{"$f":"'game1 (8)'!E$32","v":10},{"$f":"'game1 (8)'!R$32","v":{"v":0.4,"d":"40%"}},{"$f":"'game1 (8)'!F$32","v":9},{"$f":"'game1 (8)'!G$32","v":21},{"$f":"'game1 (8)'!S$32","v":{"v":0.42857142857142855,"d":"43%"}},{"$f":"'game1 (8)'!H$32","v":11},{"$f":"'game1 (8)'!I$32","v":26},{"$f":"'game1 (8)'!T$32","v":{"v":0.4230769230769231,"d":"42%"}},{"$f":"'game1 (8)'!U$32","v":{"v":0.41935483870967744,"d":"42%"}},{"$f":"'game1 (8)'!J$32","v":4},{"$f":"'game1 (8)'!K$32","v":17},21,{"$f":"'game1 (8)'!L$32","v":6},{"$f":"'game1 (8)'!M$32","v":8},{"$f":"'game1 (8)'!N$32","v":2},{"$f":"'game1 (8)'!O$32","v":21},{"$f":"'game1 (8)'!P$32","v":14}]
[{"$f":"IF('game1 (9)'!$C$2<>\"\",'game1 (9)'!$X$2,\"\")","v":"Faith: 1/12/18"},{"$f":"'game1 (9)'!D$31","v":8},{"$f":"'game1 (9)'!E$31","v":18},{"$f":"'game1 (9)'!R$31","v":{"v":0.4444444444444444,"d":"44%"}},{"$f":"'game1 (9)'!F$31","v":18},{"$f":"'game1 (9)'!G$31","v":30},{"$f":"'game1 (9)'!S$31","v":{"v":0.6,"d":"60%"}},{"$f":"'game1 (9)'!H$31","v":17},{"$f":"'game1 (9)'!I$31","v":22},{"$f":"'game1 (9)'!T$31","v":{"v":0.7727272727272727,"d":"77%"}},{"$f":"'game1 (9)'!U$31","v":{"v":0.5416666666666666,"d":"54%"}},{"$f":"'game1 (9)'!J$31","v":9},{"$f":"'game1 (9)'!K$31","v":27},36,{"$f":"'game1 (9)'!L$31","v":23},{"$f":"'game1 (9)'!M$31","v":9},{"$f":"'game1 (9)'!N$31","v":0},{"$f":"'game1 (9)'!O$31","v":17},{"$f":"'game1 (9)'!P$31","v":15},{"$f":"IF(A119<>\"\",CONCATENATE('game1 (9)'!$B$36,\" - \",IF('game1 (9)'!$B$49=1,'game1 (9)'!$C$36,IF('game1 (9)'!$B$49=2,CONCATENATE('game1 (9)'!$C$36,\": \",'game1 (9)'!$C$37),IF('game1 (9)'!$B$49=3,CONCATENATE('game1 (9)'!$C$36,\": \",'game1 (9)'!$C$37,\": \",'game1 (9)'!$C$38),IF('game1 (9)'!$B$49=4,CONCATENATE('game1 (9)'!$C$36,\": \",'game1 (9)'!$C$37,\": \",'game1 (9)'!$C$38,\": \",'game1 (9)'!$C$39),CONCATENATE('game1 (9)'!$C$36,\": \",'game1 (9)'!$C$37,\": \",'game1 (9)'!$C$38,\": \",'game1 (9)'!$C$39,\": \",'game1 (9)'!$C$40)))))),\"\")","v":"29 - P Watt, 24"},null,null,{"$f":"IF(A119<>\"\",CONCATENATE('game1 (9)'!$E$36,\" - \",IF('game1 (9)'!$E$49=1,'game1 (9)'!$F$36,IF('game1 (9)'!$E$49=2,CONCATENATE('game1 (9)'!$F$36,\": \",'game1 (9)'!$F$37),IF('game1 (9)'!$E$49=3,CONCATENATE('game1 (9)'!$F$36,\": \",'game1 (9)'!$F$37,\": \",'game1 (9)'!$F$38),IF('game1 (9)'!$E$49=4,CONCATENATE('game1 (9)'!$F$36,\": \",'game1 (9)'!$F$37,\": \",'game1 (9)'!$F$38,\": \",'game1 (9)'!$F$39),CONCATENATE('game1 (9)'!$F$36,\": \",'game1 (9)'!$F$37,\": \",'game1 (9)'!$F$38,\": \",'game1 (9)'!$F$39,\": \",'game1 (9)'!$F$40)))))),\"\")","v":"7 - D Butts, 14"},null,null,{"$f":"IF(A119<>\"\",CONCATENATE('game1 (9)'!$H$36,\" - \",IF('game1 (9)'!$H$49=1,'game1 (9)'!$I$36,IF('game1 (9)'!$H$49=2,CONCATENATE('game1 (9)'!$I$36,\": \",'game1 (9)'!$I$37),IF('game1 (9)'!$H$49=3,CONCATENATE('game1 (9)'!$I$36,\": \",'game1 (9)'!$I$37,\": \",'game1 (9)'!$I$38),IF('game1 (9)'!$H$49=4,CONCATENATE('game1 (9)'!$I$36,\": \",'game1 (9)'!$I$37,\": \",'game1 (9)'!$I$38,\": \",'game1 (9)'!$I$39),CONCATENATE('game1 (9)'!$I$36,\": \",'game1 (9)'!$I$37,\": \",'game1 (9)'!$I$38,\": \",'game1 (9)'!$I$39,\": \",'game1 (9)'!$I$40)))))),\"\")","v":"7 - D Butts, 14"}]
[{"$f":"IF(A119<>\"\",CONCATENATE('game1 (9)'!$C$4,\" - \",'game1 (9)'!$D$4, \" \", UPPER('game1 (9)'!$E$4)),\"\")","v":"77 - 50 "},{"$f":"'game1 (9)'!D$32","v":4},{"$f":"'game1 (9)'!E$32","v":17},{"$f":"'game1 (9)'!R$32","v":{"v":0.23529411764705882,"d":"24%"}},{"$f":"'game1 (9)'!F$32","v":13},{"$f":"'game1 (9)'!G$32","v":38},{"$f":"'game1 (9)'!S$32","v":{"v":0.34210526315789475,"d":"34%"}},{"$f":"'game1 (9)'!H$32","v":12},{"$f":"'game1 (9)'!I$32","v":16},{"$f":"'game1 (9)'!T$32","v":{"v":0.75,"d":"75%"}},{"$f":"'game1 (9)'!U$32","v":{"v":0.3090909090909091,"d":"31%"}},{"$f":"'game1 (9)'!J$32","v":12},{"$f":"'game1 (9)'!K$32","v":16},28,{"$f":"'game1 (9)'!L$32","v":13},{"$f":"'game1 (9)'!M$32","v":5},{"$f":"'game1 (9)'!N$32","v":1},{"$f":"'game1 (9)'!O$32","v":15},{"$f":"'game1 (9)'!P$32","v":20}]
[{"$f":"IF('game1 (10)'!$C$2<>\"\",'game1 (10)'!$X$2,\"\")","v":"Hot Springs: 1/13/18"},{"$f":"'game1 (10)'!D$31","v":3},{"$f":"'game1 (10)'!E$31","v":17},{"$f":"'game1 (10)'!R$31","v":{"v":0.17647058823529413,"d":"18%"}},{"$f":"'game1 (10)'!F$31","v":15},{"$f":"'game1 (10)'!G$31","v":31},{"$f":"'game1 (10)'!S$31","v":{"v":0.4838709677419355,"d":"48%"}},{"$f":"'game1 (10)'!H$31","v":16},{"$f":"'game1 (10)'!I$31","v":32},{"$f":"'game1 (10)'!T$31","v":{"v":0.5,"d":"50%"}},{"$f":"'game1 (10)'!U$31","v":{"v":0.375,"d":"38%"}},{"$f":"'game1 (10)'!J$31","v":9},{"$f":"'game1 (10)'!K$31","v":22},31,{"$f":"'game1 (10)'!L$31","v":14},{"$f":"'game1 (10)'!M$31","v":6},{"$f":"'game1 (10)'!N$31","v":1},{"$f":"'game1 (10)'!O$31","v":14},{"$f":"'game1 (10)'!P$31","v":17},{"$f":"IF(A121<>\"\",CONCATENATE('game1 (10)'!$B$36,\" - \",IF('game1 (10)'!$B$49=1,'game1 (10)'!$C$36,IF('game1 (10)'!$B$49=2,CONCATENATE('game1 (10)'!$C$36,\": \",'game1 (10)'!$C$37),IF('game1 (10)'!$B$49=3,CONCATENATE('game1 (10)'!$C$36,\": \",'game1 (10)'!$C$37,\": \",'game1 (10)'!$C$38),IF('game1 (10)'!$B$49=4,CONCATENATE('game1 (10)'!$C$36,\": \",'game1 (10)'!$C$37,\": \",'game1 (10)'!$C$38,\": \",'game1 (10)'!$C$39),CONCATENATE('game1 (10)'!$C$36,\": \",'game1 (10)'!$C$37,\": \",'game1 (10)'!$C$38,\": \",'game1 (10)'!$C$39,\": \",'game1 (10)'!$C$40)))))),\"\")","v":"16 - P Watt, 24"},null,null,{"$f":"IF(A121<>\"\",CONCATENATE('game1 (10)'!$E$36,\" - \",IF('game1 (10)'!$E$49=1,'game1 (10)'!$F$36,IF('game1 (10)'!$E$49=2,CONCATENATE('game1 (10)'!$F$36,\": \",'game1 (10)'!$F$37),IF('game1 (10)'!$E$49=3,CONCATENATE('game1 (10)'!$F$36,\": \",'game1 (10)'!$F$37,\": \",'game1 (10)'!$F$38),IF('game1 (10)'!$E$49=4,CONCATENATE('game1 (10)'!$F$36,\": \",'game1 (10)'!$F$37,\": \",'game1 (10)'!$F$38,\": \",'game1 (10)'!$F$39),CONCATENATE('game1 (10)'!$F$36,\": \",'game1 (10)'!$F$37,\": \",'game1 (10)'!$F$38,\": \",'game1 (10)'!$F$39,\": \",'game1 (10)'!$F$40)))))),\"\")","v":"8 - D Butts, 14"},null,null,{"$f":"IF(A121<>\"\",CONCATENATE('game1 (10)'!$H$36,\" - \",IF('game1 (10)'!$H$49=1,'game1 (10)'!$I$36,IF('game1 (10)'!$H$49=2,CONCATENATE('game1 (10)'!$I$36,\": \",'game1 (10)'!$I$37),IF('game1 (10)'!$H$49=3,CONCATENATE('game1 (10)'!$I$36,\": \",'game1 (10)'!$I$37,\": \",'game1 (10)'!$I$38),IF('game1 (10)'!$H$49=4,CONCATENATE('game1 (10)'!$I$36,\": \",'game1 (10)'!$I$37,\": \",'game1 (10)'!$I$38,\": \",'game1 (10)'!$I$39),CONCATENATE('game1 (10)'!$I$36,\": \",'game1 (10)'!$I$37,\": \",'game1 (10)'!$I$38,\": \",'game1 (10)'!$I$39,\": \",'game1 (10)'!$I$40)))))),\"\")","v":"3 - J Caylor, 12: B Bruce, 22"}]
[{"$f":"IF(A121<>\"\",CONCATENATE('game1 (10)'!$C$4,\" - \",'game1 (10)'!$D$4, \" \", UPPER('game1 (10)'!$E$4)),\"\")","v":"55 - 65 "},{"$f":"'game1 (10)'!D$32","v":3},{"$f":"'game1 (10)'!E$32","v":14},{"$f":"'game1 (10)'!R$32","v":{"v":0.21428571428571427,"d":"21%"}},{"$f":"'game1 (10)'!F$32","v":21},{"$f":"'game1 (10)'!G$32","v":36},{"$f":"'game1 (10)'!S$32","v":{"v":0.5833333333333334,"d":"58%"}},{"$f":"'game1 (10)'!H$32","v":14},{"$f":"'game1 (10)'!I$32","v":24},{"$f":"'game1 (10)'!T$32","v":{"v":0.5833333333333334,"d":"58%"}},{"$f":"'game1 (10)'!U$32","v":{"v":0.48,"d":"48%"}},{"$f":"'game1 (10)'!J$32","v":8},{"$f":"'game1 (10)'!K$32","v":27},35,{"$f":"'game1 (10)'!L$32","v":13},{"$f":"'game1 (10)'!M$32","v":8},{"$f":"'game1 (10)'!N$32","v":0},{"$f":"'game1 (10)'!O$32","v":19},{"$f":"'game1 (10)'!P$32","v":25}]
[{"$f":"IF('game1 (11)'!$C$2<>\"\",'game1 (11)'!$X$2,\"\")","v":"Moorcroft: 1/18/18 **"},{"$f":"'game1 (11)'!D$31","v":8},{"$f":"'game1 (11)'!E$31","v":19},{"$f":"'game1 (11)'!R$31","v":{"v":0.42105263157894735,"d":"42%"}},{"$f":"'game1 (11)'!F$31","v":22},{"$f":"'game1 (11)'!G$31","v":42},{"$f":"'game1 (11)'!S$31","v":{"v":0.5238095238095238,"d":"52%"}},{"$f":"'game1 (11)'!H$31","v":6},{"$f":"'game1 (11)'!I$31","v":12},{"$f":"'game1 (11)'!T$31","v":{"v":0.5,"d":"50%"}},{"$f":"'game1 (11)'!U$31","v":{"v":0.4918032786885246,"d":"49%"}},{"$f":"'game1 (11)'!J$31","v":14},{"$f":"'game1 (11)'!K$31","v":29},43,{"$f":"'game1 (11)'!L$31","v":24},{"$f":"'game1 (11)'!M$31","v":13},{"$f":"'game1 (11)'!N$31","v":0},{"$f":"'game1 (11)'!O$31","v":14},{"$f":"'game1 (11)'!P$31","v":11},{"$f":"IF(A123<>\"\",CONCATENATE('game1 (11)'!$B$36,\" - \",IF('game1 (11)'!$B$49=1,'game1 (11)'!$C$36,IF('game1 (11)'!$B$49=2,CONCATENATE('game1 (11)'!$C$36,\": \",'game1 (11)'!$C$37),IF('game1 (11)'!$B$49=3,CONCATENATE('game1 (11)'!$C$36,\": \",'game1 (11)'!$C$37,\": \",'game1 (11)'!$C$38),IF('game1 (11)'!$B$49=4,CONCATENATE('game1 (11)'!$C$36,\": \",'game1 (11)'!$C$37,\": \",'game1 (11)'!$C$38,\": \",'game1 (11)'!$C$39),CONCATENATE('game1 (11)'!$C$36,\": \",'game1 (11)'!$C$37,\": \",'game1 (11)'!$C$38,\": \",'game1 (11)'!$C$39,\": \",'game1 (11)'!$C$40)))))),\"\")","v":"18 - J Caylor, 12"},null,null,{"$f":"IF(A123<>\"\",CONCATENATE('game1 (11)'!$E$36,\" - \",IF('game1 (11)'!$E$49=1,'game1 (11)'!$F$36,IF('game1 (11)'!$E$49=2,CONCATENATE('game1 (11)'!$F$36,\": \",'game1 (11)'!$F$37),IF('game1 (11)'!$E$49=3,CONCATENATE('game1 (11)'!$F$36,\": \",'game1 (11)'!$F$37,\": \",'game1 (11)'!$F$38),IF('game1 (11)'!$E$49=4,CONCATENATE('game1 (11)'!$F$36,\": \",'game1 (11)'!$F$37,\": \",'game1 (11)'!$F$38,\": \",'game1 (11)'!$F$39),CONCATENATE('game1 (11)'!$F$36,\": \",'game1 (11)'!$F$37,\": \",'game1 (11)'!$F$38,\": \",'game1 (11)'!$F$39,\": \",'game1 (11)'!$F$40)))))),\"\")","v":"10 - J Caylor, 12"},null,null,{"$f":"IF(A123<>\"\",CONCATENATE('game1 (11)'!$H$36,\" - \",IF('game1 (11)'!$H$49=1,'game1 (11)'!$I$36,IF('game1 (11)'!$H$49=2,CONCATENATE('game1 (11)'!$I$36,\": \",'game1 (11)'!$I$37),IF('game1 (11)'!$H$49=3,CONCATENATE('game1 (11)'!$I$36,\": \",'game1 (11)'!$I$37,\": \",'game1 (11)'!$I$38),IF('game1 (11)'!$H$49=4,CONCATENATE('game1 (11)'!$I$36,\": \",'game1 (11)'!$I$37,\": \",'game1 (11)'!$I$38,\": \",'game1 (11)'!$I$39),CONCATENATE('game1 (11)'!$I$36,\": \",'game1 (11)'!$I$37,\": \",'game1 (11)'!$I$38,\": \",'game1 (11)'!$I$39,\": \",'game1 (11)'!$I$40)))))),\"\")","v":"7 - J Claycomb, 10"}]
[{"$f":"IF(A123<>\"\",CONCATENATE('game1 (11)'!$C$4,\" - \",'game1 (11)'!$D$4, \" \", UPPER('game1 (11)'!$E$4)),\"\")","v":"74 - 38 "},{"$f":"'game1 (11)'!D$32","v":5},{"$f":"'game1 (11)'!E$32","v":23},{"$f":"'game1 (11)'!R$32","v":{"v":0.21739130434782608,"d":"22%"}},{"$f":"'game1 (11)'!F$32","v":10},{"$f":"'game1 (11)'!G$32","v":28},{"$f":"'game1 (11)'!S$32","v":{"v":0.35714285714285715,"d":"36%"}},{"$f":"'game1 (11)'!H$32","v":3},{"$f":"'game1 (11)'!I$32","v":6},{"$f":"'game1 (11)'!T$32","v":{"v":0.5,"d":"50%"}},{"$f":"'game1 (11)'!U$32","v":{"v":0.29411764705882354,"d":"29%"}},{"$f":"'game1 (11)'!J$32","v":10},{"$f":"'game1 (11)'!K$32","v":19},29,{"$f":"'game1 (11)'!L$32","v":9},{"$f":"'game1 (11)'!M$32","v":4},{"$f":"'game1 (11)'!N$32","v":0},{"$f":"'game1 (11)'!O$32","v":23},{"$f":"'game1 (11)'!P$32","v":12}]
[{"$f":"IF('game1 (12)'!$C$2<>\"\",'game1 (12)'!$X$2,\"\")","v":"Wright: 1/20/18 **"},{"$f":"'game1 (12)'!D$31","v":6},{"$f":"'game1 (12)'!E$31","v":28},{"$f":"'game1 (12)'!R$31","v":{"v":0.21428571428571427,"d":"21%"}},{"$f":"'game1 (12)'!F$31","v":10},{"$f":"'game1 (12)'!G$31","v":27},{"$f":"'game1 (12)'!S$31","v":{"v":0.37037037037037035,"d":"37%"}},{"$f":"'game1 (12)'!H$31","v":13},{"$f":"'game1 (12)'!I$31","v":17},{"$f":"'game1 (12)'!T$31","v":{"v":0.7647058823529411,"d":"76%"}},{"$f":"'game1 (12)'!U$31","v":{"v":0.2909090909090909,"d":"29%"}},{"$f":"'game1 (12)'!J$31","v":18},{"$f":"'game1 (12)'!K$31","v":17},35,{"$f":"'game1 (12)'!L$31","v":12},{"$f":"'game1 (12)'!M$31","v":9},{"$f":"'game1 (12)'!N$31","v":1},{"$f":"'game1 (12)'!O$31","v":21},{"$f":"'game1 (12)'!P$31","v":20},{"$f":"IF(A125<>\"\",CONCATENATE('game1 (12)'!$B$36,\" - \",IF('game1 (12)'!$B$49=1,'game1 (12)'!$C$36,IF('game1 (12)'!$B$49=2,CONCATENATE('game1 (12)'!$C$36,\": \",'game1 (12)'!$C$37),IF('game1 (12)'!$B$49=3,CONCATENATE('game1 (12)'!$C$36,\": \",'game1 (12)'!$C$37,\": \",'game1 (12)'!$C$38),IF('game1 (12)'!$B$49=4,CONCATENATE('game1 (12)'!$C$36,\": \",'game1 (12)'!$C$37,\": \",'game1 (12)'!$C$38,\": \",'game1 (12)'!$C$39),CONCATENATE('game1 (12)'!$C$36,\": \",'game1 (12)'!$C$37,\": \",'game1 (12)'!$C$38,\": \",'game1 (12)'!$C$39,\": \",'game1 (12)'!$C$40)))))),\"\")","v":"18 - D Barritt, 20"},null,null,{"$f":"IF(A125<>\"\",CONCATENATE('game1 (12)'!$E$36,\" - \",IF('game1 (12)'!$E$49=1,'game1 (12)'!$F$36,IF('game1 (12)'!$E$49=2,CONCATENATE('game1 (12)'!$F$36,\": \",'game1 (12)'!$F$37),IF('game1 (12)'!$E$49=3,CONCATENATE('game1 (12)'!$F$36,\": \",'game1 (12)'!$F$37,\": \",'game1 (12)'!$F$38),IF('game1 (12)'!$E$49=4,CONCATENATE('game1 (12)'!$F$36,\": \",'game1 (12)'!$F$37,\": \",'game1 (12)'!$F$38,\": \",'game1 (12)'!$F$39),CONCATENATE('game1 (12)'!$F$36,\": \",'game1 (12)'!$F$37,\": \",'game1 (12)'!$F$38,\": \",'game1 (12)'!$F$39,\": \",'game1 (12)'!$F$40)))))),\"\")","v":"10 - P Watt, 24"},null,null,{"$f":"IF(A125<>\"\",CONCATENATE('game1 (12)'!$H$36,\" - \",IF('game1 (12)'!$H$49=1,'game1 (12)'!$I$36,IF('game1 (12)'!$H$49=2,CONCATENATE('game1 (12)'!$I$36,\": \",'game1 (12)'!$I$37),IF('game1 (12)'!$H$49=3,CONCATENATE('game1 (12)'!$I$36,\": \",'game1 (12)'!$I$37,\": \",'game1 (12)'!$I$38),IF('game1 (12)'!$H$49=4,CONCATENATE('game1 (12)'!$I$36,\": \",'game1 (12)'!$I$37,\": \",'game1 (12)'!$I$38,\": \",'game1 (12)'!$I$39),CONCATENATE('game1 (12)'!$I$36,\": \",'game1 (12)'!$I$37,\": \",'game1 (12)'!$I$38,\": \",'game1 (12)'!$I$39,\": \",'game1 (12)'!$I$40)))))),\"\")","v":"3 - J Claycomb, 10"}]
[{"$f":"IF(A125<>\"\",CONCATENATE('game1 (12)'!$C$4,\" - \",'game1 (12)'!$D$4, \" \", UPPER('game1 (12)'!$E$4)),\"\")","v":"51 - 66 "},{"$f":"'game1 (12)'!D$32","v":1},{"$f":"'game1 (12)'!E$32","v":6},{"$f":"'game1 (12)'!R$32","v":{"v":0.16666666666666666,"d":"17%"}},{"$f":"'game1 (12)'!F$32","v":26},{"$f":"'game1 (12)'!G$32","v":42},{"$f":"'game1 (12)'!S$32","v":{"v":0.6190476190476191,"d":"62%"}},{"$f":"'game1 (12)'!H$32","v":11},{"$f":"'game1 (12)'!I$32","v":23},{"$f":"'game1 (12)'!T$32","v":{"v":0.4782608695652174,"d":"48%"}},{"$f":"'game1 (12)'!U$32","v":{"v":0.5625,"d":"56%"}},{"$f":"'game1 (12)'!J$32","v":10},{"$f":"'game1 (12)'!K$32","v":24},34,{"$f":"'game1 (12)'!L$32","v":13},{"$f":"'game1 (12)'!M$32","v":11},{"$f":"'game1 (12)'!N$32","v":3},{"$f":"'game1 (12)'!O$32","v":19},{"$f":"'game1 (12)'!P$32","v":17}]
[{"$f":"IF('game1 (13)'!$C$2<>\"\",'game1 (13)'!$X$2,\"\")","v":"Sundance: 1/25/18 **"},{"$f":"'game1 (13)'!D$31","v":10},{"$f":"'game1 (13)'!E$31","v":29},{"$f":"'game1 (13)'!R$31","v":{"v":0.3448275862068966,"d":"34%"}},{"$f":"'game1 (13)'!F$31","v":18},{"$f":"'game1 (13)'!G$31","v":30},{"$f":"'game1 (13)'!S$31","v":{"v":0.6,"d":"60%"}},{"$f":"'game1 (13)'!H$31","v":10},{"$f":"'game1 (13)'!I$31","v":13},{"$f":"'game1 (13)'!T$31","v":{"v":0.7692307692307693,"d":"77%"}},{"$f":"'game1 (13)'!U$31","v":{"v":0.4745762711864407,"d":"47%"}},{"$f":"'game1 (13)'!J$31","v":8},{"$f":"'game1 (13)'!K$31","v":25},33,{"$f":"'game1 (13)'!L$31","v":21},{"$f":"'game1 (13)'!M$31","v":16},{"$f":"'game1 (13)'!N$31","v":0},{"$f":"'game1 (13)'!O$31","v":14},{"$f":"'game1 (13)'!P$31","v":22},{"$f":"IF(A127<>\"\",CONCATENATE('game1 (13)'!$B$36,\" - \",IF('game1 (13)'!$B$49=1,'game1 (13)'!$C$36,IF('game1 (13)'!$B$49=2,CONCATENATE('game1 (13)'!$C$36,\": \",'game1 (13)'!$C$37),IF('game1 (13)'!$B$49=3,CONCATENATE('game1 (13)'!$C$36,\": \",'game1 (13)'!$C$37,\": \",'game1 (13)'!$C$38),IF('game1 (13)'!$B$49=4,CONCATENATE('game1 (13)'!$C$36,\": \",'game1 (13)'!$C$37,\": \",'game1 (13)'!$C$38,\": \",'game1 (13)'!$C$39),CONCATENATE('game1 (13)'!$C$36,\": \",'game1 (13)'!$C$37,\": \",'game1 (13)'!$C$38,\": \",'game1 (13)'!$C$39,\": \",'game1 (13)'!$C$40)))))),\"\")","v":"29 - P Watt, 24"},null,null,{"$f":"IF(A127<>\"\",CONCATENATE('game1 (13)'!$E$36,\" - \",IF('game1 (13)'!$E$49=1,'game1 (13)'!$F$36,IF('game1 (13)'!$E$49=2,CONCATENATE('game1 (13)'!$F$36,\": \",'game1 (13)'!$F$37),IF('game1 (13)'!$E$49=3,CONCATENATE('game1 (13)'!$F$36,\": \",'game1 (13)'!$F$37,\": \",'game1 (13)'!$F$38),IF('game1 (13)'!$E$49=4,CONCATENATE('game1 (13)'!$F$36,\": \",'game1 (13)'!$F$37,\": \",'game1 (13)'!$F$38,\": \",'game1 (13)'!$F$39),CONCATENATE('game1 (13)'!$F$36,\": \",'game1 (13)'!$F$37,\": \",'game1 (13)'!$F$38,\": \",'game1 (13)'!$F$39,\": \",'game1 (13)'!$F$40)))))),\"\")","v":"7 - C Louderback, 23"},null,null,{"$f":"IF(A127<>\"\",CONCATENATE('game1 (13)'!$H$36,\" - \",IF('game1 (13)'!$H$49=1,'game1 (13)'!$I$36,IF('game1 (13)'!$H$49=2,CONCATENATE('game1 (13)'!$I$36,\": \",'game1 (13)'!$I$37),IF('game1 (13)'!$H$49=3,CONCATENATE('game1 (13)'!$I$36,\": \",'game1 (13)'!$I$37,\": \",'game1 (13)'!$I$38),IF('game1 (13)'!$H$49=4,CONCATENATE('game1 (13)'!$I$36,\": \",'game1 (13)'!$I$37,\": \",'game1 (13)'!$I$38,\": \",'game1 (13)'!$I$39),CONCATENATE('game1 (13)'!$I$36,\": \",'game1 (13)'!$I$37,\": \",'game1 (13)'!$I$38,\": \",'game1 (13)'!$I$39,\": \",'game1 (13)'!$I$40)))))),\"\")","v":"5 - C Louderback, 23"}]
[{"$f":"IF(A127<>\"\",CONCATENATE('game1 (13)'!$C$4,\" - \",'game1 (13)'!$D$4, \" \", UPPER('game1 (13)'!$E$4)),\"\")","v":"76 - 47 "},{"$f":"'game1 (13)'!D$32","v":6},{"$f":"'game1 (13)'!E$32","v":18},{"$f":"'game1 (13)'!R$32","v":{"v":0.3333333333333333,"d":"33%"}},{"$f":"'game1 (13)'!F$32","v":9},{"$f":"'game1 (13)'!G$32","v":23},{"$f":"'game1 (13)'!S$32","v":{"v":0.391304347826087,"d":"39%"}},{"$f":"'game1 (13)'!H$32","v":11},{"$f":"'game1 (13)'!I$32","v":19},{"$f":"'game1 (13)'!T$32","v":{"v":0.5789473684210527,"d":"58%"}},{"$f":"'game1 (13)'!U$32","v":{"v":0.36585365853658536,"d":"37%"}},{"$f":"'game1 (13)'!J$32","v":5},{"$f":"'game1 (13)'!K$32","v":24},29,{"$f":"'game1 (13)'!L$32","v":9},{"$f":"'game1 (13)'!M$32","v":3},{"$f":"'game1 (13)'!N$32","v":0},{"$f":"'game1 (13)'!O$32","v":26},{"$f":"'game1 (13)'!P$32","v":13}]
[{"$f":"IF('game1 (14)'!$C$2<>\"\",'game1 (14)'!$X$2,\"\")","v":"Big Horn: 1/27/18 **"},{"$f":"'game1 (14)'!D$31","v":11},{"$f":"'game1 (14)'!E$31","v":24},{"$f":"'game1 (14)'!R$31","v":{"v":0.4583333333333333,"d":"46%"}},{"$f":"'game1 (14)'!F$31","v":14},{"$f":"'game1 (14)'!G$31","v":37},{"$f":"'game1 (14)'!S$31","v":{"v":0.3783783783783784,"d":"38%"}},{"$f":"'game1 (14)'!H$31","v":4},{"$f":"'game1 (14)'!I$31","v":10},{"$f":"'game1 (14)'!T$31","v":{"v":0.4,"d":"40%"}},{"$f":"'game1 (14)'!U$31","v":{"v":0.4098360655737705,"d":"41%"}},{"$f":"'game1 (14)'!J$31","v":15},{"$f":"'game1 (14)'!K$31","v":26},41,{"$f":"'game1 (14)'!L$31","v":20},{"$f":"'game1 (14)'!M$31","v":8},{"$f":"'game1 (14)'!N$31","v":3},{"$f":"'game1 (14)'!O$31","v":19},{"$f":"'game1 (14)'!P$31","v":9},{"$f":"IF(A129<>\"\",CONCATENATE('game1 (14)'!$B$36,\" - \",IF('game1 (14)'!$B$49=1,'game1 (14)'!$C$36,IF('game1 (14)'!$B$49=2,CONCATENATE('game1 (14)'!$C$36,\": \",'game1 (14)'!$C$37),IF('game1 (14)'!$B$49=3,CONCATENATE('game1 (14)'!$C$36,\": \",'game1 (14)'!$C$37,\": \",'game1 (14)'!$C$38),IF('game1 (14)'!$B$49=4,CONCATENATE('game1 (14)'!$C$36,\": \",'game1 (14)'!$C$37,\": \",'game1 (14)'!$C$38,\": \",'game1 (14)'!$C$39),CONCATENATE('game1 (14)'!$C$36,\": \",'game1 (14)'!$C$37,\": \",'game1 (14)'!$C$38,\": \",'game1 (14)'!$C$39,\": \",'game1 (14)'!$C$40)))))),\"\")","v":"23 - C Louderback, 23"},null,null,{"$f":"IF(A129<>\"\",CONCATENATE('game1 (14)'!$E$36,\" - \",IF('game1 (14)'!$E$49=1,'game1 (14)'!$F$36,IF('game1 (14)'!$E$49=2,CONCATENATE('game1 (14)'!$F$36,\": \",'game1 (14)'!$F$37),IF('game1 (14)'!$E$49=3,CONCATENATE('game1 (14)'!$F$36,\": \",'game1 (14)'!$F$37,\": \",'game1 (14)'!$F$38),IF('game1 (14)'!$E$49=4,CONCATENATE('game1 (14)'!$F$36,\": \",'game1 (14)'!$F$37,\": \",'game1 (14)'!$F$38,\": \",'game1 (14)'!$F$39),CONCATENATE('game1 (14)'!$F$36,\": \",'game1 (14)'!$F$37,\": \",'game1 (14)'!$F$38,\": \",'game1 (14)'!$F$39,\": \",'game1 (14)'!$F$40)))))),\"\")","v":"13 - C Louderback, 23"},null,null,{"$f":"IF(A129<>\"\",CONCATENATE('game1 (14)'!$H$36,\" - \",IF('game1 (14)'!$H$49=1,'game1 (14)'!$I$36,IF('game1 (14)'!$H$49=2,CONCATENATE('game1 (14)'!$I$36,\": \",'game1 (14)'!$I$37),IF('game1 (14)'!$H$49=3,CONCATENATE('game1 (14)'!$I$36,\": \",'game1 (14)'!$I$37,\": \",'game1 (14)'!$I$38),IF('game1 (14)'!$H$49=4,CONCATENATE('game1 (14)'!$I$36,\": \",'game1 (14)'!$I$37,\": \",'game1 (14)'!$I$38,\": \",'game1 (14)'!$I$39),CONCATENATE('game1 (14)'!$I$36,\": \",'game1 (14)'!$I$37,\": \",'game1 (14)'!$I$38,\": \",'game1 (14)'!$I$39,\": \",'game1 (14)'!$I$40)))))),\"\")","v":"7 - D Butts, 14"}]
[{"$f":"IF(A129<>\"\",CONCATENATE('game1 (14)'!$C$4,\" - \",'game1 (14)'!$D$4, \" \", UPPER('game1 (14)'!$E$4)),\"\")","v":"65 - 66 "},{"$f":"'game1 (14)'!D$32","v":7},{"$f":"'game1 (14)'!E$32","v":18},{"$f":"'game1 (14)'!R$32","v":{"v":0.3888888888888889,"d":"39%"}},{"$f":"'game1 (14)'!F$32","v":20},{"$f":"'game1 (14)'!G$32","v":55},{"$f":"'game1 (14)'!S$32","v":{"v":0.36363636363636365,"d":"36%"}},{"$f":"'game1 (14)'!H$32","v":5},{"$f":"'game1 (14)'!I$32","v":7},{"$f":"'game1 (14)'!T$32","v":{"v":0.7142857142857143,"d":"71%"}},{"$f":"'game1 (14)'!U$32","v":{"v":0.3698630136986301,"d":"37%"}},{"$f":"'game1 (14)'!J$32","v":20},{"$f":"'game1 (14)'!K$32","v":23},43,{"$f":"'game1 (14)'!L$32","v":13},{"$f":"'game1 (14)'!M$32","v":12},{"$f":"'game1 (14)'!N$32","v":5},{"$f":"'game1 (14)'!O$32","v":13},{"$f":"'game1 (14)'!P$32","v":10}]
[{"$f":"IF('game1 (15)'!$C$2<>\"\",'game1 (15)'!$X$2,\"\")","v":"Moorcroft: 2/1/18 **"},{"$f":"'game1 (15)'!D$31","v":1},{"$f":"'game1 (15)'!E$31","v":17},{"$f":"'game1 (15)'!R$31","v":{"v":0.058823529411764705,"d":"6%"}},{"$f":"'game1 (15)'!F$31","v":27},{"$f":"'game1 (15)'!G$31","v":43},{"$f":"'game1 (15)'!S$31","v":{"v":0.627906976744186,"d":"63%"}},{"$f":"'game1 (15)'!H$31","v":7},{"$f":"'game1 (15)'!I$31","v":11},{"$f":"'game1 (15)'!T$31","v":{"v":0.6363636363636364,"d":"64%"}},{"$f":"'game1 (15)'!U$31","v":{"v":0.4666666666666667,"d":"47%"}},{"$f":"'game1 (15)'!J$31","v":14},{"$f":"'game1 (15)'!K$31","v":25},39,{"$f":"'game1 (15)'!L$31","v":19},{"$f":"'game1 (15)'!M$31","v":13},{"$f":"'game1 (15)'!N$31","v":5},{"$f":"'game1 (15)'!O$31","v":11},{"$f":"'game1 (15)'!P$31","v":9},{"$f":"IF(A131<>\"\",CONCATENATE('game1 (15)'!$B$36,\" - \",IF('game1 (15)'!$B$49=1,'game1 (15)'!$C$36,IF('game1 (15)'!$B$49=2,CONCATENATE('game1 (15)'!$C$36,\": \",'game1 (15)'!$C$37),IF('game1 (15)'!$B$49=3,CONCATENATE('game1 (15)'!$C$36,\": \",'game1 (15)'!$C$37,\": \",'game1 (15)'!$C$38),IF('game1 (15)'!$B$49=4,CONCATENATE('game1 (15)'!$C$36,\": \",'game1 (15)'!$C$37,\": \",'game1 (15)'!$C$38,\": \",'game1 (15)'!$C$39),CONCATENATE('game1 (15)'!$C$36,\": \",'game1 (15)'!$C$37,\": \",'game1 (15)'!$C$38,\": \",'game1 (15)'!$C$39,\": \",'game1 (15)'!$C$40)))))),\"\")","v":"27 - C Louderback, 23"},null,null,{"$f":"IF(A131<>\"\",CONCATENATE('game1 (15)'!$E$36,\" - \",IF('game1 (15)'!$E$49=1,'game1 (15)'!$F$36,IF('game1 (15)'!$E$49=2,CONCATENATE('game1 (15)'!$F$36,\": \",'game1 (15)'!$F$37),IF('game1 (15)'!$E$49=3,CONCATENATE('game1 (15)'!$F$36,\": \",'game1 (15)'!$F$37,\": \",'game1 (15)'!$F$38),IF('game1 (15)'!$E$49=4,CONCATENATE('game1 (15)'!$F$36,\": \",'game1 (15)'!$F$37,\": \",'game1 (15)'!$F$38,\": \",'game1 (15)'!$F$39),CONCATENATE('game1 (15)'!$F$36,\": \",'game1 (15)'!$F$37,\": \",'game1 (15)'!$F$38,\": \",'game1 (15)'!$F$39,\": \",'game1 (15)'!$F$40)))))),\"\")","v":"9 - P Watt, 24"},null,null,{"$f":"IF(A131<>\"\",CONCATENATE('game1 (15)'!$H$36,\" - \",IF('game1 (15)'!$H$49=1,'game1 (15)'!$I$36,IF('game1 (15)'!$H$49=2,CONCATENATE('game1 (15)'!$I$36,\": \",'game1 (15)'!$I$37),IF('game1 (15)'!$H$49=3,CONCATENATE('game1 (15)'!$I$36,\": \",'game1 (15)'!$I$37,\": \",'game1 (15)'!$I$38),IF('game1 (15)'!$H$49=4,CONCATENATE('game1 (15)'!$I$36,\": \",'game1 (15)'!$I$37,\": \",'game1 (15)'!$I$38,\": \",'game1 (15)'!$I$39),CONCATENATE('game1 (15)'!$I$36,\": \",'game1 (15)'!$I$37,\": \",'game1 (15)'!$I$38,\": \",'game1 (15)'!$I$39,\": \",'game1 (15)'!$I$40)))))),\"\")","v":"7 - D Barritt, 20"}]
[{"$f":"IF(A131<>\"\",CONCATENATE('game1 (15)'!$C$4,\" - \",'game1 (15)'!$D$4, \" \", UPPER('game1 (15)'!$E$4)),\"\")","v":"64 - 41 "},{"$f":"'game1 (15)'!D$32","v":5},{"$f":"'game1 (15)'!E$32","v":23},{"$f":"'game1 (15)'!R$32","v":{"v":0.21739130434782608,"d":"22%"}},{"$f":"'game1 (15)'!F$32","v":12},{"$f":"'game1 (15)'!G$32","v":27},{"$f":"'game1 (15)'!S$32","v":{"v":0.4444444444444444,"d":"44%"}},{"$f":"'game1 (15)'!H$32","v":2},{"$f":"'game1 (15)'!I$32","v":7},{"$f":"'game1 (15)'!T$32","v":{"v":0.2857142857142857,"d":"29%"}},{"$f":"'game1 (15)'!U$32","v":{"v":0.34,"d":"34%"}},{"$f":"'game1 (15)'!J$32","v":9},{"$f":"'game1 (15)'!K$32","v":20},29,{"$f":"'game1 (15)'!L$32","v":7},{"$f":"'game1 (15)'!M$32","v":4},{"$f":"'game1 (15)'!N$32","v":0},{"$f":"'game1 (15)'!O$32","v":20},{"$f":"'game1 (15)'!P$32","v":9}]
[{"$f":"IF('game1 (16)'!$C$2<>\"\",'game1 (16)'!$X$2,\"\")","v":"Tongue River: 2/2/18 **"},{"$f":"'game1 (16)'!D$31","v":8},{"$f":"'game1 (16)'!E$31","v":24},{"$f":"'game1 (16)'!R$31","v":{"v":0.3333333333333333,"d":"33%"}},{"$f":"'game1 (16)'!F$31","v":27},{"$f":"'game1 (16)'!G$31","v":38},{"$f":"'game1 (16)'!S$31","v":{"v":0.7105263157894737,"d":"71%"}},{"$f":"'game1 (16)'!H$31","v":5},{"$f":"'game1 (16)'!I$31","v":12},{"$f":"'game1 (16)'!T$31","v":{"v":0.4166666666666667,"d":"42%"}},{"$f":"'game1 (16)'!U$31","v":{"v":0.5645161290322581,"d":"56%"}},{"$f":"'game1 (16)'!J$31","v":12},{"$f":"'game1 (16)'!K$31","v":18},30,{"$f":"'game1 (16)'!L$31","v":28},{"$f":"'game1 (16)'!M$31","v":13},{"$f":"'game1 (16)'!N$31","v":1},{"$f":"'game1 (16)'!O$31","v":14},{"$f":"'game1 (16)'!P$31","v":10},{"$f":"IF(A133<>\"\",CONCATENATE('game1 (16)'!$B$36,\" - \",IF('game1 (16)'!$B$49=1,'game1 (16)'!$C$36,IF('game1 (16)'!$B$49=2,CONCATENATE('game1 (16)'!$C$36,\": \",'game1 (16)'!$C$37),IF('game1 (16)'!$B$49=3,CONCATENATE('game1 (16)'!$C$36,\": \",'game1 (16)'!$C$37,\": \",'game1 (16)'!$C$38),IF('game1 (16)'!$B$49=4,CONCATENATE('game1 (16)'!$C$36,\": \",'game1 (16)'!$C$37,\": \",'game1 (16)'!$C$38,\": \",'game1 (16)'!$C$39),CONCATENATE('game1 (16)'!$C$36,\": \",'game1 (16)'!$C$37,\": \",'game1 (16)'!$C$38,\": \",'game1 (16)'!$C$39,\": \",'game1 (16)'!$C$40)))))),\"\")","v":"25 - C Louderback, 23"},null,null,{"$f":"IF(A133<>\"\",CONCATENATE('game1 (16)'!$E$36,\" - \",IF('game1 (16)'!$E$49=1,'game1 (16)'!$F$36,IF('game1 (16)'!$E$49=2,CONCATENATE('game1 (16)'!$F$36,\": \",'game1 (16)'!$F$37),IF('game1 (16)'!$E$49=3,CONCATENATE('game1 (16)'!$F$36,\": \",'game1 (16)'!$F$37,\": \",'game1 (16)'!$F$38),IF('game1 (16)'!$E$49=4,CONCATENATE('game1 (16)'!$F$36,\": \",'game1 (16)'!$F$37,\": \",'game1 (16)'!$F$38,\": \",'game1 (16)'!$F$39),CONCATENATE('game1 (16)'!$F$36,\": \",'game1 (16)'!$F$37,\": \",'game1 (16)'!$F$38,\": \",'game1 (16)'!$F$39,\": \",'game1 (16)'!$F$40)))))),\"\")","v":"8 - C Louderback, 23"},null,null,{"$f":"IF(A133<>\"\",CONCATENATE('game1 (16)'!$H$36,\" - \",IF('game1 (16)'!$H$49=1,'game1 (16)'!$I$36,IF('game1 (16)'!$H$49=2,CONCATENATE('game1 (16)'!$I$36,\": \",'game1 (16)'!$I$37),IF('game1 (16)'!$H$49=3,CONCATENATE('game1 (16)'!$I$36,\": \",'game1 (16)'!$I$37,\": \",'game1 (16)'!$I$38),IF('game1 (16)'!$H$49=4,CONCATENATE('game1 (16)'!$I$36,\": \",'game1 (16)'!$I$37,\": \",'game1 (16)'!$I$38,\": \",'game1 (16)'!$I$39),CONCATENATE('game1 (16)'!$I$36,\": \",'game1 (16)'!$I$37,\": \",'game1 (16)'!$I$38,\": \",'game1 (16)'!$I$39,\": \",'game1 (16)'!$I$40)))))),\"\")","v":"7 - D Butts, 14"}]
[{"$f":"IF(A133<>\"\",CONCATENATE('game1 (16)'!$C$4,\" - \",'game1 (16)'!$D$4, \" \", UPPER('game1 (16)'!$E$4)),\"\")","v":"83 - 65 "},{"$f":"'game1 (16)'!D$32","v":6},{"$f":"'game1 (16)'!E$32","v":16},{"$f":"'game1 (16)'!R$32","v":{"v":0.375,"d":"38%"}},{"$f":"'game1 (16)'!F$32","v":19},{"$f":"'game1 (16)'!G$32","v":42},{"$f":"'game1 (16)'!S$32","v":{"v":0.4523809523809524,"d":"45%"}},{"$f":"'game1 (16)'!H$32","v":9},{"$f":"'game1 (16)'!I$32","v":12},{"$f":"'game1 (16)'!T$32","v":{"v":0.75,"d":"75%"}},{"$f":"'game1 (16)'!U$32","v":{"v":0.43103448275862066,"d":"43%"}},{"$f":"'game1 (16)'!J$32","v":14},{"$f":"'game1 (16)'!K$32","v":20},34,{"$f":"'game1 (16)'!L$32","v":15},{"$f":"'game1 (16)'!M$32","v":5},{"$f":"'game1 (16)'!N$32","v":1},{"$f":"'game1 (16)'!O$32","v":23},{"$f":"'game1 (16)'!P$32","v":12}]
[{"$f":"IF('game1 (17)'!$C$2<>\"\",'game1 (17)'!$X$2,\"\")","v":"Sundance: 2/6/18 **"},{"$f":"'game1 (17)'!D$31","v":6},{"$f":"'game1 (17)'!E$31","v":25},{"$f":"'game1 (17)'!R$31","v":{"v":0.24,"d":"24%"}},{"$f":"'game1 (17)'!F$31","v":23},{"$f":"'game1 (17)'!G$31","v":42},{"$f":"'game1 (17)'!S$31","v":{"v":0.5476190476190477,"d":"55%"}},{"$f":"'game1 (17)'!H$31","v":5},{"$f":"'game1 (17)'!I$31","v":11},{"$f":"'game1 (17)'!T$31","v":{"v":0.45454545454545453,"d":"45%"}},{"$f":"'game1 (17)'!U$31","v":{"v":0.43283582089552236,"d":"43%"}},{"$f":"'game1 (17)'!J$31","v":20},{"$f":"'game1 (17)'!K$31","v":24},44,{"$f":"'game1 (17)'!L$31","v":16},{"$f":"'game1 (17)'!M$31","v":8},{"$f":"'game1 (17)'!N$31","v":0},{"$f":"'game1 (17)'!O$31","v":4},{"$f":"'game1 (17)'!P$31","v":14},{"$f":"IF(A135<>\"\",CONCATENATE('game1 (17)'!$B$36,\" - \",IF('game1 (17)'!$B$49=1,'game1 (17)'!$C$36,IF('game1 (17)'!$B$49=2,CONCATENATE('game1 (17)'!$C$36,\": \",'game1 (17)'!$C$37),IF('game1 (17)'!$B$49=3,CONCATENATE('game1 (17)'!$C$36,\": \",'game1 (17)'!$C$37,\": \",'game1 (17)'!$C$38),IF('game1 (17)'!$B$49=4,CONCATENATE('game1 (17)'!$C$36,\": \",'game1 (17)'!$C$37,\": \",'game1 (17)'!$C$38,\": \",'game1 (17)'!$C$39),CONCATENATE('game1 (17)'!$C$36,\": \",'game1 (17)'!$C$37,\": \",'game1 (17)'!$C$38,\": \",'game1 (17)'!$C$39,\": \",'game1 (17)'!$C$40)))))),\"\")","v":"21 - C Louderback, 23"},null,null,{"$f":"IF(A135<>\"\",CONCATENATE('game1 (17)'!$E$36,\" - \",IF('game1 (17)'!$E$49=1,'game1 (17)'!$F$36,IF('game1 (17)'!$E$49=2,CONCATENATE('game1 (17)'!$F$36,\": \",'game1 (17)'!$F$37),IF('game1 (17)'!$E$49=3,CONCATENATE('game1 (17)'!$F$36,\": \",'game1 (17)'!$F$37,\": \",'game1 (17)'!$F$38),IF('game1 (17)'!$E$49=4,CONCATENATE('game1 (17)'!$F$36,\": \",'game1 (17)'!$F$37,\": \",'game1 (17)'!$F$38,\": \",'game1 (17)'!$F$39),CONCATENATE('game1 (17)'!$F$36,\": \",'game1 (17)'!$F$37,\": \",'game1 (17)'!$F$38,\": \",'game1 (17)'!$F$39,\": \",'game1 (17)'!$F$40)))))),\"\")","v":"11 - P Watt, 24"},null,null,{"$f":"IF(A135<>\"\",CONCATENATE('game1 (17)'!$H$36,\" - \",IF('game1 (17)'!$H$49=1,'game1 (17)'!$I$36,IF('game1 (17)'!$H$49=2,CONCATENATE('game1 (17)'!$I$36,\": \",'game1 (17)'!$I$37),IF('game1 (17)'!$H$49=3,CONCATENATE('game1 (17)'!$I$36,\": \",'game1 (17)'!$I$37,\": \",'game1 (17)'!$I$38),IF('game1 (17)'!$H$49=4,CONCATENATE('game1 (17)'!$I$36,\": \",'game1 (17)'!$I$37,\": \",'game1 (17)'!$I$38,\": \",'game1 (17)'!$I$39),CONCATENATE('game1 (17)'!$I$36,\": \",'game1 (17)'!$I$37,\": \",'game1 (17)'!$I$38,\": \",'game1 (17)'!$I$39,\": \",'game1 (17)'!$I$40)))))),\"\")","v":"5 - C Louderback, 23"}]
[{"$f":"IF(A135<>\"\",CONCATENATE('game1 (17)'!$C$4,\" - \",'game1 (17)'!$D$4, \" \", UPPER('game1 (17)'!$E$4)),\"\")","v":"69 - 49 "},{"$f":"'game1 (17)'!D$32","v":6},{"$f":"'game1 (17)'!E$32","v":14},{"$f":"'game1 (17)'!R$32","v":{"v":0.42857142857142855,"d":"43%"}},{"$f":"'game1 (17)'!F$32","v":14},{"$f":"'game1 (17)'!G$32","v":33},{"$f":"'game1 (17)'!S$32","v":{"v":0.42424242424242425,"d":"42%"}},{"$f":"'game1 (17)'!H$32","v":3},{"$f":"'game1 (17)'!I$32","v":7},{"$f":"'game1 (17)'!T$32","v":{"v":0.42857142857142855,"d":"43%"}},{"$f":"'game1 (17)'!U$32","v":{"v":0.425531914893617,"d":"43%"}},{"$f":"'game1 (17)'!J$32","v":6},{"$f":"'game1 (17)'!K$32","v":19},25,{"$f":"'game1 (17)'!L$32","v":10},{"$f":"'game1 (17)'!M$32","v":3},{"$f":"'game1 (17)'!N$32","v":0},{"$f":"'game1 (17)'!O$32","v":11},{"$f":"'game1 (17)'!P$32","v":9}]
[{"$f":"IF('game1 (18)'!$C$2<>\"\",'game1 (18)'!$X$2,\"\")","v":"Wright: 2/8/18 **"},{"$f":"'game1 (18)'!D$31","v":6},{"$f":"'game1 (18)'!E$31","v":25},{"$f":"'game1 (18)'!R$31","v":{"v":0.24,"d":"24%"}},{"$f":"'game1 (18)'!F$31","v":11},{"$f":"'game1 (18)'!G$31","v":33},{"$f":"'game1 (18)'!S$31","v":{"v":0.3333333333333333,"d":"33%"}},{"$f":"'game1 (18)'!H$31","v":20},{"$f":"'game1 (18)'!I$31","v":29},{"$f":"'game1 (18)'!T$31","v":{"v":0.6896551724137931,"d":"69%"}},{"$f":"'game1 (18)'!U$31","v":{"v":0.29310344827586204,"d":"29%"}},{"$f":"'game1 (18)'!J$31","v":20},{"$f":"'game1 (18)'!K$31","v":16},36,{"$f":"'game1 (18)'!L$31","v":9},{"$f":"'game1 (18)'!M$31","v":12},{"$f":"'game1 (18)'!N$31","v":3},{"$f":"'game1 (18)'!O$31","v":20},{"$f":"'game1 (18)'!P$31","v":22},{"$f":"IF(A137<>\"\",CONCATENATE('game1 (18)'!$B$36,\" - \",IF('game1 (18)'!$B$49=1,'game1 (18)'!$C$36,IF('game1 (18)'!$B$49=2,CONCATENATE('game1 (18)'!$C$36,\": \",'game1 (18)'!$C$37),IF('game1 (18)'!$B$49=3,CONCATENATE('game1 (18)'!$C$36,\": \",'game1 (18)'!$C$37,\": \",'game1 (18)'!$C$38),IF('game1 (18)'!$B$49=4,CONCATENATE('game1 (18)'!$C$36,\": \",'game1 (18)'!$C$37,\": \",'game1 (18)'!$C$38,\": \",'game1 (18)'!$C$39),CONCATENATE('game1 (18)'!$C$36,\": \",'game1 (18)'!$C$37,\": \",'game1 (18)'!$C$38,\": \",'game1 (18)'!$C$39,\": \",'game1 (18)'!$C$40)))))),\"\")","v":"23 - P Watt, 24"},null,null,{"$f":"IF(A137<>\"\",CONCATENATE('game1 (18)'!$E$36,\" - \",IF('game1 (18)'!$E$49=1,'game1 (18)'!$F$36,IF('game1 (18)'!$E$49=2,CONCATENATE('game1 (18)'!$F$36,\": \",'game1 (18)'!$F$37),IF('game1 (18)'!$E$49=3,CONCATENATE('game1 (18)'!$F$36,\": \",'game1 (18)'!$F$37,\": \",'game1 (18)'!$F$38),IF('game1 (18)'!$E$49=4,CONCATENATE('game1 (18)'!$F$36,\": \",'game1 (18)'!$F$37,\": \",'game1 (18)'!$F$38,\": \",'game1 (18)'!$F$39),CONCATENATE('game1 (18)'!$F$36,\": \",'game1 (18)'!$F$37,\": \",'game1 (18)'!$F$38,\": \",'game1 (18)'!$F$39,\": \",'game1 (18)'!$F$40)))))),\"\")","v":"11 - P Watt, 24"},null,null,{"$f":"IF(A137<>\"\",CONCATENATE('game1 (18)'!$H$36,\" - \",IF('game1 (18)'!$H$49=1,'game1 (18)'!$I$36,IF('game1 (18)'!$H$49=2,CONCATENATE('game1 (18)'!$I$36,\": \",'game1 (18)'!$I$37),IF('game1 (18)'!$H$49=3,CONCATENATE('game1 (18)'!$I$36,\": \",'game1 (18)'!$I$37,\": \",'game1 (18)'!$I$38),IF('game1 (18)'!$H$49=4,CONCATENATE('game1 (18)'!$I$36,\": \",'game1 (18)'!$I$37,\": \",'game1 (18)'!$I$38,\": \",'game1 (18)'!$I$39),CONCATENATE('game1 (18)'!$I$36,\": \",'game1 (18)'!$I$37,\": \",'game1 (18)'!$I$38,\": \",'game1 (18)'!$I$39,\": \",'game1 (18)'!$I$40)))))),\"\")","v":"3 - P Watt, 24"}]
[{"$f":"IF(A137<>\"\",CONCATENATE('game1 (18)'!$C$4,\" - \",'game1 (18)'!$D$4, \" \", UPPER('game1 (18)'!$E$4)),\"\")","v":"60 - 67 "},{"$f":"'game1 (18)'!D$32","v":5},{"$f":"'game1 (18)'!E$32","v":8},{"$f":"'game1 (18)'!R$32","v":{"v":0.625,"d":"63%"}},{"$f":"'game1 (18)'!F$32","v":20},{"$f":"'game1 (18)'!G$32","v":37},{"$f":"'game1 (18)'!S$32","v":{"v":0.5405405405405406,"d":"54%"}},{"$f":"'game1 (18)'!H$32","v":12},{"$f":"'game1 (18)'!I$32","v":27},{"$f":"'game1 (18)'!T$32","v":{"v":0.4444444444444444,"d":"44%"}},{"$f":"'game1 (18)'!U$32","v":{"v":0.5555555555555556,"d":"56%"}},{"$f":"'game1 (18)'!J$32","v":9},{"$f":"'game1 (18)'!K$32","v":25},34,{"$f":"'game1 (18)'!L$32","v":6},{"$f":"'game1 (18)'!M$32","v":9},{"$f":"'game1 (18)'!N$32","v":1},{"$f":"'game1 (18)'!O$32","v":25},{"$f":"'game1 (18)'!P$32","v":23}]
[{"$f":"IF('game1 (19)'!$C$2<>\"\",'game1 (19)'!$X$2,\"\")","v":"New Underwood: 2/10/18"},{"$f":"'game1 (19)'!D$31","v":9},{"$f":"'game1 (19)'!E$31","v":25},{"$f":"'game1 (19)'!R$31","v":{"v":0.36,"d":"36%"}},{"$f":"'game1 (19)'!F$31","v":16},{"$f":"'game1 (19)'!G$31","v":26},{"$f":"'game1 (19)'!S$31","v":{"v":0.6153846153846154,"d":"62%"}},{"$f":"'game1 (19)'!H$31","v":16},{"$f":"'game1 (19)'!I$31","v":26},{"$f":"'game1 (19)'!T$31","v":{"v":0.6153846153846154,"d":"62%"}},{"$f":"'game1 (19)'!U$31","v":{"v":0.49019607843137253,"d":"49%"}},{"$f":"'game1 (19)'!J$31","v":10},{"$f":"'game1 (19)'!K$31","v":20},30,{"$f":"'game1 (19)'!L$31","v":13},{"$f":"'game1 (19)'!M$31","v":14},{"$f":"'game1 (19)'!N$31","v":0},{"$f":"'game1 (19)'!O$31","v":15},{"$f":"'game1 (19)'!P$31","v":11},{"$f":"IF(A139<>\"\",CONCATENATE('game1 (19)'!$B$36,\" - \",IF('game1 (19)'!$B$49=1,'game1 (19)'!$C$36,IF('game1 (19)'!$B$49=2,CONCATENATE('game1 (19)'!$C$36,\": \",'game1 (19)'!$C$37),IF('game1 (19)'!$B$49=3,CONCATENATE('game1 (19)'!$C$36,\": \",'game1 (19)'!$C$37,\": \",'game1 (19)'!$C$38),IF('game1 (19)'!$B$49=4,CONCATENATE('game1 (19)'!$C$36,\": \",'game1 (19)'!$C$37,\": \",'game1 (19)'!$C$38,\": \",'game1 (19)'!$C$39),CONCATENATE('game1 (19)'!$C$36,\": \",'game1 (19)'!$C$37,\": \",'game1 (19)'!$C$38,\": \",'game1 (19)'!$C$39,\": \",'game1 (19)'!$C$40)))))),\"\")","v":"22 - P Watt, 24"},null,null,{"$f":"IF(A139<>\"\",CONCATENATE('game1 (19)'!$E$36,\" - \",IF('game1 (19)'!$E$49=1,'game1 (19)'!$F$36,IF('game1 (19)'!$E$49=2,CONCATENATE('game1 (19)'!$F$36,\": \",'game1 (19)'!$F$37),IF('game1 (19)'!$E$49=3,CONCATENATE('game1 (19)'!$F$36,\": \",'game1 (19)'!$F$37,\": \",'game1 (19)'!$F$38),IF('game1 (19)'!$E$49=4,CONCATENATE('game1 (19)'!$F$36,\": \",'game1 (19)'!$F$37,\": \",'game1 (19)'!$F$38,\": \",'game1 (19)'!$F$39),CONCATENATE('game1 (19)'!$F$36,\": \",'game1 (19)'!$F$37,\": \",'game1 (19)'!$F$38,\": \",'game1 (19)'!$F$39,\": \",'game1 (19)'!$F$40)))))),\"\")","v":"7 - P Watt, 24"},null,null,{"$f":"IF(A139<>\"\",CONCATENATE('game1 (19)'!$H$36,\" - \",IF('game1 (19)'!$H$49=1,'game1 (19)'!$I$36,IF('game1 (19)'!$H$49=2,CONCATENATE('game1 (19)'!$I$36,\": \",'game1 (19)'!$I$37),IF('game1 (19)'!$H$49=3,CONCATENATE('game1 (19)'!$I$36,\": \",'game1 (19)'!$I$37,\": \",'game1 (19)'!$I$38),IF('game1 (19)'!$H$49=4,CONCATENATE('game1 (19)'!$I$36,\": \",'game1 (19)'!$I$37,\": \",'game1 (19)'!$I$38,\": \",'game1 (19)'!$I$39),CONCATENATE('game1 (19)'!$I$36,\": \",'game1 (19)'!$I$37,\": \",'game1 (19)'!$I$38,\": \",'game1 (19)'!$I$39,\": \",'game1 (19)'!$I$40)))))),\"\")","v":"6 - D Butts, 14"}]
[{"$f":"IF(A139<>\"\",CONCATENATE('game1 (19)'!$C$4,\" - \",'game1 (19)'!$D$4, \" \", UPPER('game1 (19)'!$E$4)),\"\")","v":"75 - 41 "},{"$f":"'game1 (19)'!D$32","v":2},{"$f":"'game1 (19)'!E$32","v":17},{"$f":"'game1 (19)'!R$32","v":{"v":0.11764705882352941,"d":"12%"}},{"$f":"'game1 (19)'!F$32","v":15},{"$f":"'game1 (19)'!G$32","v":36},{"$f":"'game1 (19)'!S$32","v":{"v":0.4166666666666667,"d":"42%"}},{"$f":"'game1 (19)'!H$32","v":5},{"$f":"'game1 (19)'!I$32","v":7},{"$f":"'game1 (19)'!T$32","v":{"v":0.7142857142857143,"d":"71%"}},{"$f":"'game1 (19)'!U$32","v":{"v":0.32075471698113206,"d":"32%"}},{"$f":"'game1 (19)'!J$32","v":15},{"$f":"'game1 (19)'!K$32","v":18},33,{"$f":"'game1 (19)'!L$32","v":4},{"$f":"'game1 (19)'!M$32","v":8},{"$f":"'game1 (19)'!N$32","v":1},{"$f":"'game1 (19)'!O$32","v":25},{"$f":"'game1 (19)'!P$32","v":22}]
[{"$f":"IF('game1 (20)'!$C$2<>\"\",'game1 (20)'!$X$2,\"\")","v":"Big Horn: 2/16/18 **"},{"$f":"'game1 (20)'!D$31","v":4},{"$f":"'game1 (20)'!E$31","v":13},{"$f":"'game1 (20)'!R$31","v":{"v":0.3076923076923077,"d":"31%"}},{"$f":"'game1 (20)'!F$31","v":15},{"$f":"'game1 (20)'!G$31","v":29},{"$f":"'game1 (20)'!S$31","v":{"v":0.5172413793103449,"d":"52%"}},{"$f":"'game1 (20)'!H$31","v":13},{"$f":"'game1 (20)'!I$31","v":18},{"$f":"'game1 (20)'!T$31","v":{"v":0.7222222222222222,"d":"72%"}},{"$f":"'game1 (20)'!U$31","v":{"v":0.4523809523809524,"d":"45%"}},{"$f":"'game1 (20)'!J$31","v":9},{"$f":"'game1 (20)'!K$31","v":23},32,{"$f":"'game1 (20)'!L$31","v":13},{"$f":"'game1 (20)'!M$31","v":2},{"$f":"'game1 (20)'!N$31","v":1},{"$f":"'game1 (20)'!O$31","v":14},{"$f":"'game1 (20)'!P$31","v":9},{"$f":"IF(A141<>\"\",CONCATENATE('game1 (20)'!$B$36,\" - \",IF('game1 (20)'!$B$49=1,'game1 (20)'!$C$36,IF('game1 (20)'!$B$49=2,CONCATENATE('game1 (20)'!$C$36,\": \",'game1 (20)'!$C$37),IF('game1 (20)'!$B$49=3,CONCATENATE('game1 (20)'!$C$36,\": \",'game1 (20)'!$C$37,\": \",'game1 (20)'!$C$38),IF('game1 (20)'!$B$49=4,CONCATENATE('game1 (20)'!$C$36,\": \",'game1 (20)'!$C$37,\": \",'game1 (20)'!$C$38,\": \",'game1 (20)'!$C$39),CONCATENATE('game1 (20)'!$C$36,\": \",'game1 (20)'!$C$37,\": \",'game1 (20)'!$C$38,\": \",'game1 (20)'!$C$39,\": \",'game1 (20)'!$C$40)))))),\"\")","v":"17 - C Louderback, 23"},null,null,{"$f":"IF(A141<>\"\",CONCATENATE('game1 (20)'!$E$36,\" - \",IF('game1 (20)'!$E$49=1,'game1 (20)'!$F$36,IF('game1 (20)'!$E$49=2,CONCATENATE('game1 (20)'!$F$36,\": \",'game1 (20)'!$F$37),IF('game1 (20)'!$E$49=3,CONCATENATE('game1 (20)'!$F$36,\": \",'game1 (20)'!$F$37,\": \",'game1 (20)'!$F$38),IF('game1 (20)'!$E$49=4,CONCATENATE('game1 (20)'!$F$36,\": \",'game1 (20)'!$F$37,\": \",'game1 (20)'!$F$38,\": \",'game1 (20)'!$F$39),CONCATENATE('game1 (20)'!$F$36,\": \",'game1 (20)'!$F$37,\": \",'game1 (20)'!$F$38,\": \",'game1 (20)'!$F$39,\": \",'game1 (20)'!$F$40)))))),\"\")","v":"8 - P Watt, 24: C Louderback, 23"},null,null,{"$f":"IF(A141<>\"\",CONCATENATE('game1 (20)'!$H$36,\" - \",IF('game1 (20)'!$H$49=1,'game1 (20)'!$I$36,IF('game1 (20)'!$H$49=2,CONCATENATE('game1 (20)'!$I$36,\": \",'game1 (20)'!$I$37),IF('game1 (20)'!$H$49=3,CONCATENATE('game1 (20)'!$I$36,\": \",'game1 (20)'!$I$37,\": \",'game1 (20)'!$I$38),IF('game1 (20)'!$H$49=4,CONCATENATE('game1 (20)'!$I$36,\": \",'game1 (20)'!$I$37,\": \",'game1 (20)'!$I$38,\": \",'game1 (20)'!$I$39),CONCATENATE('game1 (20)'!$I$36,\": \",'game1 (20)'!$I$37,\": \",'game1 (20)'!$I$38,\": \",'game1 (20)'!$I$39,\": \",'game1 (20)'!$I$40)))))),\"\")","v":"4 - D Barritt, 20: B Bruce, 22"}]
[{"$f":"IF(A141<>\"\",CONCATENATE('game1 (20)'!$C$4,\" - \",'game1 (20)'!$D$4, \" \", UPPER('game1 (20)'!$E$4)),\"\")","v":"55 - 52 "},{"$f":"'game1 (20)'!D$32","v":4},{"$f":"'game1 (20)'!E$32","v":16},{"$f":"'game1 (20)'!R$32","v":{"v":0.25,"d":"25%"}},{"$f":"'game1 (20)'!F$32","v":18},{"$f":"'game1 (20)'!G$32","v":41},{"$f":"'game1 (20)'!S$32","v":{"v":0.43902439024390244,"d":"44%"}},{"$f":"'game1 (20)'!H$32","v":4},{"$f":"'game1 (20)'!I$32","v":6},{"$f":"'game1 (20)'!T$32","v":{"v":0.6666666666666666,"d":"67%"}},{"$f":"'game1 (20)'!U$32","v":{"v":0.38596491228070173,"d":"39%"}},{"$f":"'game1 (20)'!J$32","v":10},{"$f":"'game1 (20)'!K$32","v":17},27,{"$f":"'game1 (20)'!L$32","v":2},{"$f":"'game1 (20)'!M$32","v":6},{"$f":"'game1 (20)'!N$32","v":2},{"$f":"'game1 (20)'!O$32","v":9},{"$f":"'game1 (20)'!P$32","v":17}]
[{"$f":"IF('game1 (21)'!$C$2<>\"\",'game1 (21)'!$X$2,\"\")","v":"Tongue River: 2/17/18 **"},{"$f":"'game1 (21)'!D$31","v":6},{"$f":"'game1 (21)'!E$31","v":24},{"$f":"'game1 (21)'!R$31","v":{"v":0.25,"d":"25%"}},{"$f":"'game1 (21)'!F$31","v":27},{"$f":"'game1 (21)'!G$31","v":45},{"$f":"'game1 (21)'!S$31","v":{"v":0.6,"d":"60%"}},{"$f":"'game1 (21)'!H$31","v":9},{"$f":"'game1 (21)'!I$31","v":16},{"$f":"'game1 (21)'!T$31","v":{"v":0.5625,"d":"56%"}},{"$f":"'game1 (21)'!U$31","v":{"v":0.4782608695652174,"d":"48%"}},{"$f":"'game1 (21)'!J$31","v":15},{"$f":"'game1 (21)'!K$31","v":30},45,{"$f":"'game1 (21)'!L$31","v":24},{"$f":"'game1 (21)'!M$31","v":8},{"$f":"'game1 (21)'!N$31","v":0},{"$f":"'game1 (21)'!O$31","v":7},{"$f":"'game1 (21)'!P$31","v":15},{"$f":"IF(A143<>\"\",CONCATENATE('game1 (21)'!$B$36,\" - \",IF('game1 (21)'!$B$49=1,'game1 (21)'!$C$36,IF('game1 (21)'!$B$49=2,CONCATENATE('game1 (21)'!$C$36,\": \",'game1 (21)'!$C$37),IF('game1 (21)'!$B$49=3,CONCATENATE('game1 (21)'!$C$36,\": \",'game1 (21)'!$C$37,\": \",'game1 (21)'!$C$38),IF('game1 (21)'!$B$49=4,CONCATENATE('game1 (21)'!$C$36,\": \",'game1 (21)'!$C$37,\": \",'game1 (21)'!$C$38,\": \",'game1 (21)'!$C$39),CONCATENATE('game1 (21)'!$C$36,\": \",'game1 (21)'!$C$37,\": \",'game1 (21)'!$C$38,\": \",'game1 (21)'!$C$39,\": \",'game1 (21)'!$C$40)))))),\"\")","v":"24 - P Watt, 24"},null,null,{"$f":"IF(A143<>\"\",CONCATENATE('game1 (21)'!$E$36,\" - \",IF('game1 (21)'!$E$49=1,'game1 (21)'!$F$36,IF('game1 (21)'!$E$49=2,CONCATENATE('game1 (21)'!$F$36,\": \",'game1 (21)'!$F$37),IF('game1 (21)'!$E$49=3,CONCATENATE('game1 (21)'!$F$36,\": \",'game1 (21)'!$F$37,\": \",'game1 (21)'!$F$38),IF('game1 (21)'!$E$49=4,CONCATENATE('game1 (21)'!$F$36,\": \",'game1 (21)'!$F$37,\": \",'game1 (21)'!$F$38,\": \",'game1 (21)'!$F$39),CONCATENATE('game1 (21)'!$F$36,\": \",'game1 (21)'!$F$37,\": \",'game1 (21)'!$F$38,\": \",'game1 (21)'!$F$39,\": \",'game1 (21)'!$F$40)))))),\"\")","v":"17 - P Watt, 24"},null,null,{"$f":"IF(A143<>\"\",CONCATENATE('game1 (21)'!$H$36,\" - \",IF('game1 (21)'!$H$49=1,'game1 (21)'!$I$36,IF('game1 (21)'!$H$49=2,CONCATENATE('game1 (21)'!$I$36,\": \",'game1 (21)'!$I$37),IF('game1 (21)'!$H$49=3,CONCATENATE('game1 (21)'!$I$36,\": \",'game1 (21)'!$I$37,\": \",'game1 (21)'!$I$38),IF('game1 (21)'!$H$49=4,CONCATENATE('game1 (21)'!$I$36,\": \",'game1 (21)'!$I$37,\": \",'game1 (21)'!$I$38,\": \",'game1 (21)'!$I$39),CONCATENATE('game1 (21)'!$I$36,\": \",'game1 (21)'!$I$37,\": \",'game1 (21)'!$I$38,\": \",'game1 (21)'!$I$39,\": \",'game1 (21)'!$I$40)))))),\"\")","v":"7 - D Butts, 14"}]
[{"$f":"IF(A143<>\"\",CONCATENATE('game1 (21)'!$C$4,\" - \",'game1 (21)'!$D$4, \" \", UPPER('game1 (21)'!$E$4)),\"\")","v":"81 - 57 "},{"$f":"'game1 (21)'!D$32","v":7},{"$f":"'game1 (21)'!E$32","v":20},{"$f":"'game1 (21)'!R$32","v":{"v":0.35,"d":"35%"}},{"$f":"'game1 (21)'!F$32","v":13},{"$f":"'game1 (21)'!G$32","v":37},{"$f":"'game1 (21)'!S$32","v":{"v":0.35135135135135137,"d":"35%"}},{"$f":"'game1 (21)'!H$32","v":10},{"$f":"'game1 (21)'!I$32","v":17},{"$f":"'game1 (21)'!T$32","v":{"v":0.5882352941176471,"d":"59%"}},{"$f":"'game1 (21)'!U$32","v":{"v":0.3508771929824561,"d":"35%"}},{"$f":"'game1 (21)'!J$32","v":8},{"$f":"'game1 (21)'!K$32","v":24},32,{"$f":"'game1 (21)'!L$32","v":13},{"$f":"'game1 (21)'!M$32","v":3},{"$f":"'game1 (21)'!N$32","v":1},{"$f":"'game1 (21)'!O$32","v":12},{"$f":"'game1 (21)'!P$32","v":14}]
[{"$f":"IF('game1 (22)'!$C$2<>\"\",'game1 (22)'!$X$2,\"\")","v":"Southeast HS: 2/22/18"},{"$f":"'game1 (22)'!D$31","v":8},{"$f":"'game1 (22)'!E$31","v":26},{"$f":"'game1 (22)'!R$31","v":{"v":0.3076923076923077,"d":"31%"}},{"$f":"'game1 (22)'!F$31","v":12},{"$f":"'game1 (22)'!G$31","v":28},{"$f":"'game1 (22)'!S$31","v":{"v":0.42857142857142855,"d":"43%"}},{"$f":"'game1 (22)'!H$31","v":6},{"$f":"'game1 (22)'!I$31","v":17},{"$f":"'game1 (22)'!T$31","v":{"v":0.35294117647058826,"d":"35%"}},{"$f":"'game1 (22)'!U$31","v":{"v":0.37037037037037035,"d":"37%"}},{"$f":"'game1 (22)'!J$31","v":10},{"$f":"'game1 (22)'!K$31","v":17},27,{"$f":"'game1 (22)'!L$31","v":12},{"$f":"'game1 (22)'!M$31","v":10},{"$f":"'game1 (22)'!N$31","v":2},{"$f":"'game1 (22)'!O$31","v":14},{"$f":"'game1 (22)'!P$31","v":21},{"$f":"IF(A145<>\"\",CONCATENATE('game1 (22)'!$B$36,\" - \",IF('game1 (22)'!$B$49=1,'game1 (22)'!$C$36,IF('game1 (22)'!$B$49=2,CONCATENATE('game1 (22)'!$C$36,\": \",'game1 (22)'!$C$37),IF('game1 (22)'!$B$49=3,CONCATENATE('game1 (22)'!$C$36,\": \",'game1 (22)'!$C$37,\": \",'game1 (22)'!$C$38),IF('game1 (22)'!$B$49=4,CONCATENATE('game1 (22)'!$C$36,\": \",'game1 (22)'!$C$37,\": \",'game1 (22)'!$C$38,\": \",'game1 (22)'!$C$39),CONCATENATE('game1 (22)'!$C$36,\": \",'game1 (22)'!$C$37,\": \",'game1 (22)'!$C$38,\": \",'game1 (22)'!$C$39,\": \",'game1 (22)'!$C$40)))))),\"\")","v":"15 - J Caylor, 12"},null,null,{"$f":"IF(A145<>\"\",CONCATENATE('game1 (22)'!$E$36,\" - \",IF('game1 (22)'!$E$49=1,'game1 (22)'!$F$36,IF('game1 (22)'!$E$49=2,CONCATENATE('game1 (22)'!$F$36,\": \",'game1 (22)'!$F$37),IF('game1 (22)'!$E$49=3,CONCATENATE('game1 (22)'!$F$36,\": \",'game1 (22)'!$F$37,\": \",'game1 (22)'!$F$38),IF('game1 (22)'!$E$49=4,CONCATENATE('game1 (22)'!$F$36,\": \",'game1 (22)'!$F$37,\": \",'game1 (22)'!$F$38,\": \",'game1 (22)'!$F$39),CONCATENATE('game1 (22)'!$F$36,\": \",'game1 (22)'!$F$37,\": \",'game1 (22)'!$F$38,\": \",'game1 (22)'!$F$39,\": \",'game1 (22)'!$F$40)))))),\"\")","v":"7 - J Caylor, 12"},null,null,{"$f":"IF(A145<>\"\",CONCATENATE('game1 (22)'!$H$36,\" - \",IF('game1 (22)'!$H$49=1,'game1 (22)'!$I$36,IF('game1 (22)'!$H$49=2,CONCATENATE('game1 (22)'!$I$36,\": \",'game1 (22)'!$I$37),IF('game1 (22)'!$H$49=3,CONCATENATE('game1 (22)'!$I$36,\": \",'game1 (22)'!$I$37,\": \",'game1 (22)'!$I$38),IF('game1 (22)'!$H$49=4,CONCATENATE('game1 (22)'!$I$36,\": \",'game1 (22)'!$I$37,\": \",'game1 (22)'!$I$38,\": \",'game1 (22)'!$I$39),CONCATENATE('game1 (22)'!$I$36,\": \",'game1 (22)'!$I$37,\": \",'game1 (22)'!$I$38,\": \",'game1 (22)'!$I$39,\": \",'game1 (22)'!$I$40)))))),\"\")","v":"4 - J Caylor, 12"}]
[{"$f":"IF(A145<>\"\",CONCATENATE('game1 (22)'!$C$4,\" - \",'game1 (22)'!$D$4, \" \", UPPER('game1 (22)'!$E$4)),\"\")","v":"54 - 59 "},{"$f":"'game1 (22)'!D$32","v":4},{"$f":"'game1 (22)'!E$32","v":12},{"$f":"'game1 (22)'!R$32","v":{"v":0.3333333333333333,"d":"33%"}},{"$f":"'game1 (22)'!F$32","v":14},{"$f":"'game1 (22)'!G$32","v":31},{"$f":"'game1 (22)'!S$32","v":{"v":0.45161290322580644,"d":"45%"}},{"$f":"'game1 (22)'!H$32","v":19},{"$f":"'game1 (22)'!I$32","v":26},{"$f":"'game1 (22)'!T$32","v":{"v":0.7307692307692307,"d":"73%"}},{"$f":"'game1 (22)'!U$32","v":{"v":0.4186046511627907,"d":"42%"}},{"$f":"'game1 (22)'!J$32","v":8},{"$f":"'game1 (22)'!K$32","v":25},33,{"$f":"'game1 (22)'!L$32","v":4},{"$f":"'game1 (22)'!M$32","v":5},{"$f":"'game1 (22)'!N$32","v":4},{"$f":"'game1 (22)'!O$32","v":17},{"$f":"'game1 (22)'!P$32","v":18}]
[{"$f":"IF('game1 (23)'!$C$2<>\"\",'game1 (23)'!$X$2,\"\")","v":"Lusk   : 2/23/18"},{"$f":"'game1 (23)'!D$31","v":10},{"$f":"'game1 (23)'!E$31","v":22},{"$f":"'game1 (23)'!R$31","v":{"v":0.45454545454545453,"d":"45%"}},{"$f":"'game1 (23)'!F$31","v":20},{"$f":"'game1 (23)'!G$31","v":32},{"$f":"'game1 (23)'!S$31","v":{"v":0.625,"d":"63%"}},{"$f":"'game1 (23)'!H$31","v":13},{"$f":"'game1 (23)'!I$31","v":23},{"$f":"'game1 (23)'!T$31","v":{"v":0.5652173913043478,"d":"57%"}},{"$f":"'game1 (23)'!U$31","v":{"v":0.5555555555555556,"d":"56%"}},{"$f":"'game1 (23)'!J$31","v":14},{"$f":"'game1 (23)'!K$31","v":26},40,{"$f":"'game1 (23)'!L$31","v":20},{"$f":"'game1 (23)'!M$31","v":15},{"$f":"'game1 (23)'!N$31","v":0},{"$f":"'game1 (23)'!O$31","v":11},{"$f":"'game1 (23)'!P$31","v":16},{"$f":"IF(A147<>\"\",CONCATENATE('game1 (23)'!$B$36,\" - \",IF('game1 (23)'!$B$49=1,'game1 (23)'!$C$36,IF('game1 (23)'!$B$49=2,CONCATENATE('game1 (23)'!$C$36,\": \",'game1 (23)'!$C$37),IF('game1 (23)'!$B$49=3,CONCATENATE('game1 (23)'!$C$36,\": \",'game1 (23)'!$C$37,\": \",'game1 (23)'!$C$38),IF('game1 (23)'!$B$49=4,CONCATENATE('game1 (23)'!$C$36,\": \",'game1 (23)'!$C$37,\": \",'game1 (23)'!$C$38,\": \",'game1 (23)'!$C$39),CONCATENATE('game1 (23)'!$C$36,\": \",'game1 (23)'!$C$37,\": \",'game1 (23)'!$C$38,\": \",'game1 (23)'!$C$39,\": \",'game1 (23)'!$C$40)))))),\"\")","v":"24 - P Watt, 24"},null,null,{"$f":"IF(A147<>\"\",CONCATENATE('game1 (23)'!$E$36,\" - \",IF('game1 (23)'!$E$49=1,'game1 (23)'!$F$36,IF('game1 (23)'!$E$49=2,CONCATENATE('game1 (23)'!$F$36,\": \",'game1 (23)'!$F$37),IF('game1 (23)'!$E$49=3,CONCATENATE('game1 (23)'!$F$36,\": \",'game1 (23)'!$F$37,\": \",'game1 (23)'!$F$38),IF('game1 (23)'!$E$49=4,CONCATENATE('game1 (23)'!$F$36,\": \",'game1 (23)'!$F$37,\": \",'game1 (23)'!$F$38,\": \",'game1 (23)'!$F$39),CONCATENATE('game1 (23)'!$F$36,\": \",'game1 (23)'!$F$37,\": \",'game1 (23)'!$F$38,\": \",'game1 (23)'!$F$39,\": \",'game1 (23)'!$F$40)))))),\"\")","v":"13 - C Louderback, 23"},null,null,{"$f":"IF(A147<>\"\",CONCATENATE('game1 (23)'!$H$36,\" - \",IF('game1 (23)'!$H$49=1,'game1 (23)'!$I$36,IF('game1 (23)'!$H$49=2,CONCATENATE('game1 (23)'!$I$36,\": \",'game1 (23)'!$I$37),IF('game1 (23)'!$H$49=3,CONCATENATE('game1 (23)'!$I$36,\": \",'game1 (23)'!$I$37,\": \",'game1 (23)'!$I$38),IF('game1 (23)'!$H$49=4,CONCATENATE('game1 (23)'!$I$36,\": \",'game1 (23)'!$I$37,\": \",'game1 (23)'!$I$38,\": \",'game1 (23)'!$I$39),CONCATENATE('game1 (23)'!$I$36,\": \",'game1 (23)'!$I$37,\": \",'game1 (23)'!$I$38,\": \",'game1 (23)'!$I$39,\": \",'game1 (23)'!$I$40)))))),\"\")","v":"6 - C Louderback, 23"}]
[{"$f":"IF(A147<>\"\",CONCATENATE('game1 (23)'!$C$4,\" - \",'game1 (23)'!$D$4, \" \", UPPER('game1 (23)'!$E$4)),\"\")","v":"83 - 47 "},{"$f":"'game1 (23)'!D$32","v":2},{"$f":"'game1 (23)'!E$32","v":6},{"$f":"'game1 (23)'!R$32","v":{"v":0.3333333333333333,"d":"33%"}},{"$f":"'game1 (23)'!F$32","v":17},{"$f":"'game1 (23)'!G$32","v":46},{"$f":"'game1 (23)'!S$32","v":{"v":0.3695652173913043,"d":"37%"}},{"$f":"'game1 (23)'!H$32","v":7},{"$f":"'game1 (23)'!I$32","v":18},{"$f":"'game1 (23)'!T$32","v":{"v":0.3888888888888889,"d":"39%"}},{"$f":"'game1 (23)'!U$32","v":{"v":0.36538461538461536,"d":"37%"}},{"$f":"'game1 (23)'!J$32","v":12},{"$f":"'game1 (23)'!K$32","v":15},27,{"$f":"'game1 (23)'!L$32","v":3},{"$f":"'game1 (23)'!M$32","v":5},{"$f":"'game1 (23)'!N$32","v":1},{"$f":"'game1 (23)'!O$32","v":18},{"$f":"'game1 (23)'!P$32","v":18}]
[{"$f":"IF('game1 (24)'!$C$2<>\"\",'game1 (24)'!$X$2,\"\")","v":"Big Horn: 2/24/18"},{"$f":"'game1 (24)'!D$31","v":3},{"$f":"'game1 (24)'!E$31","v":11},{"$f":"'game1 (24)'!R$31","v":{"v":0.2727272727272727,"d":"27%"}},{"$f":"'game1 (24)'!F$31","v":21},{"$f":"'game1 (24)'!G$31","v":43},{"$f":"'game1 (24)'!S$31","v":{"v":0.4883720930232558,"d":"49%"}},{"$f":"'game1 (24)'!H$31","v":22},{"$f":"'game1 (24)'!I$31","v":34},{"$f":"'game1 (24)'!T$31","v":{"v":0.6470588235294118,"d":"65%"}},{"$f":"'game1 (24)'!U$31","v":{"v":0.4444444444444444,"d":"44%"}},{"$f":"'game1 (24)'!J$31","v":16},{"$f":"'game1 (24)'!K$31","v":24},40,{"$f":"'game1 (24)'!L$31","v":13},{"$f":"'game1 (24)'!M$31","v":9},{"$f":"'game1 (24)'!N$31","v":0},{"$f":"'game1 (24)'!O$31","v":15},{"$f":"'game1 (24)'!P$31","v":21},{"$f":"IF(A149<>\"\",CONCATENATE('game1 (24)'!$B$36,\" - \",IF('game1 (24)'!$B$49=1,'game1 (24)'!$C$36,IF('game1 (24)'!$B$49=2,CONCATENATE('game1 (24)'!$C$36,\": \",'game1 (24)'!$C$37),IF('game1 (24)'!$B$49=3,CONCATENATE('game1 (24)'!$C$36,\": \",'game1 (24)'!$C$37,\": \",'game1 (24)'!$C$38),IF('game1 (24)'!$B$49=4,CONCATENATE('game1 (24)'!$C$36,\": \",'game1 (24)'!$C$37,\": \",'game1 (24)'!$C$38,\": \",'game1 (24)'!$C$39),CONCATENATE('game1 (24)'!$C$36,\": \",'game1 (24)'!$C$37,\": \",'game1 (24)'!$C$38,\": \",'game1 (24)'!$C$39,\": \",'game1 (24)'!$C$40)))))),\"\")","v":"30 - C Louderback, 23"},null,null,{"$f":"IF(A149<>\"\",CONCATENATE('game1 (24)'!$E$36,\" - \",IF('game1 (24)'!$E$49=1,'game1 (24)'!$F$36,IF('game1 (24)'!$E$49=2,CONCATENATE('game1 (24)'!$F$36,\": \",'game1 (24)'!$F$37),IF('game1 (24)'!$E$49=3,CONCATENATE('game1 (24)'!$F$36,\": \",'game1 (24)'!$F$37,\": \",'game1 (24)'!$F$38),IF('game1 (24)'!$E$49=4,CONCATENATE('game1 (24)'!$F$36,\": \",'game1 (24)'!$F$37,\": \",'game1 (24)'!$F$38,\": \",'game1 (24)'!$F$39),CONCATENATE('game1 (24)'!$F$36,\": \",'game1 (24)'!$F$37,\": \",'game1 (24)'!$F$38,\": \",'game1 (24)'!$F$39,\": \",'game1 (24)'!$F$40)))))),\"\")","v":"12 - P Watt, 24"},null,null,{"$f":"IF(A149<>\"\",CONCATENATE('game1 (24)'!$H$36,\" - \",IF('game1 (24)'!$H$49=1,'game1 (24)'!$I$36,IF('game1 (24)'!$H$49=2,CONCATENATE('game1 (24)'!$I$36,\": \",'game1 (24)'!$I$37),IF('game1 (24)'!$H$49=3,CONCATENATE('game1 (24)'!$I$36,\": \",'game1 (24)'!$I$37,\": \",'game1 (24)'!$I$38),IF('game1 (24)'!$H$49=4,CONCATENATE('game1 (24)'!$I$36,\": \",'game1 (24)'!$I$37,\": \",'game1 (24)'!$I$38,\": \",'game1 (24)'!$I$39),CONCATENATE('game1 (24)'!$I$36,\": \",'game1 (24)'!$I$37,\": \",'game1 (24)'!$I$38,\": \",'game1 (24)'!$I$39,\": \",'game1 (24)'!$I$40)))))),\"\")","v":"4 - P Watt, 24"}]
[{"$f":"IF(A149<>\"\",CONCATENATE('game1 (24)'!$C$4,\" - \",'game1 (24)'!$D$4, \" \", UPPER('game1 (24)'!$E$4)),\"\")","v":"73 - 62 "},{"$f":"'game1 (24)'!D$32","v":5},{"$f":"'game1 (24)'!E$32","v":21},{"$f":"'game1 (24)'!R$32","v":{"v":0.23809523809523808,"d":"24%"}},{"$f":"'game1 (24)'!F$32","v":17},{"$f":"'game1 (24)'!G$32","v":36},{"$f":"'game1 (24)'!S$32","v":{"v":0.4722222222222222,"d":"47%"}},{"$f":"'game1 (24)'!H$32","v":13},{"$f":"'game1 (24)'!I$32","v":20},{"$f":"'game1 (24)'!T$32","v":{"v":0.65,"d":"65%"}},{"$f":"'game1 (24)'!U$32","v":{"v":0.38596491228070173,"d":"39%"}},{"$f":"'game1 (24)'!J$32","v":13},{"$f":"'game1 (24)'!K$32","v":18},31,{"$f":"'game1 (24)'!L$32","v":7},{"$f":"'game1 (24)'!M$32","v":3},{"$f":"'game1 (24)'!N$32","v":0},{"$f":"'game1 (24)'!O$32","v":22},{"$f":"'game1 (24)'!P$32","v":28}]
[{"$f":"IF('game1 (25)'!$C$2<>\"\",'game1 (25)'!$X$2,\"\")","v":"Wright  : 2/24/18"},{"$f":"'game1 (25)'!D$31","v":9},{"$f":"'game1 (25)'!E$31","v":29},{"$f":"'game1 (25)'!R$31","v":{"v":0.3103448275862069,"d":"31%"}},{"$f":"'game1 (25)'!F$31","v":18},{"$f":"'game1 (25)'!G$31","v":38},{"$f":"'game1 (25)'!S$31","v":{"v":0.47368421052631576,"d":"47%"}},{"$f":"'game1 (25)'!H$31","v":19},{"$f":"'game1 (25)'!I$31","v":26},{"$f":"'game1 (25)'!T$31","v":{"v":0.7307692307692307,"d":"73%"}},{"$f":"'game1 (25)'!U$31","v":{"v":0.40298507462686567,"d":"40%"}},{"$f":"'game1 (25)'!J$31","v":18},{"$f":"'game1 (25)'!K$31","v":24},42,{"$f":"'game1 (25)'!L$31","v":23},{"$f":"'game1 (25)'!M$31","v":14},{"$f":"'game1 (25)'!N$31","v":0},{"$f":"'game1 (25)'!O$31","v":7},{"$f":"'game1 (25)'!P$31","v":12},{"$f":"IF(A151<>\"\",CONCATENATE('game1 (25)'!$B$36,\" - \",IF('game1 (25)'!$B$49=1,'game1 (25)'!$C$36,IF('game1 (25)'!$B$49=2,CONCATENATE('game1 (25)'!$C$36,\": \",'game1 (25)'!$C$37),IF('game1 (25)'!$B$49=3,CONCATENATE('game1 (25)'!$C$36,\": \",'game1 (25)'!$C$37,\": \",'game1 (25)'!$C$38),IF('game1 (25)'!$B$49=4,CONCATENATE('game1 (25)'!$C$36,\": \",'game1 (25)'!$C$37,\": \",'game1 (25)'!$C$38,\": \",'game1 (25)'!$C$39),CONCATENATE('game1 (25)'!$C$36,\": \",'game1 (25)'!$C$37,\": \",'game1 (25)'!$C$38,\": \",'game1 (25)'!$C$39,\": \",'game1 (25)'!$C$40)))))),\"\")","v":"30 - P Watt, 24"},null,null,{"$f":"IF(A151<>\"\",CONCATENATE('game1 (25)'!$E$36,\" - \",IF('game1 (25)'!$E$49=1,'game1 (25)'!$F$36,IF('game1 (25)'!$E$49=2,CONCATENATE('game1 (25)'!$F$36,\": \",'game1 (25)'!$F$37),IF('game1 (25)'!$E$49=3,CONCATENATE('game1 (25)'!$F$36,\": \",'game1 (25)'!$F$37,\": \",'game1 (25)'!$F$38),IF('game1 (25)'!$E$49=4,CONCATENATE('game1 (25)'!$F$36,\": \",'game1 (25)'!$F$37,\": \",'game1 (25)'!$F$38,\": \",'game1 (25)'!$F$39),CONCATENATE('game1 (25)'!$F$36,\": \",'game1 (25)'!$F$37,\": \",'game1 (25)'!$F$38,\": \",'game1 (25)'!$F$39,\": \",'game1 (25)'!$F$40)))))),\"\")","v":"8 - B Bruce, 22"},null,null,{"$f":"IF(A151<>\"\",CONCATENATE('game1 (25)'!$H$36,\" - \",IF('game1 (25)'!$H$49=1,'game1 (25)'!$I$36,IF('game1 (25)'!$H$49=2,CONCATENATE('game1 (25)'!$I$36,\": \",'game1 (25)'!$I$37),IF('game1 (25)'!$H$49=3,CONCATENATE('game1 (25)'!$I$36,\": \",'game1 (25)'!$I$37,\": \",'game1 (25)'!$I$38),IF('game1 (25)'!$H$49=4,CONCATENATE('game1 (25)'!$I$36,\": \",'game1 (25)'!$I$37,\": \",'game1 (25)'!$I$38,\": \",'game1 (25)'!$I$39),CONCATENATE('game1 (25)'!$I$36,\": \",'game1 (25)'!$I$37,\": \",'game1 (25)'!$I$38,\": \",'game1 (25)'!$I$39,\": \",'game1 (25)'!$I$40)))))),\"\")","v":"8 - C Louderback, 23"}]
[{"$f":"IF(A151<>\"\",CONCATENATE('game1 (25)'!$C$4,\" - \",'game1 (25)'!$D$4, \" \", UPPER('game1 (25)'!$E$4)),\"\")","v":"82 - 56 "},{"$f":"'game1 (25)'!D$32","v":2},{"$f":"'game1 (25)'!E$32","v":8},{"$f":"'game1 (25)'!R$32","v":{"v":0.25,"d":"25%"}},{"$f":"'game1 (25)'!F$32","v":21},{"$f":"'game1 (25)'!G$32","v":45},{"$f":"'game1 (25)'!S$32","v":{"v":0.4666666666666667,"d":"47%"}},{"$f":"'game1 (25)'!H$32","v":8},{"$f":"'game1 (25)'!I$32","v":11},{"$f":"'game1 (25)'!T$32","v":{"v":0.7272727272727273,"d":"73%"}},{"$f":"'game1 (25)'!U$32","v":{"v":0.4339622641509434,"d":"43%"}},{"$f":"'game1 (25)'!J$32","v":7},{"$f":"'game1 (25)'!K$32","v":25},32,{"$f":"'game1 (25)'!L$32","v":14},{"$f":"'game1 (25)'!M$32","v":3},{"$f":"'game1 (25)'!N$32","v":0},{"$f":"'game1 (25)'!O$32","v":22},{"$f":"'game1 (25)'!P$32","v":17}]
[{"$f":"IF('game1 (26)'!$C$2<>\"\",'game1 (26)'!$X$2,\"\")","v":"Wyoming Indian: 3/1/18"},{"$f":"'game1 (26)'!D$31","v":5},{"$f":"'game1 (26)'!E$31","v":16},{"$f":"'game1 (26)'!R$31","v":{"v":0.3125,"d":"31%"}},{"$f":"'game1 (26)'!F$31","v":18},{"$f":"'game1 (26)'!G$31","v":31},{"$f":"'game1 (26)'!S$31","v":{"v":0.5806451612903226,"d":"58%"}},{"$f":"'game1 (26)'!H$31","v":16},{"$f":"'game1 (26)'!I$31","v":25},{"$f":"'game1 (26)'!T$31","v":{"v":0.64,"d":"64%"}},{"$f":"'game1 (26)'!U$31","v":{"v":0.48936170212765956,"d":"49%"}},{"$f":"'game1 (26)'!J$31","v":10},{"$f":"'game1 (26)'!K$31","v":31},41,{"$f":"'game1 (26)'!L$31","v":15},{"$f":"'game1 (26)'!M$31","v":9},{"$f":"'game1 (26)'!N$31","v":1},{"$f":"'game1 (26)'!O$31","v":12},{"$f":"'game1 (26)'!P$31","v":14},{"$f":"IF(A153<>\"\",CONCATENATE('game1 (26)'!$B$36,\" - \",IF('game1 (26)'!$B$49=1,'game1 (26)'!$C$36,IF('game1 (26)'!$B$49=2,CONCATENATE('game1 (26)'!$C$36,\": \",'game1 (26)'!$C$37),IF('game1 (26)'!$B$49=3,CONCATENATE('game1 (26)'!$C$36,\": \",'game1 (26)'!$C$37,\": \",'game1 (26)'!$C$38),IF('game1 (26)'!$B$49=4,CONCATENATE('game1 (26)'!$C$36,\": \",'game1 (26)'!$C$37,\": \",'game1 (26)'!$C$38,\": \",'game1 (26)'!$C$39),CONCATENATE('game1 (26)'!$C$36,\": \",'game1 (26)'!$C$37,\": \",'game1 (26)'!$C$38,\": \",'game1 (26)'!$C$39,\": \",'game1 (26)'!$C$40)))))),\"\")","v":"28 - C Louderback, 23"},null,null,{"$f":"IF(A153<>\"\",CONCATENATE('game1 (26)'!$E$36,\" - \",IF('game1 (26)'!$E$49=1,'game1 (26)'!$F$36,IF('game1 (26)'!$E$49=2,CONCATENATE('game1 (26)'!$F$36,\": \",'game1 (26)'!$F$37),IF('game1 (26)'!$E$49=3,CONCATENATE('game1 (26)'!$F$36,\": \",'game1 (26)'!$F$37,\": \",'game1 (26)'!$F$38),IF('game1 (26)'!$E$49=4,CONCATENATE('game1 (26)'!$F$36,\": \",'game1 (26)'!$F$37,\": \",'game1 (26)'!$F$38,\": \",'game1 (26)'!$F$39),CONCATENATE('game1 (26)'!$F$36,\": \",'game1 (26)'!$F$37,\": \",'game1 (26)'!$F$38,\": \",'game1 (26)'!$F$39,\": \",'game1 (26)'!$F$40)))))),\"\")","v":"14 - C Louderback, 23"},null,null,{"$f":"IF(A153<>\"\",CONCATENATE('game1 (26)'!$H$36,\" - \",IF('game1 (26)'!$H$49=1,'game1 (26)'!$I$36,IF('game1 (26)'!$H$49=2,CONCATENATE('game1 (26)'!$I$36,\": \",'game1 (26)'!$I$37),IF('game1 (26)'!$H$49=3,CONCATENATE('game1 (26)'!$I$36,\": \",'game1 (26)'!$I$37,\": \",'game1 (26)'!$I$38),IF('game1 (26)'!$H$49=4,CONCATENATE('game1 (26)'!$I$36,\": \",'game1 (26)'!$I$37,\": \",'game1 (26)'!$I$38,\": \",'game1 (26)'!$I$39),CONCATENATE('game1 (26)'!$I$36,\": \",'game1 (26)'!$I$37,\": \",'game1 (26)'!$I$38,\": \",'game1 (26)'!$I$39,\": \",'game1 (26)'!$I$40)))))),\"\")","v":"4 - D Barritt, 20: J Claycomb, 10"}]
[{"$f":"IF(A153<>\"\",CONCATENATE('game1 (26)'!$C$4,\" - \",'game1 (26)'!$D$4, \" \", UPPER('game1 (26)'!$E$4)),\"\")","v":"67 - 55 "},{"$f":"'game1 (26)'!D$32","v":6},{"$f":"'game1 (26)'!E$32","v":23},{"$f":"'game1 (26)'!R$32","v":{"v":0.2608695652173913,"d":"26%"}},{"$f":"'game1 (26)'!F$32","v":14},{"$f":"'game1 (26)'!G$32","v":29},{"$f":"'game1 (26)'!S$32","v":{"v":0.4827586206896552,"d":"48%"}},{"$f":"'game1 (26)'!H$32","v":9},{"$f":"'game1 (26)'!I$32","v":17},{"$f":"'game1 (26)'!T$32","v":{"v":0.5294117647058824,"d":"53%"}},{"$f":"'game1 (26)'!U$32","v":{"v":0.38461538461538464,"d":"38%"}},{"$f":"'game1 (26)'!J$32","v":6},{"$f":"'game1 (26)'!K$32","v":19},25,{"$f":"'game1 (26)'!L$32","v":6},{"$f":"'game1 (26)'!M$32","v":7},{"$f":"'game1 (26)'!N$32","v":1},{"$f":"'game1 (26)'!O$32","v":13},{"$f":"'game1 (26)'!P$32","v":22}]
[{"$f":"IF('game1 (27)'!$C$2<>\"\",'game1 (27)'!$X$2,\"\")","v":"Pine Bluffs  : 3/2/18"},{"$f":"'game1 (27)'!D$31","v":5},{"$f":"'game1 (27)'!E$31","v":16},{"$f":"'game1 (27)'!R$31","v":{"v":0.3125,"d":"31%"}},{"$f":"'game1 (27)'!F$31","v":14},{"$f":"'game1 (27)'!G$31","v":36},{"$f":"'game1 (27)'!S$31","v":{"v":0.3888888888888889,"d":"39%"}},{"$f":"'game1 (27)'!H$31","v":6},{"$f":"'game1 (27)'!I$31","v":8},{"$f":"'game1 (27)'!T$31","v":{"v":0.75,"d":"75%"}},{"$f":"'game1 (27)'!U$31","v":{"v":0.36538461538461536,"d":"37%"}},{"$f":"'game1 (27)'!J$31","v":8},{"$f":"'game1 (27)'!K$31","v":21},29,{"$f":"'game1 (27)'!L$31","v":9},{"$f":"'game1 (27)'!M$31","v":5},{"$f":"'game1 (27)'!N$31","v":0},{"$f":"'game1 (27)'!O$31","v":15},{"$f":"'game1 (27)'!P$31","v":18},{"$f":"IF(A155<>\"\",CONCATENATE('game1 (27)'!$B$36,\" - \",IF('game1 (27)'!$B$49=1,'game1 (27)'!$C$36,IF('game1 (27)'!$B$49=2,CONCATENATE('game1 (27)'!$C$36,\": \",'game1 (27)'!$C$37),IF('game1 (27)'!$B$49=3,CONCATENATE('game1 (27)'!$C$36,\": \",'game1 (27)'!$C$37,\": \",'game1 (27)'!$C$38),IF('game1 (27)'!$B$49=4,CONCATENATE('game1 (27)'!$C$36,\": \",'game1 (27)'!$C$37,\": \",'game1 (27)'!$C$38,\": \",'game1 (27)'!$C$39),CONCATENATE('game1 (27)'!$C$36,\": \",'game1 (27)'!$C$37,\": \",'game1 (27)'!$C$38,\": \",'game1 (27)'!$C$39,\": \",'game1 (27)'!$C$40)))))),\"\")","v":"18 - P Watt, 24"},null,null,{"$f":"IF(A155<>\"\",CONCATENATE('game1 (27)'!$E$36,\" - \",IF('game1 (27)'!$E$49=1,'game1 (27)'!$F$36,IF('game1 (27)'!$E$49=2,CONCATENATE('game1 (27)'!$F$36,\": \",'game1 (27)'!$F$37),IF('game1 (27)'!$E$49=3,CONCATENATE('game1 (27)'!$F$36,\": \",'game1 (27)'!$F$37,\": \",'game1 (27)'!$F$38),IF('game1 (27)'!$E$49=4,CONCATENATE('game1 (27)'!$F$36,\": \",'game1 (27)'!$F$37,\": \",'game1 (27)'!$F$38,\": \",'game1 (27)'!$F$39),CONCATENATE('game1 (27)'!$F$36,\": \",'game1 (27)'!$F$37,\": \",'game1 (27)'!$F$38,\": \",'game1 (27)'!$F$39,\": \",'game1 (27)'!$F$40)))))),\"\")","v":"8 - P Watt, 24"},null,null,{"$f":"IF(A155<>\"\",CONCATENATE('game1 (27)'!$H$36,\" - \",IF('game1 (27)'!$H$49=1,'game1 (27)'!$I$36,IF('game1 (27)'!$H$49=2,CONCATENATE('game1 (27)'!$I$36,\": \",'game1 (27)'!$I$37),IF('game1 (27)'!$H$49=3,CONCATENATE('game1 (27)'!$I$36,\": \",'game1 (27)'!$I$37,\": \",'game1 (27)'!$I$38),IF('game1 (27)'!$H$49=4,CONCATENATE('game1 (27)'!$I$36,\": \",'game1 (27)'!$I$37,\": \",'game1 (27)'!$I$38,\": \",'game1 (27)'!$I$39),CONCATENATE('game1 (27)'!$I$36,\": \",'game1 (27)'!$I$37,\": \",'game1 (27)'!$I$38,\": \",'game1 (27)'!$I$39,\": \",'game1 (27)'!$I$40)))))),\"\")","v":"2 - J Caylor, 12: C Louderback, 23: B Bruce, 22"}]
[{"$f":"IF(A155<>\"\",CONCATENATE('game1 (27)'!$C$4,\" - \",'game1 (27)'!$D$4, \" \", UPPER('game1 (27)'!$E$4)),\"\")","v":"49 - 60 "},{"$f":"'game1 (27)'!D$32","v":3},{"$f":"'game1 (27)'!E$32","v":12},{"$f":"'game1 (27)'!R$32","v":{"v":0.25,"d":"25%"}},{"$f":"'game1 (27)'!F$32","v":22},{"$f":"'game1 (27)'!G$32","v":40},{"$f":"'game1 (27)'!S$32","v":{"v":0.55,"d":"55%"}},{"$f":"'game1 (27)'!H$32","v":7},{"$f":"'game1 (27)'!I$32","v":12},{"$f":"'game1 (27)'!T$32","v":{"v":0.5833333333333334,"d":"58%"}},{"$f":"'game1 (27)'!U$32","v":{"v":0.4807692307692308,"d":"48%"}},{"$f":"'game1 (27)'!J$32","v":7},{"$f":"'game1 (27)'!K$32","v":24},31,{"$f":"'game1 (27)'!L$32","v":1},{"$f":"'game1 (27)'!M$32","v":8},{"$f":"'game1 (27)'!N$32","v":1},{"$f":"'game1 (27)'!O$32","v":11},{"$f":"'game1 (27)'!P$32","v":15}]
[{"$f":"IF('game1 (28)'!$C$2<>\"\",'game1 (28)'!$X$2,\"\")","v":"Rocky Mountain: 3/3/18"},{"$f":"'game1 (28)'!D$31","v":6},{"$f":"'game1 (28)'!E$31","v":29},{"$f":"'game1 (28)'!R$31","v":{"v":0.20689655172413793,"d":"21%"}},{"$f":"'game1 (28)'!F$31","v":13},{"$f":"'game1 (28)'!G$31","v":29},{"$f":"'game1 (28)'!S$31","v":{"v":0.4482758620689655,"d":"45%"}},{"$f":"'game1 (28)'!H$31","v":12},{"$f":"'game1 (28)'!I$31","v":23},{"$f":"'game1 (28)'!T$31","v":{"v":0.5217391304347826,"d":"52%"}},{"$f":"'game1 (28)'!U$31","v":{"v":0.3275862068965517,"d":"33%"}},{"$f":"'game1 (28)'!J$31","v":16},{"$f":"'game1 (28)'!K$31","v":14},30,{"$f":"'game1 (28)'!L$31","v":12},{"$f":"'game1 (28)'!M$31","v":14},{"$f":"'game1 (28)'!N$31","v":1},{"$f":"'game1 (28)'!O$31","v":19},{"$f":"'game1 (28)'!P$31","v":17},{"$f":"IF(A157<>\"\",CONCATENATE('game1 (28)'!$B$36,\" - \",IF('game1 (28)'!$B$49=1,'game1 (28)'!$C$36,IF('game1 (28)'!$B$49=2,CONCATENATE('game1 (28)'!$C$36,\": \",'game1 (28)'!$C$37),IF('game1 (28)'!$B$49=3,CONCATENATE('game1 (28)'!$C$36,\": \",'game1 (28)'!$C$37,\": \",'game1 (28)'!$C$38),IF('game1 (28)'!$B$49=4,CONCATENATE('game1 (28)'!$C$36,\": \",'game1 (28)'!$C$37,\": \",'game1 (28)'!$C$38,\": \",'game1 (28)'!$C$39),CONCATENATE('game1 (28)'!$C$36,\": \",'game1 (28)'!$C$37,\": \",'game1 (28)'!$C$38,\": \",'game1 (28)'!$C$39,\": \",'game1 (28)'!$C$40)))))),\"\")","v":"23 - P Watt, 24"},null,null,{"$f":"IF(A157<>\"\",CONCATENATE('game1 (28)'!$E$36,\" - \",IF('game1 (28)'!$E$49=1,'game1 (28)'!$F$36,IF('game1 (28)'!$E$49=2,CONCATENATE('game1 (28)'!$F$36,\": \",'game1 (28)'!$F$37),IF('game1 (28)'!$E$49=3,CONCATENATE('game1 (28)'!$F$36,\": \",'game1 (28)'!$F$37,\": \",'game1 (28)'!$F$38),IF('game1 (28)'!$E$49=4,CONCATENATE('game1 (28)'!$F$36,\": \",'game1 (28)'!$F$37,\": \",'game1 (28)'!$F$38,\": \",'game1 (28)'!$F$39),CONCATENATE('game1 (28)'!$F$36,\": \",'game1 (28)'!$F$37,\": \",'game1 (28)'!$F$38,\": \",'game1 (28)'!$F$39,\": \",'game1 (28)'!$F$40)))))),\"\")","v":"10 - C Louderback, 23"},null,null,{"$f":"IF(A157<>\"\",CONCATENATE('game1 (28)'!$H$36,\" - \",IF('game1 (28)'!$H$49=1,'game1 (28)'!$I$36,IF('game1 (28)'!$H$49=2,CONCATENATE('game1 (28)'!$I$36,\": \",'game1 (28)'!$I$37),IF('game1 (28)'!$H$49=3,CONCATENATE('game1 (28)'!$I$36,\": \",'game1 (28)'!$I$37,\": \",'game1 (28)'!$I$38),IF('game1 (28)'!$H$49=4,CONCATENATE('game1 (28)'!$I$36,\": \",'game1 (28)'!$I$37,\": \",'game1 (28)'!$I$38,\": \",'game1 (28)'!$I$39),CONCATENATE('game1 (28)'!$I$36,\": \",'game1 (28)'!$I$37,\": \",'game1 (28)'!$I$38,\": \",'game1 (28)'!$I$39,\": \",'game1 (28)'!$I$40)))))),\"\")","v":"3 - B Bruce, 22"}]
[{"$f":"IF(A157<>\"\",CONCATENATE('game1 (28)'!$C$4,\" - \",'game1 (28)'!$D$4, \" \", UPPER('game1 (28)'!$E$4)),\"\")","v":"56 - 60 "},{"$f":"'game1 (28)'!D$32","v":3},{"$f":"'game1 (28)'!E$32","v":8},{"$f":"'game1 (28)'!R$32","v":{"v":0.375,"d":"38%"}},{"$f":"'game1 (28)'!F$32","v":22},{"$f":"'game1 (28)'!G$32","v":35},{"$f":"'game1 (28)'!S$32","v":{"v":0.6285714285714286,"d":"63%"}},{"$f":"'game1 (28)'!H$32","v":7},{"$f":"'game1 (28)'!I$32","v":15},{"$f":"'game1 (28)'!T$32","v":{"v":0.4666666666666667,"d":"47%"}},{"$f":"'game1 (28)'!U$32","v":{"v":0.5813953488372093,"d":"58%"}},{"$f":"'game1 (28)'!J$32","v":8},{"$f":"'game1 (28)'!K$32","v":28},36,{"$f":"'game1 (28)'!L$32","v":11},{"$f":"'game1 (28)'!M$32","v":8},{"$f":"'game1 (28)'!N$32","v":1},{"$f":"'game1 (28)'!O$32","v":27},{"$f":"'game1 (28)'!P$32","v":24}]
[{"$f":"IF('game1 (29)'!$C$2<>\"\",'game1 (29)'!$X$2,\"\")","v":""},{"$f":"'game1 (29)'!D$31","v":0},{"$f":"'game1 (29)'!E$31","v":0},{"$f":"'game1 (29)'!R$31","v":""},{"$f":"'game1 (29)'!F$31","v":0},{"$f":"'game1 (29)'!G$31","v":0},{"$f":"'game1 (29)'!S$31","v":""},{"$f":"'game1 (29)'!H$31","v":0},{"$f":"'game1 (29)'!I$31","v":0},{"$f":"'game1 (29)'!T$31","v":""},{"$f":"'game1 (29)'!U$31","v":""},{"$f":"'game1 (29)'!J$31","v":0},{"$f":"'game1 (29)'!K$31","v":0},0,{"$f":"'game1 (29)'!L$31","v":0},{"$f":"'game1 (29)'!M$31","v":0},{"$f":"'game1 (29)'!N$31","v":0},{"$f":"'game1 (29)'!O$31","v":0},{"$f":"'game1 (29)'!P$31","v":0},{"$f":"IF(A159<>\"\",CONCATENATE('game1 (29)'!$B$36,\" - \",IF('game1 (29)'!$B$49=1,'game1 (29)'!$C$36,IF('game1 (29)'!$B$49=2,CONCATENATE('game1 (29)'!$C$36,\": \",'game1 (29)'!$C$37),IF('game1 (29)'!$B$49=3,CONCATENATE('game1 (29)'!$C$36,\": \",'game1 (29)'!$C$37,\": \",'game1 (29)'!$C$38),IF('game1 (29)'!$B$49=4,CONCATENATE('game1 (29)'!$C$36,\": \",'game1 (29)'!$C$37,\": \",'game1 (29)'!$C$38,\": \",'game1 (29)'!$C$39),CONCATENATE('game1 (29)'!$C$36,\": \",'game1 (29)'!$C$37,\": \",'game1 (29)'!$C$38,\": \",'game1 (29)'!$C$39,\": \",'game1 (29)'!$C$40)))))),\"\")","v":""},null,null,{"$f":"IF(A159<>\"\",CONCATENATE('game1 (29)'!$E$36,\" - \",IF('game1 (29)'!$E$49=1,'game1 (29)'!$F$36,IF('game1 (29)'!$E$49=2,CONCATENATE('game1 (29)'!$F$36,\": \",'game1 (29)'!$F$37),IF('game1 (29)'!$E$49=3,CONCATENATE('game1 (29)'!$F$36,\": \",'game1 (29)'!$F$37,\": \",'game1 (29)'!$F$38),IF('game1 (29)'!$E$49=4,CONCATENATE('game1 (29)'!$F$36,\": \",'game1 (29)'!$F$37,\": \",'game1 (29)'!$F$38,\": \",'game1 (29)'!$F$39),CONCATENATE('game1 (29)'!$F$36,\": \",'game1 (29)'!$F$37,\": \",'game1 (29)'!$F$38,\": \",'game1 (29)'!$F$39,\": \",'game1 (29)'!$F$40)))))),\"\")","v":""},null,null,{"$f":"IF(A159<>\"\",CONCATENATE('game1 (29)'!$H$36,\" - \",IF('game1 (29)'!$H$49=1,'game1 (29)'!$I$36,IF('game1 (29)'!$H$49=2,CONCATENATE('game1 (29)'!$I$36,\": \",'game1 (29)'!$I$37),IF('game1 (29)'!$H$49=3,CONCATENATE('game1 (29)'!$I$36,\": \",'game1 (29)'!$I$37,\": \",'game1 (29)'!$I$38),IF('game1 (29)'!$H$49=4,CONCATENATE('game1 (29)'!$I$36,\": \",'game1 (29)'!$I$37,\": \",'game1 (29)'!$I$38,\": \",'game1 (29)'!$I$39),CONCATENATE('game1 (29)'!$I$36,\": \",'game1 (29)'!$I$37,\": \",'game1 (29)'!$I$38,\": \",'game1 (29)'!$I$39,\": \",'game1 (29)'!$I$40)))))),\"\")","v":""}]
[{"$f":"IF(A159<>\"\",CONCATENATE('game1 (29)'!$C$4,\" - \",'game1 (29)'!$D$4, \" \", UPPER('game1 (29)'!$E$4)),\"\")","v":""},{"$f":"'game1 (29)'!D$32","v":0},{"$f":"'game1 (29)'!E$32","v":0},{"$f":"'game1 (29)'!R$32","v":""},{"$f":"'game1 (29)'!F$32","v":0},{"$f":"'game1 (29)'!G$32","v":0},{"$f":"'game1 (29)'!S$32","v":""},{"$f":"'game1 (29)'!H$32","v":0},{"$f":"'game1 (29)'!I$32","v":0},{"$f":"'game1 (29)'!T$32","v":""},{"$f":"'game1 (29)'!U$32","v":""},{"$f":"'game1 (29)'!J$32","v":0},{"$f":"'game1 (29)'!K$32","v":0},0,{"$f":"'game1 (29)'!L$32","v":0},{"$f":"'game1 (29)'!M$32","v":0},{"$f":"'game1 (29)'!N$32","v":0},{"$f":"'game1 (29)'!O$32","v":0},{"$f":"'game1 (29)'!P$32","v":0}]
[{"$f":"IF('game1 (30)'!$C$2<>\"\",'game1 (30)'!$X$2,\"\")","v":""},{"$f":"'game1 (30)'!D$31","v":0},{"$f":"'game1 (30)'!E$31","v":0},{"$f":"'game1 (30)'!R$31","v":""},{"$f":"'game1 (30)'!F$31","v":0},{"$f":"'game1 (30)'!G$31","v":0},{"$f":"'game1 (30)'!S$31","v":""},{"$f":"'game1 (30)'!H$31","v":0},{"$f":"'game1 (30)'!I$31","v":0},{"$f":"'game1 (30)'!T$31","v":""},{"$f":"'game1 (30)'!U$31","v":""},{"$f":"'game1 (30)'!J$31","v":0},{"$f":"'game1 (30)'!K$31","v":0},0,{"$f":"'game1 (30)'!L$31","v":0},{"$f":"'game1 (30)'!M$31","v":0},{"$f":"'game1 (30)'!N$31","v":0},{"$f":"'game1 (30)'!O$31","v":0},{"$f":"'game1 (30)'!P$31","v":0},{"$f":"IF(A161<>\"\",CONCATENATE('game1 (30)'!$B$36,\" - \",IF('game1 (30)'!$B$49=1,'game1 (30)'!$C$36,IF('game1 (30)'!$B$49=2,CONCATENATE('game1 (30)'!$C$36,\": \",'game1 (30)'!$C$37),IF('game1 (30)'!$B$49=3,CONCATENATE('game1 (30)'!$C$36,\": \",'game1 (30)'!$C$37,\": \",'game1 (30)'!$C$38),IF('game1 (30)'!$B$49=4,CONCATENATE('game1 (30)'!$C$36,\": \",'game1 (30)'!$C$37,\": \",'game1 (30)'!$C$38,\": \",'game1 (30)'!$C$39),CONCATENATE('game1 (30)'!$C$36,\": \",'game1 (30)'!$C$37,\": \",'game1 (30)'!$C$38,\": \",'game1 (30)'!$C$39,\": \",'game1 (30)'!$C$40)))))),\"\")","v":""},null,null,{"$f":"IF(A161<>\"\",CONCATENATE('game1 (30)'!$E$36,\" - \",IF('game1 (30)'!$E$49=1,'game1 (30)'!$F$36,IF('game1 (30)'!$E$49=2,CONCATENATE('game1 (30)'!$F$36,\": \",'game1 (30)'!$F$37),IF('game1 (30)'!$E$49=3,CONCATENATE('game1 (30)'!$F$36,\": \",'game1 (30)'!$F$37,\": \",'game1 (30)'!$F$38),IF('game1 (30)'!$E$49=4,CONCATENATE('game1 (30)'!$F$36,\": \",'game1 (30)'!$F$37,\": \",'game1 (30)'!$F$38,\": \",'game1 (30)'!$F$39),CONCATENATE('game1 (30)'!$F$36,\": \",'game1 (30)'!$F$37,\": \",'game1 (30)'!$F$38,\": \",'game1 (30)'!$F$39,\": \",'game1 (30)'!$F$40)))))),\"\")","v":""},null,null,{"$f":"IF(A161<>\"\",CONCATENATE('game1 (30)'!$H$36,\" - \",IF('game1 (30)'!$H$49=1,'game1 (30)'!$I$36,IF('game1 (30)'!$H$49=2,CONCATENATE('game1 (30)'!$I$36,\": \",'game1 (30)'!$I$37),IF('game1 (30)'!$H$49=3,CONCATENATE('game1 (30)'!$I$36,\": \",'game1 (30)'!$I$37,\": \",'game1 (30)'!$I$38),IF('game1 (30)'!$H$49=4,CONCATENATE('game1 (30)'!$I$36,\": \",'game1 (30)'!$I$37,\": \",'game1 (30)'!$I$38,\": \",'game1 (30)'!$I$39),CONCATENATE('game1 (30)'!$I$36,\": \",'game1 (30)'!$I$37,\": \",'game1 (30)'!$I$38,\": \",'game1 (30)'!$I$39,\": \",'game1 (30)'!$I$40)))))),\"\")","v":""}]
[{"$f":"IF(A161<>\"\",CONCATENATE('game1 (30)'!$C$4,\" - \",'game1 (30)'!$D$4, \" \", UPPER('game1 (30)'!$E$4)),\"\")","v":""},{"$f":"'game1 (30)'!D$32","v":0},{"$f":"'game1 (30)'!E$32","v":0},{"$f":"'game1 (30)'!R$32","v":""},{"$f":"'game1 (30)'!F$32","v":0},{"$f":"'game1 (30)'!G$32","v":0},{"$f":"'game1 (30)'!S$32","v":""},{"$f":"'game1 (30)'!H$32","v":0},{"$f":"'game1 (30)'!I$32","v":0},{"$f":"'game1 (30)'!T$32","v":""},{"$f":"'game1 (30)'!U$32","v":""},{"$f":"'game1 (30)'!J$32","v":0},{"$f":"'game1 (30)'!K$32","v":0},0,{"$f":"'game1 (30)'!L$32","v":0},{"$f":"'game1 (30)'!M$32","v":0},{"$f":"'game1 (30)'!N$32","v":0},{"$f":"'game1 (30)'!O$32","v":0},{"$f":"'game1 (30)'!P$32","v":0}]
[{"$f":"IF('game1 (31)'!$C$2<>\"\",'game1 (31)'!$X$2,\"\")","v":""},{"$f":"'game1 (31)'!D$31","v":0},{"$f":"'game1 (31)'!E$31","v":0},{"$f":"'game1 (31)'!R$31","v":""},{"$f":"'game1 (31)'!F$31","v":0},{"$f":"'game1 (31)'!G$31","v":0},{"$f":"'game1 (31)'!S$31","v":""},{"$f":"'game1 (31)'!H$31","v":0},{"$f":"'game1 (31)'!I$31","v":0},{"$f":"'game1 (31)'!T$31","v":""},{"$f":"'game1 (31)'!U$31","v":""},{"$f":"'game1 (31)'!J$31","v":0},{"$f":"'game1 (31)'!K$31","v":0},0,{"$f":"'game1 (31)'!L$31","v":0},{"$f":"'game1 (31)'!M$31","v":0},{"$f":"'game1 (31)'!N$31","v":0},{"$f":"'game1 (31)'!O$31","v":0},{"$f":"'game1 (31)'!P$31","v":0},{"$f":"IF(A163<>\"\",CONCATENATE('game1 (31)'!$B$36,\" - \",IF('game1 (31)'!$B$49=1,'game1 (31)'!$C$36,IF('game1 (31)'!$B$49=2,CONCATENATE('game1 (31)'!$C$36,\": \",'game1 (31)'!$C$37),IF('game1 (31)'!$B$49=3,CONCATENATE('game1 (31)'!$C$36,\": \",'game1 (31)'!$C$37,\": \",'game1 (31)'!$C$38),IF('game1 (31)'!$B$49=4,CONCATENATE('game1 (31)'!$C$36,\": \",'game1 (31)'!$C$37,\": \",'game1 (31)'!$C$38,\": \",'game1 (31)'!$C$39),CONCATENATE('game1 (31)'!$C$36,\": \",'game1 (31)'!$C$37,\": \",'game1 (31)'!$C$38,\": \",'game1 (31)'!$C$39,\": \",'game1 (31)'!$C$40)))))),\"\")","v":""},null,null,{"$f":"IF(A163<>\"\",CONCATENATE('game1 (31)'!$E$36,\" - \",IF('game1 (31)'!$E$49=1,'game1 (31)'!$F$36,IF('game1 (31)'!$E$49=2,CONCATENATE('game1 (31)'!$F$36,\": \",'game1 (31)'!$F$37),IF('game1 (31)'!$E$49=3,CONCATENATE('game1 (31)'!$F$36,\": \",'game1 (31)'!$F$37,\": \",'game1 (31)'!$F$38),IF('game1 (31)'!$E$49=4,CONCATENATE('game1 (31)'!$F$36,\": \",'game1 (31)'!$F$37,\": \",'game1 (31)'!$F$38,\": \",'game1 (31)'!$F$39),CONCATENATE('game1 (31)'!$F$36,\": \",'game1 (31)'!$F$37,\": \",'game1 (31)'!$F$38,\": \",'game1 (31)'!$F$39,\": \",'game1 (31)'!$F$40)))))),\"\")","v":""},null,null,{"$f":"IF(A163<>\"\",CONCATENATE('game1 (31)'!$H$36,\" - \",IF('game1 (31)'!$H$49=1,'game1 (31)'!$I$36,IF('game1 (31)'!$H$49=2,CONCATENATE('game1 (31)'!$I$36,\": \",'game1 (31)'!$I$37),IF('game1 (31)'!$H$49=3,CONCATENATE('game1 (31)'!$I$36,\": \",'game1 (31)'!$I$37,\": \",'game1 (31)'!$I$38),IF('game1 (31)'!$H$49=4,CONCATENATE('game1 (31)'!$I$36,\": \",'game1 (31)'!$I$37,\": \",'game1 (31)'!$I$38,\": \",'game1 (31)'!$I$39),CONCATENATE('game1 (31)'!$I$36,\": \",'game1 (31)'!$I$37,\": \",'game1 (31)'!$I$38,\": \",'game1 (31)'!$I$39,\": \",'game1 (31)'!$I$40)))))),\"\")","v":""}]
[{"$f":"IF(A163<>\"\",CONCATENATE('game1 (31)'!$C$4,\" - \",'game1 (31)'!$D$4, \" \", UPPER('game1 (31)'!$E$4)),\"\")","v":""},{"$f":"'game1 (31)'!D$32","v":0},{"$f":"'game1 (31)'!E$32","v":0},{"$f":"'game1 (31)'!R$32","v":""},{"$f":"'game1 (31)'!F$32","v":0},{"$f":"'game1 (31)'!G$32","v":0},{"$f":"'game1 (31)'!S$32","v":""},{"$f":"'game1 (31)'!H$32","v":0},{"$f":"'game1 (31)'!I$32","v":0},{"$f":"'game1 (31)'!T$32","v":""},{"$f":"'game1 (31)'!U$32","v":""},{"$f":"'game1 (31)'!J$32","v":0},{"$f":"'game1 (31)'!K$32","v":0},0,{"$f":"'game1 (31)'!L$32","v":0},{"$f":"'game1 (31)'!M$32","v":0},{"$f":"'game1 (31)'!N$32","v":0},{"$f":"'game1 (31)'!O$32","v":0},{"$f":"'game1 (31)'!P$32","v":0}]
[{"$f":"IF('game1 (32)'!$C$2<>\"\",'game1 (32)'!$X$2,\"\")","v":""},{"$f":"'game1 (32)'!D$31","v":0},{"$f":"'game1 (32)'!E$31","v":0},{"$f":"'game1 (32)'!R$31","v":""},{"$f":"'game1 (32)'!F$31","v":0},{"$f":"'game1 (32)'!G$31","v":0},{"$f":"'game1 (32)'!S$31","v":""},{"$f":"'game1 (32)'!H$31","v":0},{"$f":"'game1 (32)'!I$31","v":0},{"$f":"'game1 (32)'!T$31","v":""},{"$f":"'game1 (32)'!U$31","v":""},{"$f":"'game1 (32)'!J$31","v":0},{"$f":"'game1 (32)'!K$31","v":0},0,{"$f":"'game1 (32)'!L$31","v":0},{"$f":"'game1 (32)'!M$31","v":0},{"$f":"'game1 (32)'!N$31","v":0},{"$f":"'game1 (32)'!O$31","v":0},{"$f":"'game1 (32)'!P$31","v":0},{"$f":"IF(A165<>\"\",CONCATENATE('game1 (32)'!$B$36,\" - \",IF('game1 (32)'!$B$49=1,'game1 (32)'!$C$36,IF('game1 (32)'!$B$49=2,CONCATENATE('game1 (32)'!$C$36,\": \",'game1 (32)'!$C$37),IF('game1 (32)'!$B$49=3,CONCATENATE('game1 (32)'!$C$36,\": \",'game1 (32)'!$C$37,\": \",'game1 (32)'!$C$38),IF('game1 (32)'!$B$49=4,CONCATENATE('game1 (32)'!$C$36,\": \",'game1 (32)'!$C$37,\": \",'game1 (32)'!$C$38,\": \",'game1 (32)'!$C$39),CONCATENATE('game1 (32)'!$C$36,\": \",'game1 (32)'!$C$37,\": \",'game1 (32)'!$C$38,\": \",'game1 (32)'!$C$39,\": \",'game1 (32)'!$C$40)))))),\"\")","v":""},null,null,{"$f":"IF(A165<>\"\",CONCATENATE('game1 (32)'!$E$36,\" - \",IF('game1 (32)'!$E$49=1,'game1 (32)'!$F$36,IF('game1 (32)'!$E$49=2,CONCATENATE('game1 (32)'!$F$36,\": \",'game1 (32)'!$F$37),IF('game1 (32)'!$E$49=3,CONCATENATE('game1 (32)'!$F$36,\": \",'game1 (32)'!$F$37,\": \",'game1 (32)'!$F$38),IF('game1 (32)'!$E$49=4,CONCATENATE('game1 (32)'!$F$36,\": \",'game1 (32)'!$F$37,\": \",'game1 (32)'!$F$38,\": \",'game1 (32)'!$F$39),CONCATENATE('game1 (32)'!$F$36,\": \",'game1 (32)'!$F$37,\": \",'game1 (32)'!$F$38,\": \",'game1 (32)'!$F$39,\": \",'game1 (32)'!$F$40)))))),\"\")","v":""},null,null,{"$f":"IF(A165<>\"\",CONCATENATE('game1 (32)'!$H$36,\" - \",IF('game1 (32)'!$H$49=1,'game1 (32)'!$I$36,IF('game1 (32)'!$H$49=2,CONCATENATE('game1 (32)'!$I$36,\": \",'game1 (32)'!$I$37),IF('game1 (32)'!$H$49=3,CONCATENATE('game1 (32)'!$I$36,\": \",'game1 (32)'!$I$37,\": \",'game1 (32)'!$I$38),IF('game1 (32)'!$H$49=4,CONCATENATE('game1 (32)'!$I$36,\": \",'game1 (32)'!$I$37,\": \",'game1 (32)'!$I$38,\": \",'game1 (32)'!$I$39),CONCATENATE('game1 (32)'!$I$36,\": \",'game1 (32)'!$I$37,\": \",'game1 (32)'!$I$38,\": \",'game1 (32)'!$I$39,\": \",'game1 (32)'!$I$40)))))),\"\")","v":""}]
[{"$f":"IF(A165<>\"\",CONCATENATE('game1 (32)'!$C$4,\" - \",'game1 (32)'!$D$4, \" \", UPPER('game1 (32)'!$E$4)),\"\")","v":""},{"$f":"'game1 (32)'!D$32","v":0},{"$f":"'game1 (32)'!E$32","v":0},{"$f":"'game1 (32)'!R$32","v":""},{"$f":"'game1 (32)'!F$32","v":0},{"$f":"'game1 (32)'!G$32","v":0},{"$f":"'game1 (32)'!S$32","v":""},{"$f":"'game1 (32)'!H$32","v":0},{"$f":"'game1 (32)'!I$32","v":0},{"$f":"'game1 (32)'!T$32","v":""},{"$f":"'game1 (32)'!U$32","v":""},{"$f":"'game1 (32)'!J$32","v":0},{"$f":"'game1 (32)'!K$32","v":0},0,{"$f":"'game1 (32)'!L$32","v":0},{"$f":"'game1 (32)'!M$32","v":0},{"$f":"'game1 (32)'!N$32","v":0},{"$f":"'game1 (32)'!O$32","v":0},{"$f":"'game1 (32)'!P$32","v":0}]
[{"$f":"IF('game1 (33)'!$C$2<>\"\",'game1 (33)'!$X$2,\"\")","v":""},{"$f":"'game1 (33)'!D$31","v":0},{"$f":"'game1 (33)'!E$31","v":0},{"$f":"'game1 (33)'!R$31","v":""},{"$f":"'game1 (33)'!F$31","v":0},{"$f":"'game1 (33)'!G$31","v":0},{"$f":"'game1 (33)'!S$31","v":""},{"$f":"'game1 (33)'!H$31","v":0},{"$f":"'game1 (33)'!I$31","v":0},{"$f":"'game1 (33)'!T$31","v":""},{"$f":"'game1 (33)'!U$31","v":""},{"$f":"'game1 (33)'!J$31","v":0},{"$f":"'game1 (33)'!K$31","v":0},0,{"$f":"'game1 (33)'!L$31","v":0},{"$f":"'game1 (33)'!M$31","v":0},{"$f":"'game1 (33)'!N$31","v":0},{"$f":"'game1 (33)'!O$31","v":0},{"$f":"'game1 (33)'!P$31","v":0},{"$f":"IF(A167<>\"\",CONCATENATE('game1 (33)'!$B$36,\" - \",IF('game1 (33)'!$B$49=1,'game1 (33)'!$C$36,IF('game1 (33)'!$B$49=2,CONCATENATE('game1 (33)'!$C$36,\": \",'game1 (33)'!$C$37),IF('game1 (33)'!$B$49=3,CONCATENATE('game1 (33)'!$C$36,\": \",'game1 (33)'!$C$37,\": \",'game1 (33)'!$C$38),IF('game1 (33)'!$B$49=4,CONCATENATE('game1 (33)'!$C$36,\": \",'game1 (33)'!$C$37,\": \",'game1 (33)'!$C$38,\": \",'game1 (33)'!$C$39),CONCATENATE('game1 (33)'!$C$36,\": \",'game1 (33)'!$C$37,\": \",'game1 (33)'!$C$38,\": \",'game1 (33)'!$C$39,\": \",'game1 (33)'!$C$40)))))),\"\")","v":""},null,null,{"$f":"IF(A167<>\"\",CONCATENATE('game1 (33)'!$E$36,\" - \",IF('game1 (33)'!$E$49=1,'game1 (33)'!$F$36,IF('game1 (33)'!$E$49=2,CONCATENATE('game1 (33)'!$F$36,\": \",'game1 (33)'!$F$37),IF('game1 (33)'!$E$49=3,CONCATENATE('game1 (33)'!$F$36,\": \",'game1 (33)'!$F$37,\": \",'game1 (33)'!$F$38),IF('game1 (33)'!$E$49=4,CONCATENATE('game1 (33)'!$F$36,\": \",'game1 (33)'!$F$37,\": \",'game1 (33)'!$F$38,\": \",'game1 (33)'!$F$39),CONCATENATE('game1 (33)'!$F$36,\": \",'game1 (33)'!$F$37,\": \",'game1 (33)'!$F$38,\": \",'game1 (33)'!$F$39,\": \",'game1 (33)'!$F$40)))))),\"\")","v":""},null,null,{"$f":"IF(A167<>\"\",CONCATENATE('game1 (33)'!$H$36,\" - \",IF('game1 (33)'!$H$49=1,'game1 (33)'!$I$36,IF('game1 (33)'!$H$49=2,CONCATENATE('game1 (33)'!$I$36,\": \",'game1 (33)'!$I$37),IF('game1 (33)'!$H$49=3,CONCATENATE('game1 (33)'!$I$36,\": \",'game1 (33)'!$I$37,\": \",'game1 (33)'!$I$38),IF('game1 (33)'!$H$49=4,CONCATENATE('game1 (33)'!$I$36,\": \",'game1 (33)'!$I$37,\": \",'game1 (33)'!$I$38,\": \",'game1 (33)'!$I$39),CONCATENATE('game1 (33)'!$I$36,\": \",'game1 (33)'!$I$37,\": \",'game1 (33)'!$I$38,\": \",'game1 (33)'!$I$39,\": \",'game1 (33)'!$I$40)))))),\"\")","v":""}]
[{"$f":"IF(A167<>\"\",CONCATENATE('game1 (33)'!$C$4,\" - \",'game1 (33)'!$D$4, \" \", UPPER('game1 (33)'!$E$4)),\"\")","v":""},{"$f":"'game1 (33)'!D$32","v":0},{"$f":"'game1 (33)'!E$32","v":0},{"$f":"'game1 (33)'!R$32","v":""},{"$f":"'game1 (33)'!F$32","v":0},{"$f":"'game1 (33)'!G$32","v":0},{"$f":"'game1 (33)'!S$32","v":""},{"$f":"'game1 (33)'!H$32","v":0},{"$f":"'game1 (33)'!I$32","v":0},{"$f":"'game1 (33)'!T$32","v":""},{"$f":"'game1 (33)'!U$32","v":""},{"$f":"'game1 (33)'!J$32","v":0},{"$f":"'game1 (33)'!K$32","v":0},0,{"$f":"'game1 (33)'!L$32","v":0},{"$f":"'game1 (33)'!M$32","v":0},{"$f":"'game1 (33)'!N$32","v":0},{"$f":"'game1 (33)'!O$32","v":0},{"$f":"'game1 (33)'!P$32","v":0}]
[{"$f":"IF('game1 (34)'!$C$2<>\"\",'game1 (34)'!$X$2,\"\")","v":""},{"$f":"'game1 (34)'!D$31","v":0},{"$f":"'game1 (34)'!E$31","v":0},{"$f":"'game1 (34)'!R$31","v":""},{"$f":"'game1 (34)'!F$31","v":0},{"$f":"'game1 (34)'!G$31","v":0},{"$f":"'game1 (34)'!S$31","v":""},{"$f":"'game1 (34)'!H$31","v":0},{"$f":"'game1 (34)'!I$31","v":0},{"$f":"'game1 (34)'!T$31","v":""},{"$f":"'game1 (34)'!U$31","v":""},{"$f":"'game1 (34)'!J$31","v":0},{"$f":"'game1 (34)'!K$31","v":0},0,{"$f":"'game1 (34)'!L$31","v":0},{"$f":"'game1 (34)'!M$31","v":0},{"$f":"'game1 (34)'!N$31","v":0},{"$f":"'game1 (34)'!O$31","v":0},{"$f":"'game1 (34)'!P$31","v":0},{"$f":"IF(A169<>\"\",CONCATENATE('game1 (34)'!$B$36,\" - \",IF('game1 (34)'!$B$49=1,'game1 (34)'!$C$36,IF('game1 (34)'!$B$49=2,CONCATENATE('game1 (34)'!$C$36,\": \",'game1 (34)'!$C$37),IF('game1 (34)'!$B$49=3,CONCATENATE('game1 (34)'!$C$36,\": \",'game1 (34)'!$C$37,\": \",'game1 (34)'!$C$38),IF('game1 (34)'!$B$49=4,CONCATENATE('game1 (34)'!$C$36,\": \",'game1 (34)'!$C$37,\": \",'game1 (34)'!$C$38,\": \",'game1 (34)'!$C$39),CONCATENATE('game1 (34)'!$C$36,\": \",'game1 (34)'!$C$37,\": \",'game1 (34)'!$C$38,\": \",'game1 (34)'!$C$39,\": \",'game1 (34)'!$C$40)))))),\"\")","v":""},null,null,{"$f":"IF(A169<>\"\",CONCATENATE('game1 (34)'!$E$36,\" - \",IF('game1 (34)'!$E$49=1,'game1 (34)'!$F$36,IF('game1 (34)'!$E$49=2,CONCATENATE('game1 (34)'!$F$36,\": \",'game1 (34)'!$F$37),IF('game1 (34)'!$E$49=3,CONCATENATE('game1 (34)'!$F$36,\": \",'game1 (34)'!$F$37,\": \",'game1 (34)'!$F$38),IF('game1 (34)'!$E$49=4,CONCATENATE('game1 (34)'!$F$36,\": \",'game1 (34)'!$F$37,\": \",'game1 (34)'!$F$38,\": \",'game1 (34)'!$F$39),CONCATENATE('game1 (34)'!$F$36,\": \",'game1 (34)'!$F$37,\": \",'game1 (34)'!$F$38,\": \",'game1 (34)'!$F$39,\": \",'game1 (34)'!$F$40)))))),\"\")","v":""},null,null,{"$f":"IF(A169<>\"\",CONCATENATE('game1 (34)'!$H$36,\" - \",IF('game1 (34)'!$H$49=1,'game1 (34)'!$I$36,IF('game1 (34)'!$H$49=2,CONCATENATE('game1 (34)'!$I$36,\": \",'game1 (34)'!$I$37),IF('game1 (34)'!$H$49=3,CONCATENATE('game1 (34)'!$I$36,\": \",'game1 (34)'!$I$37,\": \",'game1 (34)'!$I$38),IF('game1 (34)'!$H$49=4,CONCATENATE('game1 (34)'!$I$36,\": \",'game1 (34)'!$I$37,\": \",'game1 (34)'!$I$38,\": \",'game1 (34)'!$I$39),CONCATENATE('game1 (34)'!$I$36,\": \",'game1 (34)'!$I$37,\": \",'game1 (34)'!$I$38,\": \",'game1 (34)'!$I$39,\": \",'game1 (34)'!$I$40)))))),\"\")","v":""}]
[{"$f":"IF(A169<>\"\",CONCATENATE('game1 (34)'!$C$4,\" - \",'game1 (34)'!$D$4, \" \", UPPER('game1 (34)'!$E$4)),\"\")","v":""},{"$f":"'game1 (34)'!D$32","v":0},{"$f":"'game1 (34)'!E$32","v":0},{"$f":"'game1 (34)'!R$32","v":""},{"$f":"'game1 (34)'!F$32","v":0},{"$f":"'game1 (34)'!G$32","v":0},{"$f":"'game1 (34)'!S$32","v":""},{"$f":"'game1 (34)'!H$32","v":0},{"$f":"'game1 (34)'!I$32","v":0},{"$f":"'game1 (34)'!T$32","v":""},{"$f":"'game1 (34)'!U$32","v":""},{"$f":"'game1 (34)'!J$32","v":0},{"$f":"'game1 (34)'!K$32","v":0},0,{"$f":"'game1 (34)'!L$32","v":0},{"$f":"'game1 (34)'!M$32","v":0},{"$f":"'game1 (34)'!N$32","v":0},{"$f":"'game1 (34)'!O$32","v":0},{"$f":"'game1 (34)'!P$32","v":0}]
[{"$f":"IF('game1 (35)'!$C$2<>\"\",'game1 (35)'!$X$2,\"\")","v":""},{"$f":"'game1 (35)'!D$31","v":0},{"$f":"'game1 (35)'!E$31","v":0},{"$f":"'game1 (35)'!R$31","v":""},{"$f":"'game1 (35)'!F$31","v":0},{"$f":"'game1 (35)'!G$31","v":0},{"$f":"'game1 (35)'!S$31","v":""},{"$f":"'game1 (35)'!H$31","v":0},{"$f":"'game1 (35)'!I$31","v":0},{"$f":"'game1 (35)'!T$31","v":""},{"$f":"'game1 (35)'!U$31","v":""},{"$f":"'game1 (35)'!J$31","v":0},{"$f":"'game1 (35)'!K$31","v":0},{"$f":"SUM($L171:$M171)","v":0},{"$f":"'game1 (35)'!L$31","v":0},{"$f":"'game1 (35)'!M$31","v":0},{"$f":"'game1 (35)'!N$31","v":0},{"$f":"'game1 (35)'!O$31","v":0},{"$f":"'game1 (35)'!P$31","v":0},{"$f":"IF(A171<>\"\",CONCATENATE('game1 (35)'!$B$36,\" - \",IF('game1 (35)'!$B$49=1,'game1 (35)'!$C$36,IF('game1 (35)'!$B$49=2,CONCATENATE('game1 (35)'!$C$36,\": \",'game1 (35)'!$C$37),IF('game1 (35)'!$B$49=3,CONCATENATE('game1 (35)'!$C$36,\": \",'game1 (35)'!$C$37,\": \",'game1 (35)'!$C$38),IF('game1 (35)'!$B$49=4,CONCATENATE('game1 (35)'!$C$36,\": \",'game1 (35)'!$C$37,\": \",'game1 (35)'!$C$38,\": \",'game1 (35)'!$C$39),CONCATENATE('game1 (35)'!$C$36,\": \",'game1 (35)'!$C$37,\": \",'game1 (35)'!$C$38,\": \",'game1 (35)'!$C$39,\": \",'game1 (35)'!$C$40)))))),\"\")","v":""},null,null,{"$f":"IF(A171<>\"\",CONCATENATE('game1 (35)'!$E$36,\" - \",IF('game1 (35)'!$E$49=1,'game1 (35)'!$F$36,IF('game1 (35)'!$E$49=2,CONCATENATE('game1 (35)'!$F$36,\": \",'game1 (35)'!$F$37),IF('game1 (35)'!$E$49=3,CONCATENATE('game1 (35)'!$F$36,\": \",'game1 (35)'!$F$37,\": \",'game1 (35)'!$F$38),IF('game1 (35)'!$E$49=4,CONCATENATE('game1 (35)'!$F$36,\": \",'game1 (35)'!$F$37,\": \",'game1 (35)'!$F$38,\": \",'game1 (35)'!$F$39),CONCATENATE('game1 (35)'!$F$36,\": \",'game1 (35)'!$F$37,\": \",'game1 (35)'!$F$38,\": \",'game1 (35)'!$F$39,\": \",'game1 (35)'!$F$40)))))),\"\")","v":""},null,null,{"$f":"IF(A171<>\"\",CONCATENATE('game1 (35)'!$H$36,\" - \",IF('game1 (35)'!$H$49=1,'game1 (35)'!$I$36,IF('game1 (35)'!$H$49=2,CONCATENATE('game1 (35)'!$I$36,\": \",'game1 (35)'!$I$37),IF('game1 (35)'!$H$49=3,CONCATENATE('game1 (35)'!$I$36,\": \",'game1 (35)'!$I$37,\": \",'game1 (35)'!$I$38),IF('game1 (35)'!$H$49=4,CONCATENATE('game1 (35)'!$I$36,\": \",'game1 (35)'!$I$37,\": \",'game1 (35)'!$I$38,\": \",'game1 (35)'!$I$39),CONCATENATE('game1 (35)'!$I$36,\": \",'game1 (35)'!$I$37,\": \",'game1 (35)'!$I$38,\": \",'game1 (35)'!$I$39,\": \",'game1 (35)'!$I$40)))))),\"\")","v":""}]
[{"$f":"IF(A171<>\"\",CONCATENATE('game1 (35)'!$C$4,\" - \",'game1 (35)'!$D$4, \" \", UPPER('game1 (35)'!$E$4)),\"\")","v":""},{"$f":"'game1 (35)'!D$32","v":0},{"$f":"'game1 (35)'!E$32","v":0},{"$f":"'game1 (35)'!R$32","v":""},{"$f":"'game1 (35)'!F$32","v":0},{"$f":"'game1 (35)'!G$32","v":0},{"$f":"'game1 (35)'!S$32","v":""},{"$f":"'game1 (35)'!H$32","v":0},{"$f":"'game1 (35)'!I$32","v":0},{"$f":"'game1 (35)'!T$32","v":""},{"$f":"'game1 (35)'!U$32","v":""},{"$f":"'game1 (35)'!J$32","v":0},{"$f":"'game1 (35)'!K$32","v":0},0,{"$f":"'game1 (35)'!L$32","v":0},{"$f":"'game1 (35)'!M$32","v":0},{"$f":"'game1 (35)'!N$32","v":0},{"$f":"'game1 (35)'!O$32","v":0},{"$f":"'game1 (35)'!P$32","v":0}]
[{"$f":"IF('game1 (36)'!$C$2<>\"\",'game1 (36)'!$X$2,\"\")","v":""},{"$f":"'game1 (36)'!D$31","v":0},{"$f":"'game1 (36)'!E$31","v":0},{"$f":"'game1 (36)'!R$31","v":""},{"$f":"'game1 (36)'!F$31","v":0},{"$f":"'game1 (36)'!G$31","v":0},{"$f":"'game1 (36)'!S$31","v":""},{"$f":"'game1 (36)'!H$31","v":0},{"$f":"'game1 (36)'!I$31","v":0},{"$f":"'game1 (36)'!T$31","v":""},{"$f":"'game1 (36)'!U$31","v":""},{"$f":"'game1 (36)'!J$31","v":0},{"$f":"'game1 (36)'!K$31","v":0},0,{"$f":"'game1 (36)'!L$31","v":0},{"$f":"'game1 (36)'!M$31","v":0},{"$f":"'game1 (36)'!N$31","v":0},{"$f":"'game1 (36)'!O$31","v":0},{"$f":"'game1 (36)'!P$31","v":0},{"$f":"IF(A173<>\"\",CONCATENATE('game1 (36)'!$B$36,\" - \",IF('game1 (36)'!$B$49=1,'game1 (36)'!$C$36,IF('game1 (36)'!$B$49=2,CONCATENATE('game1 (36)'!$C$36,\": \",'game1 (36)'!$C$37),IF('game1 (36)'!$B$49=3,CONCATENATE('game1 (36)'!$C$36,\": \",'game1 (36)'!$C$37,\": \",'game1 (36)'!$C$38),IF('game1 (36)'!$B$49=4,CONCATENATE('game1 (36)'!$C$36,\": \",'game1 (36)'!$C$37,\": \",'game1 (36)'!$C$38,\": \",'game1 (36)'!$C$39),CONCATENATE('game1 (36)'!$C$36,\": \",'game1 (36)'!$C$37,\": \",'game1 (36)'!$C$38,\": \",'game1 (36)'!$C$39,\": \",'game1 (36)'!$C$40)))))),\"\")","v":""},null,null,{"$f":"IF(A173<>\"\",CONCATENATE('game1 (36)'!$E$36,\" - \",IF('game1 (36)'!$E$49=1,'game1 (36)'!$F$36,IF('game1 (36)'!$E$49=2,CONCATENATE('game1 (36)'!$F$36,\": \",'game1 (36)'!$F$37),IF('game1 (36)'!$E$49=3,CONCATENATE('game1 (36)'!$F$36,\": \",'game1 (36)'!$F$37,\": \",'game1 (36)'!$F$38),IF('game1 (36)'!$E$49=4,CONCATENATE('game1 (36)'!$F$36,\": \",'game1 (36)'!$F$37,\": \",'game1 (36)'!$F$38,\": \",'game1 (36)'!$F$39),CONCATENATE('game1 (36)'!$F$36,\": \",'game1 (36)'!$F$37,\": \",'game1 (36)'!$F$38,\": \",'game1 (36)'!$F$39,\": \",'game1 (36)'!$F$40)))))),\"\")","v":""},null,null,{"$f":"IF(A173<>\"\",CONCATENATE('game1 (36)'!$H$36,\" - \",IF('game1 (36)'!$H$49=1,'game1 (36)'!$I$36,IF('game1 (36)'!$H$49=2,CONCATENATE('game1 (36)'!$I$36,\": \",'game1 (36)'!$I$37),IF('game1 (36)'!$H$49=3,CONCATENATE('game1 (36)'!$I$36,\": \",'game1 (36)'!$I$37,\": \",'game1 (36)'!$I$38),IF('game1 (36)'!$H$49=4,CONCATENATE('game1 (36)'!$I$36,\": \",'game1 (36)'!$I$37,\": \",'game1 (36)'!$I$38,\": \",'game1 (36)'!$I$39),CONCATENATE('game1 (36)'!$I$36,\": \",'game1 (36)'!$I$37,\": \",'game1 (36)'!$I$38,\": \",'game1 (36)'!$I$39,\": \",'game1 (36)'!$I$40)))))),\"\")","v":""}]
[{"$f":"IF(A173<>\"\",CONCATENATE('game1 (36)'!$C$4,\" - \",'game1 (36)'!$D$4, \" \", UPPER('game1 (36)'!$E$4)),\"\")","v":""},{"$f":"'game1 (36)'!D$32","v":0},{"$f":"'game1 (36)'!E$32","v":0},{"$f":"'game1 (36)'!R$32","v":""},{"$f":"'game1 (36)'!F$32","v":0},{"$f":"'game1 (36)'!G$32","v":0},{"$f":"'game1 (36)'!S$32","v":""},{"$f":"'game1 (36)'!H$32","v":0},{"$f":"'game1 (36)'!I$32","v":0},{"$f":"'game1 (36)'!T$32","v":""},{"$f":"'game1 (36)'!U$32","v":""},{"$f":"'game1 (36)'!J$32","v":0},{"$f":"'game1 (36)'!K$32","v":0},0,{"$f":"'game1 (36)'!L$32","v":0},{"$f":"'game1 (36)'!M$32","v":0},{"$f":"'game1 (36)'!N$32","v":0},{"$f":"'game1 (36)'!O$32","v":0},{"$f":"'game1 (36)'!P$32","v":0}]
[{"$f":"IF('game1 (37)'!$C$2<>\"\",'game1 (37)'!$X$2,\"\")","v":""},{"$f":"'game1 (37)'!D$31","v":0},{"$f":"'game1 (37)'!E$31","v":0},{"$f":"'game1 (37)'!R$31","v":""},{"$f":"'game1 (37)'!F$31","v":0},{"$f":"'game1 (37)'!G$31","v":0},{"$f":"'game1 (37)'!S$31","v":""},{"$f":"'game1 (37)'!H$31","v":0},{"$f":"'game1 (37)'!I$31","v":0},{"$f":"'game1 (37)'!T$31","v":""},{"$f":"'game1 (37)'!U$31","v":""},{"$f":"'game1 (37)'!J$31","v":0},{"$f":"'game1 (37)'!K$31","v":0},0,{"$f":"'game1 (37)'!L$31","v":0},{"$f":"'game1 (37)'!M$31","v":0},{"$f":"'game1 (37)'!N$31","v":0},{"$f":"'game1 (37)'!O$31","v":0},{"$f":"'game1 (37)'!P$31","v":0},{"$f":"IF(A175<>\"\",CONCATENATE('game1 (37)'!$B$36,\" - \",IF('game1 (37)'!$B$49=1,'game1 (37)'!$C$36,IF('game1 (37)'!$B$49=2,CONCATENATE('game1 (37)'!$C$36,\": \",'game1 (37)'!$C$37),IF('game1 (37)'!$B$49=3,CONCATENATE('game1 (37)'!$C$36,\": \",'game1 (37)'!$C$37,\": \",'game1 (37)'!$C$38),IF('game1 (37)'!$B$49=4,CONCATENATE('game1 (37)'!$C$36,\": \",'game1 (37)'!$C$37,\": \",'game1 (37)'!$C$38,\": \",'game1 (37)'!$C$39),CONCATENATE('game1 (37)'!$C$36,\": \",'game1 (37)'!$C$37,\": \",'game1 (37)'!$C$38,\": \",'game1 (37)'!$C$39,\": \",'game1 (37)'!$C$40)))))),\"\")","v":""},null,null,{"$f":"IF(A175<>\"\",CONCATENATE('game1 (37)'!$E$36,\" - \",IF('game1 (37)'!$E$49=1,'game1 (37)'!$F$36,IF('game1 (37)'!$E$49=2,CONCATENATE('game1 (37)'!$F$36,\": \",'game1 (37)'!$F$37),IF('game1 (37)'!$E$49=3,CONCATENATE('game1 (37)'!$F$36,\": \",'game1 (37)'!$F$37,\": \",'game1 (37)'!$F$38),IF('game1 (37)'!$E$49=4,CONCATENATE('game1 (37)'!$F$36,\": \",'game1 (37)'!$F$37,\": \",'game1 (37)'!$F$38,\": \",'game1 (37)'!$F$39),CONCATENATE('game1 (37)'!$F$36,\": \",'game1 (37)'!$F$37,\": \",'game1 (37)'!$F$38,\": \",'game1 (37)'!$F$39,\": \",'game1 (37)'!$F$40)))))),\"\")","v":""},null,null,{"$f":"IF(A175<>\"\",CONCATENATE('game1 (37)'!$H$36,\" - \",IF('game1 (37)'!$H$49=1,'game1 (37)'!$I$36,IF('game1 (37)'!$H$49=2,CONCATENATE('game1 (37)'!$I$36,\": \",'game1 (37)'!$I$37),IF('game1 (37)'!$H$49=3,CONCATENATE('game1 (37)'!$I$36,\": \",'game1 (37)'!$I$37,\": \",'game1 (37)'!$I$38),IF('game1 (37)'!$H$49=4,CONCATENATE('game1 (37)'!$I$36,\": \",'game1 (37)'!$I$37,\": \",'game1 (37)'!$I$38,\": \",'game1 (37)'!$I$39),CONCATENATE('game1 (37)'!$I$36,\": \",'game1 (37)'!$I$37,\": \",'game1 (37)'!$I$38,\": \",'game1 (37)'!$I$39,\": \",'game1 (37)'!$I$40)))))),\"\")","v":""}]
[{"$f":"IF(A175<>\"\",CONCATENATE('game1 (37)'!$C$4,\" - \",'game1 (37)'!$D$4, \" \", UPPER('game1 (37)'!$E$4)),\"\")","v":""},{"$f":"'game1 (37)'!D$32","v":0},{"$f":"'game1 (37)'!E$32","v":0},{"$f":"'game1 (37)'!R$32","v":""},{"$f":"'game1 (37)'!F$32","v":0},{"$f":"'game1 (37)'!G$32","v":0},{"$f":"'game1 (37)'!S$32","v":""},{"$f":"'game1 (37)'!H$32","v":0},{"$f":"'game1 (37)'!I$32","v":0},{"$f":"'game1 (37)'!T$32","v":""},{"$f":"'game1 (37)'!U$32","v":""},{"$f":"'game1 (37)'!J$32","v":0},{"$f":"'game1 (37)'!K$32","v":0},0,{"$f":"'game1 (37)'!L$32","v":0},{"$f":"'game1 (37)'!M$32","v":0},{"$f":"'game1 (37)'!N$32","v":0},{"$f":"'game1 (37)'!O$32","v":0},{"$f":"'game1 (37)'!P$32","v":0}]
[{"$f":"IF('game1 (38)'!$C$2<>\"\",'game1 (38)'!$X$2,\"\")","v":""},{"$f":"'game1 (38)'!D$31","v":0},{"$f":"'game1 (38)'!E$31","v":0},{"$f":"'game1 (38)'!R$31","v":""},{"$f":"'game1 (38)'!F$31","v":0},{"$f":"'game1 (38)'!G$31","v":0},{"$f":"'game1 (38)'!S$31","v":""},{"$f":"'game1 (38)'!H$31","v":0},{"$f":"'game1 (38)'!I$31","v":0},{"$f":"'game1 (38)'!T$31","v":""},{"$f":"'game1 (38)'!U$31","v":""},{"$f":"'game1 (38)'!J$31","v":0},{"$f":"'game1 (38)'!K$31","v":0},0,{"$f":"'game1 (38)'!L$31","v":0},{"$f":"'game1 (38)'!M$31","v":0},{"$f":"'game1 (38)'!N$31","v":0},{"$f":"'game1 (38)'!O$31","v":0},{"$f":"'game1 (38)'!P$31","v":0},{"$f":"IF(A177<>\"\",CONCATENATE('game1 (38)'!$B$36,\" - \",IF('game1 (38)'!$B$49=1,'game1 (38)'!$C$36,IF('game1 (38)'!$B$49=2,CONCATENATE('game1 (38)'!$C$36,\": \",'game1 (38)'!$C$37),IF('game1 (38)'!$B$49=3,CONCATENATE('game1 (38)'!$C$36,\": \",'game1 (38)'!$C$37,\": \",'game1 (38)'!$C$38),IF('game1 (38)'!$B$49=4,CONCATENATE('game1 (38)'!$C$36,\": \",'game1 (38)'!$C$37,\": \",'game1 (38)'!$C$38,\": \",'game1 (38)'!$C$39),CONCATENATE('game1 (38)'!$C$36,\": \",'game1 (38)'!$C$37,\": \",'game1 (38)'!$C$38,\": \",'game1 (38)'!$C$39,\": \",'game1 (38)'!$C$40)))))),\"\")","v":""},null,null,{"$f":"IF(A177<>\"\",CONCATENATE('game1 (38)'!$E$36,\" - \",IF('game1 (38)'!$E$49=1,'game1 (38)'!$F$36,IF('game1 (38)'!$E$49=2,CONCATENATE('game1 (38)'!$F$36,\": \",'game1 (38)'!$F$37),IF('game1 (38)'!$E$49=3,CONCATENATE('game1 (38)'!$F$36,\": \",'game1 (38)'!$F$37,\": \",'game1 (38)'!$F$38),IF('game1 (38)'!$E$49=4,CONCATENATE('game1 (38)'!$F$36,\": \",'game1 (38)'!$F$37,\": \",'game1 (38)'!$F$38,\": \",'game1 (38)'!$F$39),CONCATENATE('game1 (38)'!$F$36,\": \",'game1 (38)'!$F$37,\": \",'game1 (38)'!$F$38,\": \",'game1 (38)'!$F$39,\": \",'game1 (38)'!$F$40)))))),\"\")","v":""},null,null,{"$f":"IF(A177<>\"\",CONCATENATE('game1 (38)'!$H$36,\" - \",IF('game1 (38)'!$H$49=1,'game1 (38)'!$I$36,IF('game1 (38)'!$H$49=2,CONCATENATE('game1 (38)'!$I$36,\": \",'game1 (38)'!$I$37),IF('game1 (38)'!$H$49=3,CONCATENATE('game1 (38)'!$I$36,\": \",'game1 (38)'!$I$37,\": \",'game1 (38)'!$I$38),IF('game1 (38)'!$H$49=4,CONCATENATE('game1 (38)'!$I$36,\": \",'game1 (38)'!$I$37,\": \",'game1 (38)'!$I$38,\": \",'game1 (38)'!$I$39),CONCATENATE('game1 (38)'!$I$36,\": \",'game1 (38)'!$I$37,\": \",'game1 (38)'!$I$38,\": \",'game1 (38)'!$I$39,\": \",'game1 (38)'!$I$40)))))),\"\")","v":""}]
[{"$f":"IF(A177<>\"\",CONCATENATE('game1 (38)'!$C$4,\" - \",'game1 (38)'!$D$4, \" \", UPPER('game1 (38)'!$E$4)),\"\")","v":""},{"$f":"'game1 (38)'!D$32","v":0},{"$f":"'game1 (38)'!E$32","v":0},{"$f":"'game1 (38)'!R$32","v":""},{"$f":"'game1 (38)'!F$32","v":0},{"$f":"'game1 (38)'!G$32","v":0},{"$f":"'game1 (38)'!S$32","v":""},{"$f":"'game1 (38)'!H$32","v":0},{"$f":"'game1 (38)'!I$32","v":0},{"$f":"'game1 (38)'!T$32","v":""},{"$f":"'game1 (38)'!U$32","v":""},{"$f":"'game1 (38)'!J$32","v":0},{"$f":"'game1 (38)'!K$32","v":0},0,{"$f":"'game1 (38)'!L$32","v":0},{"$f":"'game1 (38)'!M$32","v":0},{"$f":"'game1 (38)'!N$32","v":0},{"$f":"'game1 (38)'!O$32","v":0},{"$f":"'game1 (38)'!P$32","v":0}]
[{"$f":"IF('game1 (39)'!$C$2<>\"\",'game1 (39)'!$X$2,\"\")","v":""},{"$f":"'game1 (39)'!D$31","v":0},{"$f":"'game1 (39)'!E$31","v":0},{"$f":"'game1 (39)'!R$31","v":""},{"$f":"'game1 (39)'!F$31","v":0},{"$f":"'game1 (39)'!G$31","v":0},{"$f":"'game1 (39)'!S$31","v":""},{"$f":"'game1 (39)'!H$31","v":0},{"$f":"'game1 (39)'!I$31","v":0},{"$f":"'game1 (39)'!T$31","v":""},{"$f":"'game1 (39)'!U$31","v":""},{"$f":"'game1 (39)'!J$31","v":0},{"$f":"'game1 (39)'!K$31","v":0},0,{"$f":"'game1 (39)'!L$31","v":0},{"$f":"'game1 (39)'!M$31","v":0},{"$f":"'game1 (39)'!N$31","v":0},{"$f":"'game1 (39)'!O$31","v":0},{"$f":"'game1 (39)'!P$31","v":0},{"$f":"IF(A179<>\"\",CONCATENATE('game1 (39)'!$B$36,\" - \",IF('game1 (39)'!$B$49=1,'game1 (39)'!$C$36,IF('game1 (39)'!$B$49=2,CONCATENATE('game1 (39)'!$C$36,\": \",'game1 (39)'!$C$37),IF('game1 (39)'!$B$49=3,CONCATENATE('game1 (39)'!$C$36,\": \",'game1 (39)'!$C$37,\": \",'game1 (39)'!$C$38),IF('game1 (39)'!$B$49=4,CONCATENATE('game1 (39)'!$C$36,\": \",'game1 (39)'!$C$37,\": \",'game1 (39)'!$C$38,\": \",'game1 (39)'!$C$39),CONCATENATE('game1 (39)'!$C$36,\": \",'game1 (39)'!$C$37,\": \",'game1 (39)'!$C$38,\": \",'game1 (39)'!$C$39,\": \",'game1 (39)'!$C$40)))))),\"\")","v":""},null,null,{"$f":"IF(A179<>\"\",CONCATENATE('game1 (39)'!$E$36,\" - \",IF('game1 (39)'!$E$49=1,'game1 (39)'!$F$36,IF('game1 (39)'!$E$49=2,CONCATENATE('game1 (39)'!$F$36,\": \",'game1 (39)'!$F$37),IF('game1 (39)'!$E$49=3,CONCATENATE('game1 (39)'!$F$36,\": \",'game1 (39)'!$F$37,\": \",'game1 (39)'!$F$38),IF('game1 (39)'!$E$49=4,CONCATENATE('game1 (39)'!$F$36,\": \",'game1 (39)'!$F$37,\": \",'game1 (39)'!$F$38,\": \",'game1 (39)'!$F$39),CONCATENATE('game1 (39)'!$F$36,\": \",'game1 (39)'!$F$37,\": \",'game1 (39)'!$F$38,\": \",'game1 (39)'!$F$39,\": \",'game1 (39)'!$F$40)))))),\"\")","v":""},null,null,{"$f":"IF(A179<>\"\",CONCATENATE('game1 (39)'!$H$36,\" - \",IF('game1 (39)'!$H$49=1,'game1 (39)'!$I$36,IF('game1 (39)'!$H$49=2,CONCATENATE('game1 (39)'!$I$36,\": \",'game1 (39)'!$I$37),IF('game1 (39)'!$H$49=3,CONCATENATE('game1 (39)'!$I$36,\": \",'game1 (39)'!$I$37,\": \",'game1 (39)'!$I$38),IF('game1 (39)'!$H$49=4,CONCATENATE('game1 (39)'!$I$36,\": \",'game1 (39)'!$I$37,\": \",'game1 (39)'!$I$38,\": \",'game1 (39)'!$I$39),CONCATENATE('game1 (39)'!$I$36,\": \",'game1 (39)'!$I$37,\": \",'game1 (39)'!$I$38,\": \",'game1 (39)'!$I$39,\": \",'game1 (39)'!$I$40)))))),\"\")","v":""}]
[{"$f":"IF(A179<>\"\",CONCATENATE('game1 (39)'!$C$4,\" - \",'game1 (39)'!$D$4, \" \", UPPER('game1 (39)'!$E$4)),\"\")","v":""},{"$f":"'game1 (39)'!D$32","v":0},{"$f":"'game1 (39)'!E$32","v":0},{"$f":"'game1 (39)'!R$32","v":""},{"$f":"'game1 (39)'!F$32","v":0},{"$f":"'game1 (39)'!G$32","v":0},{"$f":"'game1 (39)'!S$32","v":""},{"$f":"'game1 (39)'!H$32","v":0},{"$f":"'game1 (39)'!I$32","v":0},{"$f":"'game1 (39)'!T$32","v":""},{"$f":"'game1 (39)'!U$32","v":""},{"$f":"'game1 (39)'!J$32","v":0},{"$f":"'game1 (39)'!K$32","v":0},0,{"$f":"'game1 (39)'!L$32","v":0},{"$f":"'game1 (39)'!M$32","v":0},{"$f":"'game1 (39)'!N$32","v":0},{"$f":"'game1 (39)'!O$32","v":0},{"$f":"'game1 (39)'!P$32","v":0}]
[{"$f":"IF('game1 (40)'!$C$2<>\"\",'game1 (40)'!$X$2,\"\")","v":""},{"$f":"'game1 (40)'!D$31","v":0},{"$f":"'game1 (40)'!E$31","v":0},{"$f":"'game1 (40)'!R$31","v":""},{"$f":"'game1 (40)'!F$31","v":0},{"$f":"'game1 (40)'!G$31","v":0},{"$f":"'game1 (40)'!S$31","v":""},{"$f":"'game1 (40)'!H$31","v":0},{"$f":"'game1 (40)'!I$31","v":0},{"$f":"'game1 (40)'!T$31","v":""},{"$f":"'game1 (40)'!U$31","v":""},{"$f":"'game1 (40)'!J$31","v":0},{"$f":"'game1 (40)'!K$31","v":0},0,{"$f":"'game1 (40)'!L$31","v":0},{"$f":"'game1 (40)'!M$31","v":0},{"$f":"'game1 (40)'!N$31","v":0},{"$f":"'game1 (40)'!O$31","v":0},{"$f":"'game1 (40)'!P$31","v":0},{"$f":"IF(A181<>\"\",CONCATENATE('game1 (40)'!$B$36,\" - \",IF('game1 (40)'!$B$49=1,'game1 (40)'!$C$36,IF('game1 (40)'!$B$49=2,CONCATENATE('game1 (40)'!$C$36,\": \",'game1 (40)'!$C$37),IF('game1 (40)'!$B$49=3,CONCATENATE('game1 (40)'!$C$36,\": \",'game1 (40)'!$C$37,\": \",'game1 (40)'!$C$38),IF('game1 (40)'!$B$49=4,CONCATENATE('game1 (40)'!$C$36,\": \",'game1 (40)'!$C$37,\": \",'game1 (40)'!$C$38,\": \",'game1 (40)'!$C$39),CONCATENATE('game1 (40)'!$C$36,\": \",'game1 (40)'!$C$37,\": \",'game1 (40)'!$C$38,\": \",'game1 (40)'!$C$39,\": \",'game1 (40)'!$C$40)))))),\"\")","v":""},null,null,{"$f":"IF(A181<>\"\",CONCATENATE('game1 (40)'!$E$36,\" - \",IF('game1 (40)'!$E$49=1,'game1 (40)'!$F$36,IF('game1 (40)'!$E$49=2,CONCATENATE('game1 (40)'!$F$36,\": \",'game1 (40)'!$F$37),IF('game1 (40)'!$E$49=3,CONCATENATE('game1 (40)'!$F$36,\": \",'game1 (40)'!$F$37,\": \",'game1 (40)'!$F$38),IF('game1 (40)'!$E$49=4,CONCATENATE('game1 (40)'!$F$36,\": \",'game1 (40)'!$F$37,\": \",'game1 (40)'!$F$38,\": \",'game1 (40)'!$F$39),CONCATENATE('game1 (40)'!$F$36,\": \",'game1 (40)'!$F$37,\": \",'game1 (40)'!$F$38,\": \",'game1 (40)'!$F$39,\": \",'game1 (40)'!$F$40)))))),\"\")","v":""},null,null,{"$f":"IF(A181<>\"\",CONCATENATE('game1 (40)'!$H$36,\" - \",IF('game1 (40)'!$H$49=1,'game1 (40)'!$I$36,IF('game1 (40)'!$H$49=2,CONCATENATE('game1 (40)'!$I$36,\": \",'game1 (40)'!$I$37),IF('game1 (40)'!$H$49=3,CONCATENATE('game1 (40)'!$I$36,\": \",'game1 (40)'!$I$37,\": \",'game1 (40)'!$I$38),IF('game1 (40)'!$H$49=4,CONCATENATE('game1 (40)'!$I$36,\": \",'game1 (40)'!$I$37,\": \",'game1 (40)'!$I$38,\": \",'game1 (40)'!$I$39),CONCATENATE('game1 (40)'!$I$36,\": \",'game1 (40)'!$I$37,\": \",'game1 (40)'!$I$38,\": \",'game1 (40)'!$I$39,\": \",'game1 (40)'!$I$40)))))),\"\")","v":""}]
[{"$f":"IF(A181<>\"\",CONCATENATE('game1 (40)'!$C$4,\" - \",'game1 (40)'!$D$4, \" \", UPPER('game1 (40)'!$E$4)),\"\")","v":""},{"$f":"'game1 (40)'!D$32","v":0},{"$f":"'game1 (40)'!E$32","v":0},{"$f":"'game1 (40)'!R$32","v":""},{"$f":"'game1 (40)'!F$32","v":0},{"$f":"'game1 (40)'!G$32","v":0},{"$f":"'game1 (40)'!S$32","v":""},{"$f":"'game1 (40)'!H$32","v":0},{"$f":"'game1 (40)'!I$32","v":0},{"$f":"'game1 (40)'!T$32","v":""},{"$f":"'game1 (40)'!U$32","v":""},{"$f":"'game1 (40)'!J$32","v":0},{"$f":"'game1 (40)'!K$32","v":0},0,{"$f":"'game1 (40)'!L$32","v":0},{"$f":"'game1 (40)'!M$32","v":0},{"$f":"'game1 (40)'!N$32","v":0},{"$f":"'game1 (40)'!O$32","v":0},{"$f":"'game1 (40)'!P$32","v":0}]

{"sheet":"Roster","index":2,"n_rows":73,"n_cols":21,"rows_kept":73}
[null,"Upton","Class",{"$f":"IF($B$1=\"Select Team Name\",\"\",VLOOKUP($B$1,$L$3:$R$742,2,FALSE))","v":"2A"}]
[null,{"$f":"IF(B1=\"Select Team Name\",\"Mascot\",VLOOKUP($B$1,$L$3:$R$75,IF($D$5=\"GB\",7,6),FALSE))","v":"Bobcats"},"Conference",{"$f":"IF($B$1=\"Select Team Name\",\"\",VLOOKUP($B$1,$L$3:$R$72,3,FALSE))","v":"Northeast"},{"$nulls":7},"Select Team Name","Class","Conference","Region","Sub Region","Mascot","Lady Mascot"]
[null,null,"Region",{"$f":"IF($B$1=\"Team Name\",\"\",VLOOKUP($B$1,$L$3:$R$72,4,FALSE))","v":"East"},{"$nulls":7},"Arvada Clearmont","1A","Northeast","East","North","Panthers","Panthers"]
[null,null,"Subregion",{"$f":"IF($B$1=\"Team Name\",\"\",VLOOKUP($B$1,$L$3:$R$72,5,FALSE))","v":"North"},{"$nulls":7},"Big Horn","2A","Northeast","East","North","Rams","Rams"]
[null,null,"Men (BB) / Women (GB)","BB",{"$nulls":7},"Big Piney","2A","Southwest","West","South","Punchers","Punchers",null,null,"game1 (1)"]
["#","PLAYER - First Name Last Name",{"$nulls":9},"Buffalo","3A","Northeast","East","North","Bison","Bison",null,null,"game1 (2)"]
[24,"Payton Watt",{"$nulls":9},"Burlington","1A","Northwest","West","North","Huskies","Huskies",null,null,"game1 (3)"]
[20,"Dillon Barritt",{"$nulls":9},"Burns","2A","Southeast","East","South","Broncs","Lady Broncs",null,null,"game1 (4)"]
[14,"Dawson Butts",{"$nulls":9},"Campbell Co.","4A","East","East",null,"Camels","Camels",null,null,"game1 (5)"]
[12,"Jayden Caylor",{"$nulls":9},"Central","4A","East","East",null,"Indians","Indians",null,null,"game1 (6)"]
[23,"Clayton Louderback",{"$nulls":9},"Chugwater","1A","Southeast","East","South","Buffalos","Buffalos",null,null,"game1 (7)"]
[10,"Jess Claycomb",{"$nulls":9},"Cody","3A","Northwest","West","North","Broncs","Fillies",null,null,"game1 (8)"]
[4,"Maxx Cowger",{"$nulls":9},"Cokeville","1A","Southwest","West","South","Panthers","Panthers",null,null,"game1 (9)"]
[22,"Brayden Bruce",{"$nulls":9},"Douglas","3A","Southeast","East","South","Bearcats","Bearcats",null,null,"game1 (10)"]
[30,"Jo Bishop",{"$nulls":9},"Dubois","1A","Northwest","West","North","Rams","Rams",null,null,"game1 (11)"]
[33,"Nolan Turner",{"$nulls":9},"East","4A","East","East",null,"Thunderbirds","Thunderbirds",null,null,"game1 (12)"]
[32,"Robert Crawford",{"$nulls":9},"Encampment","1A","Southwest","West","South","Tigers","Tigers",null,null,"game1 (13)"]
[40,"Jace Bruce",{"$nulls":9},"Evanston","4A","West","West",null,"Red Devils","Red Devils",null,null,"game1 (14)"]
[2,"Ethan Mills",{"$nulls":9},"Farson Eden","1A","Southwest","West","South","Pronghorns","Pronghorns",null,null,"game1 (15)"]
[2,"Bridger Alishouse",{"$nulls":9},"Glendo","1A","Southeast","East","South","Eagles","Eagles",null,null,"game1 (16)"]
[4,"Landon Keever",{"$nulls":9},"Glenrock","2A","Southeast","East","South","Herders","Herders",null,null,"game1 (17)"]
[4,"DJ Till",{"$nulls":9},"Green River","4A","West","West",null,"Wolves","Wolves",null,null,"game1 (18)"]
[{"$nulls":11},"Greybull","2A","Northwest","West","North","Buffalos","Buffalos",null,null,"game1 (19)"]
[{"$nulls":11},"Guernsey","1A","Southeast","East","South","Vikings","Vikings",null,null,"game1 (20)"]
[{"$nulls":11},"HEM","1A","Southeast","East","South","Miners","Miners",null,null,"game1 (21)"]
[{"$nulls":11},"Hulett","1A","Northeast","East","North","Red Devils","Red Devils",null,null,"game1 (22)"]
[{"$nulls":11},"Jackson","4A","West","West",null,"Broncs","Broncs",null,null,"game1 (23)"]
[{"$nulls":11},"Kaycee","1A","Northeast","East","North","Buckaroos","Lady Bucs",null,null,"game1 (24)"]
[{"$nulls":11},"Kelly Walsh","4A","West","West",null,"Trojans","Trojans",null,null,"game1 (25)"]
[null,"Team",{"$nulls":9},"Kemmerer","2A","Southwest","West","South","Rangers","Rangers",null,null,"game1 (26)"]
[{"$nulls":11},"Lander Valley","3A","Northwest","West","North","Tigers","Tigers",null,null,"game1 (27)"]
[{"$nulls":11},"Laramie","4A","East","East",null,"Plainsmen","Plainsmen",null,null,"game1 (28)"]
[{"$nulls":11},"Lingle","1A","Southeast","East","South","Doggers","Doggers",null,null,"game1 (29)"]
[{"$nulls":11},"Lovell","2A","Northwest","West","North","Bulldogs","Bulldogs",null,null,"game1 (30)"]
[{"$nulls":11},"Lusk","2A","Southeast","East","South","Tigers","Tigers",null,null,"game1 (31)"]
[{"$nulls":11},"Lyman","3A","Southwest","West","South","Eagles","Eagles",null,null,"game1 (32)"]
[{"$nulls":11},"Meeteetse","1A","Northwest","West","North","Longhorns","Longhorns",null,null,"game1 (33)"]
[{"$nulls":11},"Midwest","1A","Northeast","East","North","Oilers","Oilers",null,null,"game1 (34)"]
[{"$nulls":11},"Moorcroft","2A","Northeast","East","North","Wolves","Wolves",null,null,"game1 (35)"]
[{"$nulls":11},"Mountain View","3A","Southwest","West","South","Buffalos","Buffalos",null,null,"game1 (36)"]
[{"$nulls":11},"Natrona","4A","West","West",null,"Mustangs","Fillies",null,null,"game1 (37)"]
[{"$nulls":11},"Newcastle","3A","Southeast","East","South","Dogies","Dogies",null,null,"game1 (38)"]
[{"$nulls":11},"NSI","1A","Northeast","East","North","Wolves","Wolves",null,null,"game1 (39)"]
[{"$nulls":11},"Pine Bluffs","2A","Southeast","East","South","Hornets","Hornets",null,null,"game1 (40)"]
[{"$nulls":11},"Pinedale","3A","Southwest","West","South","Wranglers","Wranglers"]
[{"$nulls":11},"Powell","3A","Northwest","West","North","Panthers","Panthers"]
[{"$nulls":11},"Rawlins","3A","Northeast","East","North","Outlaws","Outlaws"]
[{"$nulls":11},"Riverside","2A","Northwest","West","North","Rebels","Rebels"]
[{"$nulls":11},"Riverton","3A","Northwest","West","North","Wolverines","Wolverines"]
[{"$nulls":11},"Rock River","1A","Southeast","East","South","Longhorns","Longhorns"]
[{"$nulls":11},"Rock Springs","4A","West","West",null,"Tigers","Tigers"]
[{"$nulls":11},"Rocky Mountain","2A","Northwest","West","North","Grizzlies","Grizzlies"]
[{"$nulls":11},"Saratoga","1A","Southwest","West","South","Panthers","Panthers"]
[{"$nulls":11},"Sheridan","4A","East","East",null,"Broncs","Broncs"]
[{"$nulls":11},"Shoshoni","2A","Northwest","West","North","Wranglers","Wranglers"]
[{"$nulls":11},"Snake River","1A","Southwest","West","South","Rattlers","Rattlers"]
[{"$nulls":11},"South","4A","East","East",null,"Bison","Bison"]
[{"$nulls":11},"Southeast","2A","Southeast","East","South","Cyclones","Cyclones"]
[{"$nulls":11},"St Stephens","1A","Northwest","West","North","Eagles","Eagles"]
[{"$nulls":11},"Star Valley","3A","Southwest","West","South","Braves","Braves"]
[{"$nulls":11},"Sundance","2A","Northeast","East","North","Bulldogs","Bulldogs"]
[{"$nulls":11},"Ten Sleep","1A","Northwest","West","North","Pioneers","Pioneers"]
[{"$nulls":11},"Thermopolis","3A","Northeast","East","North","Bobcats","Bobcats"]
[{"$nulls":11},"Thunder Basin","4A","East","East",null,"Bolts","Bolts"]
[{"$nulls":11},"Tongue River","2A","Northeast","East","North","Eagles","Eagles"]
[{"$nulls":11},"Torrington","3A","Southeast","East","South","Trailblazers","Trailblazers"]
[{"$nulls":11},"Upton","2A","Northeast","East","North","Bobcats","Bobcats"]
[{"$nulls":11},"Wheatland","3A","Southeast","East","South","Bulldogs","Bulldogs"]
[{"$nulls":11},"Wind River","2A","Southwest","West","South","Cougars","Cougars"]
[{"$nulls":11},"Worland","3A","Northeast","East","North","Warriors","Warriors"]
[{"$nulls":11},"Wright","2A","Northeast","East","North","Panthers","Panthers"]
[{"$nulls":11},"Wyoming Indian","2A","Southwest","West","South","Chiefs","Chiefs"]
[{"$nulls":11},"Big Horn","2A","Northeast","East","North","Rams","Rams"]

{"sheet":"game1 (1)","index":3,"n_rows":49,"n_cols":27,"rows_kept":49,"merged":[[0,6,0,11],[1,2,1,5],[1,7,1,9],[1,10,1,12],[32,2,32,17]]}
[]
[{"$f":"IF(AND(Roster!$D$1=VLOOKUP(C2,Roster!$L$5:$R$72,2,FALSE),Roster!$D$3=VLOOKUP(C2,Roster!$L$5:$R$72,4,FALSE)),\"R\",\"\")","v":""},"Opponent","Hulett",{"$nulls":4},"Date of Game",null,null,"2017-12-08",{"$nulls":12},{"$f":"IF(OR($H$4=1,$J$4=1),CONCATENATE($C$2,\": \",MONTH($K$2),\"/\",DAY($K$2),\"/\",YEAR($K$2)-2000, \" **\" ),CONCATENATE($C$2,\": \",MONTH($K$2),\"/\",DAY($K$2),\"/\",YEAR($K$2)-2000))","v":"Hulett: 12/8/17"},null,8]
[{"$nulls":6},"Win","Conf W","Loss","Conf L",null,"Forfeit W?",null,"Forfeit L?",{"$nulls":9},{"$f":"IF($C$4>$D$4,CONCATENATE(Roster!$B$1,\" \",$C$4,\", \",$C$2,\" \",$D$4, \" \",$E$4),CONCATENATE($C$2,\" \",$D$4,\", \",Roster!$B$1,\" \",$C$4,\" \", $E$4 ))","v":"Upton 94, Hulett 54 "}]
[null,"Score",94,54,null,null,{"$f":"IF(OR($L$4=1,$C$4>$D$4),1,\"\")","v":1},null,{"$f":"IF(OR($N$4=1,$C$4<$D$4),1,\"\")","v":""}]
[]
["#","PLAYER","GP","3FGM","3FGA","2FGM","2FGA","FTM","FTA","OFF REB","DEF REB","AST","STL","BLK","TO","FOUL","TL PTS","3FG %","2FG %","FT %","FG%","FGA","REB","Elig FG%","Elig FT%","Name2","FI,LastName,#"]
[{"$f":"IF(Roster!A7<>\"\",Roster!A7,\"\")","v":24},{"$f":"IF(OR(Roster!A7<>\"\",Roster!B7<>\"\"),PROPER(Roster!B7),\"\")","v":"Payton Watt"},1,null,4,8,13,3,4,null,3,5,3,null,2,4,{"$f":"IF(H7+2*F7+3*D7>0,H7+2*F7+3*D7,0)","v":19},{"$f":"IF(E7>0,D7/E7,\"\")","v":{"v":0,"d":"0%"}},{"$f":"IF(G7>0,F7/G7,\"\")","v":{"v":0.6153846153846154,"d":"62%"}},{"$f":"IF(I7>0,H7/I7,\"\")","v":{"v":0.75,"d":"75%"}},{"$f":"IF(OR(E7>0,G7 >0),(D7+F7)/(E7+G7),\"\")","v":{"v":0.47058823529411764,"d":"47%"}},{"$f":"IF(E7+G7>0,E7+G7,\"\")","v":17},{"$f":"IF(J7+K7>0,J7+K7,\"\")","v":3},{"$f":"IF(V7>=$Z$2,U7,0)","v":{"v":0.47058823529411764,"d":"47%"}},{"$f":"IF(I7>=$Z$2,T7,0)","v":{"v":0,"d":"0%"}},{"$f":"B7","v":"Payton Watt"},{"$f":"IFERROR(IF(FIND(\" \",$B7,1),CONCATENATE(LEFT($B7,1),\" \",RIGHT($B7,LEN($B7)-FIND(\" \",$B7,1)),\", \",$A7),CONCATENATE($B7,\", \",$A7)),\"\")","v":"P Watt, 24"}]
[{"$f":"IF(Roster!A8<>\"\",Roster!A8,\"\")","v":20},{"$f":"IF(OR(Roster!A8<>\"\",Roster!B8<>\"\"),PROPER(Roster!B8),\"\")","v":"Dillon Barritt"},1,1,4,5,7,null,null,1,null,3,2,null,1,3,{"$f":"IF(H8+2*F8+3*D8>0,H8+2*F8+3*D8,0)","v":13},{"$f":"IF(E8>0,D8/E8,\"\")","v":{"v":0.25,"d":"25%"}},{"$f":"IF(G8>0,F8/G8,\"\")","v":{"v":0.7142857142857143,"d":"71%"}},{"$f":"IF(I8>0,H8/I8,\"\")","v":""},{"$f":"IF(OR(E8>0,G8 >0),(D8+F8)/(E8+G8),\"\")","v":{"v":0.5454545454545454,"d":"55%"}},{"$f":"IF(E8+G8>0,E8+G8,\"\")","v":11},{"$f":"IF(J8+K8>0,J8+K8,\"\")","v":1},{"$f":"IF(V8>=$Z$2,U8,0)","v":{"v":0.5454545454545454,"d":"55%"}},{"$f":"IF(I8>=$Z$2,T8,0)","v":{"v":0,"d":"0%"}},{"$f":"B8","v":"Dillon Barritt"},{"$f":"IFERROR(IF(FIND(\" \",$B8,1),CONCATENATE(LEFT($B8,1),\" \",RIGHT($B8,LEN($B8)-FIND(\" \",$B8,1)),\", \",$A8),CONCATENATE($B8,\", \",$A8)),\"\")","v":"D Barritt, 20"}]
[{"$f":"IF(Roster!A9<>\"\",Roster!A9,\"\")","v":14},{"$f":"IF(OR(Roster!A9<>\"\",Roster!B9<>\"\"),PROPER(Roster!B9),\"\")","v":"Dawson Butts"},1,null,null,2,6,0,2,4,3,4,4,null,null,3,4,"",{"v":0.3333333333333333,"d":"33%"},{"v":0,"d":"0%"},{"v":0.3333333333333333,"d":"33%"},6,7,{"v":0,"d":"0%"},{"v":0,"d":"0%"},"Dawson Butts","D Butts, 14"]
[{"$f":"IF(Roster!A10<>\"\",Roster!A10,\"\")","v":12},{"$f":"IF(OR(Roster!A10<>\"\",Roster!B10<>\"\"),PROPER(Roster!B10),\"\")","v":"Jayden Caylor"},1,null,null,6,9,0,1,5,3,4,3,null,2,4,12,"",{"v":0.6666666666666666,"d":"67%"},{"v":0,"d":"0%"},{"v":0.6666666666666666,"d":"67%"},9,8,{"v":0.6666666666666666,"d":"67%"},{"v":0,"d":"0%"},"Jayden Caylor","J Caylor, 12"]
[{"$f":"IF(Roster!A11<>\"\",Roster!A11,\"\")","v":23},{"$f":"IF(OR(Roster!A11<>\"\",Roster!B11<>\"\"),PROPER(Roster!B11),\"\")","v":"Clayton Louderback"},1,1,3,3,8,2,4,1,7,2,3,null,1,2,11,{"v":0.3333333333333333,"d":"33%"},{"v":0.375,"d":"38%"},{"v":0.5,"d":"50%"},{"v":0.36363636363636365,"d":"36%"},11,8,{"v":0.36363636363636365,"d":"36%"},{"v":0,"d":"0%"},"Clayton Louderback","C Louderback, 23"]
[{"$f":"IF(Roster!A12<>\"\",Roster!A12,\"\")","v":10},{"$f":"IF(OR(Roster!A12<>\"\",Roster!B12<>\"\"),PROPER(Roster!B12),\"\")","v":"Jess Claycomb"},1,2,2,7,8,2,2,1,1,1,1,null,null,4,22,{"v":1,"d":"100%"},{"v":0.875,"d":"88%"},{"v":1,"d":"100%"},{"v":0.9,"d":"90%"},10,2,{"v":0.9,"d":"90%"},{"v":0,"d":"0%"},"Jess Claycomb","J Claycomb, 10"]
[{"$f":"IF(Roster!A13<>\"\",Roster!A13,\"\")","v":4},{"$f":"IF(OR(Roster!A13<>\"\",Roster!B13<>\"\"),PROPER(Roster!B13),\"\")","v":"Maxx Cowger"},1,null,null,1,2,5,6,2,1,1,1,null,3,2,7,"",{"v":0.5,"d":"50%"},{"v":0.8333333333333334,"d":"83%"},{"v":0.5,"d":"50%"},2,3,{"v":0,"d":"0%"},{"v":0,"d":"0%"},"Maxx Cowger","M Cowger, 4"]
[{"$f":"IF(Roster!A14<>\"\",Roster!A14,\"\")","v":22},{"$f":"IF(OR(Roster!A14<>\"\",Roster!B14<>\"\"),PROPER(Roster!B14),\"\")","v":"Brayden Bruce"},1,0,1,2,2,2,2,null,5,5,1,null,1,3,6,{"v":0,"d":"0%"},{"v":1,"d":"100%"},{"v":1,"d":"100%"},{"v":0.6666666666666666,"d":"67%"},3,5,{"v":0,"d":"0%"},{"v":0,"d":"0%"},"Brayden Bruce","B Bruce, 22"]
[{"$f":"IF(Roster!A15<>\"\",Roster!A15,\"\")","v":30},{"$f":"IF(OR(Roster!A15<>\"\",Roster!B15<>\"\"),PROPER(Roster!B15),\"\")","v":"Jo Bishop"},1,{"$nulls":6},1,1,1,{"$nulls":3},1,0,"","","","","",2,"",{"v":0,"d":"0%"},"Jo Bishop","J Bishop, 30"]
[{"$f":"IF(Roster!A16<>\"\",Roster!A16,\"\")","v":33},{"$f":"IF(OR(Roster!A16<>\"\",Roster!B16<>\"\"),PROPER(Roster!B16),\"\")","v":"Nolan Turner"},1,{"$nulls":5},2,1,1,{"$nulls":3},1,null,0,"","",{"v":0,"d":"0%"},"","",2,"",{"v":0,"d":"0%"},"Nolan Turner","N Turner, 33"]
[{"$f":"IF(Roster!A17<>\"\",Roster!A17,\"\")","v":32},{"$f":"IF(OR(Roster!A17<>\"\",Roster!B17<>\"\"),PROPER(Roster!B17),\"\")","v":"Robert Crawford"},{"$nulls":14},0,"","","","","","","",{"v":0,"d":"0%"},"Robert Crawford","R Crawford, 32"]
[{"$f":"IF(Roster!A18<>\"\",Roster!A18,\"\")","v":40},{"$f":"IF(OR(Roster!A18<>\"\",Roster!B18<>\"\"),PROPER(Roster!B18),\"\")","v":"Jace Bruce"},1,null,2,null,1,{"$nulls":4},2,2,null,2,null,0,{"v":0,"d":"0%"},{"v":0,"d":"0%"},"",{"v":0,"d":"0%"},3,"",{"v":0,"d":"0%"},{"v":0,"d":"0%"},"Jace Bruce","J Bruce, 40"]
[{"$f":"IF(Roster!A19<>\"\",Roster!A19,\"\")","v":2},{"$f":"IF(OR(Roster!A19<>\"\",Roster!B19<>\"\"),PROPER(Roster!B19),\"\")","v":"Ethan Mills"},{"$nulls":14},0,"","","","","","","",{"v":0,"d":"0%"},"Ethan Mills","E Mills, 2"]
[{"$f":"IF(Roster!A20<>\"\",Roster!A20,\"\")","v":2},{"$f":"IF(OR(Roster!A20<>\"\",Roster!B20<>\"\"),PROPER(Roster!B20),\"\")","v":"Bridger Alishouse"},{"$nulls":14},0,"","","","","","","",{"v":0,"d":"0%"},"Bridger Alishouse","B Alishouse, 2"]
[{"$f":"IF(Roster!A21<>\"\",Roster!A21,\"\")","v":4},{"$f":"IF(OR(Roster!A21<>\"\",Roster!B21<>\"\"),PROPER(Roster!B21),\"\")","v":"Landon Keever"},{"$nulls":14},0,"","","","","","","",{"v":0,"d":"0%"},"Landon Keever","L Keever, 4"]
[{"$f":"IF(Roster!A22<>\"\",Roster!A22,\"\")","v":4},{"$f":"IF(OR(Roster!A22<>\"\",Roster!B22<>\"\"),PROPER(Roster!B22),\"\")","v":"Dj Till"},{"$nulls":14},0,"","","","","","","",{"v":0,"d":"0%"},"Dj Till","D Till, 4"]
[{"$f":"IF(Roster!A23<>\"\",Roster!A23,\"\")","v":""},{"$f":"IF(OR(Roster!A23<>\"\",Roster!B23<>\"\"),PROPER(Roster!B23),\"\")","v":""},{"$nulls":14},0,"","","","","","","",{"v":0,"d":"0%"},"",""]
[{"$f":"IF(Roster!A24<>\"\",Roster!A24,\"\")","v":""},{"$f":"IF(OR(Roster!A24<>\"\",Roster!B24<>\"\"),PROPER(Roster!B24),\"\")","v":""},{"$nulls":14},0,"","","","","","","",{"v":0,"d":"0%"},"",""]
[{"$f":"IF(Roster!A25<>\"\",Roster!A25,\"\")","v":""},{"$f":"IF(OR(Roster!A25<>\"\",Roster!B25<>\"\"),PROPER(Roster!B25),\"\")","v":""},{"$nulls":14},0,"","","","","","","",{"v":0,"d":"0%"},"",""]
[{"$f":"IF(Roster!A26<>\"\",Roster!A26,\"\")","v":""},{"$f":"IF(OR(Roster!A26<>\"\",Roster!B26<>\"\"),PROPER(Roster!B26),\"\")","v":""},{"$nulls":14},0,"","","","","","","",{"v":0,"d":"0%"},"",""]
[{"$f":"IF(Roster!A27<>\"\",Roster!A27,\"\")","v":""},{"$f":"IF(OR(Roster!A27<>\"\",Roster!B27<>\"\"),PROPER(Roster!B27),\"\")","v":""},{"$nulls":14},0,"","","","","","","",{"v":0,"d":"0%"},"",""]
[{"$f":"IF(Roster!A28<>\"\",Roster!A28,\"\")","v":""},{"$f":"IF(OR(Roster!A28<>\"\",Roster!B28<>\"\"),PROPER(Roster!B28),\"\")","v":""},{"$nulls":14},0,"","","","","","","",{"v":0,"d":"0%"},"",""]
[{"$f":"IF(Roster!A29<>\"\",Roster!A29,\"\")","v":""},{"$f":"IF(OR(Roster!A29<>\"\",Roster!B29<>\"\"),PROPER(Roster!B29),\"\")","v":""},{"$nulls":14},0,"","","","","","","",{"v":0,"d":"0%"},"",""]
[{"$f":"IF(Roster!A30<>\"\",Roster!A30,\"\")","v":""},{"$f":"IF(OR(Roster!A30<>\"\",Roster!B30<>\"\"),PROPER(Roster!B30),\"\")","v":"Team"},{"$nulls":14},0,"","","","","","","",{"v":0,"d":"0%"},"Team",{"$f":"IFERROR(IF(FIND(\" \",$B30,1),CONCATENATE(LEFT($B30,1),\" \",RIGHT($B30,LEN($B30)-FIND(\" \",$B30,1)),\", \",$A30),CONCATENATE($B30,\", \",$A30)),\"\")","v":""}]
[null,"Team Totals",{"$f":"IF(COUNTA($C$7:$C$30)>0,1,\"\")","v":1},{"$f":"SUM(D7:D30)","v":4},{"$f":"SUM(E7:E30)","v":16},34,56,14,23,16,25,28,20,0,{"$f":"SUM(O7:O30)","v":13},{"$f":"SUM(P7:P30)","v":26},{"$f":"IF(H31+2*F31+3*D31>0,H31+2*F31+3*D31,IF(C4>0,C4,\"\"))","v":94},{"$f":"IF(E31>0,D31/E31,\"\")","v":{"v":0.25,"d":"25%"}},{"$f":"IF(G31>0,F31/G31,\"\")","v":{"v":0.6071428571428571,"d":"61%"}},{"$f":"IF(I31>0,H31/I31,\"\")","v":{"v":0.6086956521739131,"d":"61%"}},{"$f":"IF(OR(E31>0,G31 >0),(D31+F31)/(E31+G31),\"\")","v":{"v":0.5277777777777778,"d":"53%"}},{"$f":"IF(E31+G31>0,E31+G31,\"\")","v":72},{"$f":"IF(J31+K31>0,J31+K31,\"\")","v":41},{"v":0.5277777777777778,"d":"53%"},{"$f":"IF(I31>=$Z$2,T31,0)","v":{"v":0.6086956521739131,"d":"61%"}}]
[null,"Opponent Totals",{"$f":"IF(SUM(D32:P32)>0,1,\"\")","v":1},8,21,13,28,4,21,11,25,8,3,3,33,20,{"$f":"IF(H32+2*F32+3*D32>0,H32+2*F32+3*D32,IF(D4>0,D4,\"\"))","v":54},{"$f":"IF(E32>0,D32/E32,\"\")","v":{"v":0.38095238095238093,"d":"38%"}},{"$f":"IF(G32>0,F32/G32,\"\")","v":{"v":0.4642857142857143,"d":"46%"}},{"$f":"IF(I32>0,H32/I32,\"\")","v":{"v":0.19047619047619047,"d":"19%"}},{"$f":"IF(OR(E32>0,G32 >0),(D32+F32)/(E32+G32),\"\")","v":{"v":0.42857142857142855,"d":"43%"}},{"$f":"IF(E32+G32>0,E32+G32,\"\")","v":49},{"$f":"IF(J32+K32>0,J32+K32,\"\")","v":36},{"v":0.42857142857142855,"d":"43%"},{"v":0.19047619047619047,"d":"19%"}]
[null,null,"Peak Performances"]
[]
[null,"Top Points","Player",null,"Top REB","Player",null,"Top AST","Player"]
[null,{"$f":"MAX(Q$7:Q$30)","v":22},{"$f":"IFERROR(INDEX($AA$7:$AA$30,SMALL(IF(Q$7:Q$30=$B$36,ROW(Q$7:Q$30)-6),ROW(Q7)-6)),\" \")","v":"J Claycomb, 10"},null,{"$f":"MAX(W$7:W$30)","v":8},{"$f":"IFERROR(INDEX($AA$7:$AA$30,SMALL(IF(W$7:W$30=$E$36,ROW(W$7:W$30)-6),ROW(W7)-6)),\" \")","v":"J Caylor, 12"},null,{"$f":"MAX(L$7:L$30)","v":5},{"$f":"IFERROR(INDEX($AA$7:$AA$30,SMALL(IF(L$7:L$30=$H$36,ROW(L$7:L$30)-6),ROW(L7)-6)),\" \")","v":"P Watt, 24"}]
[null,null,{"$f":"IFERROR(INDEX($AA$7:$AA$30,SMALL(IF(Q$7:Q$30=$B$36,ROW(Q$7:Q$30)-6),ROW(Q8)-6)),\" \")","v":" "},null,null,{"$f":"IFERROR(INDEX($AA$7:$AA$30,SMALL(IF(W$7:W$30=$E$36,ROW(W$7:W$30)-6),ROW(W8)-6)),\" \")","v":"C Louderback, 23"},null,null,{"$f":"IFERROR(INDEX($AA$7:$AA$30,SMALL(IF(L$7:L$30=$H$36,ROW(L$7:L$30)-6),ROW(L8)-6)),\" \")","v":"B Bruce, 22"}]
[null,null,{"$f":"IFERROR(INDEX($AA$7:$AA$30,SMALL(IF(Q$7:Q$30=$B$36,ROW(Q$7:Q$30)-6),ROW(Q9)-6)),\" \")","v":" "},null,null,{"$f":"IFERROR(INDEX($AA$7:$AA$30,SMALL(IF(W$7:W$30=$E$36,ROW(W$7:W$30)-6),ROW(W9)-6)),\" \")","v":" "},null,null,{"$f":"IFERROR(INDEX($AA$7:$AA$30,SMALL(IF(L$7:L$30=$H$36,ROW(L$7:L$30)-6),ROW(L9)-6)),\" \")","v":" "}]
[null,null,{"$f":"IFERROR(INDEX($AA$7:$AA$30,SMALL(IF(Q$7:Q$30=$B$36,ROW(Q$7:Q$30)-6),ROW(Q10)-6)),\" \")","v":" "},null,null,{"$f":"IFERROR(INDEX($AA$7:$AA$30,SMALL(IF(W$7:W$30=$E$36,ROW(W$7:W$30)-6),ROW(W10)-6)),\" \")","v":" "},null,null,{"$f":"IFERROR(INDEX($AA$7:$AA$30,SMALL(IF(L$7:L$30=$H$36,ROW(L$7:L$30)-6),ROW(L10)-6)),\" \")","v":" "}]
[null,null,{"$f":"IFERROR(INDEX($AA$7:$AA$30,SMALL(IF(Q$7:Q$30=$B$36,ROW(Q$7:Q$30)-6),ROW(Q11)-6)),\" \")","v":" "},null,null,{"$f":"IFERROR(INDEX($AA$7:$AA$30,SMALL(IF(W$7:W$30=$E$36,ROW(W$7:W$30)-6),ROW(W11)-6)),\" \")","v":" "},null,null,{"$f":"IFERROR(INDEX($AA$7:$AA$30,SMALL(IF(L$7:L$30=$H$36,ROW(L$7:L$30)-6),ROW(L11)-6)),\" \")","v":" "}]
[null,null,{"$f":"IFERROR(INDEX($B12:B$30,SMALL(IF(Q$7:Q$30=$B$36,ROW(Q$7:Q$30)-6),ROW(Q12)-6)),\" \")","v":" "}]
[null,null,{"$f":"TRIM(C36)","v":"J Claycomb, 10"},null,null,{"$f":"TRIM(F36)","v":"J Caylor, 12"},null,null,{"$f":"TRIM(I36)","v":"P Watt, 24"}]
[null,null,{"$f":"TRIM(C37)","v":""},null,null,{"$f":"TRIM(F37)","v":"C Louderback, 23"},null,null,{"$f":"TRIM(I37)","v":"B Bruce, 22"}]
[null,null,"",null,null,"",null,null,""]
[null,null,"",null,null,"",null,null,""]
[null,null,"",null,null,"",null,null,""]
[]
[]
[null,{"$f":"COUNTIF(C42:C46,\"?*\")","v":1},null,null,{"$f":"COUNTIF(F42:F46,\"?*\")","v":2},null,null,{"$f":"COUNTIF(I42:I46,\"?*\")","v":2}]

{"sheet":"game1 (2)","index":4,"n_rows":49,"n_cols":27,"rows_kept":49,"merged":[[0,6,0,11],[1,2,1,5],[1,7,1,9],[1,10,1,12],[32,2,32,17]]}
[]
[{"$f":"IF(AND(Roster!$D$1=VLOOKUP(C2,Roster!$L$5:$R$72,2,FALSE),Roster!$D$3=VLOOKUP(C2,Roster!$L$5:$R$72,4,FALSE)),\"R\",\"\")","v":""},"Opponent","Ten Sleep",{"$nulls":4},"Date of Game",null,null,"2017-12-09",{"$nulls":12},{"$f":"IF(OR($H$4=1,$J$4=1),CONCATENATE($C$2,\": \",MONTH($K$2),\"/\",DAY($K$2),\"/\",YEAR($K$2)-2000, \" **\" ),CONCATENATE($C$2,\": \",MONTH($K$2),\"/\",DAY($K$2),\"/\",YEAR($K$2)-2000))","v":"Ten Sleep: 12/9/17"},null,8]
[{"$nulls":6},"Win","Conf W","Loss","Conf L",null,"Forfeit W?",null,"Forfeit L?",{"$nulls":9},{"$f":"IF($C$4>$D$4,CONCATENATE(Roster!$B$1,\" \",$C$4,\", \",$C$2,\" \",$D$4, \" \",$E$4),CONCATENATE($C$2,\" \",$D$4,\", \",Roster!$B$1,\" \",$C$4,\" \", $E$4 ))","v":"Upton 77, Ten Sleep 43 "}]
[null,"Score",77,43,null,null,{"$f":"IF(OR($L$4=1,$C$4>$D$4),1,\"\")","v":1},null,{"$f":"IF(OR($N$4=1,$C$4<$D$4),1,\"\")","v":""}]
[]
["#","PLAYER","GP","3FGM","3FGA","2FGM","2FGA","FTM","FTA","OFF REB","DEF REB","AST","STL","BLK","TO","FOUL","TL PTS","3FG %","2FG %","FT %","FG%","FGA","REB","Elig FG%","Elig FT%","Name2","FI,LastName,#"]
[{"$f":"IF(Roster!A7<>\"\",Roster!A7,\"\")","v":24},{"$f":"IF(OR(Roster!A7<>\"\",Roster!B7<>\"\"),PROPER(Roster!B7),\"\")","v":"Payton Watt"},1,2,7,3,7,3,4,2,2,6,null,null,2,null,{"$f":"IF(H7+2*F7+3*D7>0,H7+2*F7+3*D7,\"\")","v":15},{"$f":"IF(E7>0,D7/E7,\"\")","v":{"v":0.2857142857142857,"d":"29%"}},{"$f":"IF(G7>0,F7/G7,\"\")","v":{"v":0.42857142857142855,"d":"43%"}},{"$f":"IF(I7>0,H7/I7,\"\")","v":{"v":0.75,"d":"75%"}},{"$f":"IF(OR(E7>0,G7 >0),(D7+F7)/(E7+G7),\"\")","v":{"v":0.35714285714285715,"d":"36%"}},{"$f":"IF(E7+G7>0,E7+G7,\"\")","v":14},{"$f":"IF(J7+K7>0,J7+K7,\"\")","v":4},{"$f":"IF(V7>=$Z$2,U7,0)","v":{"v":0.35714285714285715,"d":"36%"}},{"$f":"IF(I7>=$Z$2,T7,0)","v":{"v":0,"d":"0%"}},{"$f":"B7","v":"Payton Watt"},{"$f":"IFERROR(IF(FIND(\" \",$B7,1),CONCATENATE(LEFT($B7,1),\" \",RIGHT($B7,LEN($B7)-FIND(\" \",$B7,1)),\", \",$A7),CONCATENATE($B7,\", \",$A7)),\"\")","v":"P Watt, 24"}]
[{"$f":"IF(Roster!A8<>\"\",Roster!A8,\"\")","v":20},{"$f":"IF(OR(Roster!A8<>\"\",Roster!B8<>\"\"),PROPER(Roster!B8),\"\")","v":"Dillon Barritt"},1,4,5,2,2,3,3,null,3,1,2,null,1,3,{"$f":"IF(H8+2*F8+3*D8>0,H8+2*F8+3*D8,\"\")","v":19},{"$f":"IF(E8>0,D8/E8,\"\")","v":{"v":0.8,"d":"80%"}},{"$f":"IF(G8>0,F8/G8,\"\")","v":{"v":1,"d":"100%"}},{"$f":"IF(I8>0,H8/I8,\"\")","v":{"v":1,"d":"100%"}},{"$f":"IF(OR(E8>0,G8 >0),(D8+F8)/(E8+G8),\"\")","v":{"v":0.8571428571428571,"d":"86%"}},{"$f":"IF(E8+G8>0,E8+G8,\"\")","v":7},{"$f":"IF(J8+K8>0,J8+K8,\"\")","v":3},{"$f":"IF(V8>=$Z$2,U8,0)","v":{"v":0,"d":"0%"}},{"$f":"IF(I8>=$Z$2,T8,0)","v":{"v":0,"d":"0%"}},{"$f":"B8","v":"Dillon Barritt"},{"$f":"IFERROR(IF(FIND(\" \",$B8,1),CONCATENATE(LEFT($B8,1),\" \",RIGHT($B8,LEN($B8)-FIND(\" \",$B8,1)),\", \",$A8),CONCATENATE($B8,\", \",$A8)),\"\")","v":"D Barritt, 20"}]
[{"$f":"IF(Roster!A9<>\"\",Roster!A9,\"\")","v":14},{"$f":"IF(OR(Roster!A9<>\"\",Roster!B9<>\"\"),PROPER(Roster!B9),\"\")","v":"Dawson Butts"},1,0,2,3,5,1,4,2,5,4,2,null,null,2,7,{"v":0,"d":"0%"},{"v":0.6,"d":"60%"},{"v":0.25,"d":"25%"},{"v":0.42857142857142855,"d":"43%"},7,7,{"v":0,"d":"0%"},{"v":0,"d":"0%"},"Dawson Butts","D Butts, 14"]
[{"$f":"IF(Roster!A10<>\"\",Roster!A10,\"\")","v":12},{"$f":"IF(OR(Roster!A10<>\"\",Roster!B10<>\"\"),PROPER(Roster!B10),\"\")","v":"Jayden Caylor"},1,0,1,5,7,0,2,4,1,1,4,null,1,2,10,{"v":0,"d":"0%"},{"v":0.7142857142857143,"d":"71%"},{"v":0,"d":"0%"},{"v":0.625,"d":"63%"},8,5,{"v":0.625,"d":"63%"},{"v":0,"d":"0%"},"Jayden Caylor","J Caylor, 12"]
[{"$f":"IF(Roster!A11<>\"\",Roster!A11,\"\")","v":23},{"$f":"IF(OR(Roster!A11<>\"\",Roster!B11<>\"\"),PROPER(Roster!B11),\"\")","v":"Clayton Louderback"},1,0,2,3,5,null,null,3,5,4,2,null,2,2,6,{"v":0,"d":"0%"},{"v":0.6,"d":"60%"},"",{"v":0.42857142857142855,"d":"43%"},7,8,{"v":0,"d":"0%"},{"v":0,"d":"0%"},"Clayton Louderback","C Louderback, 23"]
[{"$f":"IF(Roster!A12<>\"\",Roster!A12,\"\")","v":10},{"$f":"IF(OR(Roster!A12<>\"\",Roster!B12<>\"\"),PROPER(Roster!B12),\"\")","v":"Jess Claycomb"},1,0,3,6,8,1,2,1,1,2,1,{"$nulls":3},13,{"v":0,"d":"0%"},{"v":0.75,"d":"75%"},{"v":0.5,"d":"50%"},{"v":0.5454545454545454,"d":"55%"},11,2,{"v":0.5454545454545454,"d":"55%"},{"v":0,"d":"0%"},"Jess Claycomb","J Claycomb, 10"]
[{"$f":"IF(Roster!A13<>\"\",Roster!A13,\"\")","v":4},{"$f":"IF(OR(Roster!A13<>\"\",Roster!B13<>\"\"),PROPER(Roster!B13),\"\")","v":"Maxx Cowger"},1,{"$nulls":13},"","","","","","","","",{"v":0,"d":"0%"},"Maxx Cowger","M Cowger, 4"]
[{"$f":"IF(Roster!A14<>\"\",Roster!A14,\"\")","v":22},{"$f":"IF(OR(Roster!A14<>\"\",Roster!B14<>\"\"),PROPER(Roster!B14),\"\")","v":"Brayden Bruce"},1,1,1,0,2,2,2,1,1,3,null,null,1,1,5,{"v":1,"d":"100%"},{"v":0,"d":"0%"},{"v":1,"d":"100%"},{"v":0.3333333333333333,"d":"33%"},3,2,{"v":0,"d":"0%"},{"v":0,"d":"0%"},"Brayden Bruce","B Bruce, 22"]
[{"$f":"IF(Roster!A15<>\"\",Roster!A15,\"\")","v":30},{"$f":"IF(OR(Roster!A15<>\"\",Roster!B15<>\"\"),PROPER(Roster!B15),\"\")","v":"Jo Bishop"},1,0,1,{"$nulls":4},1,{"$nulls":5},1,"",{"v":0,"d":"0%"},"","",{"v":0,"d":"0%"},1,1,{"v":0,"d":"0%"},{"v":0,"d":"0%"},"Jo Bishop","J Bishop, 30"]
[{"$f":"IF(Roster!A16<>\"\",Roster!A16,\"\")","v":33},{"$f":"IF(OR(Roster!A16<>\"\",Roster!B16<>\"\"),PROPER(Roster!B16),\"\")","v":"Nolan Turner"},1,null,null,1,1,null,null,1,1,{"$nulls":3},2,2,2,"",{"v":1,"d":"100%"},"",{"v":1,"d":"100%"},1,2,{"v":0,"d":"0%"},{"v":0,"d":"0%"},"Nolan Turner","N Turner, 33"]
[{"$f":"IF(Roster!A17<>\"\",Roster!A17,\"\")","v":32},{"$f":"IF(OR(Roster!A17<>\"\",Roster!B17<>\"\"),PROPER(Roster!B17),\"\")","v":"Robert Crawford"},{"$nulls":14},"","","","","","","","",{"v":0,"d":"0%"},"Robert Crawford","R Crawford, 32"]
[{"$f":"IF(Roster!A18<>\"\",Roster!A18,\"\")","v":40},{"$f":"IF(OR(Roster!A18<>\"\",Roster!B18<>\"\"),PROPER(Roster!B18),\"\")","v":"Jace Bruce"},1,{"$nulls":12},3,"","","","","","","","",{"v":0,"d":"0%"},"Jace Bruce","J Bruce, 40"]
[{"$f":"IF(Roster!A19<>\"\",Roster!A19,\"\")","v":2},{"$f":"IF(OR(Roster!A19<>\"\",Roster!B19<>\"\"),PROPER(Roster!B19),\"\")","v":"Ethan Mills"},1,null,null,0,1,{"$nulls":9},"","",{"v":0,"d":"0%"},"",{"v":0,"d":"0%"},1,"",{"v":0,"d":"0%"},{"v":0,"d":"0%"},"Ethan Mills","E Mills, 2"]
[{"$f":"IF(Roster!A20<>\"\",Roster!A20,\"\")","v":2},{"$f":"IF(OR(Roster!A20<>\"\",Roster!B20<>\"\"),PROPER(Roster!B20),\"\")","v":"Bridger Alishouse"},{"$nulls":14},"","","","","","","","",{"v":0,"d":"0%"},"Bridger Alishouse","B Alishouse, 2"]
[{"$f":"IF(Roster!A21<>\"\",Roster!A21,\"\")","v":4},{"$f":"IF(OR(Roster!A21<>\"\",Roster!B21<>\"\"),PROPER(Roster!B21),\"\")","v":"Landon Keever"},{"$nulls":14},"","","","","","","","",{"v":0,"d":"0%"},"Landon Keever","L Keever, 4"]
[{"$f":"IF(Roster!A22<>\"\",Roster!A22,\"\")","v":4},{"$f":"IF(OR(Roster!A22<>\"\",Roster!B22<>\"\"),PROPER(Roster!B22),\"\")","v":"Dj Till"},{"$nulls":14},"","","","","","","","",{"v":0,"d":"0%"},"Dj Till","D Till, 4"]
[{"$f":"IF(Roster!A23<>\"\",Roster!A23,\"\")","v":""},{"$f":"IF(OR(Roster!A23<>\"\",Roster!B23<>\"\"),PROPER(Roster!B23),\"\")","v":""},{"$nulls":14},"","","","","","","","",{"v":0,"d":"0%"},"",""]
[{"$f":"IF(Roster!A24<>\"\",Roster!A24,\"\")","v":""},{"$f":"IF(OR(Roster!A24<>\"\",Roster!B24<>\"\"),PROPER(Roster!B24),\"\")","v":""},{"$nulls":14},"","","","","","","","",{"v":0,"d":"0%"},"",""]
[{"$f":"IF(Roster!A25<>\"\",Roster!A25,\"\")","v":""},{"$f":"IF(OR(Roster!A25<>\"\",Roster!B25<>\"\"),PROPER(Roster!B25),\"\")","v":""},{"$nulls":14},"","","","","","","","",{"v":0,"d":"0%"},"",""]
[{"$f":"IF(Roster!A26<>\"\",Roster!A26,\"\")","v":""},{"$f":"IF(OR(Roster!A26<>\"\",Roster!B26<>\"\"),PROPER(Roster!B26),\"\")","v":""},{"$nulls":14},"","","","","","","","",{"v":0,"d":"0%"},"",""]
[{"$f":"IF(Roster!A27<>\"\",Roster!A27,\"\")","v":""},{"$f":"IF(OR(Roster!A27<>\"\",Roster!B27<>\"\"),PROPER(Roster!B27),\"\")","v":""},{"$nulls":14},"","","","","","","","",{"v":0,"d":"0%"},"",""]
[{"$f":"IF(Roster!A28<>\"\",Roster!A28,\"\")","v":""},{"$f":"IF(OR(Roster!A28<>\"\",Roster!B28<>\"\"),PROPER(Roster!B28),\"\")","v":""},{"$nulls":14},"","","","","","","","",{"v":0,"d":"0%"},"",""]
[{"$f":"IF(Roster!A29<>\"\",Roster!A29,\"\")","v":""},{"$f":"IF(OR(Roster!A29<>\"\",Roster!B29<>\"\"),PROPER(Roster!B29),\"\")","v":""},{"$nulls":14},"","","","","","","","",{"v":0,"d":"0%"},"",""]
[{"$f":"IF(Roster!A30<>\"\",Roster!A30,\"\")","v":""},{"$f":"IF(OR(Roster!A30<>\"\",Roster!B30<>\"\"),PROPER(Roster!B30),\"\")","v":"Team"},{"$nulls":14},"","","","","","","","",{"v":0,"d":"0%"},"Team",{"$f":"IFERROR(IF(FIND(\" \",$B30,1),CONCATENATE(LEFT($B30,1),\" \",RIGHT($B30,LEN($B30)-FIND(\" \",$B30,1)),\", \",$A30),CONCATENATE($B30,\", \",$A30)),\"\")","v":""}]
[null,"Team Totals",{"$f":"IF(COUNTA($C$7:$C$30)>0,1,\"\")","v":1},{"$f":"SUM(D7:D30)","v":7},{"$f":"SUM(E7:E30)","v":22},23,38,10,17,15,19,21,11,0,{"$f":"SUM(O7:O30)","v":9},{"$f":"SUM(P7:P30)","v":16},{"$f":"IF(H31+2*F31+3*D31>0,H31+2*F31+3*D31,IF(C4>0,C4,\"\"))","v":77},{"$f":"IF(E31>0,D31/E31,\"\")","v":{"v":0.3181818181818182,"d":"32%"}},{"$f":"IF(G31>0,F31/G31,\"\")","v":{"v":0.6052631578947368,"d":"61%"}},{"$f":"IF(I31>0,H31/I31,\"\")","v":{"v":0.5882352941176471,"d":"59%"}},{"$f":"IF(OR(E31>0,G31 >0),(D31+F31)/(E31+G31),\"\")","v":{"v":0.5,"d":"50%"}},{"$f":"IF(E31+G31>0,E31+G31,\"\")","v":60},{"$f":"IF(J31+K31>0,J31+K31,\"\")","v":34},{"v":0.5,"d":"50%"},{"$f":"IF(I31>=$Z$2,T31,0)","v":{"v":0.5882352941176471,"d":"59%"}}]
[null,"Opponent Totals",{"$f":"IF(SUM(D32:P32)>0,1,\"\")","v":1},4,9,11,33,9,21,8,21,8,4,0,21,21,{"$f":"IF(H32+2*F32+3*D32>0,H32+2*F32+3*D32,IF(D4>0,D4,\"\"))","v":43},{"$f":"IF(E32>0,D32/E32,\"\")","v":{"v":0.4444444444444444,"d":"44%"}},{"$f":"IF(G32>0,F32/G32,\"\")","v":{"v":0.3333333333333333,"d":"33%"}},{"$f":"IF(I32>0,H32/I32,\"\")","v":{"v":0.42857142857142855,"d":"43%"}},{"$f":"IF(OR(E32>0,G32 >0),(D32+F32)/(E32+G32),\"\")","v":{"v":0.35714285714285715,"d":"36%"}},{"$f":"IF(E32+G32>0,E32+G32,\"\")","v":42},{"$f":"IF(J32+K32>0,J32+K32,\"\")","v":29},{"v":0.35714285714285715,"d":"36%"},{"v":0.42857142857142855,"d":"43%"}]
[null,null,"Peak Performances"]
[]
[null,"Top Points","Player",null,"Top REB","Player",null,"Top AST","Player"]
[null,{"$f":"MAX(Q$7:Q$30)","v":19},{"$f":"IFERROR(INDEX($AA$7:$AA$30,SMALL(IF(Q$7:Q$30=$B$36,ROW(Q$7:Q$30)-6),ROW(Q7)-6)),\" \")","v":"D Barritt, 20"},null,{"$f":"MAX(W$7:W$30)","v":8},{"$f":"IFERROR(INDEX($AA$7:$AA$30,SMALL(IF(W$7:W$30=$E$36,ROW(W$7:W$30)-6),ROW(W7)-6)),\" \")","v":"C Louderback, 23"},null,{"$f":"MAX(L$7:L$30)","v":6},{"$f":"IFERROR(INDEX($AA$7:$AA$30,SMALL(IF(L$7:L$30=$H$36,ROW(L$7:L$30)-6),ROW(L7)-6)),\" \")","v":"P Watt, 24"}]
[null,null,{"$f":"IFERROR(INDEX($AA$7:$AA$30,SMALL(IF(Q$7:Q$30=$B$36,ROW(Q$7:Q$30)-6),ROW(Q8)-6)),\" \")","v":" "},null,null,{"$f":"IFERROR(INDEX($AA$7:$AA$30,SMALL(IF(W$7:W$30=$E$36,ROW(W$7:W$30)-6),ROW(W8)-6)),\" \")","v":" "},null,null,{"$f":"IFERROR(INDEX($AA$7:$AA$30,SMALL(IF(L$7:L$30=$H$36,ROW(L$7:L$30)-6),ROW(L8)-6)),\" \")","v":" "}]
[null,null,{"$f":"IFERROR(INDEX($AA$7:$AA$30,SMALL(IF(Q$7:Q$30=$B$36,ROW(Q$7:Q$30)-6),ROW(Q9)-6)),\" \")","v":" "},null,null,{"$f":"IFERROR(INDEX($AA$7:$AA$30,SMALL(IF(W$7:W$30=$E$36,ROW(W$7:W$30)-6),ROW(W9)-6)),\" \")","v":" "},null,null,{"$f":"IFERROR(INDEX($AA$7:$AA$30,SMALL(IF(L$7:L$30=$H$36,ROW(L$7:L$30)-6),ROW(L9)-6)),\" \")","v":" "}]
[null,null,{"$f":"IFERROR(INDEX($AA$7:$AA$30,SMALL(IF(Q$7:Q$30=$B$36,ROW(Q$7:Q$30)-6),ROW(Q10)-6)),\" \")","v":" "},null,null,{"$f":"IFERROR(INDEX($AA$7:$AA$30,SMALL(IF(W$7:W$30=$E$36,ROW(W$7:W$30)-6),ROW(W10)-6)),\" \")","v":" "},null,null,{"$f":"IFERROR(INDEX($AA$7:$AA$30,SMALL(IF(L$7:L$30=$H$36,ROW(L$7:L$30)-6),ROW(L10)-6)),\" \")","v":" "}]
[null,null,{"$f":"IFERROR(INDEX($AA$7:$AA$30,SMALL(IF(Q$7:Q$30=$B$36,ROW(Q$7:Q$30)-6),ROW(Q11)-6)),\" \")","v":" "},null,null,{"$f":"IFERROR(INDEX($AA$7:$AA$30,SMALL(IF(W$7:W$30=$E$36,ROW(W$7:W$30)-6),ROW(W11)-6)),\" \")","v":" "},null,null,{"$f":"IFERROR(INDEX($AA$7:$AA$30,SMALL(IF(L$7:L$30=$H$36,ROW(L$7:L$30)-6),ROW(L11)-6)),\" \")","v":" "}]
[null,null,{"$f":"IFERROR(INDEX($B12:B$30,SMALL(IF(Q$7:Q$30=$B$36,ROW(Q$7:Q$30)-6),ROW(Q12)-6)),\" \")","v":" "}]
[null,null,{"$f":"TRIM(C36)","v":"D Barritt, 20"},null,null,{"$f":"TRIM(F36)","v":"C Louderback, 23"},null,null,{"$f":"TRIM(I36)","v":"P Watt, 24"}]
[null,null,{"$f":"TRIM(C37)","v":""},null,null,{"$f":"TRIM(F37)","v":""},null,null,{"$f":"TRIM(I37)","v":""}]
[null,null,"",null,null,"",null,null,""]
[null,null,"",null,null,"",null,null,""]
[null,null,"",null,null,"",null,null,""]
[]
[]
[null,{"$f":"COUNTIF(C42:C46,\"?*\")","v":1},null,null,{"$f":"COUNTIF(F42:F46,\"?*\")","v":1},null,null,{"$f":"COUNTIF(I42:I46,\"?*\")","v":1}]

{"sheet":"game1 (3)","index":5,"n_rows":49,"n_cols":27,"rows_kept":49,"merged":[[0,6,0,11],[1,2,1,5],[1,7,1,9],[1,10,1,12],[32,2,32,17]]}
[]
[{"$f":"IF(AND(Roster!$D$1=VLOOKUP(C2,Roster!$L$5:$R$72,2,FALSE),Roster!$D$3=VLOOKUP(C2,Roster!$L$5:$R$72,4,FALSE)),\"R\",\"\")","v":""},"Opponent","Kaycee",{"$nulls":4},"Date of Game",null,null,"2017-12-09",{"$nulls":12},{"$f":"IF(OR($H$4=1,$J$4=1),CONCATENATE($C$2,\": \",MONTH($K$2),\"/\",DAY($K$2),\"/\",YEAR($K$2)-2000, \" **\" ),CONCATENATE($C$2,\": \",MONTH($K$2),\"/\",DAY($K$2),\"/\",YEAR($K$2)-2000))","v":"Kaycee: 12/9/17"},null,8]
[{"$nulls":6},"Win","Conf W","Loss","Conf L",null,"Forfeit W?",null,"Forfeit L?",{"$nulls":9},{"$f":"IF($C$4>$D$4,CONCATENATE(Roster!$B$1,\" \",$C$4,\", \",$C$2,\" \",$D$4, \" \",$E$4),CONCATENATE($C$2,\" \",$D$4,\", \",Roster!$B$1,\" \",$C$4,\" \", $E$4 ))","v":"Kaycee 62, Upton 61 "}]
[null,"Score",61,62,null,null,{"$f":"IF(OR($L$4=1,$C$4>$D$4),1,\"\")","v":""},null,{"$f":"IF(OR($N$4=1,$C$4<$D$4),1,\"\")","v":1}]
[]
["#","PLAYER","GP","3FGM","3FGA","2FGM","2FGA","FTM","FTA","OFF REB","DEF REB","AST","STL","BLK","TO","FOUL","TL PTS","3FG %","2FG %","FT %","FG%","FGA","REB","Elig FG%","Elig FT%","Name2","FI,LastName,#"]
[{"$f":"IF(Roster!A7<>\"\",Roster!A7,\"\")","v":24},{"$f":"IF(OR(Roster!A7<>\"\",Roster!B7<>\"\"),PROPER(Roster!B7),\"\")","v":"Payton Watt"},1,4,11,4,7,1,2,3,4,4,3,null,2,2,{"$f":"IF(H7+2*F7+3*D7>0,H7+2*F7+3*D7,\"\")","v":21},{"$f":"IF(E7>0,D7/E7,\"\")","v":{"v":0.36363636363636365,"d":"36%"}},{"$f":"IF(G7>0,F7/G7,\"\")","v":{"v":0.5714285714285714,"d":"57%"}},{"$f":"IF(I7>0,H7/I7,\"\")","v":{"v":0.5,"d":"50%"}},{"$f":"IF(OR(E7>0,G7 >0),(D7+F7)/(E7+G7),\"\")","v":{"v":0.4444444444444444,"d":"44%"}},{"$f":"IF(E7+G7>0,E7+G7,\"\")","v":18},{"$f":"IF(J7+K7>0,J7+K7,\"\")","v":7},{"$f":"IF(V7>=$Z$2,U7,0)","v":{"v":0.4444444444444444,"d":"44%"}},{"$f":"IF(I7>=$Z$2,T7,0)","v":{"v":0,"d":"0%"}},{"$f":"B7","v":"Payton Watt"},{"$f":"IFERROR(IF(FIND(\" \",$B7,1),CONCATENATE(LEFT($B7,1),\" \",RIGHT($B7,LEN($B7)-FIND(\" \",$B7,1)),\", \",$A7),CONCATENATE($B7,\", \",$A7)),\"\")","v":"P Watt, 24"}]
[{"$f":"IF(Roster!A8<>\"\",Roster!A8,\"\")","v":20},{"$f":"IF(OR(Roster!A8<>\"\",Roster!B8<>\"\"),PROPER(Roster!B8),\"\")","v":"Dillon Barritt"},1,1,4,2,6,{"$nulls":4},1,2,null,2,2,{"$f":"IF(H8+2*F8+3*D8>0,H8+2*F8+3*D8,\"\")","v":7},{"$f":"IF(E8>0,D8/E8,\"\")","v":{"v":0.25,"d":"25%"}},{"$f":"IF(G8>0,F8/G8,\"\")","v":{"v":0.3333333333333333,"d":"33%"}},{"$f":"IF(I8>0,H8/I8,\"\")","v":""},{"$f":"IF(OR(E8>0,G8 >0),(D8+F8)/(E8+G8),\"\")","v":{"v":0.3,"d":"30%"}},{"$f":"IF(E8+G8>0,E8+G8,\"\")","v":10},{"$f":"IF(J8+K8>0,J8+K8,\"\")","v":""},{"$f":"IF(V8>=$Z$2,U8,0)","v":{"v":0.3,"d":"30%"}},{"$f":"IF(I8>=$Z$2,T8,0)","v":{"v":0,"d":"0%"}},{"$f":"B8","v":"Dillon Barritt"},{"$f":"IFERROR(IF(FIND(\" \",$B8,1),CONCATENATE(LEFT($B8,1),\" \",RIGHT($B8,LEN($B8)-FIND(\" \",$B8,1)),\", \",$A8),CONCATENATE($B8,\", \",$A8)),\"\")","v":"D Barritt, 20"}]
[{"$f":"IF(Roster!A9<>\"\",Roster!A9,\"\")","v":14},{"$f":"IF(OR(Roster!A9<>\"\",Roster!B9<>\"\"),PROPER(Roster!B9),\"\")","v":"Dawson Butts"},1,null,null,3,6,0,2,3,1,4,3,null,2,1,6,"",{"v":0.5,"d":"50%"},{"v":0,"d":"0%"},{"v":0.5,"d":"50%"},6,4,{"v":0,"d":"0%"},{"v":0,"d":"0%"},"Dawson Butts","D Butts, 14"]
[{"$f":"IF(Roster!A10<>\"\",Roster!A10,\"\")","v":12},{"$f":"IF(OR(Roster!A10<>\"\",Roster!B10<>\"\"),PROPER(Roster!B10),\"\")","v":"Jayden Caylor"},1,null,null,2,4,2,4,2,6,2,2,null,5,5,6,"",{"v":0.5,"d":"50%"},{"v":0.5,"d":"50%"},{"v":0.5,"d":"50%"},4,8,{"v":0,"d":"0%"},{"v":0,"d":"0%"},"Jayden Caylor","J Caylor, 12"]
[{"$f":"IF(Roster!A11<>\"\",Roster!A11,\"\")","v":23},{"$f":"IF(OR(Roster!A11<>\"\",Roster!B11<>\"\"),PROPER(Roster!B11),\"\")","v":"Clayton Louderback"},1,null,null,5,8,2,2,3,7,3,1,null,4,4,12,"",{"v":0.625,"d":"63%"},{"v":1,"d":"100%"},{"v":0.625,"d":"63%"},8,10,{"v":0.625,"d":"63%"},{"v":0,"d":"0%"},"Clayton Louderback","C Louderback, 23"]
[{"$f":"IF(Roster!A12<>\"\",Roster!A12,\"\")","v":10},{"$f":"IF(OR(Roster!A12<>\"\",Roster!B12<>\"\"),PROPER(Roster!B12),\"\")","v":"Jess Claycomb"},1,null,null,3,7,null,null,1,1,1,1,null,1,1,6,"",{"v":0.42857142857142855,"d":"43%"},"",{"v":0.42857142857142855,"d":"43%"},7,2,{"v":0,"d":"0%"},{"v":0,"d":"0%"},"Jess Claycomb","J Claycomb, 10"]
[{"$f":"IF(Roster!A13<>\"\",Roster!A13,\"\")","v":4},{"$f":"IF(OR(Roster!A13<>\"\",Roster!B13<>\"\"),PROPER(Roster!B13),\"\")","v":"Maxx Cowger"},{"$nulls":14},"","","","","","","","",{"v":0,"d":"0%"},"Maxx Cowger","M Cowger, 4"]
[{"$f":"IF(Roster!A14<>\"\",Roster!A14,\"\")","v":22},{"$f":"IF(OR(Roster!A14<>\"\",Roster!B14<>\"\"),PROPER(Roster!B14),\"\")","v":"Brayden Bruce"},1,null,null,1,1,1,1,{"$nulls":5},1,1,3,"",{"v":1,"d":"100%"},{"v":1,"d":"100%"},{"v":1,"d":"100%"},1,"",{"v":0,"d":"0%"},{"v":0,"d":"0%"},"Brayden Bruce","B Bruce, 22"]
[{"$f":"IF(Roster!A15<>\"\",Roster!A15,\"\")","v":30},{"$f":"IF(OR(Roster!A15<>\"\",Roster!B15<>\"\"),PROPER(Roster!B15),\"\")","v":"Jo Bishop"},{"$nulls":14},"","","","","","","","",{"v":0,"d":"0%"},"Jo Bishop","J Bishop, 30"]
[{"$f":"IF(Roster!A16<>\"\",Roster!A16,\"\")","v":33},{"$f":"IF(OR(Roster!A16<>\"\",Roster!B16<>\"\"),PROPER(Roster!B16),\"\")","v":"Nolan Turner"},1,{"$nulls":13},"","","","","","","","",{"v":0,"d":"0%"},"Nolan Turner","N Turner, 33"]
[{"$f":"IF(Roster!A17<>\"\",Roster!A17,\"\")","v":32},{"$f":"IF(OR(Roster!A17<>\"\",Roster!B17<>\"\"),PROPER(Roster!B17),\"\")","v":"Robert Crawford"},{"$nulls":14},"","","","","","","","",{"v":0,"d":"0%"},"Robert Crawford","R Crawford, 32"]
[{"$f":"IF(Roster!A18<>\"\",Roster!A18,\"\")","v":40},{"$f":"IF(OR(Roster!A18<>\"\",Roster!B18<>\"\"),PROPER(Roster!B18),\"\")","v":"Jace Bruce"},{"$nulls":14},"","","","","","","","",{"v":0,"d":"0%"},"Jace Bruce","J Bruce, 40"]
[{"$f":"IF(Roster!A19<>\"\",Roster!A19,\"\")","v":2},{"$f":"IF(OR(Roster!A19<>\"\",Roster!B19<>\"\"),PROPER(Roster!B19),\"\")","v":"Ethan Mills"},{"$nulls":14},"","","","","","","","",{"v":0,"d":"0%"},"Ethan Mills","E Mills, 2"]
[{"$f":"IF(Roster!A20<>\"\",Roster!A20,\"\")","v":2},{"$f":"IF(OR(Roster!A20<>\"\",Roster!B20<>\"\"),PROPER(Roster!B20),\"\")","v":"Bridger Alishouse"},{"$nulls":14},"","","","","","","","",{"v":0,"d":"0%"},"Bridger Alishouse","B Alishouse, 2"]
[{"$f":"IF(Roster!A21<>\"\",Roster!A21,\"\")","v":4},{"$f":"IF(OR(Roster!A21<>\"\",Roster!B21<>\"\"),PROPER(Roster!B21),\"\")","v":"Landon Keever"},{"$nulls":14},"","","","","","","","",{"v":0,"d":"0%"},"Landon Keever","L Keever, 4"]
[{"$f":"IF(Roster!A22<>\"\",Roster!A22,\"\")","v":4},{"$f":"IF(OR(Roster!A22<>\"\",Roster!B22<>\"\"),PROPER(Roster!B22),\"\")","v":"Dj Till"},{"$nulls":14},"","","","","","","","",{"v":0,"d":"0%"},"Dj Till","D Till, 4"]
[{"$f":"IF(Roster!A23<>\"\",Roster!A23,\"\")","v":""},{"$f":"IF(OR(Roster!A23<>\"\",Roster!B23<>\"\"),PROPER(Roster!B23),\"\")","v":""},{"$nulls":14},"","","","","","","","",{"v":0,"d":"0%"},"",""]
[{"$f":"IF(Roster!A24<>\"\",Roster!A24,\"\")","v":""},{"$f":"IF(OR(Roster!A24<>\"\",Roster!B24<>\"\"),PROPER(Roster!B24),\"\")","v":""},{"$nulls":14},"","","","","","","","",{"v":0,"d":"0%"},"",""]
[{"$f":"IF(Roster!A25<>\"\",Roster!A25,\"\")","v":""},{"$f":"IF(OR(Roster!A25<>\"\",Roster!B25<>\"\"),PROPER(Roster!B25),\"\")","v":""},{"$nulls":14},"","","","","","","","",{"v":0,"d":"0%"},"",""]
[{"$f":"IF(Roster!A26<>\"\",Roster!A26,\"\")","v":""},{"$f":"IF(OR(Roster!A26<>\"\",Roster!B26<>\"\"),PROPER(Roster!B26),\"\")","v":""},{"$nulls":14},"","","","","","","","",{"v":0,"d":"0%"},"",""]
[{"$f":"IF(Roster!A27<>\"\",Roster!A27,\"\")","v":""},{"$f":"IF(OR(Roster!A27<>\"\",Roster!B27<>\"\"),PROPER(Roster!B27),\"\")","v":""},{"$nulls":14},"","","","","","","","",{"v":0,"d":"0%"},"",""]
[{"$f":"IF(Roster!A28<>\"\",Roster!A28,\"\")","v":""},{"$f":"IF(OR(Roster!A28<>\"\",Roster!B28<>\"\"),PROPER(Roster!B28),\"\")","v":""},{"$nulls":14},"","","","","","","","",{"v":0,"d":"0%"},"",""]
[{"$f":"IF(Roster!A29<>\"\",Roster!A29,\"\")","v":""},{"$f":"IF(OR(Roster!A29<>\"\",Roster!B29<>\"\"),PROPER(Roster!B29),\"\")","v":""},{"$nulls":14},"","","","","","","","",{"v":0,"d":"0%"},"",""]
[{"$f":"IF(Roster!A30<>\"\",Roster!A30,\"\")","v":""},{"$f":"IF(OR(Roster!A30<>\"\",Roster!B30<>\"\"),PROPER(Roster!B30),\"\")","v":"Team"},{"$nulls":14},"","","","","","","","",{"v":0,"d":"0%"},"Team",{"$f":"IFERROR(IF(FIND(\" \",$B30,1),CONCATENATE(LEFT($B30,1),\" \",RIGHT($B30,LEN($B30)-FIND(\" \",$B30,1)),\", \",$A30),CONCATENATE($B30,\", \",$A30)),\"\")","v":""}]
[null,"Team Totals",{"$f":"IF(COUNTA($C$7:$C$30)>0,1,\"\")","v":1},{"$f":"SUM(D7:D30)","v":5},{"$f":"SUM(E7:E30)","v":15},20,39,6,11,12,19,15,12,0,{"$f":"SUM(O7:O30)","v":17},{"$f":"SUM(P7:P30)","v":16},{"$f":"IF(H31+2*F31+3*D31>0,H31+2*F31+3*D31,IF(C4>0,C4,\"\"))","v":61},{"$f":"IF(E31>0,D31/E31,\"\")","v":{"v":0.3333333333333333,"d":"33%"}},{"$f":"IF(G31>0,F31/G31,\"\")","v":{"v":0.5128205128205128,"d":"51%"}},{"$f":"IF(I31>0,H31/I31,\"\")","v":{"v":0.5454545454545454,"d":"55%"}},{"$f":"IF(OR(E31>0,G31 >0),(D31+F31)/(E31+G31),\"\")","v":{"v":0.46296296296296297,"d":"46%"}},{"$f":"IF(E31+G31>0,E31+G31,\"\")","v":54},{"$f":"IF(J31+K31>0,J31+K31,\"\")","v":31},{"v":0.46296296296296297,"d":"46%"},{"$f":"IF(I31>=$Z$2,T31,0)","v":{"v":0.5454545454545454,"d":"55%"}}]
[null,"Opponent Totals",{"$f":"IF(SUM(D32:P32)>0,1,\"\")","v":1},5,14,20,39,6,11,13,20,15,12,0,19,15,{"$f":"IF(H32+2*F32+3*D32>0,H32+2*F32+3*D32,IF(D4>0,D4,\"\"))","v":61},{"$f":"IF(E32>0,D32/E32,\"\")","v":{"v":0.35714285714285715,"d":"36%"}},{"$f":"IF(G32>0,F32/G32,\"\")","v":{"v":0.5128205128205128,"d":"51%"}},{"$f":"IF(I32>0,H32/I32,\"\")","v":{"v":0.5454545454545454,"d":"55%"}},{"$f":"IF(OR(E32>0,G32 >0),(D32+F32)/(E32+G32),\"\")","v":{"v":0.4716981132075472,"d":"47%"}},{"$f":"IF(E32+G32>0,E32+G32,\"\")","v":53},{"$f":"IF(J32+K32>0,J32+K32,\"\")","v":33},{"v":0.4716981132075472,"d":"47%"},{"v":0.5454545454545454,"d":"55%"}]
[null,null,"Peak Performances"]
[]
[null,"Top Points","Player",null,"Top REB","Player",null,"Top AST","Player"]
[null,{"$f":"MAX(Q$7:Q$30)","v":21},{"$f":"IFERROR(INDEX($AA$7:$AA$30,SMALL(IF(Q$7:Q$30=$B$36,ROW(Q$7:Q$30)-6),ROW(Q7)-6)),\" \")","v":"P Watt, 24"},null,{"$f":"MAX(W$7:W$30)","v":10},{"$f":"IFERROR(INDEX($AA$7:$AA$30,SMALL(IF(W$7:W$30=$E$36,ROW(W$7:W$30)-6),ROW(W7)-6)),\" \")","v":"C Louderback, 23"},null,{"$f":"MAX(L$7:L$30)","v":4},{"$f":"IFERROR(INDEX($AA$7:$AA$30,SMALL(IF(L$7:L$30=$H$36,ROW(L$7:L$30)-6),ROW(L7)-6)),\" \")","v":"P Watt, 24"}]
[null,null,{"$f":"IFERROR(INDEX($AA$7:$AA$30,SMALL(IF(Q$7:Q$30=$B$36,ROW(Q$7:Q$30)-6),ROW(Q8)-6)),\" \")","v":" "},null,null,{"$f":"IFERROR(INDEX($AA$7:$AA$30,SMALL(IF(W$7:W$30=$E$36,ROW(W$7:W$30)-6),ROW(W8)-6)),\" \")","v":" "},null,null,{"$f":"IFERROR(INDEX($AA$7:$AA$30,SMALL(IF(L$7:L$30=$H$36,ROW(L$7:L$30)-6),ROW(L8)-6)),\" \")","v":"D Butts, 14"}]
[null,null,{"$f":"IFERROR(INDEX($AA$7:$AA$30,SMALL(IF(Q$7:Q$30=$B$36,ROW(Q$7:Q$30)-6),ROW(Q9)-6)),\" \")","v":" "},null,null,{"$f":"IFERROR(INDEX($AA$7:$AA$30,SMALL(IF(W$7:W$30=$E$36,ROW(W$7:W$30)-6),ROW(W9)-6)),\" \")","v":" "},null,null,{"$f":"IFERROR(INDEX($AA$7:$AA$30,SMALL(IF(L$7:L$30=$H$36,ROW(L$7:L$30)-6),ROW(L9)-6)),\" \")","v":" "}]
[null,null,{"$f":"IFERROR(INDEX($AA$7:$AA$30,SMALL(IF(Q$7:Q$30=$B$36,ROW(Q$7:Q$30)-6),ROW(Q10)-6)),\" \")","v":" "},null,null,{"$f":"IFERROR(INDEX($AA$7:$AA$30,SMALL(IF(W$7:W$30=$E$36,ROW(W$7:W$30)-6),ROW(W10)-6)),\" \")","v":" "},null,null,{"$f":"IFERROR(INDEX($AA$7:$AA$30,SMALL(IF(L$7:L$30=$H$36,ROW(L$7:L$30)-6),ROW(L10)-6)),\" \")","v":" "}]
[null,null,{"$f":"IFERROR(INDEX($AA$7:$AA$30,SMALL(IF(Q$7:Q$30=$B$36,ROW(Q$7:Q$30)-6),ROW(Q11)-6)),\" \")","v":" "},null,null,{"$f":"IFERROR(INDEX($AA$7:$AA$30,SMALL(IF(W$7:W$30=$E$36,ROW(W$7:W$30)-6),ROW(W11)-6)),\" \")","v":" "},null,null,{"$f":"IFERROR(INDEX($AA$7:$AA$30,SMALL(IF(L$7:L$30=$H$36,ROW(L$7:L$30)-6),ROW(L11)-6)),\" \")","v":" "}]
[null,null,{"$f":"IFERROR(INDEX($B12:B$30,SMALL(IF(Q$7:Q$30=$B$36,ROW(Q$7:Q$30)-6),ROW(Q12)-6)),\" \")","v":" "}]
[null,null,{"$f":"TRIM(C36)","v":"P Watt, 24"},null,null,{"$f":"TRIM(F36)","v":"C Louderback, 23"},null,null,{"$f":"TRIM(I36)","v":"P Watt, 24"}]
[null,null,{"$f":"TRIM(C37)","v":""},null,null,{"$f":"TRIM(F37)","v":""},null,null,{"$f":"TRIM(I37)","v":"D Butts, 14"}]
[null,null,"",null,null,"",null,null,""]
[null,null,"",null,null,"",null,null,""]
[null,null,"",null,null,"",null,null,""]
[]
[]
[null,{"$f":"COUNTIF(C42:C46,\"?*\")","v":1},null,null,{"$f":"COUNTIF(F42:F46,\"?*\")","v":1},null,null,{"$f":"COUNTIF(I42:I46,\"?*\")","v":2}]

{"sheet":"game1 (4)","index":6,"n_rows":49,"n_cols":27,"rows_kept":49,"merged":[[0,6,0,11],[1,2,1,5],[1,7,1,9],[1,10,1,12],[32,2,32,17]]}
[]
[{"$f":"IF(AND(Roster!$D$1=VLOOKUP(C2,Roster!$L$5:$R$72,2,FALSE),Roster!$D$3=VLOOKUP(C2,Roster!$L$5:$R$72,4,FALSE)),\"R\",\"\")","v":""},"Opponent","Riverside",{"$nulls":4},"Date of Game",null,null,"2017-12-15",{"$nulls":12},{"$f":"IF(OR($H$4=1,$J$4=1),CONCATENATE($C$2,\": \",MONTH($K$2),\"/\",DAY($K$2),\"/\",YEAR($K$2)-2000, \" **\" ),CONCATENATE($C$2,\": \",MONTH($K$2),\"/\",DAY($K$2),\"/\",YEAR($K$2)-2000))","v":"Riverside: 12/15/17"},null,8]
[{"$nulls":6},"Win","Conf W","Loss","Conf L",null,"Forfeit W?",null,"Forfeit L?",{"$nulls":9},{"$f":"IF($C$4>$D$4,CONCATENATE(Roster!$B$1,\" \",$C$4,\", \",$C$2,\" \",$D$4, \" \",$E$4),CONCATENATE($C$2,\" \",$D$4,\", \",Roster!$B$1,\" \",$C$4,\" \", $E$4 ))","v":"Upton 78, Riverside 24 "}]
[null,"Score",78,24,null,null,{"$f":"IF(OR($L$4=1,$C$4>$D$4),1,\"\")","v":1},null,{"$f":"IF(OR($N$4=1,$C$4<$D$4),1,\"\")","v":""}]
[]
["#","PLAYER","GP","3FGM","3FGA","2FGM","2FGA","FTM","FTA","OFF REB","DEF REB","AST","STL","BLK","TO","FOUL","TL PTS","3FG %","2FG %","FT %","FG%","FGA","REB","Elig FG%","Elig FT%","Name2","FI,LastName,#"]
[{"$f":"IF(Roster!A7<>\"\",Roster!A7,\"\")","v":24},{"$f":"IF(OR(Roster!A7<>\"\",Roster!B7<>\"\"),PROPER(Roster!B7),\"\")","v":"Payton Watt"},1,2,8,4,8,null,null,3,2,4,2,{"$nulls":3},{"$f":"IF(H7+2*F7+3*D7>0,H7+2*F7+3*D7,\"\")","v":14},{"$f":"IF(E7>0,D7/E7,\"\")","v":{"v":0.25,"d":"25%"}},{"$f":"IF(G7>0,F7/G7,\"\")","v":{"v":0.5,"d":"50%"}},{"$f":"IF(I7>0,H7/I7,\"\")","v":""},{"$f":"IF(OR(E7>0,G7 >0),(D7+F7)/(E7+G7),\"\")","v":{"v":0.375,"d":"38%"}},{"$f":"IF(E7+G7>0,E7+G7,\"\")","v":16},{"$f":"IF(J7+K7>0,J7+K7,\"\")","v":5},{"$f":"IF(V7>=$Z$2,U7,0)","v":{"v":0.375,"d":"38%"}},{"$f":"IF(I7>=$Z$2,T7,0)","v":{"v":0,"d":"0%"}},{"$f":"B7","v":"Payton Watt"},{"$f":"IFERROR(IF(FIND(\" \",$B7,1),CONCATENATE(LEFT($B7,1),\" \",RIGHT($B7,LEN($B7)-FIND(\" \",$B7,1)),\", \",$A7),CONCATENATE($B7,\", \",$A7)),\"\")","v":"P Watt, 24"}]
[{"$f":"IF(Roster!A8<>\"\",Roster!A8,\"\")","v":20},{"$f":"IF(OR(Roster!A8<>\"\",Roster!B8<>\"\"),PROPER(Roster!B8),\"\")","v":"Dillon Barritt"},1,1,4,3,4,{"$nulls":3},1,2,2,null,2,null,{"$f":"IF(H8+2*F8+3*D8>0,H8+2*F8+3*D8,\"\")","v":9},{"$f":"IF(E8>0,D8/E8,\"\")","v":{"v":0.25,"d":"25%"}},{"$f":"IF(G8>0,F8/G8,\"\")","v":{"v":0.75,"d":"75%"}},{"$f":"IF(I8>0,H8/I8,\"\")","v":""},{"$f":"IF(OR(E8>0,G8 >0),(D8+F8)/(E8+G8),\"\")","v":{"v":0.5,"d":"50%"}},{"$f":"IF(E8+G8>0,E8+G8,\"\")","v":8},{"$f":"IF(J8+K8>0,J8+K8,\"\")","v":1},{"$f":"IF(V8>=$Z$2,U8,0)","v":{"v":0.5,"d":"50%"}},{"$f":"IF(I8>=$Z$2,T8,0)","v":{"v":0,"d":"0%"}},{"$f":"B8","v":"Dillon Barritt"},{"$f":"IFERROR(IF(FIND(\" \",$B8,1),CONCATENATE(LEFT($B8,1),\" \",RIGHT($B8,LEN($B8)-FIND(\" \",$B8,1)),\", \",$A8),CONCATENATE($B8,\", \",$A8)),\"\")","v":"D Barritt, 20"}]
[{"$f":"IF(Roster!A9<>\"\",Roster!A9,\"\")","v":14},{"$f":"IF(OR(Roster!A9<>\"\",Roster!B9<>\"\"),PROPER(Roster!B9),\"\")","v":"Dawson Butts"},1,1,1,3,8,2,2,3,1,6,4,null,1,null,11,{"v":1,"d":"100%"},{"v":0.375,"d":"38%"},{"v":1,"d":"100%"},{"v":0.4444444444444444,"d":"44%"},9,4,{"v":0.4444444444444444,"d":"44%"},{"v":0,"d":"0%"},"Dawson Butts","D Butts, 14"]
[{"$f":"IF(Roster!A10<>\"\",Roster!A10,\"\")","v":12},{"$f":"IF(OR(Roster!A10<>\"\",Roster!B10<>\"\"),PROPER(Roster!B10),\"\")","v":"Jayden Caylor"},1,2,2,1,2,null,null,3,5,7,null,null,1,null,8,{"v":1,"d":"100%"},{"v":0.5,"d":"50%"},"",{"v":0.75,"d":"75%"},4,8,{"v":0,"d":"0%"},{"v":0,"d":"0%"},"Jayden Caylor","J Caylor, 12"]
[{"$f":"IF(Roster!A11<>\"\",Roster!A11,\"\")","v":23},{"$f":"IF(OR(Roster!A11<>\"\",Roster!B11<>\"\"),PROPER(Roster!B11),\"\")","v":"Clayton Louderback"},1,0,1,5,10,null,null,5,4,2,2,1,null,null,10,{"v":0,"d":"0%"},{"v":0.5,"d":"50%"},"",{"v":0.45454545454545453,"d":"45%"},11,9,{"v":0.45454545454545453,"d":"45%"},{"v":0,"d":"0%"},"Clayton Louderback","C Louderback, 23"]
[{"$f":"IF(Roster!A12<>\"\",Roster!A12,\"\")","v":10},{"$f":"IF(OR(Roster!A12<>\"\",Roster!B12<>\"\"),PROPER(Roster!B12),\"\")","v":"Jess Claycomb"},1,0,1,4,4,1,2,3,2,1,1,null,1,1,9,{"v":0,"d":"0%"},{"v":1,"d":"100%"},{"v":0.5,"d":"50%"},{"v":0.8,"d":"80%"},5,5,{"v":0,"d":"0%"},{"v":0,"d":"0%"},"Jess Claycomb","J Claycomb, 10"]
[{"$f":"IF(Roster!A13<>\"\",Roster!A13,\"\")","v":4},{"$f":"IF(OR(Roster!A13<>\"\",Roster!B13<>\"\"),PROPER(Roster!B13),\"\")","v":"Maxx Cowger"},1,{"$nulls":13},"","","","","","","","",{"v":0,"d":"0%"},"Maxx Cowger","M Cowger, 4"]
[{"$f":"IF(Roster!A14<>\"\",Roster!A14,\"\")","v":22},{"$f":"IF(OR(Roster!A14<>\"\",Roster!B14<>\"\"),PROPER(Roster!B14),\"\")","v":"Brayden Bruce"},1,1,1,0,2,{"$nulls":3},1,3,1,null,3,null,3,{"v":1,"d":"100%"},{"v":0,"d":"0%"},"",{"v":0.3333333333333333,"d":"33%"},3,1,{"v":0,"d":"0%"},{"v":0,"d":"0%"},"Brayden Bruce","B Bruce, 22"]
[{"$f":"IF(Roster!A15<>\"\",Roster!A15,\"\")","v":30},{"$f":"IF(OR(Roster!A15<>\"\",Roster!B15<>\"\"),PROPER(Roster!B15),\"\")","v":"Jo Bishop"},1,null,null,3,4,null,null,3,1,1,1,null,1,null,6,"",{"v":0.75,"d":"75%"},"",{"v":0.75,"d":"75%"},4,4,{"v":0,"d":"0%"},{"v":0,"d":"0%"},"Jo Bishop","J Bishop, 30"]
[{"$f":"IF(Roster!A16<>\"\",Roster!A16,\"\")","v":33},{"$f":"IF(OR(Roster!A16<>\"\",Roster!B16<>\"\"),PROPER(Roster!B16),\"\")","v":"Nolan Turner"},1,null,null,2,3,null,null,1,2,2,{"$nulls":4},4,"",{"v":0.6666666666666666,"d":"67%"},"",{"v":0.6666666666666666,"d":"67%"},3,3,{"v":0,"d":"0%"},{"v":0,"d":"0%"},"Nolan Turner","N Turner, 33"]
[{"$f":"IF(Roster!A17<>\"\",Roster!A17,\"\")","v":32},{"$f":"IF(OR(Roster!A17<>\"\",Roster!B17<>\"\"),PROPER(Roster!B17),\"\")","v":"Robert Crawford"},1,null,null,2,3,{"$nulls":3},3,1,null,null,1,1,4,"",{"v":0.6666666666666666,"d":"67%"},"",{"v":0.6666666666666666,"d":"67%"},3,3,{"v":0,"d":"0%"},{"v":0,"d":"0%"},"Robert Crawford","R Crawford, 32"]
[{"$f":"IF(Roster!A18<>\"\",Roster!A18,\"\")","v":40},{"$f":"IF(OR(Roster!A18<>\"\",Roster!B18<>\"\"),PROPER(Roster!B18),\"\")","v":"Jace Bruce"},1,0,4,{"$nulls":4},1,1,1,null,null,1,1,"",{"v":0,"d":"0%"},"","",{"v":0,"d":"0%"},4,2,{"v":0,"d":"0%"},{"v":0,"d":"0%"},"Jace Bruce","J Bruce, 40"]
[{"$f":"IF(Roster!A19<>\"\",Roster!A19,\"\")","v":2},{"$f":"IF(OR(Roster!A19<>\"\",Roster!B19<>\"\"),PROPER(Roster!B19),\"\")","v":"Ethan Mills"},{"$nulls":14},"","","","","","","","",{"v":0,"d":"0%"},"Ethan Mills","E Mills, 2"]
[{"$f":"IF(Roster!A20<>\"\",Roster!A20,\"\")","v":2},{"$f":"IF(OR(Roster!A20<>\"\",Roster!B20<>\"\"),PROPER(Roster!B20),\"\")","v":"Bridger Alishouse"},{"$nulls":14},"","","","","","","","",{"v":0,"d":"0%"},"Bridger Alishouse","B Alishouse, 2"]
[{"$f":"IF(Roster!A21<>\"\",Roster!A21,\"\")","v":4},{"$f":"IF(OR(Roster!A21<>\"\",Roster!B21<>\"\"),PROPER(Roster!B21),\"\")","v":"Landon Keever"},{"$nulls":14},"","","","","","","","",{"v":0,"d":"0%"},"Landon Keever","L Keever, 4"]
[{"$f":"IF(Roster!A22<>\"\",Roster!A22,\"\")","v":4},{"$f":"IF(OR(Roster!A22<>\"\",Roster!B22<>\"\"),PROPER(Roster!B22),\"\")","v":"Dj Till"},{"$nulls":14},"","","","","","","","",{"v":0,"d":"0%"},"Dj Till","D Till, 4"]
[{"$f":"IF(Roster!A23<>\"\",Roster!A23,\"\")","v":""},{"$f":"IF(OR(Roster!A23<>\"\",Roster!B23<>\"\"),PROPER(Roster!B23),\"\")","v":""},{"$nulls":14},"","","","","","","","",{"v":0,"d":"0%"},"",""]
[{"$f":"IF(Roster!A24<>\"\",Roster!A24,\"\")","v":""},{"$f":"IF(OR(Roster!A24<>\"\",Roster!B24<>\"\"),PROPER(Roster!B24),\"\")","v":""},{"$nulls":14},"","","","","","","","",{"v":0,"d":"0%"},"",""]
[{"$f":"IF(Roster!A25<>\"\",Roster!A25,\"\")","v":""},{"$f":"IF(OR(Roster!A25<>\"\",Roster!B25<>\"\"),PROPER(Roster!B25),\"\")","v":""},{"$nulls":14},"","","","","","","","",{"v":0,"d":"0%"},"",""]
[{"$f":"IF(Roster!A26<>\"\",Roster!A26,\"\")","v":""},{"$f":"IF(OR(Roster!A26<>\"\",Roster!B26<>\"\"),PROPER(Roster!B26),\"\")","v":""},{"$nulls":14},"","","","","","","","",{"v":0,"d":"0%"},"",""]
[{"$f":"IF(Roster!A27<>\"\",Roster!A27,\"\")","v":""},{"$f":"IF(OR(Roster!A27<>\"\",Roster!B27<>\"\"),PROPER(Roster!B27),\"\")","v":""},{"$nulls":14},"","","","","","","","",{"v":0,"d":"0%"},"",""]
[{"$f":"IF(Roster!A28<>\"\",Roster!A28,\"\")","v":""},{"$f":"IF(OR(Roster!A28<>\"\",Roster!B28<>\"\"),PROPER(Roster!B28),\"\")","v":""},{"$nulls":14},"","","","","","","","",{"v":0,"d":"0%"},"",""]
[{"$f":"IF(Roster!A29<>\"\",Roster!A29,\"\")","v":""},{"$f":"IF(OR(Roster!A29<>\"\",Roster!B29<>\"\"),PROPER(Roster!B29),\"\")","v":""},{"$nulls":14},"","","","","","","","",{"v":0,"d":"0%"},"",""]
[{"$f":"IF(Roster!A30<>\"\",Roster!A30,\"\")","v":""},{"$f":"IF(OR(Roster!A30<>\"\",Roster!B30<>\"\"),PROPER(Roster!B30),\"\")","v":"Team"},{"$nulls":14},"","","","","","","","",{"v":0,"d":"0%"},"Team",{"$f":"IFERROR(IF(FIND(\" \",$B30,1),CONCATENATE(LEFT($B30,1),\" \",RIGHT($B30,LEN($B30)-FIND(\" \",$B30,1)),\", \",$A30),CONCATENATE($B30,\", \",$A30)),\"\")","v":""}]
[null,"Team Totals",{"$f":"IF(COUNTA($C$7:$C$30)>0,1,\"\")","v":1},{"$f":"SUM(D7:D30)","v":7},{"$f":"SUM(E7:E30)","v":22},27,48,3,4,22,23,30,13,1,{"$f":"SUM(O7:O30)","v":11},{"$f":"SUM(P7:P30)","v":3},{"$f":"IF(H31+2*F31+3*D31>0,H31+2*F31+3*D31,IF(C4>0,C4,\"\"))","v":78},{"$f":"IF(E31>0,D31/E31,\"\")","v":{"v":0.3181818181818182,"d":"32%"}},{"$f":"IF(G31>0,F31/G31,\"\")","v":{"v":0.5625,"d":"56%"}},{"$f":"IF(I31>0,H31/I31,\"\")","v":{"v":0.75,"d":"75%"}},{"$f":"IF(OR(E31>0,G31 >0),(D31+F31)/(E31+G31),\"\")","v":{"v":0.4857142857142857,"d":"49%"}},{"$f":"IF(E31+G31>0,E31+G31,\"\")","v":70},{"$f":"IF(J31+K31>0,J31+K31,\"\")","v":45},{"v":0.4857142857142857,"d":"49%"},{"$f":"IF(I31>=$Z$2,T31,0)","v":{"v":0,"d":"0%"}}]
[null,"Opponent Totals",{"$f":"IF(SUM(D32:P32)>0,1,\"\")","v":1},1,10,9,34,3,4,11,15,4,5,0,27,7,{"$f":"IF(H32+2*F32+3*D32>0,H32+2*F32+3*D32,IF(D4>0,D4,\"\"))","v":24},{"$f":"IF(E32>0,D32/E32,\"\")","v":{"v":0.1,"d":"10%"}},{"$f":"IF(G32>0,F32/G32,\"\")","v":{"v":0.2647058823529412,"d":"26%"}},{"$f":"IF(I32>0,H32/I32,\"\")","v":{"v":0.75,"d":"75%"}},{"$f":"IF(OR(E32>0,G32 >0),(D32+F32)/(E32+G32),\"\")","v":{"v":0.22727272727272727,"d":"23%"}},{"$f":"IF(E32+G32>0,E32+G32,\"\")","v":44},{"$f":"IF(J32+K32>0,J32+K32,\"\")","v":26},{"v":0.22727272727272727,"d":"23%"},{"v":0,"d":"0%"}]
[null,null,"Peak Performances"]
[]
[null,"Top Points","Player",null,"Top REB","Player",null,"Top AST","Player"]
[null,{"$f":"MAX(Q$7:Q$30)","v":14},{"$f":"IFERROR(INDEX($AA$7:$AA$30,SMALL(IF(Q$7:Q$30=$B$36,ROW(Q$7:Q$30)-6),ROW(Q7)-6)),\" \")","v":"P Watt, 24"},null,{"$f":"MAX(W$7:W$30)","v":9},{"$f":"IFERROR(INDEX($AA$7:$AA$30,SMALL(IF(W$7:W$30=$E$36,ROW(W$7:W$30)-6),ROW(W7)-6)),\" \")","v":"C Louderback, 23"},null,{"$f":"MAX(L$7:L$30)","v":7},{"$f":"IFERROR(INDEX($AA$7:$AA$30,SMALL(IF(L$7:L$30=$H$36,ROW(L$7:L$30)-6),ROW(L7)-6)),\" \")","v":"J Caylor, 12"}]
[null,null,{"$f":"IFERROR(INDEX($AA$7:$AA$30,SMALL(IF(Q$7:Q$30=$B$36,ROW(Q$7:Q$30)-6),ROW(Q8)-6)),\" \")","v":" "},null,null,{"$f":"IFERROR(INDEX($AA$7:$AA$30,SMALL(IF(W$7:W$30=$E$36,ROW(W$7:W$30)-6),ROW(W8)-6)),\" \")","v":" "},null,null,{"$f":"IFERROR(INDEX($AA$7:$AA$30,SMALL(IF(L$7:L$30=$H$36,ROW(L$7:L$30)-6),ROW(L8)-6)),\" \")","v":" "}]
[null,null,{"$f":"IFERROR(INDEX($AA$7:$AA$30,SMALL(IF(Q$7:Q$30=$B$36,ROW(Q$7:Q$30)-6),ROW(Q9)-6)),\" \")","v":" "},null,null,{"$f":"IFERROR(INDEX($AA$7:$AA$30,SMALL(IF(W$7:W$30=$E$36,ROW(W$7:W$30)-6),ROW(W9)-6)),\" \")","v":" "},null,null,{"$f":"IFERROR(INDEX($AA$7:$AA$30,SMALL(IF(L$7:L$30=$H$36,ROW(L$7:L$30)-6),ROW(L9)-6)),\" \")","v":" "}]
[null,null,{"$f":"IFERROR(INDEX($AA$7:$AA$30,SMALL(IF(Q$7:Q$30=$B$36,ROW(Q$7:Q$30)-6),ROW(Q10)-6)),\" \")","v":" "},null,null,{"$f":"IFERROR(INDEX($AA$7:$AA$30,SMALL(IF(W$7:W$30=$E$36,ROW(W$7:W$30)-6),ROW(W10)-6)),\" \")","v":" "},null,null,{"$f":"IFERROR(INDEX($AA$7:$AA$30,SMALL(IF(L$7:L$30=$H$36,ROW(L$7:L$30)-6),ROW(L10)-6)),\" \")","v":" "}]
[null,null,{"$f":"IFERROR(INDEX($AA$7:$AA$30,SMALL(IF(Q$7:Q$30=$B$36,ROW(Q$7:Q$30)-6),ROW(Q11)-6)),\" \")","v":" "},null,null,{"$f":"IFERROR(INDEX($AA$7:$AA$30,SMALL(IF(W$7:W$30=$E$36,ROW(W$7:W$30)-6),ROW(W11)-6)),\" \")","v":" "},null,null,{"$f":"IFERROR(INDEX($AA$7:$AA$30,SMALL(IF(L$7:L$30=$H$36,ROW(L$7:L$30)-6),ROW(L11)-6)),\" \")","v":" "}]
[null,null,{"$f":"IFERROR(INDEX($B12:B$30,SMALL(IF(Q$7:Q$30=$B$36,ROW(Q$7:Q$30)-6),ROW(Q12)-6)),\" \")","v":" "}]
[null,null,{"$f":"TRIM(C36)","v":"P Watt, 24"},null,null,{"$f":"TRIM(F36)","v":"C Louderback, 23"},null,null,{"$f":"TRIM(I36)","v":"J Caylor, 12"}]
[null,null,{"$f":"TRIM(C37)","v":""},null,null,{"$f":"TRIM(F37)","v":""},null,null,{"$f":"TRIM(I37)","v":""}]
[null,null,"",null,null,"",null,null,""]
[null,null,"",null,null,"",null,null,""]
[null,null,"",null,null,"",null,null,""]
[]
[]
[null,{"$f":"COUNTIF(C42:C46,\"?*\")","v":1},null,null,{"$f":"COUNTIF(F42:F46,\"?*\")","v":1},null,null,{"$f":"COUNTIF(I42:I46,\"?*\")","v":1}]

{"sheet":"game1 (6)","index":7,"n_rows":49,"n_cols":27,"rows_kept":49,"merged":[[0,6,0,11],[1,2,1,5],[1,7,1,9],[1,10,1,12],[32,2,32,17]]}
[]
[{"$f":"IF(AND(Roster!$D$1=VLOOKUP(C2,Roster!$L$5:$R$72,2,FALSE),Roster!$D$3=VLOOKUP(C2,Roster!$L$5:$R$72,4,FALSE)),\"R\",\"\")","v":""},"Opponent","Shoshoni",{"$nulls":4},"Date of Game",null,null,"2017-12-16",{"$nulls":12},{"$f":"IF(OR($H$4=1,$J$4=1),CONCATENATE($C$2,\": \",MONTH($K$2),\"/\",DAY($K$2),\"/\",YEAR($K$2)-2000, \" **\" ),CONCATENATE($C$2,\": \",MONTH($K$2),\"/\",DAY($K$2),\"/\",YEAR($K$2)-2000))","v":"Shoshoni: 12/16/17"},null,8]
[{"$nulls":6},"Win","Conf W","Loss","Conf L",null,"Forfeit W?",null,"Forfeit L?",{"$nulls":9},{"$f":"IF($C$4>$D$4,CONCATENATE(Roster!$B$1,\" \",$C$4,\", \",$C$2,\" \",$D$4, \" \",$E$4),CONCATENATE($C$2,\" \",$D$4,\", \",Roster!$B$1,\" \",$C$4,\" \", $E$4 ))","v":"Upton 73, Shoshoni 31 "}]
[null,"Score",73,31,null,null,{"$f":"IF(OR($L$4=1,$C$4>$D$4),1,\"\")","v":1},null,{"$f":"IF(OR($N$4=1,$C$4<$D$4),1,\"\")","v":""}]
[]
["#","PLAYER","GP","3FGM","3FGA","2FGM","2FGA","FTM","FTA","OFF REB","DEF REB","AST","STL","BLK","TO","FOUL","TL PTS","3FG %","2FG %","FT %","FG%","FGA","REB","Elig FG%","Elig FT%","Name2","FI,LastName,#"]
[{"$f":"IF(Roster!A7<>\"\",Roster!A7,\"\")","v":24},{"$f":"IF(OR(Roster!A7<>\"\",Roster!B7<>\"\"),PROPER(Roster!B7),\"\")","v":"Payton Watt"},1,2,6,7,10,2,2,null,1,3,1,2,null,2,{"$f":"IF(H7+2*F7+3*D7>0,H7+2*F7+3*D7,\"\")","v":22},{"$f":"IF(E7>0,D7/E7,\"\")","v":{"v":0.3333333333333333,"d":"33%"}},{"$f":"IF(G7>0,F7/G7,\"\")","v":{"v":0.7,"d":"70%"}},{"$f":"IF(I7>0,H7/I7,\"\")","v":{"v":1,"d":"100%"}},{"$f":"IF(OR(E7>0,G7 >0),(D7+F7)/(E7+G7),\"\")","v":{"v":0.5625,"d":"56%"}},{"$f":"IF(E7+G7>0,E7+G7,\"\")","v":16},{"$f":"IF(J7+K7>0,J7+K7,\"\")","v":1},{"$f":"IF(V7>=$Z$2,U7,0)","v":{"v":0.5625,"d":"56%"}},{"$f":"IF(I7>=$Z$2,T7,0)","v":{"v":0,"d":"0%"}},{"$f":"B7","v":"Payton Watt"},{"$f":"IFERROR(IF(FIND(\" \",$B7,1),CONCATENATE(LEFT($B7,1),\" \",RIGHT($B7,LEN($B7)-FIND(\" \",$B7,1)),\", \",$A7),CONCATENATE($B7,\", \",$A7)),\"\")","v":"P Watt, 24"}]
[{"$f":"IF(Roster!A8<>\"\",Roster!A8,\"\")","v":20},{"$f":"IF(OR(Roster!A8<>\"\",Roster!B8<>\"\"),PROPER(Roster!B8),\"\")","v":"Dillon Barritt"},1,1,1,1,4,null,null,2,3,2,3,null,1,2,{"$f":"IF(H8+2*F8+3*D8>0,H8+2*F8+3*D8,\"\")","v":5},{"$f":"IF(E8>0,D8/E8,\"\")","v":{"v":1,"d":"100%"}},{"$f":"IF(G8>0,F8/G8,\"\")","v":{"v":0.25,"d":"25%"}},{"$f":"IF(I8>0,H8/I8,\"\")","v":""},{"$f":"IF(OR(E8>0,G8 >0),(D8+F8)/(E8+G8),\"\")","v":{"v":0.4,"d":"40%"}},{"$f":"IF(E8+G8>0,E8+G8,\"\")","v":5},{"$f":"IF(J8+K8>0,J8+K8,\"\")","v":5},{"$f":"IF(V8>=$Z$2,U8,0)","v":{"v":0,"d":"0%"}},{"$f":"IF(I8>=$Z$2,T8,0)","v":{"v":0,"d":"0%"}},{"$f":"B8","v":"Dillon Barritt"},{"$f":"IFERROR(IF(FIND(\" \",$B8,1),CONCATENATE(LEFT($B8,1),\" \",RIGHT($B8,LEN($B8)-FIND(\" \",$B8,1)),\", \",$A8),CONCATENATE($B8,\", \",$A8)),\"\")","v":"D Barritt, 20"}]
[{"$f":"IF(Roster!A9<>\"\",Roster!A9,\"\")","v":14},{"$f":"IF(OR(Roster!A9<>\"\",Roster!B9<>\"\"),PROPER(Roster!B9),\"\")","v":"Dawson Butts"},1,null,null,3,4,{"$nulls":3},4,5,6,null,1,1,6,"",{"v":0.75,"d":"75%"},"",{"v":0.75,"d":"75%"},4,4,{"v":0,"d":"0%"},{"v":0,"d":"0%"},"Dawson Butts","D Butts, 14"]
[{"$f":"IF(Roster!A10<>\"\",Roster!A10,\"\")","v":12},{"$f":"IF(OR(Roster!A10<>\"\",Roster!B10<>\"\"),PROPER(Roster!B10),\"\")","v":"Jayden Caylor"},1,null,null,2,4,2,2,2,2,2,3,null,1,3,6,"",{"v":0.5,"d":"50%"},{"v":1,"d":"100%"},{"v":0.5,"d":"50%"},4,4,{"v":0,"d":"0%"},{"v":0,"d":"0%"},"Jayden Caylor","J Caylor, 12"]
[{"$f":"IF(Roster!A11<>\"\",Roster!A11,\"\")","v":23},{"$f":"IF(OR(Roster!A11<>\"\",Roster!B11<>\"\"),PROPER(Roster!B11),\"\")","v":"Clayton Louderback"},1,0,2,4,10,4,5,3,6,2,1,null,2,null,12,{"v":0,"d":"0%"},{"v":0.4,"d":"40%"},{"v":0.8,"d":"80%"},{"v":0.3333333333333333,"d":"33%"},12,9,{"v":0.3333333333333333,"d":"33%"},{"v":0,"d":"0%"},"Clayton Louderback","C Louderback, 23"]
[{"$f":"IF(Roster!A12<>\"\",Roster!A12,\"\")","v":10},{"$f":"IF(OR(Roster!A12<>\"\",Roster!B12<>\"\"),PROPER(Roster!B12),\"\")","v":"Jess Claycomb"},1,1,1,5,7,2,2,2,1,1,4,null,null,1,15,{"v":1,"d":"100%"},{"v":0.7142857142857143,"d":"71%"},{"v":1,"d":"100%"},{"v":0.75,"d":"75%"},8,3,{"v":0.75,"d":"75%"},{"v":0,"d":"0%"},"Jess Claycomb","J Claycomb, 10"]
[{"$f":"IF(Roster!A13<>\"\",Roster!A13,\"\")","v":4},{"$f":"IF(OR(Roster!A13<>\"\",Roster!B13<>\"\"),PROPER(Roster!B13),\"\")","v":"Maxx Cowger"},{"$nulls":14},"","","","","","","","",{"v":0,"d":"0%"},"Maxx Cowger","M Cowger, 4"]
[{"$f":"IF(Roster!A14<>\"\",Roster!A14,\"\")","v":22},{"$f":"IF(OR(Roster!A14<>\"\",Roster!B14<>\"\"),PROPER(Roster!B14),\"\")","v":"Brayden Bruce"},1,1,1,1,2,{"$nulls":4},3,{"$nulls":3},1,5,{"v":1,"d":"100%"},{"v":0.5,"d":"50%"},"",{"v":0.6666666666666666,"d":"67%"},3,"",{"v":0,"d":"0%"},{"v":0,"d":"0%"},"Brayden Bruce","B Bruce, 22"]
[{"$f":"IF(Roster!A15<>\"\",Roster!A15,\"\")","v":30},{"$f":"IF(OR(Roster!A15<>\"\",Roster!B15<>\"\"),PROPER(Roster!B15),\"\")","v":"Jo Bishop"},1,null,null,1,2,null,null,1,{"$nulls":5},1,2,"",{"v":0.5,"d":"50%"},"",{"v":0.5,"d":"50%"},2,1,{"v":0,"d":"0%"},{"v":0,"d":"0%"},"Jo Bishop","J Bishop, 30"]
[{"$f":"IF(Roster!A16<>\"\",Roster!A16,\"\")","v":33},{"$f":"IF(OR(Roster!A16<>\"\",Roster!B16<>\"\"),PROPER(Roster!B16),\"\")","v":"Nolan Turner"},1,null,null,0,1,{"$nulls":3},2,null,1,null,null,3,"","",{"v":0,"d":"0%"},"",{"v":0,"d":"0%"},1,2,{"v":0,"d":"0%"},{"v":0,"d":"0%"},"Nolan Turner","N Turner, 33"]
[{"$f":"IF(Roster!A17<>\"\",Roster!A17,\"\")","v":32},{"$f":"IF(OR(Roster!A17<>\"\",Roster!B17<>\"\"),PROPER(Roster!B17),\"\")","v":"Robert Crawford"},1,null,null,0,1,null,null,1,1,1,{"$nulls":3},2,"","",{"v":0,"d":"0%"},"",{"v":0,"d":"0%"},1,2,{"v":0,"d":"0%"},{"v":0,"d":"0%"},"Robert Crawford","R Crawford, 32"]
[{"$f":"IF(Roster!A18<>\"\",Roster!A18,\"\")","v":40},{"$f":"IF(OR(Roster!A18<>\"\",Roster!B18<>\"\"),PROPER(Roster!B18),\"\")","v":"Jace Bruce"},1,0,1,{"$nulls":4},2,null,1,null,null,1,2,"",{"v":0,"d":"0%"},"","",{"v":0,"d":"0%"},1,2,{"v":0,"d":"0%"},{"v":0,"d":"0%"},"Jace Bruce","J Bruce, 40"]
[{"$f":"IF(Roster!A19<>\"\",Roster!A19,\"\")","v":2},{"$f":"IF(OR(Roster!A19<>\"\",Roster!B19<>\"\"),PROPER(Roster!B19),\"\")","v":"Ethan Mills"},{"$nulls":14},"","","","","","","","",{"v":0,"d":"0%"},"Ethan Mills","E Mills, 2"]
[{"$f":"IF(Roster!A20<>\"\",Roster!A20,\"\")","v":2},{"$f":"IF(OR(Roster!A20<>\"\",Roster!B20<>\"\"),PROPER(Roster!B20),\"\")","v":"Bridger Alishouse"},{"$nulls":14},"","","","","","","","",{"v":0,"d":"0%"},"Bridger Alishouse","B Alishouse, 2"]
[{"$f":"IF(Roster!A21<>\"\",Roster!A21,\"\")","v":4},{"$f":"IF(OR(Roster!A21<>\"\",Roster!B21<>\"\"),PROPER(Roster!B21),\"\")","v":"Landon Keever"},{"$nulls":14},"","","","","","","","",{"v":0,"d":"0%"},"Landon Keever","L Keever, 4"]
[{"$f":"IF(Roster!A22<>\"\",Roster!A22,\"\")","v":4},{"$f":"IF(OR(Roster!A22<>\"\",Roster!B22<>\"\"),PROPER(Roster!B22),\"\")","v":"Dj Till"},{"$nulls":14},"","","","","","","","",{"v":0,"d":"0%"},"Dj Till","D Till, 4"]
[{"$f":"IF(Roster!A23<>\"\",Roster!A23,\"\")","v":""},{"$f":"IF(OR(Roster!A23<>\"\",Roster!B23<>\"\"),PROPER(Roster!B23),\"\")","v":""},{"$nulls":14},"","","","","","","","",{"v":0,"d":"0%"},"",""]
[{"$f":"IF(Roster!A24<>\"\",Roster!A24,\"\")","v":""},{"$f":"IF(OR(Roster!A24<>\"\",Roster!B24<>\"\"),PROPER(Roster!B24),\"\")","v":""},{"$nulls":14},"","","","","","","","",{"v":0,"d":"0%"},"",""]
[{"$f":"IF(Roster!A25<>\"\",Roster!A25,\"\")","v":""},{"$f":"IF(OR(Roster!A25<>\"\",Roster!B25<>\"\"),PROPER(Roster!B25),\"\")","v":""},{"$nulls":14},"","","","","","","","",{"v":0,"d":"0%"},"",""]
[{"$f":"IF(Roster!A26<>\"\",Roster!A26,\"\")","v":""},{"$f":"IF(OR(Roster!A26<>\"\",Roster!B26<>\"\"),PROPER(Roster!B26),\"\")","v":""},{"$nulls":14},"","","","","","","","",{"v":0,"d":"0%"},"",""]
[{"$f":"IF(Roster!A27<>\"\",Roster!A27,\"\")","v":""},{"$f":"IF(OR(Roster!A27<>\"\",Roster!B27<>\"\"),PROPER(Roster!B27),\"\")","v":""},{"$nulls":14},"","","","","","","","",{"v":0,"d":"0%"},"",""]
[{"$f":"IF(Roster!A28<>\"\",Roster!A28,\"\")","v":""},{"$f":"IF(OR(Roster!A28<>\"\",Roster!B28<>\"\"),PROPER(Roster!B28),\"\")","v":""},{"$nulls":14},"","","","","","","","",{"v":0,"d":"0%"},"",""]
[{"$f":"IF(Roster!A29<>\"\",Roster!A29,\"\")","v":""},{"$f":"IF(OR(Roster!A29<>\"\",Roster!B29<>\"\"),PROPER(Roster!B29),\"\")","v":""},{"$nulls":14},"","","","","","","","",{"v":0,"d":"0%"},"",""]
[{"$f":"IF(Roster!A30<>\"\",Roster!A30,\"\")","v":""},{"$f":"IF(OR(Roster!A30<>\"\",Roster!B30<>\"\"),PROPER(Roster!B30),\"\")","v":"Team"},{"$nulls":14},"","","","","","","","",{"v":0,"d":"0%"},"Team",{"$f":"IFERROR(IF(FIND(\" \",$B30,1),CONCATENATE(LEFT($B30,1),\" \",RIGHT($B30,LEN($B30)-FIND(\" \",$B30,1)),\", \",$A30),CONCATENATE($B30,\", \",$A30)),\"\")","v":""}]
[null,"Team Totals",{"$f":"IF(COUNTA($C$7:$C$30)>0,1,\"\")","v":1},{"$f":"SUM(D7:D30)","v":5},{"$f":"SUM(E7:E30)","v":12},24,45,10,11,13,20,20,19,2,{"$f":"SUM(O7:O30)","v":6},{"$f":"SUM(P7:P30)","v":18},{"$f":"IF(H31+2*F31+3*D31>0,H31+2*F31+3*D31,IF(C4>0,C4,\"\"))","v":73},{"$f":"IF(E31>0,D31/E31,\"\")","v":{"v":0.4166666666666667,"d":"42%"}},{"$f":"IF(G31>0,F31/G31,\"\")","v":{"v":0.5333333333333333,"d":"53%"}},{"$f":"IF(I31>0,H31/I31,\"\")","v":{"v":0.9090909090909091,"d":"91%"}},{"$f":"IF(OR(E31>0,G31 >0),(D31+F31)/(E31+G31),\"\")","v":{"v":0.5087719298245614,"d":"51%"}},{"$f":"IF(E31+G31>0,E31+G31,\"\")","v":57},{"$f":"IF(J31+K31>0,J31+K31,\"\")","v":33},{"v":0.5087719298245614,"d":"51%"},{"$f":"IF(I31>=$Z$2,T31,0)","v":{"v":0.9090909090909091,"d":"91%"}}]
[null,"Opponent Totals",{"$f":"IF(SUM(D32:P32)>0,1,\"\")","v":1},7,21,3,13,4,8,5,14,6,1,1,27,11,{"$f":"IF(H32+2*F32+3*D32>0,H32+2*F32+3*D32,IF(D4>0,D4,\"\"))","v":31},{"$f":"IF(E32>0,D32/E32,\"\")","v":{"v":0.3333333333333333,"d":"33%"}},{"$f":"IF(G32>0,F32/G32,\"\")","v":{"v":0.23076923076923078,"d":"23%"}},{"$f":"IF(I32>0,H32/I32,\"\")","v":{"v":0.5,"d":"50%"}},{"$f":"IF(OR(E32>0,G32 >0),(D32+F32)/(E32+G32),\"\")","v":{"v":0.29411764705882354,"d":"29%"}},{"$f":"IF(E32+G32>0,E32+G32,\"\")","v":34},{"$f":"IF(J32+K32>0,J32+K32,\"\")","v":19},{"v":0.29411764705882354,"d":"29%"},{"v":0.5,"d":"50%"}]
[null,null,"Peak Performances"]
[]
[null,"Top Points","Player",null,"Top REB","Player",null,"Top AST","Player"]
[null,{"$f":"MAX(Q$7:Q$30)","v":22},{"$f":"IFERROR(INDEX($AA$7:$AA$30,SMALL(IF(Q$7:Q$30=$B$36,ROW(Q$7:Q$30)-6),ROW(Q7)-6)),\" \")","v":"P Watt, 24"},null,{"$f":"MAX(W$7:W$30)","v":9},{"$f":"IFERROR(INDEX($AA$7:$AA$30,SMALL(IF(W$7:W$30=$E$36,ROW(W$7:W$30)-6),ROW(W7)-6)),\" \")","v":"C Louderback, 23"},null,{"$f":"MAX(L$7:L$30)","v":5},{"$f":"IFERROR(INDEX($AA$7:$AA$30,SMALL(IF(L$7:L$30=$H$36,ROW(L$7:L$30)-6),ROW(L7)-6)),\" \")","v":"D Butts, 14"}]
[null,null,{"$f":"IFERROR(INDEX($AA$7:$AA$30,SMALL(IF(Q$7:Q$30=$B$36,ROW(Q$7:Q$30)-6),ROW(Q8)-6)),\" \")","v":" "},null,null,{"$f":"IFERROR(INDEX($AA$7:$AA$30,SMALL(IF(W$7:W$30=$E$36,ROW(W$7:W$30)-6),ROW(W8)-6)),\" \")","v":" "},null,null,{"$f":"IFERROR(INDEX($AA$7:$AA$30,SMALL(IF(L$7:L$30=$H$36,ROW(L$7:L$30)-6),ROW(L8)-6)),\" \")","v":" "}]
[null,null,{"$f":"IFERROR(INDEX($AA$7:$AA$30,SMALL(IF(Q$7:Q$30=$B$36,ROW(Q$7:Q$30)-6),ROW(Q9)-6)),\" \")","v":" "},null,null,{"$f":"IFERROR(INDEX($AA$7:$AA$30,SMALL(IF(W$7:W$30=$E$36,ROW(W$7:W$30)-6),ROW(W9)-6)),\" \")","v":" "},null,null,{"$f":"IFERROR(INDEX($AA$7:$AA$30,SMALL(IF(L$7:L$30=$H$36,ROW(L$7:L$30)-6),ROW(L9)-6)),\" \")","v":" "}]
[null,null,{"$f":"IFERROR(INDEX($AA$7:$AA$30,SMALL(IF(Q$7:Q$30=$B$36,ROW(Q$7:Q$30)-6),ROW(Q10)-6)),\" \")","v":" "},null,null,{"$f":"IFERROR(INDEX($AA$7:$AA$30,SMALL(IF(W$7:W$30=$E$36,ROW(W$7:W$30)-6),ROW(W10)-6)),\" \")","v":" "},null,null,{"$f":"IFERROR(INDEX($AA$7:$AA$30,SMALL(IF(L$7:L$30=$H$36,ROW(L$7:L$30)-6),ROW(L10)-6)),\" \")","v":" "}]
[null,null,{"$f":"IFERROR(INDEX($AA$7:$AA$30,SMALL(IF(Q$7:Q$30=$B$36,ROW(Q$7:Q$30)-6),ROW(Q11)-6)),\" \")","v":" "},null,null,{"$f":"IFERROR(INDEX($AA$7:$AA$30,SMALL(IF(W$7:W$30=$E$36,ROW(W$7:W$30)-6),ROW(W11)-6)),\" \")","v":" "},null,null,{"$f":"IFERROR(INDEX($AA$7:$AA$30,SMALL(IF(L$7:L$30=$H$36,ROW(L$7:L$30)-6),ROW(L11)-6)),\" \")","v":" "}]
[null,null,{"$f":"IFERROR(INDEX($B12:B$30,SMALL(IF(Q$7:Q$30=$B$36,ROW(Q$7:Q$30)-6),ROW(Q12)-6)),\" \")","v":" "}]
[null,null,{"$f":"TRIM(C36)","v":"P Watt, 24"},null,null,{"$f":"TRIM(F36)","v":"C Louderback, 23"},null,null,{"$f":"TRIM(I36)","v":"D Butts, 14"}]
[null,null,{"$f":"TRIM(C37)","v":""},null,null,{"$f":"TRIM(F37)","v":""},null,null,{"$f":"TRIM(I37)","v":""}]
[null,null,"",null,null,"",null,null,""]
[null,null,"",null,null,"",null,null,""]
[null,null,"",null,null,"",null,null,""]
[]
[]
[null,{"$f":"COUNTIF(C42:C46,\"?*\")","v":1},null,null,{"$f":"COUNTIF(F42:F46,\"?*\")","v":1},null,null,{"$f":"COUNTIF(I42:I46,\"?*\")","v":1}]

{"sheet":"game1 (5)","index":8,"n_rows":49,"n_cols":27,"rows_kept":49,"merged":[[0,6,0,11],[1,2,1,5],[1,7,1,9],[1,10,1,12],[32,2,32,17]]}
[]
[{"$f":"IF(AND(Roster!$D$1=VLOOKUP(C2,Roster!$L$5:$R$72,2,FALSE),Roster!$D$3=VLOOKUP(C2,Roster!$L$5:$R$72,4,FALSE)),\"R\",\"\")","v":""},"Opponent","Cokeville",{"$nulls":4},"Date of Game",null,null,"2017-12-15",{"$nulls":12},{"$f":"IF(OR($H$4=1,$J$4=1),CONCATENATE($C$2,\": \",MONTH($K$2),\"/\",DAY($K$2),\"/\",YEAR($K$2)-2000, \" **\" ),CONCATENATE($C$2,\": \",MONTH($K$2),\"/\",DAY($K$2),\"/\",YEAR($K$2)-2000))","v":"Cokeville: 12/15/17"},null,8]
[{"$nulls":6},"Win","Conf W","Loss","Conf L",null,"Forfeit W?",null,"Forfeit L?",{"$nulls":9},{"$f":"IF($C$4>$D$4,CONCATENATE(Roster!$B$1,\" \",$C$4,\", \",$C$2,\" \",$D$4, \" \",$E$4),CONCATENATE($C$2,\" \",$D$4,\", \",Roster!$B$1,\" \",$C$4,\" \", $E$4 ))","v":"Upton 62, Cokeville 33 "}]
[null,"Score",62,33,null,null,{"$f":"IF(OR($L$4=1,$C$4>$D$4),1,\"\")","v":1},null,{"$f":"IF(OR($N$4=1,$C$4<$D$4),1,\"\")","v":""}]
[]
["#","PLAYER","GP","3FGM","3FGA","2FGM","2FGA","FTM","FTA","OFF REB","DEF REB","AST","STL","BLK","TO","FOUL","TL PTS","3FG %","2FG %","FT %","FG%","FGA","REB","Elig FG%","Elig FT%","Name2","FI,LastName,#"]
[{"$f":"IF(Roster!A7<>\"\",Roster!A7,\"\")","v":24},{"$f":"IF(OR(Roster!A7<>\"\",Roster!B7<>\"\"),PROPER(Roster!B7),\"\")","v":"Payton Watt"},1,5,10,2,6,null,null,1,4,3,1,null,1,1,{"$f":"IF(H7+2*F7+3*D7>0,H7+2*F7+3*D7,\"\")","v":19},{"$f":"IF(E7>0,D7/E7,\"\")","v":{"v":0.5,"d":"50%"}},{"$f":"IF(G7>0,F7/G7,\"\")","v":{"v":0.3333333333333333,"d":"33%"}},{"$f":"IF(I7>0,H7/I7,\"\")","v":""},{"$f":"IF(OR(E7>0,G7 >0),(D7+F7)/(E7+G7),\"\")","v":{"v":0.4375,"d":"44%"}},{"$f":"IF(E7+G7>0,E7+G7,\"\")","v":16},{"$f":"IF(J7+K7>0,J7+K7,\"\")","v":5},{"$f":"IF(V7>=$Z$2,U7,0)","v":{"v":0.4375,"d":"44%"}},{"$f":"IF(I7>=$Z$2,T7,0)","v":{"v":0,"d":"0%"}},{"$f":"B7","v":"Payton Watt"},{"$f":"IFERROR(IF(FIND(\" \",$B7,1),CONCATENATE(LEFT($B7,1),\" \",RIGHT($B7,LEN($B7)-FIND(\" \",$B7,1)),\", \",$A7),CONCATENATE($B7,\", \",$A7)),\"\")","v":"P Watt, 24"}]
[{"$f":"IF(Roster!A8<>\"\",Roster!A8,\"\")","v":20},{"$f":"IF(OR(Roster!A8<>\"\",Roster!B8<>\"\"),PROPER(Roster!B8),\"\")","v":"Dillon Barritt"},1,2,6,0,3,null,null,1,6,1,1,null,1,1,{"$f":"IF(H8+2*F8+3*D8>0,H8+2*F8+3*D8,\"\")","v":6},{"$f":"IF(E8>0,D8/E8,\"\")","v":{"v":0.3333333333333333,"d":"33%"}},{"$f":"IF(G8>0,F8/G8,\"\")","v":{"v":0,"d":"0%"}},{"$f":"IF(I8>0,H8/I8,\"\")","v":""},{"$f":"IF(OR(E8>0,G8 >0),(D8+F8)/(E8+G8),\"\")","v":{"v":0.2222222222222222,"d":"22%"}},{"$f":"IF(E8+G8>0,E8+G8,\"\")","v":9},{"$f":"IF(J8+K8>0,J8+K8,\"\")","v":7},{"$f":"IF(V8>=$Z$2,U8,0)","v":{"v":0.2222222222222222,"d":"22%"}},{"$f":"IF(I8>=$Z$2,T8,0)","v":{"v":0,"d":"0%"}},{"$f":"B8","v":"Dillon Barritt"},{"$f":"IFERROR(IF(FIND(\" \",$B8,1),CONCATENATE(LEFT($B8,1),\" \",RIGHT($B8,LEN($B8)-FIND(\" \",$B8,1)),\", \",$A8),CONCATENATE($B8,\", \",$A8)),\"\")","v":"D Barritt, 20"}]
[{"$f":"IF(Roster!A9<>\"\",Roster!A9,\"\")","v":14},{"$f":"IF(OR(Roster!A9<>\"\",Roster!B9<>\"\"),PROPER(Roster!B9),\"\")","v":"Dawson Butts"},1,1,1,2,2,0,2,null,1,4,null,null,1,1,7,{"v":1,"d":"100%"},{"v":1,"d":"100%"},{"v":0,"d":"0%"},{"v":1,"d":"100%"},3,1,{"v":0,"d":"0%"},{"v":0,"d":"0%"},"Dawson Butts","D Butts, 14"]
[{"$f":"IF(Roster!A10<>\"\",Roster!A10,\"\")","v":12},{"$f":"IF(OR(Roster!A10<>\"\",Roster!B10<>\"\"),PROPER(Roster!B10),\"\")","v":"Jayden Caylor"},1,0,1,0,4,1,2,2,3,2,4,1,3,null,1,{"v":0,"d":"0%"},{"v":0,"d":"0%"},{"v":0.5,"d":"50%"},{"v":0,"d":"0%"},5,5,{"v":0,"d":"0%"},{"v":0,"d":"0%"},"Jayden Caylor","J Caylor, 12"]
[{"$f":"IF(Roster!A11<>\"\",Roster!A11,\"\")","v":23},{"$f":"IF(OR(Roster!A11<>\"\",Roster!B11<>\"\"),PROPER(Roster!B11),\"\")","v":"Clayton Louderback"},1,1,2,6,10,1,2,1,5,2,2,null,5,4,16,{"v":0.5,"d":"50%"},{"v":0.6,"d":"60%"},{"v":0.5,"d":"50%"},{"v":0.5833333333333334,"d":"58%"},12,6,{"v":0.5833333333333334,"d":"58%"},{"v":0,"d":"0%"},"Clayton Louderback","C Louderback, 23"]
[{"$f":"IF(Roster!A12<>\"\",Roster!A12,\"\")","v":10},{"$f":"IF(OR(Roster!A12<>\"\",Roster!B12<>\"\"),PROPER(Roster!B12),\"\")","v":"Jess Claycomb"},1,1,1,3,3,0,1,1,1,4,2,null,null,1,9,{"v":1,"d":"100%"},{"v":1,"d":"100%"},{"v":0,"d":"0%"},{"v":1,"d":"100%"},4,2,{"v":0,"d":"0%"},{"v":0,"d":"0%"},"Jess Claycomb","J Claycomb, 10"]
[{"$f":"IF(Roster!A13<>\"\",Roster!A13,\"\")","v":4},{"$f":"IF(OR(Roster!A13<>\"\",Roster!B13<>\"\"),PROPER(Roster!B13),\"\")","v":"Maxx Cowger"},{"$nulls":14},"","","","","","","","",{"v":0,"d":"0%"},"Maxx Cowger","M Cowger, 4"]
[{"$f":"IF(Roster!A14<>\"\",Roster!A14,\"\")","v":22},{"$f":"IF(OR(Roster!A14<>\"\",Roster!B14<>\"\"),PROPER(Roster!B14),\"\")","v":"Brayden Bruce"},1,0,2,{"$nulls":5},2,4,null,null,1,1,"",{"v":0,"d":"0%"},"","",{"v":0,"d":"0%"},2,2,{"v":0,"d":"0%"},{"v":0,"d":"0%"},"Brayden Bruce","B Bruce, 22"]
[{"$f":"IF(Roster!A15<>\"\",Roster!A15,\"\")","v":30},{"$f":"IF(OR(Roster!A15<>\"\",Roster!B15<>\"\"),PROPER(Roster!B15),\"\")","v":"Jo Bishop"},1,{"$nulls":11},1,null,"","","","","","","","",{"v":0,"d":"0%"},"Jo Bishop","J Bishop, 30"]
[{"$f":"IF(Roster!A16<>\"\",Roster!A16,\"\")","v":33},{"$f":"IF(OR(Roster!A16<>\"\",Roster!B16<>\"\"),PROPER(Roster!B16),\"\")","v":"Nolan Turner"},1,{"$nulls":7},1,{"$nulls":3},1,null,"","","","","","",1,"",{"v":0,"d":"0%"},"Nolan Turner","N Turner, 33"]
[{"$f":"IF(Roster!A17<>\"\",Roster!A17,\"\")","v":32},{"$f":"IF(OR(Roster!A17<>\"\",Roster!B17<>\"\"),PROPER(Roster!B17),\"\")","v":"Robert Crawford"},1,null,null,2,2,null,null,1,{"$nulls":6},4,"",{"v":1,"d":"100%"},"",{"v":1,"d":"100%"},2,1,{"v":0,"d":"0%"},{"v":0,"d":"0%"},"Robert Crawford","R Crawford, 32"]
[{"$f":"IF(Roster!A18<>\"\",Roster!A18,\"\")","v":40},{"$f":"IF(OR(Roster!A18<>\"\",Roster!B18<>\"\"),PROPER(Roster!B18),\"\")","v":"Jace Bruce"},1,null,1,{"$nulls":11},"",{"v":0,"d":"0%"},"","",{"v":0,"d":"0%"},1,"",{"v":0,"d":"0%"},{"v":0,"d":"0%"},"Jace Bruce","J Bruce, 40"]
[{"$f":"IF(Roster!A19<>\"\",Roster!A19,\"\")","v":2},{"$f":"IF(OR(Roster!A19<>\"\",Roster!B19<>\"\"),PROPER(Roster!B19),\"\")","v":"Ethan Mills"},{"$nulls":14},"","","","","","","","",{"v":0,"d":"0%"},"Ethan Mills","E Mills, 2"]
[{"$f":"IF(Roster!A20<>\"\",Roster!A20,\"\")","v":2},{"$f":"IF(OR(Roster!A20<>\"\",Roster!B20<>\"\"),PROPER(Roster!B20),\"\")","v":"Bridger Alishouse"},{"$nulls":14},"","","","","","","","",{"v":0,"d":"0%"},"Bridger Alishouse","B Alishouse, 2"]
[{"$f":"IF(Roster!A21<>\"\",Roster!A21,\"\")","v":4},{"$f":"IF(OR(Roster!A21<>\"\",Roster!B21<>\"\"),PROPER(Roster!B21),\"\")","v":"Landon Keever"},{"$nulls":14},"","","","","","","","",{"v":0,"d":"0%"},"Landon Keever","L Keever, 4"]
[{"$f":"IF(Roster!A22<>\"\",Roster!A22,\"\")","v":4},{"$f":"IF(OR(Roster!A22<>\"\",Roster!B22<>\"\"),PROPER(Roster!B22),\"\")","v":"Dj Till"},{"$nulls":14},"","","","","","","","",{"v":0,"d":"0%"},"Dj Till","D Till, 4"]
[{"$f":"IF(Roster!A23<>\"\",Roster!A23,\"\")","v":""},{"$f":"IF(OR(Roster!A23<>\"\",Roster!B23<>\"\"),PROPER(Roster!B23),\"\")","v":""},{"$nulls":14},"","","","","","","","",{"v":0,"d":"0%"},"",""]
[{"$f":"IF(Roster!A24<>\"\",Roster!A24,\"\")","v":""},{"$f":"IF(OR(Roster!A24<>\"\",Roster!B24<>\"\"),PROPER(Roster!B24),\"\")","v":""},{"$nulls":14},"","","","","","","","",{"v":0,"d":"0%"},"",""]
[{"$f":"IF(Roster!A25<>\"\",Roster!A25,\"\")","v":""},{"$f":"IF(OR(Roster!A25<>\"\",Roster!B25<>\"\"),PROPER(Roster!B25),\"\")","v":""},{"$nulls":14},"","","","","","","","",{"v":0,"d":"0%"},"",""]
[{"$f":"IF(Roster!A26<>\"\",Roster!A26,\"\")","v":""},{"$f":"IF(OR(Roster!A26<>\"\",Roster!B26<>\"\"),PROPER(Roster!B26),\"\")","v":""},{"$nulls":14},"","","","","","","","",{"v":0,"d":"0%"},"",""]
[{"$f":"IF(Roster!A27<>\"\",Roster!A27,\"\")","v":""},{"$f":"IF(OR(Roster!A27<>\"\",Roster!B27<>\"\"),PROPER(Roster!B27),\"\")","v":""},{"$nulls":14},"","","","","","","","",{"v":0,"d":"0%"},"",""]
[{"$f":"IF(Roster!A28<>\"\",Roster!A28,\"\")","v":""},{"$f":"IF(OR(Roster!A28<>\"\",Roster!B28<>\"\"),PROPER(Roster!B28),\"\")","v":""},{"$nulls":14},"","","","","","","","",{"v":0,"d":"0%"},"",""]
[{"$f":"IF(Roster!A29<>\"\",Roster!A29,\"\")","v":""},{"$f":"IF(OR(Roster!A29<>\"\",Roster!B29<>\"\"),PROPER(Roster!B29),\"\")","v":""},{"$nulls":14},"","","","","","","","",{"v":0,"d":"0%"},"",""]
[{"$f":"IF(Roster!A30<>\"\",Roster!A30,\"\")","v":""},{"$f":"IF(OR(Roster!A30<>\"\",Roster!B30<>\"\"),PROPER(Roster!B30),\"\")","v":"Team"},1,{"$nulls":6},1,5,{"$nulls":5},"","","","","","",6,"",{"v":0,"d":"0%"},"Team",{"$f":"IFERROR(IF(FIND(\" \",$B30,1),CONCATENATE(LEFT($B30,1),\" \",RIGHT($B30,LEN($B30)-FIND(\" \",$B30,1)),\", \",$A30),CONCATENATE($B30,\", \",$A30)),\"\")","v":""}]
[null,"Team Totals",{"$f":"IF(COUNTA($C$7:$C$30)>0,1,\"\")","v":1},{"$f":"SUM(D7:D30)","v":10},{"$f":"SUM(E7:E30)","v":24},15,30,2,7,8,28,20,10,1,{"$f":"SUM(O7:O30)","v":14},{"$f":"SUM(P7:P30)","v":9},{"$f":"IF(H31+2*F31+3*D31>0,H31+2*F31+3*D31,IF(C4>0,C4,\"\"))","v":62},{"$f":"IF(E31>0,D31/E31,\"\")","v":{"v":0.4166666666666667,"d":"42%"}},{"$f":"IF(G31>0,F31/G31,\"\")","v":{"v":0.5,"d":"50%"}},{"$f":"IF(I31>0,H31/I31,\"\")","v":{"v":0.2857142857142857,"d":"29%"}},{"$f":"IF(OR(E31>0,G31 >0),(D31+F31)/(E31+G31),\"\")","v":{"v":0.46296296296296297,"d":"46%"}},{"$f":"IF(E31+G31>0,E31+G31,\"\")","v":54},{"$f":"IF(J31+K31>0,J31+K31,\"\")","v":36},{"v":0.46296296296296297,"d":"46%"},{"$f":"IF(I31>=$Z$2,T31,0)","v":{"v":0,"d":"0%"}}]
[null,"Opponent Totals",{"$f":"IF(SUM(D32:P32)>0,1,\"\")","v":1},3,12,10,34,4,8,6,24,11,4,1,19,10,{"$f":"IF(H32+2*F32+3*D32>0,H32+2*F32+3*D32,IF(D4>0,D4,\"\"))","v":33},{"$f":"IF(E32>0,D32/E32,\"\")","v":{"v":0.25,"d":"25%"}},{"$f":"IF(G32>0,F32/G32,\"\")","v":{"v":0.29411764705882354,"d":"29%"}},{"$f":"IF(I32>0,H32/I32,\"\")","v":{"v":0.5,"d":"50%"}},{"$f":"IF(OR(E32>0,G32 >0),(D32+F32)/(E32+G32),\"\")","v":{"v":0.2826086956521739,"d":"28%"}},{"$f":"IF(E32+G32>0,E32+G32,\"\")","v":46},{"$f":"IF(J32+K32>0,J32+K32,\"\")","v":30},{"v":0.2826086956521739,"d":"28%"},{"v":0.5,"d":"50%"}]
[null,null,"Peak Performances"]
[]
[null,"Top Points","Player",null,"Top REB","Player",null,"Top AST","Player"]
[null,{"$f":"MAX(Q$7:Q$30)","v":19},{"$f":"IFERROR(INDEX($AA$7:$AA$30,SMALL(IF(Q$7:Q$30=$B$36,ROW(Q$7:Q$30)-6),ROW(Q7)-6)),\" \")","v":"P Watt, 24"},null,{"$f":"MAX(W$7:W$30)","v":7},{"$f":"IFERROR(INDEX($AA$7:$AA$30,SMALL(IF(W$7:W$30=$E$36,ROW(W$7:W$30)-6),ROW(W7)-6)),\" \")","v":"D Barritt, 20"},null,{"$f":"MAX(L$7:L$30)","v":4},{"$f":"IFERROR(INDEX($AA$7:$AA$30,SMALL(IF(L$7:L$30=$H$36,ROW(L$7:L$30)-6),ROW(L7)-6)),\" \")","v":"D Butts, 14"}]
[null,null,{"$f":"IFERROR(INDEX($AA$7:$AA$30,SMALL(IF(Q$7:Q$30=$B$36,ROW(Q$7:Q$30)-6),ROW(Q8)-6)),\" \")","v":" "},null,null,{"$f":"IFERROR(INDEX($AA$7:$AA$30,SMALL(IF(W$7:W$30=$E$36,ROW(W$7:W$30)-6),ROW(W8)-6)),\" \")","v":" "},null,null,{"$f":"IFERROR(INDEX($AA$7:$AA$30,SMALL(IF(L$7:L$30=$H$36,ROW(L$7:L$30)-6),ROW(L8)-6)),\" \")","v":"J Claycomb, 10"}]
[null,null,{"$f":"IFERROR(INDEX($AA$7:$AA$30,SMALL(IF(Q$7:Q$30=$B$36,ROW(Q$7:Q$30)-6),ROW(Q9)-6)),\" \")","v":" "},null,null,{"$f":"IFERROR(INDEX($AA$7:$AA$30,SMALL(IF(W$7:W$30=$E$36,ROW(W$7:W$30)-6),ROW(W9)-6)),\" \")","v":" "},null,null,{"$f":"IFERROR(INDEX($AA$7:$AA$30,SMALL(IF(L$7:L$30=$H$36,ROW(L$7:L$30)-6),ROW(L9)-6)),\" \")","v":"B Bruce, 22"}]
[null,null,{"$f":"IFERROR(INDEX($AA$7:$AA$30,SMALL(IF(Q$7:Q$30=$B$36,ROW(Q$7:Q$30)-6),ROW(Q10)-6)),\" \")","v":" "},null,null,{"$f":"IFERROR(INDEX($AA$7:$AA$30,SMALL(IF(W$7:W$30=$E$36,ROW(W$7:W$30)-6),ROW(W10)-6)),\" \")","v":" "},null,null,{"$f":"IFERROR(INDEX($AA$7:$AA$30,SMALL(IF(L$7:L$30=$H$36,ROW(L$7:L$30)-6),ROW(L10)-6)),\" \")","v":" "}]
[null,null,{"$f":"IFERROR(INDEX($AA$7:$AA$30,SMALL(IF(Q$7:Q$30=$B$36,ROW(Q$7:Q$30)-6),ROW(Q11)-6)),\" \")","v":" "},null,null,{"$f":"IFERROR(INDEX($AA$7:$AA$30,SMALL(IF(W$7:W$30=$E$36,ROW(W$7:W$30)-6),ROW(W11)-6)),\" \")","v":" "},null,null,{"$f":"IFERROR(INDEX($AA$7:$AA$30,SMALL(IF(L$7:L$30=$H$36,ROW(L$7:L$30)-6),ROW(L11)-6)),\" \")","v":" "}]
[null,null,{"$f":"IFERROR(INDEX($B12:B$30,SMALL(IF(Q$7:Q$30=$B$36,ROW(Q$7:Q$30)-6),ROW(Q12)-6)),\" \")","v":" "}]
[null,null,{"$f":"TRIM(C36)","v":"P Watt, 24"},null,null,{"$f":"TRIM(F36)","v":"D Barritt, 20"},null,null,{"$f":"TRIM(I36)","v":"D Butts, 14"}]
[null,null,{"$f":"TRIM(C37)","v":""},null,null,{"$f":"TRIM(F37)","v":""},null,null,{"$f":"TRIM(I37)","v":"J Claycomb, 10"}]
[null,null,"",null,null,"",null,null,"B Bruce, 22"]
[null,null,"",null,null,"",null,null,""]
[null,null,"",null,null,"",null,null,""]
[]
[]
[null,{"$f":"COUNTIF(C42:C46,\"?*\")","v":1},null,null,{"$f":"COUNTIF(F42:F46,\"?*\")","v":1},null,null,{"$f":"COUNTIF(I42:I46,\"?*\")","v":3}]

{"sheet":"game1 (7)","index":9,"n_rows":49,"n_cols":27,"rows_kept":49,"merged":[[0,6,0,11],[1,2,1,5],[1,7,1,9],[1,10,1,12],[32,2,32,17]]}
[]
[{"$f":"IF(AND(Roster!$D$1=VLOOKUP(C2,Roster!$L$5:$R$72,2,FALSE),Roster!$D$3=VLOOKUP(C2,Roster!$L$5:$R$72,4,FALSE)),\"R\",\"\")","v":{"$error":"#N/A"}},"Opponent","Lead-Deadwood",{"$nulls":4},"Date of Game",null,null,"2018-01-04",{"$nulls":12},{"$f":"IF(OR($H$4=1,$J$4=1),CONCATENATE($C$2,\": \",MONTH($K$2),\"/\",DAY($K$2),\"/\",YEAR($K$2)-2000, \" **\" ),CONCATENATE($C$2,\": \",MONTH($K$2),\"/\",DAY($K$2),\"/\",YEAR($K$2)-2000))","v":"Lead-Deadwood: 1/4/18"},null,8]
[{"$nulls":6},"Win","Conf W","Loss","Conf L",null,"Forfeit W?",null,"Forfeit L?",{"$nulls":9},{"$f":"IF($C$4>$D$4,CONCATENATE(Roster!$B$1,\" \",$C$4,\", \",$C$2,\" \",$D$4, \" \",$E$4),CONCATENATE($C$2,\" \",$D$4,\", \",Roster!$B$1,\" \",$C$4,\" \", $E$4 ))","v":"Upton 59, Lead-Deadwood 29 "}]
[null,"Score",59,29,null,null,{"$f":"IF(OR($L$4=1,$C$4>$D$4),1,\"\")","v":1},null,{"$f":"IF(OR($N$4=1,$C$4<$D$4),1,\"\")","v":""}]
[]
["#","PLAYER","GP","3FGM","3FGA","2FGM","2FGA","FTM","FTA","OFF REB","DEF REB","AST","STL","BLK","TO","FOUL","TL PTS","3FG %","2FG %","FT %","FG%","FGA","REB","Elig FG%","Elig FT%","Name2","FI,LastName,#"]
[{"$f":"IF(Roster!A7<>\"\",Roster!A7,\"\")","v":24},{"$f":"IF(OR(Roster!A7<>\"\",Roster!B7<>\"\"),PROPER(Roster!B7),\"\")","v":"Payton Watt"},1,1,7,1,3,{"$nulls":3},5,6,null,1,4,2,{"$f":"IF(H7+2*F7+3*D7>0,H7+2*F7+3*D7,\"\")","v":5},{"$f":"IF(E7>0,D7/E7,\"\")","v":{"v":0.14285714285714285,"d":"14%"}},{"$f":"IF(G7>0,F7/G7,\"\")","v":{"v":0.3333333333333333,"d":"33%"}},{"$f":"IF(I7>0,H7/I7,\"\")","v":""},{"$f":"IF(OR(E7>0,G7 >0),(D7+F7)/(E7+G7),\"\")","v":{"v":0.2,"d":"20%"}},{"$f":"IF(E7+G7>0,E7+G7,\"\")","v":10},{"$f":"IF(J7+K7>0,J7+K7,\"\")","v":5},{"$f":"IF(V7>=$Z$2,U7,0)","v":{"v":0.2,"d":"20%"}},{"$f":"IF(I7>=$Z$2,T7,0)","v":{"v":0,"d":"0%"}},{"$f":"B7","v":"Payton Watt"},{"$f":"IFERROR(IF(FIND(\" \",$B7,1),CONCATENATE(LEFT($B7,1),\" \",RIGHT($B7,LEN($B7)-FIND(\" \",$B7,1)),\", \",$A7),CONCATENATE($B7,\", \",$A7)),\"\")","v":"P Watt, 24"}]
[{"$f":"IF(Roster!A8<>\"\",Roster!A8,\"\")","v":20},{"$f":"IF(OR(Roster!A8<>\"\",Roster!B8<>\"\"),PROPER(Roster!B8),\"\")","v":"Dillon Barritt"},1,1,3,1,1,null,null,1,1,1,3,null,1,3,{"$f":"IF(H8+2*F8+3*D8>0,H8+2*F8+3*D8,\"\")","v":5},{"$f":"IF(E8>0,D8/E8,\"\")","v":{"v":0.3333333333333333,"d":"33%"}},{"$f":"IF(G8>0,F8/G8,\"\")","v":{"v":1,"d":"100%"}},{"$f":"IF(I8>0,H8/I8,\"\")","v":""},{"$f":"IF(OR(E8>0,G8 >0),(D8+F8)/(E8+G8),\"\")","v":{"v":0.5,"d":"50%"}},{"$f":"IF(E8+G8>0,E8+G8,\"\")","v":4},{"$f":"IF(J8+K8>0,J8+K8,\"\")","v":2},{"$f":"IF(V8>=$Z$2,U8,0)","v":{"v":0,"d":"0%"}},{"$f":"IF(I8>=$Z$2,T8,0)","v":{"v":0,"d":"0%"}},{"$f":"B8","v":"Dillon Barritt"},{"$f":"IFERROR(IF(FIND(\" \",$B8,1),CONCATENATE(LEFT($B8,1),\" \",RIGHT($B8,LEN($B8)-FIND(\" \",$B8,1)),\", \",$A8),CONCATENATE($B8,\", \",$A8)),\"\")","v":"D Barritt, 20"}]
[{"$f":"IF(Roster!A9<>\"\",Roster!A9,\"\")","v":14},{"$f":"IF(OR(Roster!A9<>\"\",Roster!B9<>\"\"),PROPER(Roster!B9),\"\")","v":"Dawson Butts"},1,null,null,3,5,null,null,3,3,1,1,null,4,3,6,"",{"v":0.6,"d":"60%"},"",{"v":0.6,"d":"60%"},5,6,{"v":0,"d":"0%"},{"v":0,"d":"0%"},"Dawson Butts","D Butts, 14"]
[{"$f":"IF(Roster!A10<>\"\",Roster!A10,\"\")","v":12},{"$f":"IF(OR(Roster!A10<>\"\",Roster!B10<>\"\"),PROPER(Roster!B10),\"\")","v":"Jayden Caylor"},1,0,1,3,5,2,2,4,4,4,null,null,3,3,8,{"v":0,"d":"0%"},{"v":0.6,"d":"60%"},{"v":1,"d":"100%"},{"v":0.5,"d":"50%"},6,8,{"v":0,"d":"0%"},{"v":0,"d":"0%"},"Jayden Caylor","J Caylor, 12"]
[{"$f":"IF(Roster!A11<>\"\",Roster!A11,\"\")","v":23},{"$f":"IF(OR(Roster!A11<>\"\",Roster!B11<>\"\"),PROPER(Roster!B11),\"\")","v":"Clayton Louderback"},1,3,5,7,15,1,2,4,3,3,4,null,2,4,24,{"v":0.6,"d":"60%"},{"v":0.4666666666666667,"d":"47%"},{"v":0.5,"d":"50%"},{"v":0.5,"d":"50%"},20,7,{"v":0.5,"d":"50%"},{"v":0,"d":"0%"},"Clayton Louderback","C Louderback, 23"]
[{"$f":"IF(Roster!A12<>\"\",Roster!A12,\"\")","v":10},{"$f":"IF(OR(Roster!A12<>\"\",Roster!B12<>\"\"),PROPER(Roster!B12),\"\")","v":"Jess Claycomb"},1,null,null,4,4,{"$nulls":3},1,1,1,null,3,2,8,"",{"v":1,"d":"100%"},"",{"v":1,"d":"100%"},4,1,{"v":0,"d":"0%"},{"v":0,"d":"0%"},"Jess Claycomb","J Claycomb, 10"]
[{"$f":"IF(Roster!A13<>\"\",Roster!A13,\"\")","v":4},{"$f":"IF(OR(Roster!A13<>\"\",Roster!B13<>\"\"),PROPER(Roster!B13),\"\")","v":"Maxx Cowger"},{"$nulls":14},"","","","","","","","",{"v":0,"d":"0%"},"Maxx Cowger","M Cowger, 4"]
[{"$f":"IF(Roster!A14<>\"\",Roster!A14,\"\")","v":22},{"$f":"IF(OR(Roster!A14<>\"\",Roster!B14<>\"\"),PROPER(Roster!B14),\"\")","v":"Brayden Bruce"},1,1,1,{"$nulls":5},1,1,null,null,2,null,3,{"v":1,"d":"100%"},"","",{"v":1,"d":"100%"},1,1,{"v":0,"d":"0%"},{"v":0,"d":"0%"},"Brayden Bruce","B Bruce, 22"]
[{"$f":"IF(Roster!A15<>\"\",Roster!A15,\"\")","v":30},{"$f":"IF(OR(Roster!A15<>\"\",Roster!B15<>\"\"),PROPER(Roster!B15),\"\")","v":"Jo Bishop"},1,{"$nulls":11},2,2,"","","","","","","","",{"v":0,"d":"0%"},"Jo Bishop","J Bishop, 30"]
[{"$f":"IF(Roster!A16<>\"\",Roster!A16,\"\")","v":33},{"$f":"IF(OR(Roster!A16<>\"\",Roster!B16<>\"\"),PROPER(Roster!B16),\"\")","v":"Nolan Turner"},1,{"$nulls":13},"","","","","","","","",{"v":0,"d":"0%"},"Nolan Turner","N Turner, 33"]
[{"$f":"IF(Roster!A17<>\"\",Roster!A17,\"\")","v":32},{"$f":"IF(OR(Roster!A17<>\"\",Roster!B17<>\"\"),PROPER(Roster!B17),\"\")","v":"Robert Crawford"},1,{"$nulls":7},1,{"$nulls":5},"","","","","","",1,"",{"v":0,"d":"0%"},"Robert Crawford","R Crawford, 32"]
[{"$f":"IF(Roster!A18<>\"\",Roster!A18,\"\")","v":40},{"$f":"IF(OR(Roster!A18<>\"\",Roster!B18<>\"\"),PROPER(Roster!B18),\"\")","v":"Jace Bruce"},1,null,1,{"$nulls":5},1,{"$nulls":5},"",{"v":0,"d":"0%"},"","",{"v":0,"d":"0%"},1,1,{"v":0,"d":"0%"},{"v":0,"d":"0%"},"Jace Bruce","J Bruce, 40"]
[{"$f":"IF(Roster!A19<>\"\",Roster!A19,\"\")","v":2},{"$f":"IF(OR(Roster!A19<>\"\",Roster!B19<>\"\"),PROPER(Roster!B19),\"\")","v":"Ethan Mills"},{"$nulls":14},"","","","","","","","",{"v":0,"d":"0%"},"Ethan Mills","E Mills, 2"]
[{"$f":"IF(Roster!A20<>\"\",Roster!A20,\"\")","v":2},{"$f":"IF(OR(Roster!A20<>\"\",Roster!B20<>\"\"),PROPER(Roster!B20),\"\")","v":"Bridger Alishouse"},{"$nulls":14},"","","","","","","","",{"v":0,"d":"0%"},"Bridger Alishouse","B Alishouse, 2"]
[{"$f":"IF(Roster!A21<>\"\",Roster!A21,\"\")","v":4},{"$f":"IF(OR(Roster!A21<>\"\",Roster!B21<>\"\"),PROPER(Roster!B21),\"\")","v":"Landon Keever"},{"$nulls":14},"","","","","","","","",{"v":0,"d":"0%"},"Landon Keever","L Keever, 4"]
[{"$f":"IF(Roster!A22<>\"\",Roster!A22,\"\")","v":4},{"$f":"IF(OR(Roster!A22<>\"\",Roster!B22<>\"\"),PROPER(Roster!B22),\"\")","v":"Dj Till"},{"$nulls":14},"","","","","","","","",{"v":0,"d":"0%"},"Dj Till","D Till, 4"]
[{"$f":"IF(Roster!A23<>\"\",Roster!A23,\"\")","v":""},{"$f":"IF(OR(Roster!A23<>\"\",Roster!B23<>\"\"),PROPER(Roster!B23),\"\")","v":""},{"$nulls":14},"","","","","","","","",{"v":0,"d":"0%"},"",""]
[{"$f":"IF(Roster!A24<>\"\",Roster!A24,\"\")","v":""},{"$f":"IF(OR(Roster!A24<>\"\",Roster!B24<>\"\"),PROPER(Roster!B24),\"\")","v":""},{"$nulls":14},"","","","","","","","",{"v":0,"d":"0%"},"",""]
[{"$f":"IF(Roster!A25<>\"\",Roster!A25,\"\")","v":""},{"$f":"IF(OR(Roster!A25<>\"\",Roster!B25<>\"\"),PROPER(Roster!B25),\"\")","v":""},{"$nulls":14},"","","","","","","","",{"v":0,"d":"0%"},"",""]
[{"$f":"IF(Roster!A26<>\"\",Roster!A26,\"\")","v":""},{"$f":"IF(OR(Roster!A26<>\"\",Roster!B26<>\"\"),PROPER(Roster!B26),\"\")","v":""},{"$nulls":14},"","","","","","","","",{"v":0,"d":"0%"},"",""]
[{"$f":"IF(Roster!A27<>\"\",Roster!A27,\"\")","v":""},{"$f":"IF(OR(Roster!A27<>\"\",Roster!B27<>\"\"),PROPER(Roster!B27),\"\")","v":""},{"$nulls":14},"","","","","","","","",{"v":0,"d":"0%"},"",""]
[{"$f":"IF(Roster!A28<>\"\",Roster!A28,\"\")","v":""},{"$f":"IF(OR(Roster!A28<>\"\",Roster!B28<>\"\"),PROPER(Roster!B28),\"\")","v":""},{"$nulls":14},"","","","","","","","",{"v":0,"d":"0%"},"",""]
[{"$f":"IF(Roster!A29<>\"\",Roster!A29,\"\")","v":""},{"$f":"IF(OR(Roster!A29<>\"\",Roster!B29<>\"\"),PROPER(Roster!B29),\"\")","v":""},{"$nulls":14},"","","","","","","","",{"v":0,"d":"0%"},"",""]
[{"$f":"IF(Roster!A30<>\"\",Roster!A30,\"\")","v":""},{"$f":"IF(OR(Roster!A30<>\"\",Roster!B30<>\"\"),PROPER(Roster!B30),\"\")","v":"Team"},1,{"$nulls":13},"","","","","","","","",{"v":0,"d":"0%"},"Team",{"$f":"IFERROR(IF(FIND(\" \",$B30,1),CONCATENATE(LEFT($B30,1),\" \",RIGHT($B30,LEN($B30)-FIND(\" \",$B30,1)),\", \",$A30),CONCATENATE($B30,\", \",$A30)),\"\")","v":""}]
[null,"Team Totals",{"$f":"IF(COUNTA($C$7:$C$30)>0,1,\"\")","v":1},{"$f":"SUM(D7:D30)","v":6},{"$f":"SUM(E7:E30)","v":18},19,33,3,4,12,20,17,9,1,{"$f":"SUM(O7:O30)","v":21},{"$f":"SUM(P7:P30)","v":19},{"$f":"IF(H31+2*F31+3*D31>0,H31+2*F31+3*D31,IF(C4>0,C4,\"\"))","v":59},{"$f":"IF(E31>0,D31/E31,\"\")","v":{"v":0.3333333333333333,"d":"33%"}},{"$f":"IF(G31>0,F31/G31,\"\")","v":{"v":0.5757575757575758,"d":"58%"}},{"$f":"IF(I31>0,H31/I31,\"\")","v":{"v":0.75,"d":"75%"}},{"$f":"IF(OR(E31>0,G31 >0),(D31+F31)/(E31+G31),\"\")","v":{"v":0.49019607843137253,"d":"49%"}},{"$f":"IF(E31+G31>0,E31+G31,\"\")","v":51},{"$f":"IF(J31+K31>0,J31+K31,\"\")","v":32},{"v":0.49019607843137253,"d":"49%"},{"$f":"IF(I31>=$Z$2,T31,0)","v":{"v":0,"d":"0%"}}]
[null,"Opponent Totals",{"$f":"IF(SUM(D32:P32)>0,1,\"\")","v":1},3,16,7,18,6,14,7,14,7,7,3,25,9,{"$f":"IF(H32+2*F32+3*D32>0,H32+2*F32+3*D32,IF(D4>0,D4,\"\"))","v":29},{"$f":"IF(E32>0,D32/E32,\"\")","v":{"v":0.1875,"d":"19%"}},{"$f":"IF(G32>0,F32/G32,\"\")","v":{"v":0.3888888888888889,"d":"39%"}},{"$f":"IF(I32>0,H32/I32,\"\")","v":{"v":0.42857142857142855,"d":"43%"}},{"$f":"IF(OR(E32>0,G32 >0),(D32+F32)/(E32+G32),\"\")","v":{"v":0.29411764705882354,"d":"29%"}},{"$f":"IF(E32+G32>0,E32+G32,\"\")","v":34},{"$f":"IF(J32+K32>0,J32+K32,\"\")","v":21},{"v":0.29411764705882354,"d":"29%"},{"v":0.42857142857142855,"d":"43%"}]
[null,null,"Peak Performances"]
[]
[null,"Top Points","Player",null,"Top REB","Player",null,"Top AST","Player"]
[null,{"$f":"MAX(Q$7:Q$30)","v":24},{"$f":"IFERROR(INDEX($AA$7:$AA$30,SMALL(IF(Q$7:Q$30=$B$36,ROW(Q$7:Q$30)-6),ROW(Q7)-6)),\" \")","v":"C Louderback, 23"},null,{"$f":"MAX(W$7:W$30)","v":8},{"$f":"IFERROR(INDEX($AA$7:$AA$30,SMALL(IF(W$7:W$30=$E$36,ROW(W$7:W$30)-6),ROW(W7)-6)),\" \")","v":"J Caylor, 12"},null,{"$f":"MAX(L$7:L$30)","v":6},{"$f":"IFERROR(INDEX($AA$7:$AA$30,SMALL(IF(L$7:L$30=$H$36,ROW(L$7:L$30)-6),ROW(L7)-6)),\" \")","v":"P Watt, 24"}]
[null,null,{"$f":"IFERROR(INDEX($AA$7:$AA$30,SMALL(IF(Q$7:Q$30=$B$36,ROW(Q$7:Q$30)-6),ROW(Q8)-6)),\" \")","v":" "},null,null,{"$f":"IFERROR(INDEX($AA$7:$AA$30,SMALL(IF(W$7:W$30=$E$36,ROW(W$7:W$30)-6),ROW(W8)-6)),\" \")","v":" "},null,null,{"$f":"IFERROR(INDEX($AA$7:$AA$30,SMALL(IF(L$7:L$30=$H$36,ROW(L$7:L$30)-6),ROW(L8)-6)),\" \")","v":" "}]
[null,null,{"$f":"IFERROR(INDEX($AA$7:$AA$30,SMALL(IF(Q$7:Q$30=$B$36,ROW(Q$7:Q$30)-6),ROW(Q9)-6)),\" \")","v":" "},null,null,{"$f":"IFERROR(INDEX($AA$7:$AA$30,SMALL(IF(W$7:W$30=$E$36,ROW(W$7:W$30)-6),ROW(W9)-6)),\" \")","v":" "},null,null,{"$f":"IFERROR(INDEX($AA$7:$AA$30,SMALL(IF(L$7:L$30=$H$36,ROW(L$7:L$30)-6),ROW(L9)-6)),\" \")","v":" "}]
[null,null,{"$f":"IFERROR(INDEX($AA$7:$AA$30,SMALL(IF(Q$7:Q$30=$B$36,ROW(Q$7:Q$30)-6),ROW(Q10)-6)),\" \")","v":" "},null,null,{"$f":"IFERROR(INDEX($AA$7:$AA$30,SMALL(IF(W$7:W$30=$E$36,ROW(W$7:W$30)-6),ROW(W10)-6)),\" \")","v":" "},null,null,{"$f":"IFERROR(INDEX($AA$7:$AA$30,SMALL(IF(L$7:L$30=$H$36,ROW(L$7:L$30)-6),ROW(L10)-6)),\" \")","v":" "}]
[null,null,{"$f":"IFERROR(INDEX($AA$7:$AA$30,SMALL(IF(Q$7:Q$30=$B$36,ROW(Q$7:Q$30)-6),ROW(Q11)-6)),\" \")","v":" "},null,null,{"$f":"IFERROR(INDEX($AA$7:$AA$30,SMALL(IF(W$7:W$30=$E$36,ROW(W$7:W$30)-6),ROW(W11)-6)),\" \")","v":" "},null,null,{"$f":"IFERROR(INDEX($AA$7:$AA$30,SMALL(IF(L$7:L$30=$H$36,ROW(L$7:L$30)-6),ROW(L11)-6)),\" \")","v":" "}]
[null,null,{"$f":"IFERROR(INDEX($B12:B$30,SMALL(IF(Q$7:Q$30=$B$36,ROW(Q$7:Q$30)-6),ROW(Q12)-6)),\" \")","v":" "}]
[null,null,{"$f":"TRIM(C36)","v":"C Louderback, 23"},null,null,{"$f":"TRIM(F36)","v":"J Caylor, 12"},null,null,{"$f":"TRIM(I36)","v":"P Watt, 24"}]
[null,null,{"$f":"TRIM(C37)","v":""},null,null,{"$f":"TRIM(F37)","v":""},null,null,{"$f":"TRIM(I37)","v":""}]
[null,null,"",null,null,"",null,null,""]
[null,null,"",null,null,"",null,null,""]
[null,null,"",null,null,"",null,null,""]
[]
[]
[null,{"$f":"COUNTIF(C42:C46,\"?*\")","v":1},null,null,{"$f":"COUNTIF(F42:F46,\"?*\")","v":1},null,null,{"$f":"COUNTIF(I42:I46,\"?*\")","v":1}]

{"sheet":"game1 (8)","index":10,"n_rows":49,"n_cols":27,"rows_kept":49,"merged":[[0,6,0,11],[1,2,1,5],[1,7,1,9],[1,10,1,12],[32,2,32,17]]}
[]
[{"$f":"IF(AND(Roster!$D$1=VLOOKUP(C2,Roster!$L$5:$R$72,2,FALSE),Roster!$D$3=VLOOKUP(C2,Roster!$L$5:$R$72,4,FALSE)),\"R\",\"\")","v":{"$error":"#N/A"}},"Opponent","Newell",{"$nulls":4},"Date of Game",null,null,"2018-01-11",{"$nulls":12},{"$f":"IF(OR($H$4=1,$J$4=1),CONCATENATE($C$2,\": \",MONTH($K$2),\"/\",DAY($K$2),\"/\",YEAR($K$2)-2000, \" **\" ),CONCATENATE($C$2,\": \",MONTH($K$2),\"/\",DAY($K$2),\"/\",YEAR($K$2)-2000))","v":"Newell: 1/11/18"},null,8]
[{"$nulls":6},"Win","Conf W","Loss","Conf L",null,"Forfeit W?",null,"Forfeit L?",{"$nulls":9},{"$f":"IF($C$4>$D$4,CONCATENATE(Roster!$B$1,\" \",$C$4,\", \",$C$2,\" \",$D$4, \" \",$E$4),CONCATENATE($C$2,\" \",$D$4,\", \",Roster!$B$1,\" \",$C$4,\" \", $E$4 ))","v":"Upton 71, Newell 41 "}]
[null,"Score",71,41,null,null,{"$f":"IF(OR($L$4=1,$C$4>$D$4),1,\"\")","v":1},null,{"$f":"IF(OR($N$4=1,$C$4<$D$4),1,\"\")","v":""}]
[]
["#","PLAYER","GP","3FGM","3FGA","2FGM","2FGA","FTM","FTA","OFF REB","DEF REB","AST","STL","BLK","TO","FOUL","TL PTS","3FG %","2FG %","FT %","FG%","FGA","REB","Elig FG%","Elig FT%","Name2","FI,LastName,#"]
[{"$f":"IF(Roster!A7<>\"\",Roster!A7,\"\")","v":24},{"$f":"IF(OR(Roster!A7<>\"\",Roster!B7<>\"\"),PROPER(Roster!B7),\"\")","v":"Payton Watt"},1,2,6,4,8,1,1,null,7,1,5,null,2,1,{"$f":"IF(H7+2*F7+3*D7>0,H7+2*F7+3*D7,\"\")","v":15},{"$f":"IF(E7>0,D7/E7,\"\")","v":{"v":0.3333333333333333,"d":"33%"}},{"$f":"IF(G7>0,F7/G7,\"\")","v":{"v":0.5,"d":"50%"}},{"$f":"IF(I7>0,H7/I7,\"\")","v":{"v":1,"d":"100%"}},{"$f":"IF(OR(E7>0,G7 >0),(D7+F7)/(E7+G7),\"\")","v":{"v":0.42857142857142855,"d":"43%"}},{"$f":"IF(E7+G7>0,E7+G7,\"\")","v":14},{"$f":"IF(J7+K7>0,J7+K7,\"\")","v":7},{"$f":"IF(V7>=$Z$2,U7,0)","v":{"v":0.42857142857142855,"d":"43%"}},{"$f":"IF(I7>=$Z$2,T7,0)","v":{"v":0,"d":"0%"}},{"$f":"B7","v":"Payton Watt"},{"$f":"IFERROR(IF(FIND(\" \",$B7,1),CONCATENATE(LEFT($B7,1),\" \",RIGHT($B7,LEN($B7)-FIND(\" \",$B7,1)),\", \",$A7),CONCATENATE($B7,\", \",$A7)),\"\")","v":"P Watt, 24"}]
[{"$f":"IF(Roster!A8<>\"\",Roster!A8,\"\")","v":20},{"$f":"IF(OR(Roster!A8<>\"\",Roster!B8<>\"\"),PROPER(Roster!B8),\"\")","v":"Dillon Barritt"},1,6,9,2,5,2,2,null,1,1,3,null,2,2,{"$f":"IF(H8+2*F8+3*D8>0,H8+2*F8+3*D8,\"\")","v":24},{"$f":"IF(E8>0,D8/E8,\"\")","v":{"v":0.6666666666666666,"d":"67%"}},{"$f":"IF(G8>0,F8/G8,\"\")","v":{"v":0.4,"d":"40%"}},{"$f":"IF(I8>0,H8/I8,\"\")","v":{"v":1,"d":"100%"}},{"$f":"IF(OR(E8>0,G8 >0),(D8+F8)/(E8+G8),\"\")","v":{"v":0.5714285714285714,"d":"57%"}},{"$f":"IF(E8+G8>0,E8+G8,\"\")","v":14},{"$f":"IF(J8+K8>0,J8+K8,\"\")","v":1},{"$f":"IF(V8>=$Z$2,U8,0)","v":{"v":0.5714285714285714,"d":"57%"}},{"$f":"IF(I8>=$Z$2,T8,0)","v":{"v":0,"d":"0%"}},{"$f":"B8","v":"Dillon Barritt"},{"$f":"IFERROR(IF(FIND(\" \",$B8,1),CONCATENATE(LEFT($B8,1),\" \",RIGHT($B8,LEN($B8)-FIND(\" \",$B8,1)),\", \",$A8),CONCATENATE($B8,\", \",$A8)),\"\")","v":"D Barritt, 20"}]
[{"$f":"IF(Roster!A9<>\"\",Roster!A9,\"\")","v":14},{"$f":"IF(OR(Roster!A9<>\"\",Roster!B9<>\"\"),PROPER(Roster!B9),\"\")","v":"Dawson Butts"},1,0,2,1,5,3,4,3,null,4,2,null,1,1,5,{"v":0,"d":"0%"},{"v":0.2,"d":"20%"},{"v":0.75,"d":"75%"},{"v":0.14285714285714285,"d":"14%"},7,3,{"v":0,"d":"0%"},{"v":0,"d":"0%"},"Dawson Butts","D Butts, 14"]
[{"$f":"IF(Roster!A10<>\"\",Roster!A10,\"\")","v":12},{"$f":"IF(OR(Roster!A10<>\"\",Roster!B10<>\"\"),PROPER(Roster!B10),\"\")","v":"Jayden Caylor"},1,null,null,1,2,1,1,null,2,4,4,null,1,5,3,"",{"v":0.5,"d":"50%"},{"v":1,"d":"100%"},{"v":0.5,"d":"50%"},2,2,{"v":0,"d":"0%"},{"v":0,"d":"0%"},"Jayden Caylor","J Caylor, 12"]
[{"$f":"IF(Roster!A11<>\"\",Roster!A11,\"\")","v":23},{"$f":"IF(OR(Roster!A11<>\"\",Roster!B11<>\"\"),PROPER(Roster!B11),\"\")","v":"Clayton Louderback"},{"$nulls":14},"","","","","","","","",{"v":0,"d":"0%"},"Clayton Louderback","C Louderback, 23"]
[{"$f":"IF(Roster!A12<>\"\",Roster!A12,\"\")","v":10},{"$f":"IF(OR(Roster!A12<>\"\",Roster!B12<>\"\"),PROPER(Roster!B12),\"\")","v":"Jess Claycomb"},1,1,1,5,6,2,4,1,1,4,null,null,1,4,15,{"v":1,"d":"100%"},{"v":0.8333333333333334,"d":"83%"},{"v":0.5,"d":"50%"},{"v":0.8571428571428571,"d":"86%"},7,2,{"v":0,"d":"0%"},{"v":0,"d":"0%"},"Jess Claycomb","J Claycomb, 10"]
[{"$f":"IF(Roster!A13<>\"\",Roster!A13,\"\")","v":4},{"$f":"IF(OR(Roster!A13<>\"\",Roster!B13<>\"\"),PROPER(Roster!B13),\"\")","v":"Maxx Cowger"},{"$nulls":14},"","","","","","","","",{"v":0,"d":"0%"},"Maxx Cowger","M Cowger, 4"]
[{"$f":"IF(Roster!A14<>\"\",Roster!A14,\"\")","v":22},{"$f":"IF(OR(Roster!A14<>\"\",Roster!B14<>\"\"),PROPER(Roster!B14),\"\")","v":"Brayden Bruce"},1,0,2,2,4,0,1,1,2,5,null,null,2,1,4,{"v":0,"d":"0%"},{"v":0.5,"d":"50%"},{"v":0,"d":"0%"},{"v":0.3333333333333333,"d":"33%"},6,3,{"v":0,"d":"0%"},{"v":0,"d":"0%"},"Brayden Bruce","B Bruce, 22"]
[{"$f":"IF(Roster!A15<>\"\",Roster!A15,\"\")","v":30},{"$f":"IF(OR(Roster!A15<>\"\",Roster!B15<>\"\"),PROPER(Roster!B15),\"\")","v":"Jo Bishop"},1,null,null,1,2,0,1,1,3,2,1,null,null,2,2,"",{"v":0.5,"d":"50%"},{"v":0,"d":"0%"},{"v":0.5,"d":"50%"},2,4,{"v":0,"d":"0%"},{"v":0,"d":"0%"},"Jo Bishop","J Bishop, 30"]
[{"$f":"IF(Roster!A16<>\"\",Roster!A16,\"\")","v":33},{"$f":"IF(OR(Roster!A16<>\"\",Roster!B16<>\"\"),PROPER(Roster!B16),\"\")","v":"Nolan Turner"},1,0,1,0,1,null,null,1,1,{"$nulls":3},1,3,"",{"v":0,"d":"0%"},{"v":0,"d":"0%"},"",{"v":0,"d":"0%"},2,2,{"v":0,"d":"0%"},{"v":0,"d":"0%"},"Nolan Turner","N Turner, 33"]
[{"$f":"IF(Roster!A17<>\"\",Roster!A17,\"\")","v":32},{"$f":"IF(OR(Roster!A17<>\"\",Roster!B17<>\"\"),PROPER(Roster!B17),\"\")","v":"Robert Crawford"},1,null,null,1,1,1,2,1,1,1,{"$nulls":3},5,3,"",{"v":1,"d":"100%"},{"v":0.5,"d":"50%"},{"v":1,"d":"100%"},1,2,{"v":0,"d":"0%"},{"v":0,"d":"0%"},"Robert Crawford","R Crawford, 32"]
[{"$f":"IF(Roster!A18<>\"\",Roster!A18,\"\")","v":40},{"$f":"IF(OR(Roster!A18<>\"\",Roster!B18<>\"\"),PROPER(Roster!B18),\"\")","v":"Jace Bruce"},1,{"$nulls":13},"","","","","","","","",{"v":0,"d":"0%"},"Jace Bruce","J Bruce, 40"]
[{"$f":"IF(Roster!A19<>\"\",Roster!A19,\"\")","v":2},{"$f":"IF(OR(Roster!A19<>\"\",Roster!B19<>\"\"),PROPER(Roster!B19),\"\")","v":"Ethan Mills"},{"$nulls":14},"","","","","","","","",{"v":0,"d":"0%"},"Ethan Mills","E Mills, 2"]
[{"$f":"IF(Roster!A20<>\"\",Roster!A20,\"\")","v":2},{"$f":"IF(OR(Roster!A20<>\"\",Roster!B20<>\"\"),PROPER(Roster!B20),\"\")","v":"Bridger Alishouse"},{"$nulls":14},"","","","","","","","",{"v":0,"d":"0%"},"Bridger Alishouse","B Alishouse, 2"]
[{"$f":"IF(Roster!A21<>\"\",Roster!A21,\"\")","v":4},{"$f":"IF(OR(Roster!A21<>\"\",Roster!B21<>\"\"),PROPER(Roster!B21),\"\")","v":"Landon Keever"},{"$nulls":14},"","","","","","","","",{"v":0,"d":"0%"},"Landon Keever","L Keever, 4"]
[{"$f":"IF(Roster!A22<>\"\",Roster!A22,\"\")","v":4},{"$f":"IF(OR(Roster!A22<>\"\",Roster!B22<>\"\"),PROPER(Roster!B22),\"\")","v":"Dj Till"},{"$nulls":14},"","","","","","","","",{"v":0,"d":"0%"},"Dj Till","D Till, 4"]
[{"$f":"IF(Roster!A23<>\"\",Roster!A23,\"\")","v":""},{"$f":"IF(OR(Roster!A23<>\"\",Roster!B23<>\"\"),PROPER(Roster!B23),\"\")","v":""},{"$nulls":14},"","","","","","","","",{"v":0,"d":"0%"},"",""]
[{"$f":"IF(Roster!A24<>\"\",Roster!A24,\"\")","v":""},{"$f":"IF(OR(Roster!A24<>\"\",Roster!B24<>\"\"),PROPER(Roster!B24),\"\")","v":""},{"$nulls":14},"","","","","","","","",{"v":0,"d":"0%"},"",""]
[{"$f":"IF(Roster!A25<>\"\",Roster!A25,\"\")","v":""},{"$f":"IF(OR(Roster!A25<>\"\",Roster!B25<>\"\"),PROPER(Roster!B25),\"\")","v":""},{"$nulls":14},"","","","","","","","",{"v":0,"d":"0%"},"",""]
[{"$f":"IF(Roster!A26<>\"\",Roster!A26,\"\")","v":""},{"$f":"IF(OR(Roster!A26<>\"\",Roster!B26<>\"\"),PROPER(Roster!B26),\"\")","v":""},{"$nulls":14},"","","","","","","","",{"v":0,"d":"0%"},"",""]
[{"$f":"IF(Roster!A27<>\"\",Roster!A27,\"\")","v":""},{"$f":"IF(OR(Roster!A27<>\"\",Roster!B27<>\"\"),PROPER(Roster!B27),\"\")","v":""},{"$nulls":14},"","","","","","","","",{"v":0,"d":"0%"},"",""]
[{"$f":"IF(Roster!A28<>\"\",Roster!A28,\"\")","v":""},{"$f":"IF(OR(Roster!A28<>\"\",Roster!B28<>\"\"),PROPER(Roster!B28),\"\")","v":""},{"$nulls":14},"","","","","","","","",{"v":0,"d":"0%"},"",""]
[{"$f":"IF(Roster!A29<>\"\",Roster!A29,\"\")","v":""},{"$f":"IF(OR(Roster!A29<>\"\",Roster!B29<>\"\"),PROPER(Roster!B29),\"\")","v":""},{"$nulls":14},"","","","","","","","",{"v":0,"d":"0%"},"",""]
[{"$f":"IF(Roster!A30<>\"\",Roster!A30,\"\")","v":""},{"$f":"IF(OR(Roster!A30<>\"\",Roster!B30<>\"\"),PROPER(Roster!B30),\"\")","v":"Team"},1,{"$nulls":6},3,2,{"$nulls":5},"","","","","","",5,"",{"v":0,"d":"0%"},"Team",{"$f":"IFERROR(IF(FIND(\" \",$B30,1),CONCATENATE(LEFT($B30,1),\" \",RIGHT($B30,LEN($B30)-FIND(\" \",$B30,1)),\", \",$A30),CONCATENATE($B30,\", \",$A30)),\"\")","v":""}]
[null,"Team Totals",{"$f":"IF(COUNTA($C$7:$C$30)>0,1,\"\")","v":1},{"$f":"SUM(D7:D30)","v":9},{"$f":"SUM(E7:E30)","v":21},17,34,10,16,11,20,22,15,0,{"$f":"SUM(O7:O30)","v":10},{"$f":"SUM(P7:P30)","v":24},{"$f":"IF(H31+2*F31+3*D31>0,H31+2*F31+3*D31,IF(C4>0,C4,\"\"))","v":71},{"$f":"IF(E31>0,D31/E31,\"\")","v":{"v":0.42857142857142855,"d":"43%"}},{"$f":"IF(G31>0,F31/G31,\"\")","v":{"v":0.5,"d":"50%"}},{"$f":"IF(I31>0,H31/I31,\"\")","v":{"v":0.625,"d":"63%"}},{"$f":"IF(OR(E31>0,G31 >0),(D31+F31)/(E31+G31),\"\")","v":{"v":0.4727272727272727,"d":"47%"}},{"$f":"IF(E31+G31>0,E31+G31,\"\")","v":55},{"$f":"IF(J31+K31>0,J31+K31,\"\")","v":31},{"v":0.4727272727272727,"d":"47%"},{"$f":"IF(I31>=$Z$2,T31,0)","v":{"v":0.625,"d":"63%"}}]
[null,"Opponent Totals",{"$f":"IF(SUM(D32:P32)>0,1,\"\")","v":1},4,10,9,21,11,26,4,17,6,8,2,21,14,{"$f":"IF(H32+2*F32+3*D32>0,H32+2*F32+3*D32,IF(D4>0,D4,\"\"))","v":41},{"$f":"IF(E32>0,D32/E32,\"\")","v":{"v":0.4,"d":"40%"}},{"$f":"IF(G32>0,F32/G32,\"\")","v":{"v":0.42857142857142855,"d":"43%"}},{"$f":"IF(I32>0,H32/I32,\"\")","v":{"v":0.4230769230769231,"d":"42%"}},{"$f":"IF(OR(E32>0,G32 >0),(D32+F32)/(E32+G32),\"\")","v":{"v":0.41935483870967744,"d":"42%"}},{"$f":"IF(E32+G32>0,E32+G32,\"\")","v":31},{"$f":"IF(J32+K32>0,J32+K32,\"\")","v":21},{"v":0.41935483870967744,"d":"42%"},{"v":0.4230769230769231,"d":"42%"}]
[null,null,"Peak Performances"]
[]
[null,"Top Points","Player",null,"Top REB","Player",null,"Top AST","Player"]
[null,{"$f":"MAX(Q$7:Q$30)","v":24},{"$f":"IFERROR(INDEX($AA$7:$AA$30,SMALL(IF(Q$7:Q$30=$B$36,ROW(Q$7:Q$30)-6),ROW(Q7)-6)),\" \")","v":"D Barritt, 20"},null,{"$f":"MAX(W$7:W$30)","v":7},{"$f":"IFERROR(INDEX($AA$7:$AA$30,SMALL(IF(W$7:W$30=$E$36,ROW(W$7:W$30)-6),ROW(W7)-6)),\" \")","v":"P Watt, 24"},null,{"$f":"MAX(L$7:L$30)","v":5},{"$f":"IFERROR(INDEX($AA$7:$AA$30,SMALL(IF(L$7:L$30=$H$36,ROW(L$7:L$30)-6),ROW(L7)-6)),\" \")","v":"B Bruce, 22"}]
[null,null,{"$f":"IFERROR(INDEX($AA$7:$AA$30,SMALL(IF(Q$7:Q$30=$B$36,ROW(Q$7:Q$30)-6),ROW(Q8)-6)),\" \")","v":" "},null,null,{"$f":"IFERROR(INDEX($AA$7:$AA$30,SMALL(IF(W$7:W$30=$E$36,ROW(W$7:W$30)-6),ROW(W8)-6)),\" \")","v":" "},null,null,{"$f":"IFERROR(INDEX($AA$7:$AA$30,SMALL(IF(L$7:L$30=$H$36,ROW(L$7:L$30)-6),ROW(L8)-6)),\" \")","v":" "}]
[null,null,{"$f":"IFERROR(INDEX($AA$7:$AA$30,SMALL(IF(Q$7:Q$30=$B$36,ROW(Q$7:Q$30)-6),ROW(Q9)-6)),\" \")","v":" "},null,null,{"$f":"IFERROR(INDEX($AA$7:$AA$30,SMALL(IF(W$7:W$30=$E$36,ROW(W$7:W$30)-6),ROW(W9)-6)),\" \")","v":" "},null,null,{"$f":"IFERROR(INDEX($AA$7:$AA$30,SMALL(IF(L$7:L$30=$H$36,ROW(L$7:L$30)-6),ROW(L9)-6)),\" \")","v":" "}]
[null,null,{"$f":"IFERROR(INDEX($AA$7:$AA$30,SMALL(IF(Q$7:Q$30=$B$36,ROW(Q$7:Q$30)-6),ROW(Q10)-6)),\" \")","v":" "},null,null,{"$f":"IFERROR(INDEX($AA$7:$AA$30,SMALL(IF(W$7:W$30=$E$36,ROW(W$7:W$30)-6),ROW(W10)-6)),\" \")","v":" "},null,null,{"$f":"IFERROR(INDEX($AA$7:$AA$30,SMALL(IF(L$7:L$30=$H$36,ROW(L$7:L$30)-6),ROW(L10)-6)),\" \")","v":" "}]
[null,null,{"$f":"IFERROR(INDEX($AA$7:$AA$30,SMALL(IF(Q$7:Q$30=$B$36,ROW(Q$7:Q$30)-6),ROW(Q11)-6)),\" \")","v":" "},null,null,{"$f":"IFERROR(INDEX($AA$7:$AA$30,SMALL(IF(W$7:W$30=$E$36,ROW(W$7:W$30)-6),ROW(W11)-6)),\" \")","v":" "},null,null,{"$f":"IFERROR(INDEX($AA$7:$AA$30,SMALL(IF(L$7:L$30=$H$36,ROW(L$7:L$30)-6),ROW(L11)-6)),\" \")","v":" "}]
[null,null,{"$f":"IFERROR(INDEX($B12:B$30,SMALL(IF(Q$7:Q$30=$B$36,ROW(Q$7:Q$30)-6),ROW(Q12)-6)),\" \")","v":" "}]
[null,null,{"$f":"TRIM(C36)","v":"D Barritt, 20"},null,null,{"$f":"TRIM(F36)","v":"P Watt, 24"},null,null,{"$f":"TRIM(I36)","v":"B Bruce, 22"}]
[null,null,{"$f":"TRIM(C37)","v":""},null,null,{"$f":"TRIM(F37)","v":""},null,null,{"$f":"TRIM(I37)","v":""}]
[null,null,"",null,null,"",null,null,""]
[null,null,"",null,null,"",null,null,""]
[null,null,"",null,null,"",null,null,""]
[]
[]
[null,{"$f":"COUNTIF(C42:C46,\"?*\")","v":1},null,null,{"$f":"COUNTIF(F42:F46,\"?*\")","v":1},null,null,{"$f":"COUNTIF(I42:I46,\"?*\")","v":1}]

{"sheet":"game1 (9)","index":11,"n_rows":49,"n_cols":27,"rows_kept":49,"merged":[[0,6,0,11],[1,2,1,5],[1,7,1,9],[1,10,1,12],[32,2,32,17]]}
[]
[{"$f":"IF(AND(Roster!$D$1=VLOOKUP(C2,Roster!$L$5:$R$72,2,FALSE),Roster!$D$3=VLOOKUP(C2,Roster!$L$5:$R$72,4,FALSE)),\"R\",\"\")","v":{"$error":"#N/A"}},"Opponent","Faith",{"$nulls":4},"Date of Game",null,null,"2018-01-12",{"$nulls":12},{"$f":"IF(OR($H$4=1,$J$4=1),CONCATENATE($C$2,\": \",MONTH($K$2),\"/\",DAY($K$2),\"/\",YEAR($K$2)-2000, \" **\" ),CONCATENATE($C$2,\": \",MONTH($K$2),\"/\",DAY($K$2),\"/\",YEAR($K$2)-2000))","v":"Faith: 1/12/18"},null,8]
[{"$nulls":6},"Win","Conf W","Loss","Conf L",null,"Forfeit W?",null,"Forfeit L?",{"$nulls":9},{"$f":"IF($C$4>$D$4,CONCATENATE(Roster!$B$1,\" \",$C$4,\", \",$C$2,\" \",$D$4, \" \",$E$4),CONCATENATE($C$2,\" \",$D$4,\", \",Roster!$B$1,\" \",$C$4,\" \", $E$4 ))","v":"Upton 77, Faith 50 "}]
[null,"Score",77,50,null,null,{"$f":"IF(OR($L$4=1,$C$4>$D$4),1,\"\")","v":1},null,{"$f":"IF(OR($N$4=1,$C$4<$D$4),1,\"\")","v":""}]
[]
["#","PLAYER","GP","3FGM","3FGA","2FGM","2FGA","FTM","FTA","OFF REB","DEF REB","AST","STL","BLK","TO","FOUL","TL PTS","3FG %","2FG %","FT %","FG%","FGA","REB","Elig FG%","Elig FT%","Name2","FI,LastName,#"]
[{"$f":"IF(Roster!A7<>\"\",Roster!A7,\"\")","v":24},{"$f":"IF(OR(Roster!A7<>\"\",Roster!B7<>\"\"),PROPER(Roster!B7),\"\")","v":"Payton Watt"},1,2,6,9,18,5,7,null,4,3,1,null,4,1,{"$f":"IF(H7+2*F7+3*D7>0,H7+2*F7+3*D7,\"\")","v":29},{"$f":"IF(E7>0,D7/E7,\"\")","v":{"v":0.3333333333333333,"d":"33%"}},{"$f":"IF(G7>0,F7/G7,\"\")","v":{"v":0.5,"d":"50%"}},{"$f":"IF(I7>0,H7/I7,\"\")","v":{"v":0.7142857142857143,"d":"71%"}},{"$f":"IF(OR(E7>0,G7 >0),(D7+F7)/(E7+G7),\"\")","v":{"v":0.4583333333333333,"d":"46%"}},{"$f":"IF(E7+G7>0,E7+G7,\"\")","v":24},{"$f":"IF(J7+K7>0,J7+K7,\"\")","v":4},{"$f":"IF(V7>=$Z$2,U7,0)","v":{"v":0.4583333333333333,"d":"46%"}},{"$f":"IF(I7>=$Z$2,T7,0)","v":{"v":0,"d":"0%"}},{"$f":"B7","v":"Payton Watt"},{"$f":"IFERROR(IF(FIND(\" \",$B7,1),CONCATENATE(LEFT($B7,1),\" \",RIGHT($B7,LEN($B7)-FIND(\" \",$B7,1)),\", \",$A7),CONCATENATE($B7,\", \",$A7)),\"\")","v":"P Watt, 24"}]
[{"$f":"IF(Roster!A8<>\"\",Roster!A8,\"\")","v":20},{"$f":"IF(OR(Roster!A8<>\"\",Roster!B8<>\"\"),PROPER(Roster!B8),\"\")","v":"Dillon Barritt"},1,1,3,null,null,2,2,null,5,4,2,null,null,2,{"$f":"IF(H8+2*F8+3*D8>0,H8+2*F8+3*D8,\"\")","v":5},{"$f":"IF(E8>0,D8/E8,\"\")","v":{"v":0.3333333333333333,"d":"33%"}},{"$f":"IF(G8>0,F8/G8,\"\")","v":""},{"$f":"IF(I8>0,H8/I8,\"\")","v":{"v":1,"d":"100%"}},{"$f":"IF(OR(E8>0,G8 >0),(D8+F8)/(E8+G8),\"\")","v":{"v":0.3333333333333333,"d":"33%"}},{"$f":"IF(E8+G8>0,E8+G8,\"\")","v":3},{"$f":"IF(J8+K8>0,J8+K8,\"\")","v":5},{"$f":"IF(V8>=$Z$2,U8,0)","v":{"v":0,"d":"0%"}},{"$f":"IF(I8>=$Z$2,T8,0)","v":{"v":0,"d":"0%"}},{"$f":"B8","v":"Dillon Barritt"},{"$f":"IFERROR(IF(FIND(\" \",$B8,1),CONCATENATE(LEFT($B8,1),\" \",RIGHT($B8,LEN($B8)-FIND(\" \",$B8,1)),\", \",$A8),CONCATENATE($B8,\", \",$A8)),\"\")","v":"D Barritt, 20"}]
[{"$f":"IF(Roster!A9<>\"\",Roster!A9,\"\")","v":14},{"$f":"IF(OR(Roster!A9<>\"\",Roster!B9<>\"\"),PROPER(Roster!B9),\"\")","v":"Dawson Butts"},1,null,null,2,2,2,3,4,3,7,1,null,3,3,6,"",{"v":1,"d":"100%"},{"v":0.6666666666666666,"d":"67%"},{"v":1,"d":"100%"},2,7,{"v":0,"d":"0%"},{"v":0,"d":"0%"},"Dawson Butts","D Butts, 14"]
[{"$f":"IF(Roster!A10<>\"\",Roster!A10,\"\")","v":12},{"$f":"IF(OR(Roster!A10<>\"\",Roster!B10<>\"\"),PROPER(Roster!B10),\"\")","v":"Jayden Caylor"},1,1,3,0,1,4,6,2,1,3,2,null,2,4,7,{"v":0.3333333333333333,"d":"33%"},{"v":0,"d":"0%"},{"v":0.6666666666666666,"d":"67%"},{"v":0.25,"d":"25%"},4,3,{"v":0,"d":"0%"},{"v":0,"d":"0%"},"Jayden Caylor","J Caylor, 12"]
[{"$f":"IF(Roster!A11<>\"\",Roster!A11,\"\")","v":23},{"$f":"IF(OR(Roster!A11<>\"\",Roster!B11<>\"\"),PROPER(Roster!B11),\"\")","v":"Clayton Louderback"},{"$nulls":14},"","","","","","","","",{"v":0,"d":"0%"},"Clayton Louderback","C Louderback, 23"]
[{"$f":"IF(Roster!A12<>\"\",Roster!A12,\"\")","v":10},{"$f":"IF(OR(Roster!A12<>\"\",Roster!B12<>\"\"),PROPER(Roster!B12),\"\")","v":"Jess Claycomb"},1,3,5,4,5,4,4,1,4,3,1,null,1,2,21,{"v":0.6,"d":"60%"},{"v":0.8,"d":"80%"},{"v":1,"d":"100%"},{"v":0.7,"d":"70%"},10,5,{"v":0.7,"d":"70%"},{"v":0,"d":"0%"},"Jess Claycomb","J Claycomb, 10"]
[{"$f":"IF(Roster!A13<>\"\",Roster!A13,\"\")","v":4},{"$f":"IF(OR(Roster!A13<>\"\",Roster!B13<>\"\"),PROPER(Roster!B13),\"\")","v":"Maxx Cowger"},{"$nulls":14},"","","","","","","","",{"v":0,"d":"0%"},"Maxx Cowger","M Cowger, 4"]
[{"$f":"IF(Roster!A14<>\"\",Roster!A14,\"\")","v":22},{"$f":"IF(OR(Roster!A14<>\"\",Roster!B14<>\"\"),PROPER(Roster!B14),\"\")","v":"Brayden Bruce"},1,1,1,3,4,null,null,1,3,3,2,null,2,2,9,{"v":1,"d":"100%"},{"v":0.75,"d":"75%"},"",{"v":0.8,"d":"80%"},5,4,{"v":0,"d":"0%"},{"v":0,"d":"0%"},"Brayden Bruce","B Bruce, 22"]
[{"$f":"IF(Roster!A15<>\"\",Roster!A15,\"\")","v":30},{"$f":"IF(OR(Roster!A15<>\"\",Roster!B15<>\"\"),PROPER(Roster!B15),\"\")","v":"Jo Bishop"},1,{"$nulls":7},1,{"$nulls":3},2,null,"","","","","","",1,"",{"v":0,"d":"0%"},"Jo Bishop","J Bishop, 30"]
[{"$f":"IF(Roster!A16<>\"\",Roster!A16,\"\")","v":33},{"$f":"IF(OR(Roster!A16<>\"\",Roster!B16<>\"\"),PROPER(Roster!B16),\"\")","v":"Nolan Turner"},1,{"$nulls":7},1,{"$nulls":3},2,null,"","","","","","",1,"",{"v":0,"d":"0%"},"Nolan Turner","N Turner, 33"]
[{"$f":"IF(Roster!A17<>\"\",Roster!A17,\"\")","v":32},{"$f":"IF(OR(Roster!A17<>\"\",Roster!B17<>\"\"),PROPER(Roster!B17),\"\")","v":"Robert Crawford"},1,{"$nulls":11},1,1,"","","","","","","","",{"v":0,"d":"0%"},"Robert Crawford","R Crawford, 32"]
[{"$f":"IF(Roster!A18<>\"\",Roster!A18,\"\")","v":40},{"$f":"IF(OR(Roster!A18<>\"\",Roster!B18<>\"\"),PROPER(Roster!B18),\"\")","v":"Jace Bruce"},1,{"$nulls":7},1,{"$nulls":5},"","","","","","",1,"",{"v":0,"d":"0%"},"Jace Bruce","J Bruce, 40"]
[{"$f":"IF(Roster!A19<>\"\",Roster!A19,\"\")","v":2},{"$f":"IF(OR(Roster!A19<>\"\",Roster!B19<>\"\"),PROPER(Roster!B19),\"\")","v":"Ethan Mills"},{"$nulls":14},"","","","","","","","",{"v":0,"d":"0%"},"Ethan Mills","E Mills, 2"]
[{"$f":"IF(Roster!A20<>\"\",Roster!A20,\"\")","v":2},{"$f":"IF(OR(Roster!A20<>\"\",Roster!B20<>\"\"),PROPER(Roster!B20),\"\")","v":"Bridger Alishouse"},{"$nulls":14},"","","","","","","","",{"v":0,"d":"0%"},"Bridger Alishouse","B Alishouse, 2"]
[{"$f":"IF(Roster!A21<>\"\",Roster!A21,\"\")","v":4},{"$f":"IF(OR(Roster!A21<>\"\",Roster!B21<>\"\"),PROPER(Roster!B21),\"\")","v":"Landon Keever"},{"$nulls":14},"","","","","","","","",{"v":0,"d":"0%"},"Landon Keever","L Keever, 4"]
[{"$f":"IF(Roster!A22<>\"\",Roster!A22,\"\")","v":4},{"$f":"IF(OR(Roster!A22<>\"\",Roster!B22<>\"\"),PROPER(Roster!B22),\"\")","v":"Dj Till"},{"$nulls":14},"","","","","","","","",{"v":0,"d":"0%"},"Dj Till","D Till, 4"]
[{"$f":"IF(Roster!A23<>\"\",Roster!A23,\"\")","v":""},{"$f":"IF(OR(Roster!A23<>\"\",Roster!B23<>\"\"),PROPER(Roster!B23),\"\")","v":""},{"$nulls":14},"","","","","","","","",{"v":0,"d":"0%"},"",""]
[{"$f":"IF(Roster!A24<>\"\",Roster!A24,\"\")","v":""},{"$f":"IF(OR(Roster!A24<>\"\",Roster!B24<>\"\"),PROPER(Roster!B24),\"\")","v":""},{"$nulls":14},"","","","","","","","",{"v":0,"d":"0%"},"",""]
[{"$f":"IF(Roster!A25<>\"\",Roster!A25,\"\")","v":""},{"$f":"IF(OR(Roster!A25<>\"\",Roster!B25<>\"\"),PROPER(Roster!B25),\"\")","v":""},{"$nulls":14},"","","","","","","","",{"v":0,"d":"0%"},"",""]
[{"$f":"IF(Roster!A26<>\"\",Roster!A26,\"\")","v":""},{"$f":"IF(OR(Roster!A26<>\"\",Roster!B26<>\"\"),PROPER(Roster!B26),\"\")","v":""},{"$nulls":14},"","","","","","","","",{"v":0,"d":"0%"},"",""]
[{"$f":"IF(Roster!A27<>\"\",Roster!A27,\"\")","v":""},{"$f":"IF(OR(Roster!A27<>\"\",Roster!B27<>\"\"),PROPER(Roster!B27),\"\")","v":""},{"$nulls":14},"","","","","","","","",{"v":0,"d":"0%"},"",""]
[{"$f":"IF(Roster!A28<>\"\",Roster!A28,\"\")","v":""},{"$f":"IF(OR(Roster!A28<>\"\",Roster!B28<>\"\"),PROPER(Roster!B28),\"\")","v":""},{"$nulls":14},"","","","","","","","",{"v":0,"d":"0%"},"",""]
[{"$f":"IF(Roster!A29<>\"\",Roster!A29,\"\")","v":""},{"$f":"IF(OR(Roster!A29<>\"\",Roster!B29<>\"\"),PROPER(Roster!B29),\"\")","v":""},{"$nulls":14},"","","","","","","","",{"v":0,"d":"0%"},"",""]
[{"$f":"IF(Roster!A30<>\"\",Roster!A30,\"\")","v":""},{"$f":"IF(OR(Roster!A30<>\"\",Roster!B30<>\"\"),PROPER(Roster!B30),\"\")","v":"Team"},1,{"$nulls":6},1,4,{"$nulls":5},"","","","","","",5,"",{"v":0,"d":"0%"},"Team",{"$f":"IFERROR(IF(FIND(\" \",$B30,1),CONCATENATE(LEFT($B30,1),\" \",RIGHT($B30,LEN($B30)-FIND(\" \",$B30,1)),\", \",$A30),CONCATENATE($B30,\", \",$A30)),\"\")","v":""}]
[null,"Team Totals",{"$f":"IF(COUNTA($C$7:$C$30)>0,1,\"\")","v":1},{"$f":"SUM(D7:D30)","v":8},{"$f":"SUM(E7:E30)","v":18},18,30,17,22,9,27,23,9,0,{"$f":"SUM(O7:O30)","v":17},{"$f":"SUM(P7:P30)","v":15},{"$f":"IF(H31+2*F31+3*D31>0,H31+2*F31+3*D31,IF(C4>0,C4,\"\"))","v":77},{"$f":"IF(E31>0,D31/E31,\"\")","v":{"v":0.4444444444444444,"d":"44%"}},{"$f":"IF(G31>0,F31/G31,\"\")","v":{"v":0.6,"d":"60%"}},{"$f":"IF(I31>0,H31/I31,\"\")","v":{"v":0.7727272727272727,"d":"77%"}},{"$f":"IF(OR(E31>0,G31 >0),(D31+F31)/(E31+G31),\"\")","v":{"v":0.5416666666666666,"d":"54%"}},{"$f":"IF(E31+G31>0,E31+G31,\"\")","v":48},{"$f":"IF(J31+K31>0,J31+K31,\"\")","v":36},{"v":0.5416666666666666,"d":"54%"},{"$f":"IF(I31>=$Z$2,T31,0)","v":{"v":0.7727272727272727,"d":"77%"}}]
[null,"Opponent Totals",{"$f":"IF(SUM(D32:P32)>0,1,\"\")","v":1},4,17,13,38,12,16,12,16,13,5,1,15,20,{"$f":"IF(H32+2*F32+3*D32>0,H32+2*F32+3*D32,IF(D4>0,D4,\"\"))","v":50},{"$f":"IF(E32>0,D32/E32,\"\")","v":{"v":0.23529411764705882,"d":"24%"}},{"$f":"IF(G32>0,F32/G32,\"\")","v":{"v":0.34210526315789475,"d":"34%"}},{"$f":"IF(I32>0,H32/I32,\"\")","v":{"v":0.75,"d":"75%"}},{"$f":"IF(OR(E32>0,G32 >0),(D32+F32)/(E32+G32),\"\")","v":{"v":0.3090909090909091,"d":"31%"}},{"$f":"IF(E32+G32>0,E32+G32,\"\")","v":55},{"$f":"IF(J32+K32>0,J32+K32,\"\")","v":28},{"v":0.3090909090909091,"d":"31%"},{"v":0.75,"d":"75%"}]
[null,null,"Peak Performances"]
[]
[null,"Top Points","Player",null,"Top REB","Player",null,"Top AST","Player"]
[null,{"$f":"MAX(Q$7:Q$30)","v":29},{"$f":"IFERROR(INDEX($AA$7:$AA$30,SMALL(IF(Q$7:Q$30=$B$36,ROW(Q$7:Q$30)-6),ROW(Q7)-6)),\" \")","v":"P Watt, 24"},null,{"$f":"MAX(W$7:W$30)","v":7},{"$f":"IFERROR(INDEX($AA$7:$AA$30,SMALL(IF(W$7:W$30=$E$36,ROW(W$7:W$30)-6),ROW(W7)-6)),\" \")","v":"D Butts, 14"},null,{"$f":"MAX(L$7:L$30)","v":7},{"$f":"IFERROR(INDEX($AA$7:$AA$30,SMALL(IF(L$7:L$30=$H$36,ROW(L$7:L$30)-6),ROW(L7)-6)),\" \")","v":"D Butts, 14"}]
[null,null,{"$f":"IFERROR(INDEX($AA$7:$AA$30,SMALL(IF(Q$7:Q$30=$B$36,ROW(Q$7:Q$30)-6),ROW(Q8)-6)),\" \")","v":" "},null,null,{"$f":"IFERROR(INDEX($AA$7:$AA$30,SMALL(IF(W$7:W$30=$E$36,ROW(W$7:W$30)-6),ROW(W8)-6)),\" \")","v":" "},null,null,{"$f":"IFERROR(INDEX($AA$7:$AA$30,SMALL(IF(L$7:L$30=$H$36,ROW(L$7:L$30)-6),ROW(L8)-6)),\" \")","v":" "}]
[null,null,{"$f":"IFERROR(INDEX($AA$7:$AA$30,SMALL(IF(Q$7:Q$30=$B$36,ROW(Q$7:Q$30)-6),ROW(Q9)-6)),\" \")","v":" "},null,null,{"$f":"IFERROR(INDEX($AA$7:$AA$30,SMALL(IF(W$7:W$30=$E$36,ROW(W$7:W$30)-6),ROW(W9)-6)),\" \")","v":" "},null,null,{"$f":"IFERROR(INDEX($AA$7:$AA$30,SMALL(IF(L$7:L$30=$H$36,ROW(L$7:L$30)-6),ROW(L9)-6)),\" \")","v":" "}]
[null,null,{"$f":"IFERROR(INDEX($AA$7:$AA$30,SMALL(IF(Q$7:Q$30=$B$36,ROW(Q$7:Q$30)-6),ROW(Q10)-6)),\" \")","v":" "},null,null,{"$f":"IFERROR(INDEX($AA$7:$AA$30,SMALL(IF(W$7:W$30=$E$36,ROW(W$7:W$30)-6),ROW(W10)-6)),\" \")","v":" "},null,null,{"$f":"IFERROR(INDEX($AA$7:$AA$30,SMALL(IF(L$7:L$30=$H$36,ROW(L$7:L$30)-6),ROW(L10)-6)),\" \")","v":" "}]
[null,null,{"$f":"IFERROR(INDEX($AA$7:$AA$30,SMALL(IF(Q$7:Q$30=$B$36,ROW(Q$7:Q$30)-6),ROW(Q11)-6)),\" \")","v":" "},null,null,{"$f":"IFERROR(INDEX($AA$7:$AA$30,SMALL(IF(W$7:W$30=$E$36,ROW(W$7:W$30)-6),ROW(W11)-6)),\" \")","v":" "},null,null,{"$f":"IFERROR(INDEX($AA$7:$AA$30,SMALL(IF(L$7:L$30=$H$36,ROW(L$7:L$30)-6),ROW(L11)-6)),\" \")","v":" "}]
[null,null,{"$f":"IFERROR(INDEX($B12:B$30,SMALL(IF(Q$7:Q$30=$B$36,ROW(Q$7:Q$30)-6),ROW(Q12)-6)),\" \")","v":" "}]
[null,null,{"$f":"TRIM(C36)","v":"P Watt, 24"},null,null,{"$f":"TRIM(F36)","v":"D Butts, 14"},null,null,{"$f":"TRIM(I36)","v":"D Butts, 14"}]
[null,null,{"$f":"TRIM(C37)","v":""},null,null,{"$f":"TRIM(F37)","v":""},null,null,{"$f":"TRIM(I37)","v":""}]
[null,null,"",null,null,"",null,null,""]
[null,null,"",null,null,"",null,null,""]
[null,null,"",null,null,"",null,null,""]
[]
[]
[null,{"$f":"COUNTIF(C42:C46,\"?*\")","v":1},null,null,{"$f":"COUNTIF(F42:F46,\"?*\")","v":1},null,null,{"$f":"COUNTIF(I42:I46,\"?*\")","v":1}]

{"sheet":"game1 (10)","index":12,"n_rows":49,"n_cols":27,"rows_kept":49,"merged":[[0,6,0,11],[1,2,1,5],[1,7,1,9],[1,10,1,12],[32,2,32,17]]}
[]
[{"$f":"IF(AND(Roster!$D$1=VLOOKUP(C2,Roster!$L$5:$R$72,2,FALSE),Roster!$D$3=VLOOKUP(C2,Roster!$L$5:$R$72,4,FALSE)),\"R\",\"\")","v":{"$error":"#N/A"}},"Opponent","Hot Springs",{"$nulls":4},"Date of Game",null,null,"2018-01-13",{"$nulls":12},{"$f":"IF(OR($H$4=1,$J$4=1),CONCATENATE($C$2,\": \",MONTH($K$2),\"/\",DAY($K$2),\"/\",YEAR($K$2)-2000, \" **\" ),CONCATENATE($C$2,\": \",MONTH($K$2),\"/\",DAY($K$2),\"/\",YEAR($K$2)-2000))","v":"Hot Springs: 1/13/18"},null,8]
[{"$nulls":6},"Win","Conf W","Loss","Conf L",null,"Forfeit W?",null,"Forfeit L?",{"$nulls":9},{"$f":"IF($C$4>$D$4,CONCATENATE(Roster!$B$1,\" \",$C$4,\", \",$C$2,\" \",$D$4, \" \",$E$4),CONCATENATE($C$2,\" \",$D$4,\", \",Roster!$B$1,\" \",$C$4,\" \", $E$4 ))","v":"Hot Springs 65, Upton 55 "}]
[null,"Score",55,65,null,null,{"$f":"IF(OR($L$4=1,$C$4>$D$4),1,\"\")","v":""},null,{"$f":"IF(OR($N$4=1,$C$4<$D$4),1,\"\")","v":1}]
[]
["#","PLAYER","GP","3FGM","3FGA","2FGM","2FGA","FTM","FTA","OFF REB","DEF REB","AST","STL","BLK","TO","FOUL","TL PTS","3FG %","2FG %","FT %","FG%","FGA","REB","Elig FG%","Elig FT%","Name2","FI,LastName,#"]
[{"$f":"IF(Roster!A7<>\"\",Roster!A7,\"\")","v":24},{"$f":"IF(OR(Roster!A7<>\"\",Roster!B7<>\"\"),PROPER(Roster!B7),\"\")","v":"Payton Watt"},1,1,7,5,11,3,5,2,2,2,null,null,2,3,{"$f":"IF(H7+2*F7+3*D7>0,H7+2*F7+3*D7,\"\")","v":16},{"$f":"IF(E7>0,D7/E7,\"\")","v":{"v":0.14285714285714285,"d":"14%"}},{"$f":"IF(G7>0,F7/G7,\"\")","v":{"v":0.45454545454545453,"d":"45%"}},{"$f":"IF(I7>0,H7/I7,\"\")","v":{"v":0.6,"d":"60%"}},{"$f":"IF(OR(E7>0,G7 >0),(D7+F7)/(E7+G7),\"\")","v":{"v":0.3333333333333333,"d":"33%"}},{"$f":"IF(E7+G7>0,E7+G7,\"\")","v":18},{"$f":"IF(J7+K7>0,J7+K7,\"\")","v":4},{"$f":"IF(V7>=$Z$2,U7,0)","v":{"v":0.3333333333333333,"d":"33%"}},{"$f":"IF(I7>=$Z$2,T7,0)","v":{"v":0,"d":"0%"}},{"$f":"B7","v":"Payton Watt"},{"$f":"IFERROR(IF(FIND(\" \",$B7,1),CONCATENATE(LEFT($B7,1),\" \",RIGHT($B7,LEN($B7)-FIND(\" \",$B7,1)),\", \",$A7),CONCATENATE($B7,\", \",$A7)),\"\")","v":"P Watt, 24"}]
[{"$f":"IF(Roster!A8<>\"\",Roster!A8,\"\")","v":20},{"$f":"IF(OR(Roster!A8<>\"\",Roster!B8<>\"\"),PROPER(Roster!B8),\"\")","v":"Dillon Barritt"},1,2,7,3,7,2,2,null,2,2,3,null,2,2,{"$f":"IF(H8+2*F8+3*D8>0,H8+2*F8+3*D8,\"\")","v":14},{"$f":"IF(E8>0,D8/E8,\"\")","v":{"v":0.2857142857142857,"d":"29%"}},{"$f":"IF(G8>0,F8/G8,\"\")","v":{"v":0.42857142857142855,"d":"43%"}},{"$f":"IF(I8>0,H8/I8,\"\")","v":{"v":1,"d":"100%"}},{"$f":"IF(OR(E8>0,G8 >0),(D8+F8)/(E8+G8),\"\")","v":{"v":0.35714285714285715,"d":"36%"}},{"$f":"IF(E8+G8>0,E8+G8,\"\")","v":14},{"$f":"IF(J8+K8>0,J8+K8,\"\")","v":2},{"$f":"IF(V8>=$Z$2,U8,0)","v":{"v":0.35714285714285715,"d":"36%"}},{"$f":"IF(I8>=$Z$2,T8,0)","v":{"v":0,"d":"0%"}},{"$f":"B8","v":"Dillon Barritt"},{"$f":"IFERROR(IF(FIND(\" \",$B8,1),CONCATENATE(LEFT($B8,1),\" \",RIGHT($B8,LEN($B8)-FIND(\" \",$B8,1)),\", \",$A8),CONCATENATE($B8,\", \",$A8)),\"\")","v":"D Barritt, 20"}]
[{"$f":"IF(Roster!A9<>\"\",Roster!A9,\"\")","v":14},{"$f":"IF(OR(Roster!A9<>\"\",Roster!B9<>\"\"),PROPER(Roster!B9),\"\")","v":"Dawson Butts"},1,null,null,2,4,0,4,4,4,2,1,null,5,4,4,"",{"v":0.5,"d":"50%"},{"v":0,"d":"0%"},{"v":0.5,"d":"50%"},4,8,{"v":0,"d":"0%"},{"v":0,"d":"0%"},"Dawson Butts","D Butts, 14"]
[{"$f":"IF(Roster!A10<>\"\",Roster!A10,\"\")","v":12},{"$f":"IF(OR(Roster!A10<>\"\",Roster!B10<>\"\"),PROPER(Roster!B10),\"\")","v":"Jayden Caylor"},1,0,1,0,2,3,4,1,5,3,2,null,2,2,3,{"v":0,"d":"0%"},{"v":0,"d":"0%"},{"v":0.75,"d":"75%"},{"v":0,"d":"0%"},3,6,{"v":0,"d":"0%"},{"v":0,"d":"0%"},"Jayden Caylor","J Caylor, 12"]
[{"$f":"IF(Roster!A11<>\"\",Roster!A11,\"\")","v":23},{"$f":"IF(OR(Roster!A11<>\"\",Roster!B11<>\"\"),PROPER(Roster!B11),\"\")","v":"Clayton Louderback"},{"$nulls":14},"","","","","","","","",{"v":0,"d":"0%"},"Clayton Louderback","C Louderback, 23"]
[{"$f":"IF(Roster!A12<>\"\",Roster!A12,\"\")","v":10},{"$f":"IF(OR(Roster!A12<>\"\",Roster!B12<>\"\"),PROPER(Roster!B12),\"\")","v":"Jess Claycomb"},1,0,2,5,6,3,8,null,2,2,null,1,2,2,13,{"v":0,"d":"0%"},{"v":0.8333333333333334,"d":"83%"},{"v":0.375,"d":"38%"},{"v":0.625,"d":"63%"},8,2,{"v":0.625,"d":"63%"},{"v":0.375,"d":"38%"},"Jess Claycomb","J Claycomb, 10"]
[{"$f":"IF(Roster!A13<>\"\",Roster!A13,\"\")","v":4},{"$f":"IF(OR(Roster!A13<>\"\",Roster!B13<>\"\"),PROPER(Roster!B13),\"\")","v":"Maxx Cowger"},{"$nulls":14},"","","","","","","","",{"v":0,"d":"0%"},"Maxx Cowger","M Cowger, 4"]
[{"$f":"IF(Roster!A14<>\"\",Roster!A14,\"\")","v":22},{"$f":"IF(OR(Roster!A14<>\"\",Roster!B14<>\"\"),PROPER(Roster!B14),\"\")","v":"Brayden Bruce"},1,null,null,0,1,5,9,1,3,3,null,null,1,4,5,"",{"v":0,"d":"0%"},{"v":0.5555555555555556,"d":"56%"},{"v":0,"d":"0%"},1,4,{"v":0,"d":"0%"},{"v":0.5555555555555556,"d":"56%"},"Brayden Bruce","B Bruce, 22"]
[{"$f":"IF(Roster!A15<>\"\",Roster!A15,\"\")","v":30},{"$f":"IF(OR(Roster!A15<>\"\",Roster!B15<>\"\"),PROPER(Roster!B15),\"\")","v":"Jo Bishop"},{"$nulls":14},"","","","","","","","",{"v":0,"d":"0%"},"Jo Bishop","J Bishop, 30"]
[{"$f":"IF(Roster!A16<>\"\",Roster!A16,\"\")","v":33},{"$f":"IF(OR(Roster!A16<>\"\",Roster!B16<>\"\"),PROPER(Roster!B16),\"\")","v":"Nolan Turner"},{"$nulls":14},"","","","","","","","",{"v":0,"d":"0%"},"Nolan Turner","N Turner, 33"]
[{"$f":"IF(Roster!A17<>\"\",Roster!A17,\"\")","v":32},{"$f":"IF(OR(Roster!A17<>\"\",Roster!B17<>\"\"),PROPER(Roster!B17),\"\")","v":"Robert Crawford"},1,{"$nulls":13},"","","","","","","","",{"v":0,"d":"0%"},"Robert Crawford","R Crawford, 32"]
[{"$f":"IF(Roster!A18<>\"\",Roster!A18,\"\")","v":40},{"$f":"IF(OR(Roster!A18<>\"\",Roster!B18<>\"\"),PROPER(Roster!B18),\"\")","v":"Jace Bruce"},{"$nulls":14},"","","","","","","","",{"v":0,"d":"0%"},"Jace Bruce","J Bruce, 40"]
[{"$f":"IF(Roster!A19<>\"\",Roster!A19,\"\")","v":2},{"$f":"IF(OR(Roster!A19<>\"\",Roster!B19<>\"\"),PROPER(Roster!B19),\"\")","v":"Ethan Mills"},{"$nulls":14},"","","","","","","","",{"v":0,"d":"0%"},"Ethan Mills","E Mills, 2"]
[{"$f":"IF(Roster!A20<>\"\",Roster!A20,\"\")","v":2},{"$f":"IF(OR(Roster!A20<>\"\",Roster!B20<>\"\"),PROPER(Roster!B20),\"\")","v":"Bridger Alishouse"},{"$nulls":14},"","","","","","","","",{"v":0,"d":"0%"},"Bridger Alishouse","B Alishouse, 2"]
[{"$f":"IF(Roster!A21<>\"\",Roster!A21,\"\")","v":4},{"$f":"IF(OR(Roster!A21<>\"\",Roster!B21<>\"\"),PROPER(Roster!B21),\"\")","v":"Landon Keever"},{"$nulls":14},"","","","","","","","",{"v":0,"d":"0%"},"Landon Keever","L Keever, 4"]
[{"$f":"IF(Roster!A22<>\"\",Roster!A22,\"\")","v":4},{"$f":"IF(OR(Roster!A22<>\"\",Roster!B22<>\"\"),PROPER(Roster!B22),\"\")","v":"Dj Till"},{"$nulls":14},"","","","","","","","",{"v":0,"d":"0%"},"Dj Till","D Till, 4"]
[{"$f":"IF(Roster!A23<>\"\",Roster!A23,\"\")","v":""},{"$f":"IF(OR(Roster!A23<>\"\",Roster!B23<>\"\"),PROPER(Roster!B23),\"\")","v":""},{"$nulls":14},"","","","","","","","",{"v":0,"d":"0%"},"",""]
[{"$f":"IF(Roster!A24<>\"\",Roster!A24,\"\")","v":""},{"$f":"IF(OR(Roster!A24<>\"\",Roster!B24<>\"\"),PROPER(Roster!B24),\"\")","v":""},{"$nulls":14},"","","","","","","","",{"v":0,"d":"0%"},"",""]
[{"$f":"IF(Roster!A25<>\"\",Roster!A25,\"\")","v":""},{"$f":"IF(OR(Roster!A25<>\"\",Roster!B25<>\"\"),PROPER(Roster!B25),\"\")","v":""},{"$nulls":14},"","","","","","","","",{"v":0,"d":"0%"},"",""]
[{"$f":"IF(Roster!A26<>\"\",Roster!A26,\"\")","v":""},{"$f":"IF(OR(Roster!A26<>\"\",Roster!B26<>\"\"),PROPER(Roster!B26),\"\")","v":""},{"$nulls":14},"","","","","","","","",{"v":0,"d":"0%"},"",""]
[{"$f":"IF(Roster!A27<>\"\",Roster!A27,\"\")","v":""},{"$f":"IF(OR(Roster!A27<>\"\",Roster!B27<>\"\"),PROPER(Roster!B27),\"\")","v":""},{"$nulls":14},"","","","","","","","",{"v":0,"d":"0%"},"",""]
[{"$f":"IF(Roster!A28<>\"\",Roster!A28,\"\")","v":""},{"$f":"IF(OR(Roster!A28<>\"\",Roster!B28<>\"\"),PROPER(Roster!B28),\"\")","v":""},{"$nulls":14},"","","","","","","","",{"v":0,"d":"0%"},"",""]
[{"$f":"IF(Roster!A29<>\"\",Roster!A29,\"\")","v":""},{"$f":"IF(OR(Roster!A29<>\"\",Roster!B29<>\"\"),PROPER(Roster!B29),\"\")","v":""},{"$nulls":14},"","","","","","","","",{"v":0,"d":"0%"},"",""]
[{"$f":"IF(Roster!A30<>\"\",Roster!A30,\"\")","v":""},{"$f":"IF(OR(Roster!A30<>\"\",Roster!B30<>\"\"),PROPER(Roster!B30),\"\")","v":"Team"},1,{"$nulls":6},1,4,{"$nulls":5},"","","","","","",5,"",{"v":0,"d":"0%"},"Team",{"$f":"IFERROR(IF(FIND(\" \",$B30,1),CONCATENATE(LEFT($B30,1),\" \",RIGHT($B30,LEN($B30)-FIND(\" \",$B30,1)),\", \",$A30),CONCATENATE($B30,\", \",$A30)),\"\")","v":""}]
[null,"Team Totals",{"$f":"IF(COUNTA($C$7:$C$30)>0,1,\"\")","v":1},{"$f":"SUM(D7:D30)","v":3},{"$f":"SUM(E7:E30)","v":17},15,31,16,32,9,22,14,6,1,{"$f":"SUM(O7:O30)","v":14},{"$f":"SUM(P7:P30)","v":17},{"$f":"IF(H31+2*F31+3*D31>0,H31+2*F31+3*D31,IF(C4>0,C4,\"\"))","v":55},{"$f":"IF(E31>0,D31/E31,\"\")","v":{"v":0.17647058823529413,"d":"18%"}},{"$f":"IF(G31>0,F31/G31,\"\")","v":{"v":0.4838709677419355,"d":"48%"}},{"$f":"IF(I31>0,H31/I31,\"\")","v":{"v":0.5,"d":"50%"}},{"$f":"IF(OR(E31>0,G31 >0),(D31+F31)/(E31+G31),\"\")","v":{"v":0.375,"d":"38%"}},{"$f":"IF(E31+G31>0,E31+G31,\"\")","v":48},{"$f":"IF(J31+K31>0,J31+K31,\"\")","v":31},{"v":0.375,"d":"38%"},{"$f":"IF(I31>=$Z$2,T31,0)","v":{"v":0.5,"d":"50%"}}]
[null,"Opponent Totals",{"$f":"IF(SUM(D32:P32)>0,1,\"\")","v":1},3,14,21,36,14,24,8,27,13,8,null,19,25,{"$f":"IF(H32+2*F32+3*D32>0,H32+2*F32+3*D32,IF(D4>0,D4,\"\"))","v":65},{"$f":"IF(E32>0,D32/E32,\"\")","v":{"v":0.21428571428571427,"d":"21%"}},{"$f":"IF(G32>0,F32/G32,\"\")","v":{"v":0.5833333333333334,"d":"58%"}},{"$f":"IF(I32>0,H32/I32,\"\")","v":{"v":0.5833333333333334,"d":"58%"}},{"$f":"IF(OR(E32>0,G32 >0),(D32+F32)/(E32+G32),\"\")","v":{"v":0.48,"d":"48%"}},{"$f":"IF(E32+G32>0,E32+G32,\"\")","v":50},{"$f":"IF(J32+K32>0,J32+K32,\"\")","v":35},{"v":0.48,"d":"48%"},{"v":0.5833333333333334,"d":"58%"}]
[null,null,"Peak Performances"]
[]
[null,"Top Points","Player",null,"Top REB","Player",null,"Top AST","Player"]
[null,{"$f":"MAX(Q$7:Q$30)","v":16},{"$f":"IFERROR(INDEX($AA$7:$AA$30,SMALL(IF(Q$7:Q$30=$B$36,ROW(Q$7:Q$30)-6),ROW(Q7)-6)),\" \")","v":"P Watt, 24"},null,{"$f":"MAX(W$7:W$30)","v":8},{"$f":"IFERROR(INDEX($AA$7:$AA$30,SMALL(IF(W$7:W$30=$E$36,ROW(W$7:W$30)-6),ROW(W7)-6)),\" \")","v":"D Butts, 14"},null,{"$f":"MAX(L$7:L$30)","v":3},{"$f":"IFERROR(INDEX($AA$7:$AA$30,SMALL(IF(L$7:L$30=$H$36,ROW(L$7:L$30)-6),ROW(L7)-6)),\" \")","v":"J Caylor, 12"}]
[null,null,{"$f":"IFERROR(INDEX($AA$7:$AA$30,SMALL(IF(Q$7:Q$30=$B$36,ROW(Q$7:Q$30)-6),ROW(Q8)-6)),\" \")","v":" "},null,null,{"$f":"IFERROR(INDEX($AA$7:$AA$30,SMALL(IF(W$7:W$30=$E$36,ROW(W$7:W$30)-6),ROW(W8)-6)),\" \")","v":" "},null,null,{"$f":"IFERROR(INDEX($AA$7:$AA$30,SMALL(IF(L$7:L$30=$H$36,ROW(L$7:L$30)-6),ROW(L8)-6)),\" \")","v":"B Bruce, 22"}]
[null,null,{"$f":"IFERROR(INDEX($AA$7:$AA$30,SMALL(IF(Q$7:Q$30=$B$36,ROW(Q$7:Q$30)-6),ROW(Q9)-6)),\" \")","v":" "},null,null,{"$f":"IFERROR(INDEX($AA$7:$AA$30,SMALL(IF(W$7:W$30=$E$36,ROW(W$7:W$30)-6),ROW(W9)-6)),\" \")","v":" "},null,null,{"$f":"IFERROR(INDEX($AA$7:$AA$30,SMALL(IF(L$7:L$30=$H$36,ROW(L$7:L$30)-6),ROW(L9)-6)),\" \")","v":" "}]
[null,null,{"$f":"IFERROR(INDEX($AA$7:$AA$30,SMALL(IF(Q$7:Q$30=$B$36,ROW(Q$7:Q$30)-6),ROW(Q10)-6)),\" \")","v":" "},null,null,{"$f":"IFERROR(INDEX($AA$7:$AA$30,SMALL(IF(W$7:W$30=$E$36,ROW(W$7:W$30)-6),ROW(W10)-6)),\" \")","v":" "},null,null,{"$f":"IFERROR(INDEX($AA$7:$AA$30,SMALL(IF(L$7:L$30=$H$36,ROW(L$7:L$30)-6),ROW(L10)-6)),\" \")","v":" "}]
[null,null,{"$f":"IFERROR(INDEX($AA$7:$AA$30,SMALL(IF(Q$7:Q$30=$B$36,ROW(Q$7:Q$30)-6),ROW(Q11)-6)),\" \")","v":" "},null,null,{"$f":"IFERROR(INDEX($AA$7:$AA$30,SMALL(IF(W$7:W$30=$E$36,ROW(W$7:W$30)-6),ROW(W11)-6)),\" \")","v":" "},null,null,{"$f":"IFERROR(INDEX($AA$7:$AA$30,SMALL(IF(L$7:L$30=$H$36,ROW(L$7:L$30)-6),ROW(L11)-6)),\" \")","v":" "}]
[null,null,{"$f":"IFERROR(INDEX($B12:B$30,SMALL(IF(Q$7:Q$30=$B$36,ROW(Q$7:Q$30)-6),ROW(Q12)-6)),\" \")","v":" "}]
[null,null,{"$f":"TRIM(C36)","v":"P Watt, 24"},null,null,{"$f":"TRIM(F36)","v":"D Butts, 14"},null,null,{"$f":"TRIM(I36)","v":"J Caylor, 12"}]
[null,null,{"$f":"TRIM(C37)","v":""},null,null,{"$f":"TRIM(F37)","v":""},null,null,{"$f":"TRIM(I37)","v":"B Bruce, 22"}]
[null,null,"",null,null,"",null,null,""]
[null,null,"",null,null,"",null,null,""]
[null,null,"",null,null,"",null,null,""]
[]
[]
[null,{"$f":"COUNTIF(C42:C46,\"?*\")","v":1},null,null,{"$f":"COUNTIF(F42:F46,\"?*\")","v":1},null,null,{"$f":"COUNTIF(I42:I46,\"?*\")","v":2}]

{"sheet":"game1 (11)","index":13,"n_rows":49,"n_cols":27,"rows_kept":49,"merged":[[0,6,0,11],[1,2,1,5],[1,7,1,9],[1,10,1,12],[32,2,32,17]]}
[]
[{"$f":"IF(AND(Roster!$D$1=VLOOKUP(C2,Roster!$L$5:$R$72,2,FALSE),Roster!$D$3=VLOOKUP(C2,Roster!$L$5:$R$72,4,FALSE)),\"R\",\"\")","v":"R"},"Opponent","Moorcroft",{"$nulls":4},"Date of Game",null,null,"2018-01-18",{"$nulls":12},{"$f":"IF(OR($H$4=1,$J$4=1),CONCATENATE($C$2,\": \",MONTH($K$2),\"/\",DAY($K$2),\"/\",YEAR($K$2)-2000, \" **\" ),CONCATENATE($C$2,\": \",MONTH($K$2),\"/\",DAY($K$2),\"/\",YEAR($K$2)-2000))","v":"Moorcroft: 1/18/18 **"},null,8]
[{"$nulls":6},"Win","Conf W","Loss","Conf L",null,"Forfeit W?",null,"Forfeit L?",{"$nulls":9},{"$f":"IF($C$4>$D$4,CONCATENATE(Roster!$B$1,\" \",$C$4,\", \",$C$2,\" \",$D$4, \" \",$E$4),CONCATENATE($C$2,\" \",$D$4,\", \",Roster!$B$1,\" \",$C$4,\" \", $E$4 ))","v":"Upton 74, Moorcroft 38 "}]
[null,"Score",74,38,null,null,{"$f":"IF(OR($L$4=1,$C$4>$D$4),1,\"\")","v":1},1,{"$f":"IF(OR($N$4=1,$C$4<$D$4),1,\"\")","v":""}]
[]
["#","PLAYER","GP","3FGM","3FGA","2FGM","2FGA","FTM","FTA","OFF REB","DEF REB","AST","STL","BLK","TO","FOUL","TL PTS","3FG %","2FG %","FT %","FG%","FGA","REB","Elig FG%","Elig FT%","Name2","FI,LastName,#"]
[{"$f":"IF(Roster!A7<>\"\",Roster!A7,\"\")","v":24},{"$f":"IF(OR(Roster!A7<>\"\",Roster!B7<>\"\"),PROPER(Roster!B7),\"\")","v":"Payton Watt"},1,1,5,6,11,1,5,1,2,2,null,null,2,null,{"$f":"IF(H7+2*F7+3*D7>0,H7+2*F7+3*D7,\"\")","v":16},{"$f":"IF(E7>0,D7/E7,\"\")","v":{"v":0.2,"d":"20%"}},{"$f":"IF(G7>0,F7/G7,\"\")","v":{"v":0.5454545454545454,"d":"55%"}},{"$f":"IF(I7>0,H7/I7,\"\")","v":{"v":0.2,"d":"20%"}},{"$f":"IF(OR(E7>0,G7 >0),(D7+F7)/(E7+G7),\"\")","v":{"v":0.4375,"d":"44%"}},{"$f":"IF(E7+G7>0,E7+G7,\"\")","v":16},{"$f":"IF(J7+K7>0,J7+K7,\"\")","v":3},{"$f":"IF(V7>=$Z$2,U7,0)","v":{"v":0.4375,"d":"44%"}},{"$f":"IF(I7>=$Z$2,T7,0)","v":{"v":0,"d":"0%"}},{"$f":"B7","v":"Payton Watt"},{"$f":"IFERROR(IF(FIND(\" \",$B7,1),CONCATENATE(LEFT($B7,1),\" \",RIGHT($B7,LEN($B7)-FIND(\" \",$B7,1)),\", \",$A7),CONCATENATE($B7,\", \",$A7)),\"\")","v":"P Watt, 24"}]
[{"$f":"IF(Roster!A8<>\"\",Roster!A8,\"\")","v":20},{"$f":"IF(OR(Roster!A8<>\"\",Roster!B8<>\"\"),PROPER(Roster!B8),\"\")","v":"Dillon Barritt"},1,3,7,1,3,null,null,2,4,1,2,{"$nulls":3},{"$f":"IF(H8+2*F8+3*D8>0,H8+2*F8+3*D8,\"\")","v":11},{"$f":"IF(E8>0,D8/E8,\"\")","v":{"v":0.42857142857142855,"d":"43%"}},{"$f":"IF(G8>0,F8/G8,\"\")","v":{"v":0.3333333333333333,"d":"33%"}},{"$f":"IF(I8>0,H8/I8,\"\")","v":""},{"$f":"IF(OR(E8>0,G8 >0),(D8+F8)/(E8+G8),\"\")","v":{"v":0.4,"d":"40%"}},{"$f":"IF(E8+G8>0,E8+G8,\"\")","v":10},{"$f":"IF(J8+K8>0,J8+K8,\"\")","v":6},{"$f":"IF(V8>=$Z$2,U8,0)","v":{"v":0.4,"d":"40%"}},{"$f":"IF(I8>=$Z$2,T8,0)","v":{"v":0,"d":"0%"}},{"$f":"B8","v":"Dillon Barritt"},{"$f":"IFERROR(IF(FIND(\" \",$B8,1),CONCATENATE(LEFT($B8,1),\" \",RIGHT($B8,LEN($B8)-FIND(\" \",$B8,1)),\", \",$A8),CONCATENATE($B8,\", \",$A8)),\"\")","v":"D Barritt, 20"}]
[{"$f":"IF(Roster!A9<>\"\",Roster!A9,\"\")","v":14},{"$f":"IF(OR(Roster!A9<>\"\",Roster!B9<>\"\"),PROPER(Roster!B9),\"\")","v":"Dawson Butts"},1,null,null,2,3,{"$nulls":3},5,5,3,{"$nulls":3},4,"",{"v":0.6666666666666666,"d":"67%"},"",{"v":0.6666666666666666,"d":"67%"},3,5,{"v":0,"d":"0%"},{"v":0,"d":"0%"},"Dawson Butts","D Butts, 14"]
[{"$f":"IF(Roster!A10<>\"\",Roster!A10,\"\")","v":12},{"$f":"IF(OR(Roster!A10<>\"\",Roster!B10<>\"\"),PROPER(Roster!B10),\"\")","v":"Jayden Caylor"},1,1,1,7,10,1,1,3,7,3,3,null,4,2,18,{"v":1,"d":"100%"},{"v":0.7,"d":"70%"},{"v":1,"d":"100%"},{"v":0.7272727272727273,"d":"73%"},11,10,{"v":0.7272727272727273,"d":"73%"},{"v":0,"d":"0%"},"Jayden Caylor","J Caylor, 12"]
[{"$f":"IF(Roster!A11<>\"\",Roster!A11,\"\")","v":23},{"$f":"IF(OR(Roster!A11<>\"\",Roster!B11<>\"\"),PROPER(Roster!B11),\"\")","v":"Clayton Louderback"},{"$nulls":14},"","","","","","","","",{"v":0,"d":"0%"},"Clayton Louderback","C Louderback, 23"]
[{"$f":"IF(Roster!A12<>\"\",Roster!A12,\"\")","v":10},{"$f":"IF(OR(Roster!A12<>\"\",Roster!B12<>\"\"),PROPER(Roster!B12),\"\")","v":"Jess Claycomb"},1,1,2,1,5,4,4,3,2,7,2,null,3,2,9,{"v":0.5,"d":"50%"},{"v":0.2,"d":"20%"},{"v":1,"d":"100%"},{"v":0.2857142857142857,"d":"29%"},7,5,{"v":0,"d":"0%"},{"v":0,"d":"0%"},"Jess Claycomb","J Claycomb, 10"]
[{"$f":"IF(Roster!A13<>\"\",Roster!A13,\"\")","v":4},{"$f":"IF(OR(Roster!A13<>\"\",Roster!B13<>\"\"),PROPER(Roster!B13),\"\")","v":"Maxx Cowger"},1,{"$nulls":13},"","","","","","","","",{"v":0,"d":"0%"},"Maxx Cowger","M Cowger, 4"]
[{"$f":"IF(Roster!A14<>\"\",Roster!A14,\"\")","v":22},{"$f":"IF(OR(Roster!A14<>\"\",Roster!B14<>\"\"),PROPER(Roster!B14),\"\")","v":"Brayden Bruce"},1,1,1,1,2,null,null,1,1,3,1,null,2,1,5,{"v":1,"d":"100%"},{"v":0.5,"d":"50%"},"",{"v":0.6666666666666666,"d":"67%"},3,2,{"v":0,"d":"0%"},{"v":0,"d":"0%"},"Brayden Bruce","B Bruce, 22"]
[{"$f":"IF(Roster!A15<>\"\",Roster!A15,\"\")","v":30},{"$f":"IF(OR(Roster!A15<>\"\",Roster!B15<>\"\"),PROPER(Roster!B15),\"\")","v":"Jo Bishop"},1,null,null,1,1,{"$nulls":5},1,null,null,2,2,"",{"v":1,"d":"100%"},"",{"v":1,"d":"100%"},1,"",{"v":0,"d":"0%"},{"v":0,"d":"0%"},"Jo Bishop","J Bishop, 30"]
[{"$f":"IF(Roster!A16<>\"\",Roster!A16,\"\")","v":33},{"$f":"IF(OR(Roster!A16<>\"\",Roster!B16<>\"\"),PROPER(Roster!B16),\"\")","v":"Nolan Turner"},1,{"$nulls":6},1,2,{"$nulls":4},3,"","","","","","",3,"",{"v":0,"d":"0%"},"Nolan Turner","N Turner, 33"]
[{"$f":"IF(Roster!A17<>\"\",Roster!A17,\"\")","v":32},{"$f":"IF(OR(Roster!A17<>\"\",Roster!B17<>\"\"),PROPER(Roster!B17),\"\")","v":"Robert Crawford"},1,null,null,2,4,0,2,null,2,1,null,null,2,null,4,"",{"v":0.5,"d":"50%"},{"v":0,"d":"0%"},{"v":0.5,"d":"50%"},4,2,{"v":0,"d":"0%"},{"v":0,"d":"0%"},"Robert Crawford","R Crawford, 32"]
[{"$f":"IF(Roster!A18<>\"\",Roster!A18,\"\")","v":40},{"$f":"IF(OR(Roster!A18<>\"\",Roster!B18<>\"\"),PROPER(Roster!B18),\"\")","v":"Jace Bruce"},1,0,1,1,1,{"$nulls":4},1,1,null,1,1,2,{"v":0,"d":"0%"},{"v":1,"d":"100%"},"",{"v":0.5,"d":"50%"},2,"",{"v":0,"d":"0%"},{"v":0,"d":"0%"},"Jace Bruce","J Bruce, 40"]
[{"$f":"IF(Roster!A19<>\"\",Roster!A19,\"\")","v":2},{"$f":"IF(OR(Roster!A19<>\"\",Roster!B19<>\"\"),PROPER(Roster!B19),\"\")","v":"Ethan Mills"},1,{"$nulls":13},"","","","","","","","",{"v":0,"d":"0%"},"Ethan Mills","E Mills, 2"]
[{"$f":"IF(Roster!A20<>\"\",Roster!A20,\"\")","v":2},{"$f":"IF(OR(Roster!A20<>\"\",Roster!B20<>\"\"),PROPER(Roster!B20),\"\")","v":"Bridger Alishouse"},1,null,null,0,1,{"$nulls":3},1,1,{"$nulls":4},"","",{"v":0,"d":"0%"},"",{"v":0,"d":"0%"},1,1,{"v":0,"d":"0%"},{"v":0,"d":"0%"},"Bridger Alishouse","B Alishouse, 2"]
[{"$f":"IF(Roster!A21<>\"\",Roster!A21,\"\")","v":4},{"$f":"IF(OR(Roster!A21<>\"\",Roster!B21<>\"\"),PROPER(Roster!B21),\"\")","v":"Landon Keever"},1,1,2,0,1,{"$nulls":9},3,{"v":0.5,"d":"50%"},{"v":0,"d":"0%"},"",{"v":0.3333333333333333,"d":"33%"},3,"",{"v":0,"d":"0%"},{"v":0,"d":"0%"},"Landon Keever","L Keever, 4"]
[{"$f":"IF(Roster!A22<>\"\",Roster!A22,\"\")","v":4},{"$f":"IF(OR(Roster!A22<>\"\",Roster!B22<>\"\"),PROPER(Roster!B22),\"\")","v":"Dj Till"},{"$nulls":14},"","","","","","","","",{"v":0,"d":"0%"},"Dj Till","D Till, 4"]
[{"$f":"IF(Roster!A23<>\"\",Roster!A23,\"\")","v":""},{"$f":"IF(OR(Roster!A23<>\"\",Roster!B23<>\"\"),PROPER(Roster!B23),\"\")","v":""},{"$nulls":14},"","","","","","","","",{"v":0,"d":"0%"},"",""]
[{"$f":"IF(Roster!A24<>\"\",Roster!A24,\"\")","v":""},{"$f":"IF(OR(Roster!A24<>\"\",Roster!B24<>\"\"),PROPER(Roster!B24),\"\")","v":""},{"$nulls":14},"","","","","","","","",{"v":0,"d":"0%"},"",""]
[{"$f":"IF(Roster!A25<>\"\",Roster!A25,\"\")","v":""},{"$f":"IF(OR(Roster!A25<>\"\",Roster!B25<>\"\"),PROPER(Roster!B25),\"\")","v":""},{"$nulls":14},"","","","","","","","",{"v":0,"d":"0%"},"",""]
[{"$f":"IF(Roster!A26<>\"\",Roster!A26,\"\")","v":""},{"$f":"IF(OR(Roster!A26<>\"\",Roster!B26<>\"\"),PROPER(Roster!B26),\"\")","v":""},{"$nulls":14},"","","","","","","","",{"v":0,"d":"0%"},"",""]
[{"$f":"IF(Roster!A27<>\"\",Roster!A27,\"\")","v":""},{"$f":"IF(OR(Roster!A27<>\"\",Roster!B27<>\"\"),PROPER(Roster!B27),\"\")","v":""},{"$nulls":14},"","","","","","","","",{"v":0,"d":"0%"},"",""]
[{"$f":"IF(Roster!A28<>\"\",Roster!A28,\"\")","v":""},{"$f":"IF(OR(Roster!A28<>\"\",Roster!B28<>\"\"),PROPER(Roster!B28),\"\")","v":""},{"$nulls":14},"","","","","","","","",{"v":0,"d":"0%"},"",""]
[{"$f":"IF(Roster!A29<>\"\",Roster!A29,\"\")","v":""},{"$f":"IF(OR(Roster!A29<>\"\",Roster!B29<>\"\"),PROPER(Roster!B29),\"\")","v":""},{"$nulls":14},"","","","","","","","",{"v":0,"d":"0%"},"",""]
[{"$f":"IF(Roster!A30<>\"\",Roster!A30,\"\")","v":""},{"$f":"IF(OR(Roster!A30<>\"\",Roster!B30<>\"\"),PROPER(Roster!B30),\"\")","v":"Team"},1,{"$nulls":6},3,3,{"$nulls":5},"","","","","","",6,"",{"v":0,"d":"0%"},"Team",{"$f":"IFERROR(IF(FIND(\" \",$B30,1),CONCATENATE(LEFT($B30,1),\" \",RIGHT($B30,LEN($B30)-FIND(\" \",$B30,1)),\", \",$A30),CONCATENATE($B30,\", \",$A30)),\"\")","v":""}]
[null,"Team Totals",{"$f":"IF(COUNTA($C$7:$C$30)>0,1,\"\")","v":1},{"$f":"SUM(D7:D30)","v":8},{"$f":"SUM(E7:E30)","v":19},22,42,6,12,14,29,24,13,0,{"$f":"SUM(O7:O30)","v":14},{"$f":"SUM(P7:P30)","v":11},{"$f":"IF(H31+2*F31+3*D31>0,H31+2*F31+3*D31,IF(C4>0,C4,\"\"))","v":74},{"$f":"IF(E31>0,D31/E31,\"\")","v":{"v":0.42105263157894735,"d":"42%"}},{"$f":"IF(G31>0,F31/G31,\"\")","v":{"v":0.5238095238095238,"d":"52%"}},{"$f":"IF(I31>0,H31/I31,\"\")","v":{"v":0.5,"d":"50%"}},{"$f":"IF(OR(E31>0,G31 >0),(D31+F31)/(E31+G31),\"\")","v":{"v":0.4918032786885246,"d":"49%"}},{"$f":"IF(E31+G31>0,E31+G31,\"\")","v":61},{"$f":"IF(J31+K31>0,J31+K31,\"\")","v":43},{"v":0.4918032786885246,"d":"49%"},{"$f":"IF(I31>=$Z$2,T31,0)","v":{"v":0.5,"d":"50%"}}]
[null,"Opponent Totals",{"$f":"IF(SUM(D32:P32)>0,1,\"\")","v":1},5,23,10,28,3,6,10,19,9,4,null,23,12,{"$f":"IF(H32+2*F32+3*D32>0,H32+2*F32+3*D32,IF(D4>0,D4,\"\"))","v":38},{"$f":"IF(E32>0,D32/E32,\"\")","v":{"v":0.21739130434782608,"d":"22%"}},{"$f":"IF(G32>0,F32/G32,\"\")","v":{"v":0.35714285714285715,"d":"36%"}},{"$f":"IF(I32>0,H32/I32,\"\")","v":{"v":0.5,"d":"50%"}},{"$f":"IF(OR(E32>0,G32 >0),(D32+F32)/(E32+G32),\"\")","v":{"v":0.29411764705882354,"d":"29%"}},{"$f":"IF(E32+G32>0,E32+G32,\"\")","v":51},{"$f":"IF(J32+K32>0,J32+K32,\"\")","v":29},{"v":0.29411764705882354,"d":"29%"},{"v":0,"d":"0%"}]
[null,null,"Peak Performances"]
[]
[null,"Top Points","Player",null,"Top REB","Player",null,"Top AST","Player"]
[null,{"$f":"MAX(Q$7:Q$30)","v":18},{"$f":"IFERROR(INDEX($AA$7:$AA$30,SMALL(IF(Q$7:Q$30=$B$36,ROW(Q$7:Q$30)-6),ROW(Q7)-6)),\" \")","v":"J Caylor, 12"},null,{"$f":"MAX(W$7:W$30)","v":10},{"$f":"IFERROR(INDEX($AA$7:$AA$30,SMALL(IF(W$7:W$30=$E$36,ROW(W$7:W$30)-6),ROW(W7)-6)),\" \")","v":"J Caylor, 12"},null,{"$f":"MAX(L$7:L$30)","v":7},{"$f":"IFERROR(INDEX($AA$7:$AA$30,SMALL(IF(L$7:L$30=$H$36,ROW(L$7:L$30)-6),ROW(L7)-6)),\" \")","v":"J Claycomb, 10"}]
[null,null,{"$f":"IFERROR(INDEX($AA$7:$AA$30,SMALL(IF(Q$7:Q$30=$B$36,ROW(Q$7:Q$30)-6),ROW(Q8)-6)),\" \")","v":" "},null,null,{"$f":"IFERROR(INDEX($AA$7:$AA$30,SMALL(IF(W$7:W$30=$E$36,ROW(W$7:W$30)-6),ROW(W8)-6)),\" \")","v":" "},null,null,{"$f":"IFERROR(INDEX($AA$7:$AA$30,SMALL(IF(L$7:L$30=$H$36,ROW(L$7:L$30)-6),ROW(L8)-6)),\" \")","v":" "}]
[null,null,{"$f":"IFERROR(INDEX($AA$7:$AA$30,SMALL(IF(Q$7:Q$30=$B$36,ROW(Q$7:Q$30)-6),ROW(Q9)-6)),\" \")","v":" "},null,null,{"$f":"IFERROR(INDEX($AA$7:$AA$30,SMALL(IF(W$7:W$30=$E$36,ROW(W$7:W$30)-6),ROW(W9)-6)),\" \")","v":" "},null,null,{"$f":"IFERROR(INDEX($AA$7:$AA$30,SMALL(IF(L$7:L$30=$H$36,ROW(L$7:L$30)-6),ROW(L9)-6)),\" \")","v":" "}]
[null,null,{"$f":"IFERROR(INDEX($AA$7:$AA$30,SMALL(IF(Q$7:Q$30=$B$36,ROW(Q$7:Q$30)-6),ROW(Q10)-6)),\" \")","v":" "},null,null,{"$f":"IFERROR(INDEX($AA$7:$AA$30,SMALL(IF(W$7:W$30=$E$36,ROW(W$7:W$30)-6),ROW(W10)-6)),\" \")","v":" "},null,null,{"$f":"IFERROR(INDEX($AA$7:$AA$30,SMALL(IF(L$7:L$30=$H$36,ROW(L$7:L$30)-6),ROW(L10)-6)),\" \")","v":" "}]
[null,null,{"$f":"IFERROR(INDEX($AA$7:$AA$30,SMALL(IF(Q$7:Q$30=$B$36,ROW(Q$7:Q$30)-6),ROW(Q11)-6)),\" \")","v":" "},null,null,{"$f":"IFERROR(INDEX($AA$7:$AA$30,SMALL(IF(W$7:W$30=$E$36,ROW(W$7:W$30)-6),ROW(W11)-6)),\" \")","v":" "},null,null,{"$f":"IFERROR(INDEX($AA$7:$AA$30,SMALL(IF(L$7:L$30=$H$36,ROW(L$7:L$30)-6),ROW(L11)-6)),\" \")","v":" "}]
[null,null,{"$f":"IFERROR(INDEX($B12:B$30,SMALL(IF(Q$7:Q$30=$B$36,ROW(Q$7:Q$30)-6),ROW(Q12)-6)),\" \")","v":" "}]
[null,null,{"$f":"TRIM(C36)","v":"J Caylor, 12"},null,null,{"$f":"TRIM(F36)","v":"J Caylor, 12"},null,null,{"$f":"TRIM(I36)","v":"J Claycomb, 10"}]
[null,null,{"$f":"TRIM(C37)","v":""},null,null,{"$f":"TRIM(F37)","v":""},null,null,{"$f":"TRIM(I37)","v":""}]
[null,null,"",null,null,"",null,null,""]
[null,null,"",null,null,"",null,null,""]
[null,null,"",null,null,"",null,null,""]
[]
[]
[null,{"$f":"COUNTIF(C42:C46,\"?*\")","v":1},null,null,{"$f":"COUNTIF(F42:F46,\"?*\")","v":1},null,null,{"$f":"COUNTIF(I42:I46,\"?*\")","v":1}]

{"sheet":"game1 (12)","index":14,"n_rows":49,"n_cols":27,"rows_kept":49,"merged":[[0,6,0,11],[1,2,1,5],[1,7,1,9],[1,10,1,12],[32,2,32,17]]}
[]
[{"$f":"IF(AND(Roster!$D$1=VLOOKUP(C2,Roster!$L$5:$R$72,2,FALSE),Roster!$D$3=VLOOKUP(C2,Roster!$L$5:$R$72,4,FALSE)),\"R\",\"\")","v":"R"},"Opponent","Wright",{"$nulls":4},"Date of Game",null,null,"2018-01-20",{"$nulls":12},{"$f":"IF(OR($H$4=1,$J$4=1),CONCATENATE($C$2,\": \",MONTH($K$2),\"/\",DAY($K$2),\"/\",YEAR($K$2)-2000, \" **\" ),CONCATENATE($C$2,\": \",MONTH($K$2),\"/\",DAY($K$2),\"/\",YEAR($K$2)-2000))","v":"Wright: 1/20/18 **"},null,8]
[{"$nulls":6},"Win","Conf W","Loss","Conf L",null,"Forfeit W?",null,"Forfeit L?",{"$nulls":9},{"$f":"IF($C$4>$D$4,CONCATENATE(Roster!$B$1,\" \",$C$4,\", \",$C$2,\" \",$D$4, \" \",$E$4),CONCATENATE($C$2,\" \",$D$4,\", \",Roster!$B$1,\" \",$C$4,\" \", $E$4 ))","v":"Wright 66, Upton 51 "}]
[null,"Score",51,66,null,null,{"$f":"IF(OR($L$4=1,$C$4>$D$4),1,\"\")","v":""},null,{"$f":"IF(OR($N$4=1,$C$4<$D$4),1,\"\")","v":1},1]
[]
["#","PLAYER","GP","3FGM","3FGA","2FGM","2FGA","FTM","FTA","OFF REB","DEF REB","AST","STL","BLK","TO","FOUL","TL PTS","3FG %","2FG %","FT %","FG%","FGA","REB","Elig FG%","Elig FT%","Name2","FI,LastName,#"]
[{"$f":"IF(Roster!A7<>\"\",Roster!A7,\"\")","v":24},{"$f":"IF(OR(Roster!A7<>\"\",Roster!B7<>\"\"),PROPER(Roster!B7),\"\")","v":"Payton Watt"},1,0,6,2,8,8,11,3,7,2,2,null,5,4,{"$f":"IF(H7+2*F7+3*D7>0,H7+2*F7+3*D7,\"\")","v":12},{"$f":"IF(E7>0,D7/E7,\"\")","v":{"v":0,"d":"0%"}},{"$f":"IF(G7>0,F7/G7,\"\")","v":{"v":0.25,"d":"25%"}},{"$f":"IF(I7>0,H7/I7,\"\")","v":{"v":0.7272727272727273,"d":"73%"}},{"$f":"IF(OR(E7>0,G7 >0),(D7+F7)/(E7+G7),\"\")","v":{"v":0.14285714285714285,"d":"14%"}},{"$f":"IF(E7+G7>0,E7+G7,\"\")","v":14},{"$f":"IF(J7+K7>0,J7+K7,\"\")","v":10},{"$f":"IF(V7>=$Z$2,U7,0)","v":{"v":0.14285714285714285,"d":"14%"}},{"$f":"IF(I7>=$Z$2,T7,0)","v":{"v":0.7272727272727273,"d":"73%"}},{"$f":"B7","v":"Payton Watt"},{"$f":"IFERROR(IF(FIND(\" \",$B7,1),CONCATENATE(LEFT($B7,1),\" \",RIGHT($B7,LEN($B7)-FIND(\" \",$B7,1)),\", \",$A7),CONCATENATE($B7,\", \",$A7)),\"\")","v":"P Watt, 24"}]
[{"$f":"IF(Roster!A8<>\"\",Roster!A8,\"\")","v":20},{"$f":"IF(OR(Roster!A8<>\"\",Roster!B8<>\"\"),PROPER(Roster!B8),\"\")","v":"Dillon Barritt"},1,4,11,3,6,null,null,3,2,2,3,null,3,3,{"$f":"IF(H8+2*F8+3*D8>0,H8+2*F8+3*D8,\"\")","v":18},{"$f":"IF(E8>0,D8/E8,\"\")","v":{"v":0.36363636363636365,"d":"36%"}},{"$f":"IF(G8>0,F8/G8,\"\")","v":{"v":0.5,"d":"50%"}},{"$f":"IF(I8>0,H8/I8,\"\")","v":""},{"$f":"IF(OR(E8>0,G8 >0),(D8+F8)/(E8+G8),\"\")","v":{"v":0.4117647058823529,"d":"41%"}},{"$f":"IF(E8+G8>0,E8+G8,\"\")","v":17},{"$f":"IF(J8+K8>0,J8+K8,\"\")","v":5},{"$f":"IF(V8>=$Z$2,U8,0)","v":{"v":0.4117647058823529,"d":"41%"}},{"$f":"IF(I8>=$Z$2,T8,0)","v":{"v":0,"d":"0%"}},{"$f":"B8","v":"Dillon Barritt"},{"$f":"IFERROR(IF(FIND(\" \",$B8,1),CONCATENATE(LEFT($B8,1),\" \",RIGHT($B8,LEN($B8)-FIND(\" \",$B8,1)),\", \",$A8),CONCATENATE($B8,\", \",$A8)),\"\")","v":"D Barritt, 20"}]
[{"$f":"IF(Roster!A9<>\"\",Roster!A9,\"\")","v":14},{"$f":"IF(OR(Roster!A9<>\"\",Roster!B9<>\"\"),PROPER(Roster!B9),\"\")","v":"Dawson Butts"},1,0,2,1,5,1,2,3,5,2,2,null,4,2,3,{"v":0,"d":"0%"},{"v":0.2,"d":"20%"},{"v":0.5,"d":"50%"},{"v":0.14285714285714285,"d":"14%"},7,8,{"v":0,"d":"0%"},{"v":0,"d":"0%"},"Dawson Butts","D Butts, 14"]
[{"$f":"IF(Roster!A10<>\"\",Roster!A10,\"\")","v":12},{"$f":"IF(OR(Roster!A10<>\"\",Roster!B10<>\"\"),PROPER(Roster!B10),\"\")","v":"Jayden Caylor"},{"$nulls":14},"","","","","","","","",{"v":0,"d":"0%"},"Jayden Caylor","J Caylor, 12"]
[{"$f":"IF(Roster!A11<>\"\",Roster!A11,\"\")","v":23},{"$f":"IF(OR(Roster!A11<>\"\",Roster!B11<>\"\"),PROPER(Roster!B11),\"\")","v":"Clayton Louderback"},{"$nulls":14},"","","","","","","","",{"v":0,"d":"0%"},"Clayton Louderback","C Louderback, 23"]
[{"$f":"IF(Roster!A12<>\"\",Roster!A12,\"\")","v":10},{"$f":"IF(OR(Roster!A12<>\"\",Roster!B12<>\"\"),PROPER(Roster!B12),\"\")","v":"Jess Claycomb"},1,0,1,4,6,4,4,1,2,3,null,null,4,4,12,{"v":0,"d":"0%"},{"v":0.6666666666666666,"d":"67%"},{"v":1,"d":"100%"},{"v":0.5714285714285714,"d":"57%"},7,3,{"v":0,"d":"0%"},{"v":0,"d":"0%"},"Jess Claycomb","J Claycomb, 10"]
[{"$f":"IF(Roster!A13<>\"\",Roster!A13,\"\")","v":4},{"$f":"IF(OR(Roster!A13<>\"\",Roster!B13<>\"\"),PROPER(Roster!B13),\"\")","v":"Maxx Cowger"},{"$nulls":14},"","","","","","","","",{"v":0,"d":"0%"},"Maxx Cowger","M Cowger, 4"]
[{"$f":"IF(Roster!A14<>\"\",Roster!A14,\"\")","v":22},{"$f":"IF(OR(Roster!A14<>\"\",Roster!B14<>\"\"),PROPER(Roster!B14),\"\")","v":"Brayden Bruce"},1,2,8,0,2,null,null,2,null,1,1,null,2,4,6,{"v":0.25,"d":"25%"},{"v":0,"d":"0%"},"",{"v":0.2,"d":"20%"},10,2,{"v":0.2,"d":"20%"},{"v":0,"d":"0%"},"Brayden Bruce","B Bruce, 22"]
[{"$f":"IF(Roster!A15<>\"\",Roster!A15,\"\")","v":30},{"$f":"IF(OR(Roster!A15<>\"\",Roster!B15<>\"\"),PROPER(Roster!B15),\"\")","v":"Jo Bishop"},1,{"$nulls":6},1,{"$nulls":4},1,null,"","","","","","",1,"",{"v":0,"d":"0%"},"Jo Bishop","J Bishop, 30"]
[{"$f":"IF(Roster!A16<>\"\",Roster!A16,\"\")","v":33},{"$f":"IF(OR(Roster!A16<>\"\",Roster!B16<>\"\"),PROPER(Roster!B16),\"\")","v":"Nolan Turner"},1,{"$nulls":7},1,2,1,1,2,3,"","","","","","",1,"",{"v":0,"d":"0%"},"Nolan Turner","N Turner, 33"]
[{"$f":"IF(Roster!A17<>\"\",Roster!A17,\"\")","v":32},{"$f":"IF(OR(Roster!A17<>\"\",Roster!B17<>\"\"),PROPER(Roster!B17),\"\")","v":"Robert Crawford"},{"$nulls":14},"","","","","","","","",{"v":0,"d":"0%"},"Robert Crawford","R Crawford, 32"]
[{"$f":"IF(Roster!A18<>\"\",Roster!A18,\"\")","v":40},{"$f":"IF(OR(Roster!A18<>\"\",Roster!B18<>\"\"),PROPER(Roster!B18),\"\")","v":"Jace Bruce"},{"$nulls":14},"","","","","","","","",{"v":0,"d":"0%"},"Jace Bruce","J Bruce, 40"]
[{"$f":"IF(Roster!A19<>\"\",Roster!A19,\"\")","v":2},{"$f":"IF(OR(Roster!A19<>\"\",Roster!B19<>\"\"),PROPER(Roster!B19),\"\")","v":"Ethan Mills"},{"$nulls":14},"","","","","","","","",{"v":0,"d":"0%"},"Ethan Mills","E Mills, 2"]
[{"$f":"IF(Roster!A20<>\"\",Roster!A20,\"\")","v":2},{"$f":"IF(OR(Roster!A20<>\"\",Roster!B20<>\"\"),PROPER(Roster!B20),\"\")","v":"Bridger Alishouse"},{"$nulls":14},"","","","","","","","",{"v":0,"d":"0%"},"Bridger Alishouse","B Alishouse, 2"]
[{"$f":"IF(Roster!A21<>\"\",Roster!A21,\"\")","v":4},{"$f":"IF(OR(Roster!A21<>\"\",Roster!B21<>\"\"),PROPER(Roster!B21),\"\")","v":"Landon Keever"},{"$nulls":14},"","","","","","","","",{"v":0,"d":"0%"},"Landon Keever","L Keever, 4"]
[{"$f":"IF(Roster!A22<>\"\",Roster!A22,\"\")","v":4},{"$f":"IF(OR(Roster!A22<>\"\",Roster!B22<>\"\"),PROPER(Roster!B22),\"\")","v":"Dj Till"},{"$nulls":14},"","","","","","","","",{"v":0,"d":"0%"},"Dj Till","D Till, 4"]
[{"$f":"IF(Roster!A23<>\"\",Roster!A23,\"\")","v":""},{"$f":"IF(OR(Roster!A23<>\"\",Roster!B23<>\"\"),PROPER(Roster!B23),\"\")","v":""},{"$nulls":14},"","","","","","","","",{"v":0,"d":"0%"},"",""]
[{"$f":"IF(Roster!A24<>\"\",Roster!A24,\"\")","v":""},{"$f":"IF(OR(Roster!A24<>\"\",Roster!B24<>\"\"),PROPER(Roster!B24),\"\")","v":""},{"$nulls":14},"","","","","","","","",{"v":0,"d":"0%"},"",""]
[{"$f":"IF(Roster!A25<>\"\",Roster!A25,\"\")","v":""},{"$f":"IF(OR(Roster!A25<>\"\",Roster!B25<>\"\"),PROPER(Roster!B25),\"\")","v":""},{"$nulls":14},"","","","","","","","",{"v":0,"d":"0%"},"",""]
[{"$f":"IF(Roster!A26<>\"\",Roster!A26,\"\")","v":""},{"$f":"IF(OR(Roster!A26<>\"\",Roster!B26<>\"\"),PROPER(Roster!B26),\"\")","v":""},{"$nulls":14},"","","","","","","","",{"v":0,"d":"0%"},"",""]
[{"$f":"IF(Roster!A27<>\"\",Roster!A27,\"\")","v":""},{"$f":"IF(OR(Roster!A27<>\"\",Roster!B27<>\"\"),PROPER(Roster!B27),\"\")","v":""},{"$nulls":14},"","","","","","","","",{"v":0,"d":"0%"},"",""]
[{"$f":"IF(Roster!A28<>\"\",Roster!A28,\"\")","v":""},{"$f":"IF(OR(Roster!A28<>\"\",Roster!B28<>\"\"),PROPER(Roster!B28),\"\")","v":""},{"$nulls":14},"","","","","","","","",{"v":0,"d":"0%"},"",""]
[{"$f":"IF(Roster!A29<>\"\",Roster!A29,\"\")","v":""},{"$f":"IF(OR(Roster!A29<>\"\",Roster!B29<>\"\"),PROPER(Roster!B29),\"\")","v":""},{"$nulls":14},"","","","","","","","",{"v":0,"d":"0%"},"",""]
[{"$f":"IF(Roster!A30<>\"\",Roster!A30,\"\")","v":""},{"$f":"IF(OR(Roster!A30<>\"\",Roster!B30<>\"\"),PROPER(Roster!B30),\"\")","v":"Team"},1,{"$nulls":6},5,{"$nulls":6},"","","","","","",5,"",{"v":0,"d":"0%"},"Team",{"$f":"IFERROR(IF(FIND(\" \",$B30,1),CONCATENATE(LEFT($B30,1),\" \",RIGHT($B30,LEN($B30)-FIND(\" \",$B30,1)),\", \",$A30),CONCATENATE($B30,\", \",$A30)),\"\")","v":""}]
[null,"Team Totals",{"$f":"IF(COUNTA($C$7:$C$30)>0,1,\"\")","v":1},{"$f":"SUM(D7:D30)","v":6},{"$f":"SUM(E7:E30)","v":28},10,27,13,17,18,17,12,9,1,{"$f":"SUM(O7:O30)","v":21},{"$f":"SUM(P7:P30)","v":20},{"$f":"IF(H31+2*F31+3*D31>0,H31+2*F31+3*D31,IF(C4>0,C4,\"\"))","v":51},{"$f":"IF(E31>0,D31/E31,\"\")","v":{"v":0.21428571428571427,"d":"21%"}},{"$f":"IF(G31>0,F31/G31,\"\")","v":{"v":0.37037037037037035,"d":"37%"}},{"$f":"IF(I31>0,H31/I31,\"\")","v":{"v":0.7647058823529411,"d":"76%"}},{"$f":"IF(OR(E31>0,G31 >0),(D31+F31)/(E31+G31),\"\")","v":{"v":0.2909090909090909,"d":"29%"}},{"$f":"IF(E31+G31>0,E31+G31,\"\")","v":55},{"$f":"IF(J31+K31>0,J31+K31,\"\")","v":35},{"v":0.2909090909090909,"d":"29%"},{"$f":"IF(I31>=$Z$2,T31,0)","v":{"v":0.7647058823529411,"d":"76%"}}]
[null,"Opponent Totals",{"$f":"IF(SUM(D32:P32)>0,1,\"\")","v":1},1,6,26,42,11,23,10,24,13,11,3,19,17,{"$f":"IF(H32+2*F32+3*D32>0,H32+2*F32+3*D32,IF(D4>0,D4,\"\"))","v":66},{"$f":"IF(E32>0,D32/E32,\"\")","v":{"v":0.16666666666666666,"d":"17%"}},{"$f":"IF(G32>0,F32/G32,\"\")","v":{"v":0.6190476190476191,"d":"62%"}},{"$f":"IF(I32>0,H32/I32,\"\")","v":{"v":0.4782608695652174,"d":"48%"}},{"$f":"IF(OR(E32>0,G32 >0),(D32+F32)/(E32+G32),\"\")","v":{"v":0.5625,"d":"56%"}},{"$f":"IF(E32+G32>0,E32+G32,\"\")","v":48},{"$f":"IF(J32+K32>0,J32+K32,\"\")","v":34},{"v":0.5625,"d":"56%"},{"v":0.4782608695652174,"d":"48%"}]
[null,null,"Peak Performances"]
[]
[null,"Top Points","Player",null,"Top REB","Player",null,"Top AST","Player"]
[null,{"$f":"MAX(Q$7:Q$30)","v":18},{"$f":"IFERROR(INDEX($AA$7:$AA$30,SMALL(IF(Q$7:Q$30=$B$36,ROW(Q$7:Q$30)-6),ROW(Q7)-6)),\" \")","v":"D Barritt, 20"},null,{"$f":"MAX(W$7:W$30)","v":10},{"$f":"IFERROR(INDEX($AA$7:$AA$30,SMALL(IF(W$7:W$30=$E$36,ROW(W$7:W$30)-6),ROW(W7)-6)),\" \")","v":"P Watt, 24"},null,{"$f":"MAX(L$7:L$30)","v":3},{"$f":"IFERROR(INDEX($AA$7:$AA$30,SMALL(IF(L$7:L$30=$H$36,ROW(L$7:L$30)-6),ROW(L7)-6)),\" \")","v":"J Claycomb, 10"}]
[null,null,{"$f":"IFERROR(INDEX($AA$7:$AA$30,SMALL(IF(Q$7:Q$30=$B$36,ROW(Q$7:Q$30)-6),ROW(Q8)-6)),\" \")","v":" "},null,null,{"$f":"IFERROR(INDEX($AA$7:$AA$30,SMALL(IF(W$7:W$30=$E$36,ROW(W$7:W$30)-6),ROW(W8)-6)),\" \")","v":" "},null,null,{"$f":"IFERROR(INDEX($AA$7:$AA$30,SMALL(IF(L$7:L$30=$H$36,ROW(L$7:L$30)-6),ROW(L8)-6)),\" \")","v":" "}]
[null,null,{"$f":"IFERROR(INDEX($AA$7:$AA$30,SMALL(IF(Q$7:Q$30=$B$36,ROW(Q$7:Q$30)-6),ROW(Q9)-6)),\" \")","v":" "},null,null,{"$f":"IFERROR(INDEX($AA$7:$AA$30,SMALL(IF(W$7:W$30=$E$36,ROW(W$7:W$30)-6),ROW(W9)-6)),\" \")","v":" "},null,null,{"$f":"IFERROR(INDEX($AA$7:$AA$30,SMALL(IF(L$7:L$30=$H$36,ROW(L$7:L$30)-6),ROW(L9)-6)),\" \")","v":" "}]
[null,null,{"$f":"IFERROR(INDEX($AA$7:$AA$30,SMALL(IF(Q$7:Q$30=$B$36,ROW(Q$7:Q$30)-6),ROW(Q10)-6)),\" \")","v":" "},null,null,{"$f":"IFERROR(INDEX($AA$7:$AA$30,SMALL(IF(W$7:W$30=$E$36,ROW(W$7:W$30)-6),ROW(W10)-6)),\" \")","v":" "},null,null,{"$f":"IFERROR(INDEX($AA$7:$AA$30,SMALL(IF(L$7:L$30=$H$36,ROW(L$7:L$30)-6),ROW(L10)-6)),\" \")","v":" "}]
[null,null,{"$f":"IFERROR(INDEX($AA$7:$AA$30,SMALL(IF(Q$7:Q$30=$B$36,ROW(Q$7:Q$30)-6),ROW(Q11)-6)),\" \")","v":" "},null,null,{"$f":"IFERROR(INDEX($AA$7:$AA$30,SMALL(IF(W$7:W$30=$E$36,ROW(W$7:W$30)-6),ROW(W11)-6)),\" \")","v":" "},null,null,{"$f":"IFERROR(INDEX($AA$7:$AA$30,SMALL(IF(L$7:L$30=$H$36,ROW(L$7:L$30)-6),ROW(L11)-6)),\" \")","v":" "}]
[null,null,{"$f":"IFERROR(INDEX($B12:B$30,SMALL(IF(Q$7:Q$30=$B$36,ROW(Q$7:Q$30)-6),ROW(Q12)-6)),\" \")","v":" "}]
[null,null,{"$f":"TRIM(C36)","v":"D Barritt, 20"},null,null,{"$f":"TRIM(F36)","v":"P Watt, 24"},null,null,{"$f":"TRIM(I36)","v":"J Claycomb, 10"}]
[null,null,{"$f":"TRIM(C37)","v":""},null,null,{"$f":"TRIM(F37)","v":""},null,null,{"$f":"TRIM(I37)","v":""}]
[null,null,"",null,null,"",null,null,""]
[null,null,"",null,null,"",null,null,""]
[null,null,"",null,null,"",null,null,""]
[]
[]
[null,{"$f":"COUNTIF(C42:C46,\"?*\")","v":1},null,null,{"$f":"COUNTIF(F42:F46,\"?*\")","v":1},null,null,{"$f":"COUNTIF(I42:I46,\"?*\")","v":1}]

{"sheet":"game1 (13)","index":15,"n_rows":49,"n_cols":27,"rows_kept":49,"merged":[[0,6,0,11],[1,2,1,5],[1,7,1,9],[1,10,1,12],[32,2,32,17]]}
[]
[{"$f":"IF(AND(Roster!$D$1=VLOOKUP(C2,Roster!$L$5:$R$72,2,FALSE),Roster!$D$3=VLOOKUP(C2,Roster!$L$5:$R$72,4,FALSE)),\"R\",\"\")","v":"R"},"Opponent","Sundance",{"$nulls":4},"Date of Game",null,null,"2018-01-25",{"$nulls":12},{"$f":"IF(OR($H$4=1,$J$4=1),CONCATENATE($C$2,\": \",MONTH($K$2),\"/\",DAY($K$2),\"/\",YEAR($K$2)-2000, \" **\" ),CONCATENATE($C$2,\": \",MONTH($K$2),\"/\",DAY($K$2),\"/\",YEAR($K$2)-2000))","v":"Sundance: 1/25/18 **"},null,8]
[{"$nulls":6},"Win","Conf W","Loss","Conf L",null,"Forfeit W?",null,"Forfeit L?",{"$nulls":9},{"$f":"IF($C$4>$D$4,CONCATENATE(Roster!$B$1,\" \",$C$4,\", \",$C$2,\" \",$D$4, \" \",$E$4),CONCATENATE($C$2,\" \",$D$4,\", \",Roster!$B$1,\" \",$C$4,\" \", $E$4 ))","v":"Upton 76, Sundance 47 "}]
[null,"Score",76,47,null,null,{"$f":"IF(OR($L$4=1,$C$4>$D$4),1,\"\")","v":1},1,{"$f":"IF(OR($N$4=1,$C$4<$D$4),1,\"\")","v":""}]
[]
["#","PLAYER","GP","3FGM","3FGA","2FGM","2FGA","FTM","FTA","OFF REB","DEF REB","AST","STL","BLK","TO","FOUL","TL PTS","3FG %","2FG %","FT %","FG%","FGA","REB","Elig FG%","Elig FT%","Name2","FI,LastName,#"]
[{"$f":"IF(Roster!A7<>\"\",Roster!A7,\"\")","v":24},{"$f":"IF(OR(Roster!A7<>\"\",Roster!B7<>\"\"),PROPER(Roster!B7),\"\")","v":"Payton Watt"},1,7,10,3,6,2,2,1,3,3,1,null,3,1,{"$f":"IF(H7+2*F7+3*D7>0,H7+2*F7+3*D7,\"\")","v":29},{"$f":"IF(E7>0,D7/E7,\"\")","v":{"v":0.7,"d":"70%"}},{"$f":"IF(G7>0,F7/G7,\"\")","v":{"v":0.5,"d":"50%"}},{"$f":"IF(I7>0,H7/I7,\"\")","v":{"v":1,"d":"100%"}},{"$f":"IF(OR(E7>0,G7 >0),(D7+F7)/(E7+G7),\"\")","v":{"v":0.625,"d":"63%"}},{"$f":"IF(E7+G7>0,E7+G7,\"\")","v":16},{"$f":"IF(J7+K7>0,J7+K7,\"\")","v":4},{"$f":"IF(V7>=$Z$2,U7,0)","v":{"v":0.625,"d":"63%"}},{"$f":"IF(I7>=$Z$2,T7,0)","v":{"v":0,"d":"0%"}},{"$f":"B7","v":"Payton Watt"},{"$f":"IFERROR(IF(FIND(\" \",$B7,1),CONCATENATE(LEFT($B7,1),\" \",RIGHT($B7,LEN($B7)-FIND(\" \",$B7,1)),\", \",$A7),CONCATENATE($B7,\", \",$A7)),\"\")","v":"P Watt, 24"}]
[{"$f":"IF(Roster!A8<>\"\",Roster!A8,\"\")","v":20},{"$f":"IF(OR(Roster!A8<>\"\",Roster!B8<>\"\"),PROPER(Roster!B8),\"\")","v":"Dillon Barritt"},1,2,6,1,2,2,3,1,1,2,6,null,1,2,{"$f":"IF(H8+2*F8+3*D8>0,H8+2*F8+3*D8,\"\")","v":10},{"$f":"IF(E8>0,D8/E8,\"\")","v":{"v":0.3333333333333333,"d":"33%"}},{"$f":"IF(G8>0,F8/G8,\"\")","v":{"v":0.5,"d":"50%"}},{"$f":"IF(I8>0,H8/I8,\"\")","v":{"v":0.6666666666666666,"d":"67%"}},{"$f":"IF(OR(E8>0,G8 >0),(D8+F8)/(E8+G8),\"\")","v":{"v":0.375,"d":"38%"}},{"$f":"IF(E8+G8>0,E8+G8,\"\")","v":8},{"$f":"IF(J8+K8>0,J8+K8,\"\")","v":2},{"$f":"IF(V8>=$Z$2,U8,0)","v":{"v":0.375,"d":"38%"}},{"$f":"IF(I8>=$Z$2,T8,0)","v":{"v":0,"d":"0%"}},{"$f":"B8","v":"Dillon Barritt"},{"$f":"IFERROR(IF(FIND(\" \",$B8,1),CONCATENATE(LEFT($B8,1),\" \",RIGHT($B8,LEN($B8)-FIND(\" \",$B8,1)),\", \",$A8),CONCATENATE($B8,\", \",$A8)),\"\")","v":"D Barritt, 20"}]
[{"$f":"IF(Roster!A9<>\"\",Roster!A9,\"\")","v":14},{"$f":"IF(OR(Roster!A9<>\"\",Roster!B9<>\"\"),PROPER(Roster!B9),\"\")","v":"Dawson Butts"},1,null,null,3,4,null,null,1,2,3,1,null,null,3,6,"",{"v":0.75,"d":"75%"},"",{"v":0.75,"d":"75%"},4,3,{"v":0,"d":"0%"},{"v":0,"d":"0%"},"Dawson Butts","D Butts, 14"]
[{"$f":"IF(Roster!A10<>\"\",Roster!A10,\"\")","v":12},{"$f":"IF(OR(Roster!A10<>\"\",Roster!B10<>\"\"),PROPER(Roster!B10),\"\")","v":"Jayden Caylor"},{"$nulls":14},{"$f":"IF(H10+2*F10+3*D10>0,H10+2*F10+3*D10,\"\")","v":""},"",{"$f":"IF(G10>0,F10/G10,\"\")","v":""},"",{"$f":"IF(OR(E10>0,G10 >0),(D10+F10)/(E10+G10),\"\")","v":""},"","","",{"v":0,"d":"0%"},"Jayden Caylor","J Caylor, 12"]
[{"$f":"IF(Roster!A11<>\"\",Roster!A11,\"\")","v":23},{"$f":"IF(OR(Roster!A11<>\"\",Roster!B11<>\"\"),PROPER(Roster!B11),\"\")","v":"Clayton Louderback"},1,1,5,4,7,6,6,1,6,5,5,null,4,3,{"$f":"IF(H11+2*F11+3*D11>0,H11+2*F11+3*D11,\"\")","v":17},{"v":0.2,"d":"20%"},{"$f":"IF(G11>0,F11/G11,\"\")","v":{"v":0.5714285714285714,"d":"57%"}},{"v":1,"d":"100%"},{"$f":"IF(OR(E11>0,G11 >0),(D11+F11)/(E11+G11),\"\")","v":{"v":0.4166666666666667,"d":"42%"}},12,7,{"v":0.4166666666666667,"d":"42%"},{"v":0,"d":"0%"},"Clayton Louderback","C Louderback, 23"]
[{"$f":"IF(Roster!A12<>\"\",Roster!A12,\"\")","v":10},{"$f":"IF(OR(Roster!A12<>\"\",Roster!B12<>\"\"),PROPER(Roster!B12),\"\")","v":"Jess Claycomb"},1,0,1,3,4,null,null,1,2,4,{"$nulls":3},2,6,{"v":0,"d":"0%"},{"v":0.75,"d":"75%"},"",{"v":0.6,"d":"60%"},5,3,{"v":0,"d":"0%"},{"v":0,"d":"0%"},"Jess Claycomb","J Claycomb, 10"]
[{"$f":"IF(Roster!A13<>\"\",Roster!A13,\"\")","v":4},{"$f":"IF(OR(Roster!A13<>\"\",Roster!B13<>\"\"),PROPER(Roster!B13),\"\")","v":"Maxx Cowger"},{"$nulls":14},"","","","","","","","",{"v":0,"d":"0%"},"Maxx Cowger","M Cowger, 4"]
[{"$f":"IF(Roster!A14<>\"\",Roster!A14,\"\")","v":22},{"$f":"IF(OR(Roster!A14<>\"\",Roster!B14<>\"\"),PROPER(Roster!B14),\"\")","v":"Brayden Bruce"},1,0,1,2,2,0,2,null,1,1,1,null,3,3,4,{"v":0,"d":"0%"},{"v":1,"d":"100%"},{"v":0,"d":"0%"},{"v":0.6666666666666666,"d":"67%"},3,1,{"v":0,"d":"0%"},{"v":0,"d":"0%"},"Brayden Bruce","B Bruce, 22"]
[{"$f":"IF(Roster!A15<>\"\",Roster!A15,\"\")","v":30},{"$f":"IF(OR(Roster!A15<>\"\",Roster!B15<>\"\"),PROPER(Roster!B15),\"\")","v":"Jo Bishop"},1,{"$nulls":6},1,1,1,1,null,null,1,"","","","","","",2,"",{"v":0,"d":"0%"},"Jo Bishop","J Bishop, 30"]
[{"$f":"IF(Roster!A16<>\"\",Roster!A16,\"\")","v":33},{"$f":"IF(OR(Roster!A16<>\"\",Roster!B16<>\"\"),PROPER(Roster!B16),\"\")","v":"Nolan Turner"},1,0,1,0,1,null,null,1,2,{"$nulls":4},4,"",{"v":0,"d":"0%"},{"v":0,"d":"0%"},"",{"v":0,"d":"0%"},2,3,{"v":0,"d":"0%"},{"v":0,"d":"0%"},"Nolan Turner","N Turner, 33"]
[{"$f":"IF(Roster!A17<>\"\",Roster!A17,\"\")","v":32},{"$f":"IF(OR(Roster!A17<>\"\",Roster!B17<>\"\"),PROPER(Roster!B17),\"\")","v":"Robert Crawford"},1,{"$nulls":7},1,1,null,null,3,3,"","","","","","",1,"",{"v":0,"d":"0%"},"Robert Crawford","R Crawford, 32"]
[{"$f":"IF(Roster!A18<>\"\",Roster!A18,\"\")","v":40},{"$f":"IF(OR(Roster!A18<>\"\",Roster!B18<>\"\"),PROPER(Roster!B18),\"\")","v":"Jace Bruce"},1,0,3,{"$nulls":5},1,1,1,{"$nulls":3},"",{"v":0,"d":"0%"},"","",{"v":0,"d":"0%"},3,1,{"v":0,"d":"0%"},{"v":0,"d":"0%"},"Jace Bruce","J Bruce, 40"]
[{"$f":"IF(Roster!A19<>\"\",Roster!A19,\"\")","v":2},{"$f":"IF(OR(Roster!A19<>\"\",Roster!B19<>\"\"),PROPER(Roster!B19),\"\")","v":"Ethan Mills"},1,0,1,1,1,{"$nulls":9},2,{"v":0,"d":"0%"},{"v":1,"d":"100%"},"",{"v":0.5,"d":"50%"},2,"",{"v":0,"d":"0%"},{"v":0,"d":"0%"},"Ethan Mills","E Mills, 2"]
[{"$f":"IF(Roster!A20<>\"\",Roster!A20,\"\")","v":2},{"$f":"IF(OR(Roster!A20<>\"\",Roster!B20<>\"\"),PROPER(Roster!B20),\"\")","v":"Bridger Alishouse"},{"$nulls":14},"","","","","","","","",{"v":0,"d":"0%"},"Bridger Alishouse","B Alishouse, 2"]
[{"$f":"IF(Roster!A21<>\"\",Roster!A21,\"\")","v":4},{"$f":"IF(OR(Roster!A21<>\"\",Roster!B21<>\"\"),PROPER(Roster!B21),\"\")","v":"Landon Keever"},{"$nulls":14},"","","","","","","","",{"v":0,"d":"0%"},"Landon Keever","L Keever, 4"]
[{"$f":"IF(Roster!A22<>\"\",Roster!A22,\"\")","v":4},{"$f":"IF(OR(Roster!A22<>\"\",Roster!B22<>\"\"),PROPER(Roster!B22),\"\")","v":"Dj Till"},1,0,1,1,3,null,null,1,{"$nulls":6},2,{"v":0,"d":"0%"},{"v":0.3333333333333333,"d":"33%"},"",{"v":0.25,"d":"25%"},4,1,{"v":0,"d":"0%"},{"v":0,"d":"0%"},"Dj Till","D Till, 4"]
[{"$f":"IF(Roster!A23<>\"\",Roster!A23,\"\")","v":""},{"$f":"IF(OR(Roster!A23<>\"\",Roster!B23<>\"\"),PROPER(Roster!B23),\"\")","v":""},{"$nulls":14},"","","","","","","","",{"v":0,"d":"0%"},"",""]
[{"$f":"IF(Roster!A24<>\"\",Roster!A24,\"\")","v":""},{"$f":"IF(OR(Roster!A24<>\"\",Roster!B24<>\"\"),PROPER(Roster!B24),\"\")","v":""},{"$nulls":14},"","","","","","","","",{"v":0,"d":"0%"},"",""]
[{"$f":"IF(Roster!A25<>\"\",Roster!A25,\"\")","v":""},{"$f":"IF(OR(Roster!A25<>\"\",Roster!B25<>\"\"),PROPER(Roster!B25),\"\")","v":""},{"$nulls":14},"","","","","","","","",{"v":0,"d":"0%"},"",""]
[{"$f":"IF(Roster!A26<>\"\",Roster!A26,\"\")","v":""},{"$f":"IF(OR(Roster!A26<>\"\",Roster!B26<>\"\"),PROPER(Roster!B26),\"\")","v":""},{"$nulls":14},"","","","","","","","",{"v":0,"d":"0%"},"",""]
[{"$f":"IF(Roster!A27<>\"\",Roster!A27,\"\")","v":""},{"$f":"IF(OR(Roster!A27<>\"\",Roster!B27<>\"\"),PROPER(Roster!B27),\"\")","v":""},{"$nulls":14},"","","","","","","","",{"v":0,"d":"0%"},"",""]
[{"$f":"IF(Roster!A28<>\"\",Roster!A28,\"\")","v":""},{"$f":"IF(OR(Roster!A28<>\"\",Roster!B28<>\"\"),PROPER(Roster!B28),\"\")","v":""},{"$nulls":14},"","","","","","","","",{"v":0,"d":"0%"},"",""]
[{"$f":"IF(Roster!A29<>\"\",Roster!A29,\"\")","v":""},{"$f":"IF(OR(Roster!A29<>\"\",Roster!B29<>\"\"),PROPER(Roster!B29),\"\")","v":""},{"$nulls":14},"","","","","","","","",{"v":0,"d":"0%"},"",""]
[{"$f":"IF(Roster!A30<>\"\",Roster!A30,\"\")","v":""},{"$f":"IF(OR(Roster!A30<>\"\",Roster!B30<>\"\"),PROPER(Roster!B30),\"\")","v":"Team"},1,{"$nulls":7},5,{"$nulls":5},"","","","","","",5,"",{"v":0,"d":"0%"},"Team",{"$f":"IFERROR(IF(FIND(\" \",$B30,1),CONCATENATE(LEFT($B30,1),\" \",RIGHT($B30,LEN($B30)-FIND(\" \",$B30,1)),\", \",$A30),CONCATENATE($B30,\", \",$A30)),\"\")","v":""}]
[null,"Team Totals",{"$f":"IF(COUNTA($C$7:$C$30)>0,1,\"\")","v":1},{"$f":"SUM(D7:D30)","v":10},{"$f":"SUM(E7:E30)","v":29},18,30,10,13,8,25,21,16,0,{"$f":"SUM(O7:O30)","v":14},{"$f":"SUM(P7:P30)","v":22},{"$f":"IF(H31+2*F31+3*D31>0,H31+2*F31+3*D31,IF(C4>0,C4,\"\"))","v":76},{"$f":"IF(E31>0,D31/E31,\"\")","v":{"v":0.3448275862068966,"d":"34%"}},{"$f":"IF(G31>0,F31/G31,\"\")","v":{"v":0.6,"d":"60%"}},{"$f":"IF(I31>0,H31/I31,\"\")","v":{"v":0.7692307692307693,"d":"77%"}},{"$f":"IF(OR(E31>0,G31 >0),(D31+F31)/(E31+G31),\"\")","v":{"v":0.4745762711864407,"d":"47%"}},{"$f":"IF(E31+G31>0,E31+G31,\"\")","v":59},{"$f":"IF(J31+K31>0,J31+K31,\"\")","v":33},{"v":0.4745762711864407,"d":"47%"},{"$f":"IF(I31>=$Z$2,T31,0)","v":{"v":0.7692307692307693,"d":"77%"}}]
[null,"Opponent Totals",{"$f":"IF(SUM(D32:P32)>0,1,\"\")","v":1},6,18,9,23,11,19,5,24,9,3,null,26,13,{"$f":"IF(H32+2*F32+3*D32>0,H32+2*F32+3*D32,IF(D4>0,D4,\"\"))","v":47},{"$f":"IF(E32>0,D32/E32,\"\")","v":{"v":0.3333333333333333,"d":"33%"}},{"$f":"IF(G32>0,F32/G32,\"\")","v":{"v":0.391304347826087,"d":"39%"}},{"$f":"IF(I32>0,H32/I32,\"\")","v":{"v":0.5789473684210527,"d":"58%"}},{"$f":"IF(OR(E32>0,G32 >0),(D32+F32)/(E32+G32),\"\")","v":{"v":0.36585365853658536,"d":"37%"}},{"$f":"IF(E32+G32>0,E32+G32,\"\")","v":41},{"$f":"IF(J32+K32>0,J32+K32,\"\")","v":29},{"v":0.36585365853658536,"d":"37%"},{"v":0.5789473684210527,"d":"58%"}]
[null,null,"Peak Performances"]
[]
[null,"Top Points","Player",null,"Top REB","Player",null,"Top AST","Player"]
[null,{"$f":"MAX(Q$7:Q$30)","v":29},{"$f":"IFERROR(INDEX($AA$7:$AA$30,SMALL(IF(Q$7:Q$30=$B$36,ROW(Q$7:Q$30)-6),ROW(Q7)-6)),\" \")","v":"P Watt, 24"},null,{"$f":"MAX(W$7:W$30)","v":7},{"$f":"IFERROR(INDEX($AA$7:$AA$30,SMALL(IF(W$7:W$30=$E$36,ROW(W$7:W$30)-6),ROW(W7)-6)),\" \")","v":"C Louderback, 23"},null,{"$f":"MAX(L$7:L$30)","v":5},{"$f":"IFERROR(INDEX($AA$7:$AA$30,SMALL(IF(L$7:L$30=$H$36,ROW(L$7:L$30)-6),ROW(L7)-6)),\" \")","v":"C Louderback, 23"}]
[null,null,{"$f":"IFERROR(INDEX($AA$7:$AA$30,SMALL(IF(Q$7:Q$30=$B$36,ROW(Q$7:Q$30)-6),ROW(Q8)-6)),\" \")","v":" "},null,null,{"$f":"IFERROR(INDEX($AA$7:$AA$30,SMALL(IF(W$7:W$30=$E$36,ROW(W$7:W$30)-6),ROW(W8)-6)),\" \")","v":" "},null,null,{"$f":"IFERROR(INDEX($AA$7:$AA$30,SMALL(IF(L$7:L$30=$H$36,ROW(L$7:L$30)-6),ROW(L8)-6)),\" \")","v":" "}]
[null,null,{"$f":"IFERROR(INDEX($AA$7:$AA$30,SMALL(IF(Q$7:Q$30=$B$36,ROW(Q$7:Q$30)-6),ROW(Q9)-6)),\" \")","v":" "},null,null,{"$f":"IFERROR(INDEX($AA$7:$AA$30,SMALL(IF(W$7:W$30=$E$36,ROW(W$7:W$30)-6),ROW(W9)-6)),\" \")","v":" "},null,null,{"$f":"IFERROR(INDEX($AA$7:$AA$30,SMALL(IF(L$7:L$30=$H$36,ROW(L$7:L$30)-6),ROW(L9)-6)),\" \")","v":" "}]
[null,null,{"$f":"IFERROR(INDEX($AA$7:$AA$30,SMALL(IF(Q$7:Q$30=$B$36,ROW(Q$7:Q$30)-6),ROW(Q10)-6)),\" \")","v":" "},null,null,{"$f":"IFERROR(INDEX($AA$7:$AA$30,SMALL(IF(W$7:W$30=$E$36,ROW(W$7:W$30)-6),ROW(W10)-6)),\" \")","v":" "},null,null,{"$f":"IFERROR(INDEX($AA$7:$AA$30,SMALL(IF(L$7:L$30=$H$36,ROW(L$7:L$30)-6),ROW(L10)-6)),\" \")","v":" "}]
[null,null,{"$f":"IFERROR(INDEX($AA$7:$AA$30,SMALL(IF(Q$7:Q$30=$B$36,ROW(Q$7:Q$30)-6),ROW(Q11)-6)),\" \")","v":" "},null,null,{"$f":"IFERROR(INDEX($AA$7:$AA$30,SMALL(IF(W$7:W$30=$E$36,ROW(W$7:W$30)-6),ROW(W11)-6)),\" \")","v":" "},null,null,{"$f":"IFERROR(INDEX($AA$7:$AA$30,SMALL(IF(L$7:L$30=$H$36,ROW(L$7:L$30)-6),ROW(L11)-6)),\" \")","v":" "}]
[null,null,{"$f":"IFERROR(INDEX($B12:B$30,SMALL(IF(Q$7:Q$30=$B$36,ROW(Q$7:Q$30)-6),ROW(Q12)-6)),\" \")","v":" "}]
[null,null,{"$f":"TRIM(C36)","v":"P Watt, 24"},null,null,{"$f":"TRIM(F36)","v":"C Louderback, 23"},null,null,{"$f":"TRIM(I36)","v":"C Louderback, 23"}]
[null,null,{"$f":"TRIM(C37)","v":""},null,null,{"$f":"TRIM(F37)","v":""},null,null,{"$f":"TRIM(I37)","v":""}]
[null,null,"",null,null,"",null,null,""]
[null,null,"",null,null,"",null,null,""]
[null,null,"",null,null,"",null,null,""]
[]
[]
[null,{"$f":"COUNTIF(C42:C46,\"?*\")","v":1},null,null,{"$f":"COUNTIF(F42:F46,\"?*\")","v":1},null,null,{"$f":"COUNTIF(I42:I46,\"?*\")","v":1}]

{"sheet":"game1 (14)","index":16,"n_rows":49,"n_cols":27,"rows_kept":49,"merged":[[0,6,0,11],[1,2,1,5],[1,7,1,9],[1,10,1,12],[32,2,32,17]]}
[]
[{"$f":"IF(AND(Roster!$D$1=VLOOKUP(C2,Roster!$L$5:$R$73,2,FALSE),Roster!$D$3=VLOOKUP(C2,Roster!$L$5:$R$73,4,FALSE)),\"R\",\"\")","v":"R"},"Opponent","Big Horn",{"$nulls":4},"Date of Game",null,null,"2018-01-27",{"$nulls":12},{"$f":"IF(OR($H$4=1,$J$4=1),CONCATENATE($C$2,\": \",MONTH($K$2),\"/\",DAY($K$2),\"/\",YEAR($K$2)-2000, \" **\" ),CONCATENATE($C$2,\": \",MONTH($K$2),\"/\",DAY($K$2),\"/\",YEAR($K$2)-2000))","v":"Big Horn: 1/27/18 **"},null,8]
[{"$nulls":6},"Win","Conf W","Loss","Conf L",null,"Forfeit W?",null,"Forfeit L?",{"$nulls":9},{"$f":"IF($C$4>$D$4,CONCATENATE(Roster!$B$1,\" \",$C$4,\", \",$C$2,\" \",$D$4, \" \",$E$4),CONCATENATE($C$2,\" \",$D$4,\", \",Roster!$B$1,\" \",$C$4,\" \", $E$4 ))","v":"Big Horn 66, Upton 65 "}]
[null,"Score",65,66,null,null,{"$f":"IF(OR($L$4=1,$C$4>$D$4),1,\"\")","v":""},null,{"$f":"IF(OR($N$4=1,$C$4<$D$4),1,\"\")","v":1},1]
[]
["#","PLAYER","GP","3FGM","3FGA","2FGM","2FGA","FTM","FTA","OFF REB","DEF REB","AST","STL","BLK","TO","FOUL","TL PTS","3FG %","2FG %","FT %","FG%","FGA","REB","Elig FG%","Elig FT%","Name2","FI,LastName,#"]
[{"$f":"IF(Roster!A7<>\"\",Roster!A7,\"\")","v":24},{"$f":"IF(OR(Roster!A7<>\"\",Roster!B7<>\"\"),PROPER(Roster!B7),\"\")","v":"Payton Watt"},1,6,8,1,3,1,2,1,2,2,null,2,4,null,{"$f":"IF(H7+2*F7+3*D7>0,H7+2*F7+3*D7,\"\")","v":21},{"$f":"IF(E7>0,D7/E7,\"\")","v":{"v":0.75,"d":"75%"}},{"$f":"IF(G7>0,F7/G7,\"\")","v":{"v":0.3333333333333333,"d":"33%"}},{"$f":"IF(I7>0,H7/I7,\"\")","v":{"v":0.5,"d":"50%"}},{"$f":"IF(OR(E7>0,G7 >0),(D7+F7)/(E7+G7),\"\")","v":{"v":0.6363636363636364,"d":"64%"}},{"$f":"IF(E7+G7>0,E7+G7,\"\")","v":11},{"$f":"IF(J7+K7>0,J7+K7,\"\")","v":3},{"$f":"IF(V7>=$Z$2,U7,0)","v":{"v":0.6363636363636364,"d":"64%"}},{"$f":"IF(I7>=$Z$2,T7,0)","v":{"v":0,"d":"0%"}},{"$f":"B7","v":"Payton Watt"},{"$f":"IFERROR(IF(FIND(\" \",$B7,1),CONCATENATE(LEFT($B7,1),\" \",RIGHT($B7,LEN($B7)-FIND(\" \",$B7,1)),\", \",$A7),CONCATENATE($B7,\", \",$A7)),\"\")","v":"P Watt, 24"}]
[{"$f":"IF(Roster!A8<>\"\",Roster!A8,\"\")","v":20},{"$f":"IF(OR(Roster!A8<>\"\",Roster!B8<>\"\"),PROPER(Roster!B8),\"\")","v":"Dillon Barritt"},1,3,8,1,3,null,null,2,4,3,2,null,4,2,{"$f":"IF(H8+2*F8+3*D8>0,H8+2*F8+3*D8,\"\")","v":11},{"$f":"IF(E8>0,D8/E8,\"\")","v":{"v":0.375,"d":"38%"}},{"$f":"IF(G8>0,F8/G8,\"\")","v":{"v":0.3333333333333333,"d":"33%"}},{"$f":"IF(I8>0,H8/I8,\"\")","v":""},{"$f":"IF(OR(E8>0,G8 >0),(D8+F8)/(E8+G8),\"\")","v":{"v":0.36363636363636365,"d":"36%"}},{"$f":"IF(E8+G8>0,E8+G8,\"\")","v":11},{"$f":"IF(J8+K8>0,J8+K8,\"\")","v":6},{"$f":"IF(V8>=$Z$2,U8,0)","v":{"v":0.36363636363636365,"d":"36%"}},{"$f":"IF(I8>=$Z$2,T8,0)","v":{"v":0,"d":"0%"}},{"$f":"B8","v":"Dillon Barritt"},{"$f":"IFERROR(IF(FIND(\" \",$B8,1),CONCATENATE(LEFT($B8,1),\" \",RIGHT($B8,LEN($B8)-FIND(\" \",$B8,1)),\", \",$A8),CONCATENATE($B8,\", \",$A8)),\"\")","v":"D Barritt, 20"}]
[{"$f":"IF(Roster!A9<>\"\",Roster!A9,\"\")","v":14},{"$f":"IF(OR(Roster!A9<>\"\",Roster!B9<>\"\"),PROPER(Roster!B9),\"\")","v":"Dawson Butts"},1,null,null,1,4,null,null,2,5,7,1,1,3,1,2,"",{"v":0.25,"d":"25%"},"",{"v":0.25,"d":"25%"},4,7,{"v":0,"d":"0%"},{"v":0,"d":"0%"},"Dawson Butts","D Butts, 14"]
[{"$f":"IF(Roster!A10<>\"\",Roster!A10,\"\")","v":12},{"$f":"IF(OR(Roster!A10<>\"\",Roster!B10<>\"\"),PROPER(Roster!B10),\"\")","v":"Jayden Caylor"},{"$nulls":14},"","","","","","","","",{"v":0,"d":"0%"},"Jayden Caylor","J Caylor, 12"]
[{"$f":"IF(Roster!A11<>\"\",Roster!A11,\"\")","v":23},{"$f":"IF(OR(Roster!A11<>\"\",Roster!B11<>\"\"),PROPER(Roster!B11),\"\")","v":"Clayton Louderback"},1,2,4,7,18,3,8,4,9,3,3,null,4,3,23,{"v":0.5,"d":"50%"},{"v":0.3888888888888889,"d":"39%"},{"v":0.375,"d":"38%"},{"v":0.4090909090909091,"d":"41%"},22,13,{"v":0.4090909090909091,"d":"41%"},{"v":0.375,"d":"38%"},"Clayton Louderback","C Louderback, 23"]
[{"$f":"IF(Roster!A12<>\"\",Roster!A12,\"\")","v":10},{"$f":"IF(OR(Roster!A12<>\"\",Roster!B12<>\"\"),PROPER(Roster!B12),\"\")","v":"Jess Claycomb"},1,0,2,4,7,null,null,1,2,3,1,null,2,2,8,{"v":0,"d":"0%"},{"v":0.5714285714285714,"d":"57%"},"",{"v":0.4444444444444444,"d":"44%"},9,3,{"v":0.4444444444444444,"d":"44%"},{"v":0,"d":"0%"},"Jess Claycomb","J Claycomb, 10"]
[{"$f":"IF(Roster!A13<>\"\",Roster!A13,\"\")","v":4},{"$f":"IF(OR(Roster!A13<>\"\",Roster!B13<>\"\"),PROPER(Roster!B13),\"\")","v":"Maxx Cowger"},{"$nulls":14},"","","","","","","","",{"v":0,"d":"0%"},"Maxx Cowger","M Cowger, 4"]
[{"$f":"IF(Roster!A14<>\"\",Roster!A14,\"\")","v":22},{"$f":"IF(OR(Roster!A14<>\"\",Roster!B14<>\"\"),PROPER(Roster!B14),\"\")","v":"Brayden Bruce"},1,0,2,0,2,null,null,1,null,2,1,null,2,1,"",{"v":0,"d":"0%"},{"v":0,"d":"0%"},"",{"v":0,"d":"0%"},4,1,{"v":0,"d":"0%"},{"v":0,"d":"0%"},"Brayden Bruce","B Bruce, 22"]
[{"$f":"IF(Roster!A15<>\"\",Roster!A15,\"\")","v":30},{"$f":"IF(OR(Roster!A15<>\"\",Roster!B15<>\"\"),PROPER(Roster!B15),\"\")","v":"Jo Bishop"},{"$nulls":14},"","","","","","","","",{"v":0,"d":"0%"},"Jo Bishop","J Bishop, 30"]
[{"$f":"IF(Roster!A16<>\"\",Roster!A16,\"\")","v":33},{"$f":"IF(OR(Roster!A16<>\"\",Roster!B16<>\"\"),PROPER(Roster!B16),\"\")","v":"Nolan Turner"},{"$nulls":14},"","","","","","","","",{"v":0,"d":"0%"},"Nolan Turner","N Turner, 33"]
[{"$f":"IF(Roster!A17<>\"\",Roster!A17,\"\")","v":32},{"$f":"IF(OR(Roster!A17<>\"\",Roster!B17<>\"\"),PROPER(Roster!B17),\"\")","v":"Robert Crawford"},{"$nulls":14},"","","","","","","","",{"v":0,"d":"0%"},"Robert Crawford","R Crawford, 32"]
[{"$f":"IF(Roster!A18<>\"\",Roster!A18,\"\")","v":40},{"$f":"IF(OR(Roster!A18<>\"\",Roster!B18<>\"\"),PROPER(Roster!B18),\"\")","v":"Jace Bruce"},{"$nulls":14},"","","","","","","","",{"v":0,"d":"0%"},"Jace Bruce","J Bruce, 40"]
[{"$f":"IF(Roster!A19<>\"\",Roster!A19,\"\")","v":2},{"$f":"IF(OR(Roster!A19<>\"\",Roster!B19<>\"\"),PROPER(Roster!B19),\"\")","v":"Ethan Mills"},{"$nulls":14},"","","","","","","","",{"v":0,"d":"0%"},"Ethan Mills","E Mills, 2"]
[{"$f":"IF(Roster!A20<>\"\",Roster!A20,\"\")","v":2},{"$f":"IF(OR(Roster!A20<>\"\",Roster!B20<>\"\"),PROPER(Roster!B20),\"\")","v":"Bridger Alishouse"},{"$nulls":14},"","","","","","","","",{"v":0,"d":"0%"},"Bridger Alishouse","B Alishouse, 2"]
[{"$f":"IF(Roster!A21<>\"\",Roster!A21,\"\")","v":4},{"$f":"IF(OR(Roster!A21<>\"\",Roster!B21<>\"\"),PROPER(Roster!B21),\"\")","v":"Landon Keever"},{"$nulls":14},"","","","","","","","",{"v":0,"d":"0%"},"Landon Keever","L Keever, 4"]
[{"$f":"IF(Roster!A22<>\"\",Roster!A22,\"\")","v":4},{"$f":"IF(OR(Roster!A22<>\"\",Roster!B22<>\"\"),PROPER(Roster!B22),\"\")","v":"Dj Till"},{"$nulls":14},"","","","","","","","",{"v":0,"d":"0%"},"Dj Till","D Till, 4"]
[{"$f":"IF(Roster!A23<>\"\",Roster!A23,\"\")","v":""},{"$f":"IF(OR(Roster!A23<>\"\",Roster!B23<>\"\"),PROPER(Roster!B23),\"\")","v":""},{"$nulls":14},"","","","","","","","",{"v":0,"d":"0%"},"",""]
[{"$f":"IF(Roster!A24<>\"\",Roster!A24,\"\")","v":""},{"$f":"IF(OR(Roster!A24<>\"\",Roster!B24<>\"\"),PROPER(Roster!B24),\"\")","v":""},{"$nulls":14},"","","","","","","","",{"v":0,"d":"0%"},"",""]
[{"$f":"IF(Roster!A25<>\"\",Roster!A25,\"\")","v":""},{"$f":"IF(OR(Roster!A25<>\"\",Roster!B25<>\"\"),PROPER(Roster!B25),\"\")","v":""},{"$nulls":14},"","","","","","","","",{"v":0,"d":"0%"},"",""]
[{"$f":"IF(Roster!A26<>\"\",Roster!A26,\"\")","v":""},{"$f":"IF(OR(Roster!A26<>\"\",Roster!B26<>\"\"),PROPER(Roster!B26),\"\")","v":""},{"$nulls":14},"","","","","","","","",{"v":0,"d":"0%"},"",""]
[{"$f":"IF(Roster!A27<>\"\",Roster!A27,\"\")","v":""},{"$f":"IF(OR(Roster!A27<>\"\",Roster!B27<>\"\"),PROPER(Roster!B27),\"\")","v":""},{"$nulls":14},"","","","","","","","",{"v":0,"d":"0%"},"",""]
[{"$f":"IF(Roster!A28<>\"\",Roster!A28,\"\")","v":""},{"$f":"IF(OR(Roster!A28<>\"\",Roster!B28<>\"\"),PROPER(Roster!B28),\"\")","v":""},{"$nulls":14},"","","","","","","","",{"v":0,"d":"0%"},"",""]
[{"$f":"IF(Roster!A29<>\"\",Roster!A29,\"\")","v":""},{"$f":"IF(OR(Roster!A29<>\"\",Roster!B29<>\"\"),PROPER(Roster!B29),\"\")","v":""},{"$nulls":14},"","","","","","","","",{"v":0,"d":"0%"},"",""]
[{"$f":"IF(Roster!A30<>\"\",Roster!A30,\"\")","v":""},{"$f":"IF(OR(Roster!A30<>\"\",Roster!B30<>\"\"),PROPER(Roster!B30),\"\")","v":"Team"},1,{"$nulls":6},4,4,{"$nulls":5},"","","","","","",8,"",{"v":0,"d":"0%"},"Team",{"$f":"IFERROR(IF(FIND(\" \",$B30,1),CONCATENATE(LEFT($B30,1),\" \",RIGHT($B30,LEN($B30)-FIND(\" \",$B30,1)),\", \",$A30),CONCATENATE($B30,\", \",$A30)),\"\")","v":""}]
[null,"Team Totals",{"$f":"IF(COUNTA($C$7:$C$30)>0,1,\"\")","v":1},{"$f":"SUM(D7:D30)","v":11},{"$f":"SUM(E7:E30)","v":24},14,37,4,10,15,26,20,8,3,{"$f":"SUM(O7:O30)","v":19},{"$f":"SUM(P7:P30)","v":9},{"$f":"IF(H31+2*F31+3*D31>0,H31+2*F31+3*D31,IF(C4>0,C4,\"\"))","v":65},{"$f":"IF(E31>0,D31/E31,\"\")","v":{"v":0.4583333333333333,"d":"46%"}},{"$f":"IF(G31>0,F31/G31,\"\")","v":{"v":0.3783783783783784,"d":"38%"}},{"$f":"IF(I31>0,H31/I31,\"\")","v":{"v":0.4,"d":"40%"}},{"$f":"IF(OR(E31>0,G31 >0),(D31+F31)/(E31+G31),\"\")","v":{"v":0.4098360655737705,"d":"41%"}},{"$f":"IF(E31+G31>0,E31+G31,\"\")","v":61},{"$f":"IF(J31+K31>0,J31+K31,\"\")","v":41},{"v":0.4098360655737705,"d":"41%"},{"$f":"IF(I31>=$Z$2,T31,0)","v":{"v":0.4,"d":"40%"}}]
[null,"Opponent Totals",{"$f":"IF(SUM(D32:P32)>0,1,\"\")","v":1},7,18,20,55,5,7,20,23,13,12,5,13,10,{"$f":"IF(H32+2*F32+3*D32>0,H32+2*F32+3*D32,IF(D4>0,D4,\"\"))","v":66},{"$f":"IF(E32>0,D32/E32,\"\")","v":{"v":0.3888888888888889,"d":"39%"}},{"$f":"IF(G32>0,F32/G32,\"\")","v":{"v":0.36363636363636365,"d":"36%"}},{"$f":"IF(I32>0,H32/I32,\"\")","v":{"v":0.7142857142857143,"d":"71%"}},{"$f":"IF(OR(E32>0,G32 >0),(D32+F32)/(E32+G32),\"\")","v":{"v":0.3698630136986301,"d":"37%"}},{"$f":"IF(E32+G32>0,E32+G32,\"\")","v":73},{"$f":"IF(J32+K32>0,J32+K32,\"\")","v":43},{"v":0.3698630136986301,"d":"37%"},{"v":0,"d":"0%"}]
[null,null,"Peak Performances"]
[]
[null,"Top Points","Player",null,"Top REB","Player",null,"Top AST","Player"]
[null,{"$f":"MAX(Q$7:Q$30)","v":23},{"$f":"IFERROR(INDEX($AA$7:$AA$30,SMALL(IF(Q$7:Q$30=$B$36,ROW(Q$7:Q$30)-6),ROW(Q7)-6)),\" \")","v":"C Louderback, 23"},null,{"$f":"MAX(W$7:W$30)","v":13},{"$f":"IFERROR(INDEX($AA$7:$AA$30,SMALL(IF(W$7:W$30=$E$36,ROW(W$7:W$30)-6),ROW(W7)-6)),\" \")","v":"C Louderback, 23"},null,{"$f":"MAX(L$7:L$30)","v":7},{"$f":"IFERROR(INDEX($AA$7:$AA$30,SMALL(IF(L$7:L$30=$H$36,ROW(L$7:L$30)-6),ROW(L7)-6)),\" \")","v":"D Butts, 14"}]
[null,null,{"$f":"IFERROR(INDEX($AA$7:$AA$30,SMALL(IF(Q$7:Q$30=$B$36,ROW(Q$7:Q$30)-6),ROW(Q8)-6)),\" \")","v":" "},null,null,{"$f":"IFERROR(INDEX($AA$7:$AA$30,SMALL(IF(W$7:W$30=$E$36,ROW(W$7:W$30)-6),ROW(W8)-6)),\" \")","v":" "},null,null,{"$f":"IFERROR(INDEX($AA$7:$AA$30,SMALL(IF(L$7:L$30=$H$36,ROW(L$7:L$30)-6),ROW(L8)-6)),\" \")","v":" "}]
[null,null,{"$f":"IFERROR(INDEX($AA$7:$AA$30,SMALL(IF(Q$7:Q$30=$B$36,ROW(Q$7:Q$30)-6),ROW(Q9)-6)),\" \")","v":" "},null,null,{"$f":"IFERROR(INDEX($AA$7:$AA$30,SMALL(IF(W$7:W$30=$E$36,ROW(W$7:W$30)-6),ROW(W9)-6)),\" \")","v":" "},null,null,{"$f":"IFERROR(INDEX($AA$7:$AA$30,SMALL(IF(L$7:L$30=$H$36,ROW(L$7:L$30)-6),ROW(L9)-6)),\" \")","v":" "}]
[null,null,{"$f":"IFERROR(INDEX($AA$7:$AA$30,SMALL(IF(Q$7:Q$30=$B$36,ROW(Q$7:Q$30)-6),ROW(Q10)-6)),\" \")","v":" "},null,null,{"$f":"IFERROR(INDEX($AA$7:$AA$30,SMALL(IF(W$7:W$30=$E$36,ROW(W$7:W$30)-6),ROW(W10)-6)),\" \")","v":" "},null,null,{"$f":"IFERROR(INDEX($AA$7:$AA$30,SMALL(IF(L$7:L$30=$H$36,ROW(L$7:L$30)-6),ROW(L10)-6)),\" \")","v":" "}]
[null,null,{"$f":"IFERROR(INDEX($AA$7:$AA$30,SMALL(IF(Q$7:Q$30=$B$36,ROW(Q$7:Q$30)-6),ROW(Q11)-6)),\" \")","v":" "},null,null,{"$f":"IFERROR(INDEX($AA$7:$AA$30,SMALL(IF(W$7:W$30=$E$36,ROW(W$7:W$30)-6),ROW(W11)-6)),\" \")","v":" "},null,null,{"$f":"IFERROR(INDEX($AA$7:$AA$30,SMALL(IF(L$7:L$30=$H$36,ROW(L$7:L$30)-6),ROW(L11)-6)),\" \")","v":" "}]
[null,null,{"$f":"IFERROR(INDEX($B12:B$30,SMALL(IF(Q$7:Q$30=$B$36,ROW(Q$7:Q$30)-6),ROW(Q12)-6)),\" \")","v":" "}]
[null,null,{"$f":"TRIM(C36)","v":"C Louderback, 23"},null,null,{"$f":"TRIM(F36)","v":"C Louderback, 23"},null,null,{"$f":"TRIM(I36)","v":"D Butts, 14"}]
[null,null,{"$f":"TRIM(C37)","v":""},null,null,{"$f":"TRIM(F37)","v":""},null,null,{"$f":"TRIM(I37)","v":""}]
[null,null,"",null,null,"",null,null,""]
[null,null,"",null,null,"",null,null,""]
[null,null,"",null,null,"",null,null,""]
[]
[]
[null,{"$f":"COUNTIF(C42:C46,\"?*\")","v":1},null,null,{"$f":"COUNTIF(F42:F46,\"?*\")","v":1},null,null,{"$f":"COUNTIF(I42:I46,\"?*\")","v":1}]

{"sheet":"game1 (15)","index":17,"n_rows":49,"n_cols":27,"rows_kept":49,"merged":[[0,6,0,11],[1,2,1,5],[1,7,1,9],[1,10,1,12],[32,2,32,17]]}
[]
[{"$f":"IF(AND(Roster!$D$1=VLOOKUP(C2,Roster!$L$5:$R$72,2,FALSE),Roster!$D$3=VLOOKUP(C2,Roster!$L$5:$R$72,4,FALSE)),\"R\",\"\")","v":"R"},"Opponent","Moorcroft",{"$nulls":4},"Date of Game",null,null,"2018-02-01",{"$nulls":12},{"$f":"IF(OR($H$4=1,$J$4=1),CONCATENATE($C$2,\": \",MONTH($K$2),\"/\",DAY($K$2),\"/\",YEAR($K$2)-2000, \" **\" ),CONCATENATE($C$2,\": \",MONTH($K$2),\"/\",DAY($K$2),\"/\",YEAR($K$2)-2000))","v":"Moorcroft: 2/1/18 **"},null,8]
[{"$nulls":6},"Win","Conf W","Loss","Conf L",null,"Forfeit W?",null,"Forfeit L?",{"$nulls":9},{"$f":"IF($C$4>$D$4,CONCATENATE(Roster!$B$1,\" \",$C$4,\", \",$C$2,\" \",$D$4, \" \",$E$4),CONCATENATE($C$2,\" \",$D$4,\", \",Roster!$B$1,\" \",$C$4,\" \", $E$4 ))","v":"Upton 64, Moorcroft 41 "}]
[null,"Score",64,41,null,null,{"$f":"IF(OR($L$4=1,$C$4>$D$4),1,\"\")","v":1},1,{"$f":"IF(OR($N$4=1,$C$4<$D$4),1,\"\")","v":""}]
[]
["#","PLAYER","GP","3FGM","3FGA","2FGM","2FGA","FTM","FTA","OFF REB","DEF REB","AST","STL","BLK","TO","FOUL","TL PTS","3FG %","2FG %","FT %","FG%","FGA","REB","Elig FG%","Elig FT%","Name2","FI,LastName,#"]
[{"$f":"IF(Roster!A7<>\"\",Roster!A7,\"\")","v":24},{"$f":"IF(OR(Roster!A7<>\"\",Roster!B7<>\"\"),PROPER(Roster!B7),\"\")","v":"Payton Watt"},1,0,4,8,10,null,null,4,5,2,3,3,2,2,{"$f":"IF(H7+2*F7+3*D7>0,H7+2*F7+3*D7,\"\")","v":16},{"$f":"IF(E7>0,D7/E7,\"\")","v":{"v":0,"d":"0%"}},{"$f":"IF(G7>0,F7/G7,\"\")","v":{"v":0.8,"d":"80%"}},{"$f":"IF(I7>0,H7/I7,\"\")","v":""},{"$f":"IF(OR(E7>0,G7 >0),(D7+F7)/(E7+G7),\"\")","v":{"v":0.5714285714285714,"d":"57%"}},{"$f":"IF(E7+G7>0,E7+G7,\"\")","v":14},{"$f":"IF(J7+K7>0,J7+K7,\"\")","v":9},{"$f":"IF(V7>=$Z$2,U7,0)","v":{"v":0.5714285714285714,"d":"57%"}},{"$f":"IF(I7>=$Z$2,T7,0)","v":{"v":0,"d":"0%"}},{"$f":"B7","v":"Payton Watt"},{"$f":"IFERROR(IF(FIND(\" \",$B7,1),CONCATENATE(LEFT($B7,1),\" \",RIGHT($B7,LEN($B7)-FIND(\" \",$B7,1)),\", \",$A7),CONCATENATE($B7,\", \",$A7)),\"\")","v":"P Watt, 24"}]
[{"$f":"IF(Roster!A8<>\"\",Roster!A8,\"\")","v":20},{"$f":"IF(OR(Roster!A8<>\"\",Roster!B8<>\"\"),PROPER(Roster!B8),\"\")","v":"Dillon Barritt"},1,0,6,2,4,1,2,1,3,7,3,1,3,2,{"$f":"IF(H8+2*F8+3*D8>0,H8+2*F8+3*D8,\"\")","v":5},{"$f":"IF(E8>0,D8/E8,\"\")","v":{"v":0,"d":"0%"}},{"$f":"IF(G8>0,F8/G8,\"\")","v":{"v":0.5,"d":"50%"}},{"$f":"IF(I8>0,H8/I8,\"\")","v":{"v":0.5,"d":"50%"}},{"$f":"IF(OR(E8>0,G8 >0),(D8+F8)/(E8+G8),\"\")","v":{"v":0.2,"d":"20%"}},{"$f":"IF(E8+G8>0,E8+G8,\"\")","v":10},{"$f":"IF(J8+K8>0,J8+K8,\"\")","v":4},{"$f":"IF(V8>=$Z$2,U8,0)","v":{"v":0.2,"d":"20%"}},{"$f":"IF(I8>=$Z$2,T8,0)","v":{"v":0,"d":"0%"}},{"$f":"B8","v":"Dillon Barritt"},{"$f":"IFERROR(IF(FIND(\" \",$B8,1),CONCATENATE(LEFT($B8,1),\" \",RIGHT($B8,LEN($B8)-FIND(\" \",$B8,1)),\", \",$A8),CONCATENATE($B8,\", \",$A8)),\"\")","v":"D Barritt, 20"}]
[{"$f":"IF(Roster!A9<>\"\",Roster!A9,\"\")","v":14},{"$f":"IF(OR(Roster!A9<>\"\",Roster!B9<>\"\"),PROPER(Roster!B9),\"\")","v":"Dawson Butts"},1,null,null,1,3,0,2,1,3,2,4,null,null,1,2,"",{"v":0.3333333333333333,"d":"33%"},{"v":0,"d":"0%"},{"v":0.3333333333333333,"d":"33%"},3,4,{"v":0,"d":"0%"},{"v":0,"d":"0%"},"Dawson Butts","D Butts, 14"]
[{"$f":"IF(Roster!A10<>\"\",Roster!A10,\"\")","v":12},{"$f":"IF(OR(Roster!A10<>\"\",Roster!B10<>\"\"),PROPER(Roster!B10),\"\")","v":"Jayden Caylor"},{"$nulls":14},"","","","","","","","",{"v":0,"d":"0%"},"Jayden Caylor","J Caylor, 12"]
[{"$f":"IF(Roster!A11<>\"\",Roster!A11,\"\")","v":23},{"$f":"IF(OR(Roster!A11<>\"\",Roster!B11<>\"\"),PROPER(Roster!B11),\"\")","v":"Clayton Louderback"},1,1,3,11,15,2,2,4,4,null,2,1,null,null,27,{"v":0.3333333333333333,"d":"33%"},{"v":0.7333333333333333,"d":"73%"},{"v":1,"d":"100%"},{"v":0.6666666666666666,"d":"67%"},18,8,{"v":0.6666666666666666,"d":"67%"},{"v":0,"d":"0%"},"Clayton Louderback","C Louderback, 23"]
[{"$f":"IF(Roster!A12<>\"\",Roster!A12,\"\")","v":10},{"$f":"IF(OR(Roster!A12<>\"\",Roster!B12<>\"\"),PROPER(Roster!B12),\"\")","v":"Jess Claycomb"},1,0,2,3,4,2,3,1,4,3,1,null,null,2,8,{"v":0,"d":"0%"},{"v":0.75,"d":"75%"},{"v":0.6666666666666666,"d":"67%"},{"v":0.5,"d":"50%"},6,5,{"v":0,"d":"0%"},{"v":0,"d":"0%"},"Jess Claycomb","J Claycomb, 10"]
[{"$f":"IF(Roster!A13<>\"\",Roster!A13,\"\")","v":4},{"$f":"IF(OR(Roster!A13<>\"\",Roster!B13<>\"\"),PROPER(Roster!B13),\"\")","v":"Maxx Cowger"},{"$nulls":14},"","","","","","","","",{"v":0,"d":"0%"},"Maxx Cowger","M Cowger, 4"]
[{"$f":"IF(Roster!A14<>\"\",Roster!A14,\"\")","v":22},{"$f":"IF(OR(Roster!A14<>\"\",Roster!B14<>\"\"),PROPER(Roster!B14),\"\")","v":"Brayden Bruce"},1,0,1,1,3,null,null,1,1,5,null,null,4,1,2,{"v":0,"d":"0%"},{"v":0.3333333333333333,"d":"33%"},"",{"v":0.25,"d":"25%"},4,2,{"v":0,"d":"0%"},{"v":0,"d":"0%"},"Brayden Bruce","B Bruce, 22"]
[{"$f":"IF(Roster!A15<>\"\",Roster!A15,\"\")","v":30},{"$f":"IF(OR(Roster!A15<>\"\",Roster!B15<>\"\"),PROPER(Roster!B15),\"\")","v":"Jo Bishop"},1,null,null,0,1,2,2,1,2,{"$nulls":3},1,null,2,"",{"v":0,"d":"0%"},{"v":1,"d":"100%"},{"v":0,"d":"0%"},1,3,{"v":0,"d":"0%"},{"v":0,"d":"0%"},"Jo Bishop","J Bishop, 30"]
[{"$f":"IF(Roster!A16<>\"\",Roster!A16,\"\")","v":33},{"$f":"IF(OR(Roster!A16<>\"\",Roster!B16<>\"\"),PROPER(Roster!B16),\"\")","v":"Nolan Turner"},1,null,null,0,2,{"$nulls":3},1,{"$nulls":5},"","",{"v":0,"d":"0%"},"",{"v":0,"d":"0%"},2,1,{"v":0,"d":"0%"},{"v":0,"d":"0%"},"Nolan Turner","N Turner, 33"]
[{"$f":"IF(Roster!A17<>\"\",Roster!A17,\"\")","v":32},{"$f":"IF(OR(Roster!A17<>\"\",Roster!B17<>\"\"),PROPER(Roster!B17),\"\")","v":"Robert Crawford"},1,null,null,1,1,{"$nulls":7},1,1,2,"",{"v":1,"d":"100%"},"",{"v":1,"d":"100%"},1,"",{"v":0,"d":"0%"},{"v":0,"d":"0%"},"Robert Crawford","R Crawford, 32"]
[{"$f":"IF(Roster!A18<>\"\",Roster!A18,\"\")","v":40},{"$f":"IF(OR(Roster!A18<>\"\",Roster!B18<>\"\"),PROPER(Roster!B18),\"\")","v":"Jace Bruce"},1,0,1,{"$nulls":11},"",{"v":0,"d":"0%"},"","",{"v":0,"d":"0%"},1,"",{"v":0,"d":"0%"},{"v":0,"d":"0%"},"Jace Bruce","J Bruce, 40"]
[{"$f":"IF(Roster!A19<>\"\",Roster!A19,\"\")","v":2},{"$f":"IF(OR(Roster!A19<>\"\",Roster!B19<>\"\"),PROPER(Roster!B19),\"\")","v":"Ethan Mills"},1,{"$nulls":13},"","","","","","","","",{"v":0,"d":"0%"},"Ethan Mills","E Mills, 2"]
[{"$f":"IF(Roster!A20<>\"\",Roster!A20,\"\")","v":2},{"$f":"IF(OR(Roster!A20<>\"\",Roster!B20<>\"\"),PROPER(Roster!B20),\"\")","v":"Bridger Alishouse"},{"$nulls":14},"","","","","","","","",{"v":0,"d":"0%"},"Bridger Alishouse","B Alishouse, 2"]
[{"$f":"IF(Roster!A21<>\"\",Roster!A21,\"\")","v":4},{"$f":"IF(OR(Roster!A21<>\"\",Roster!B21<>\"\"),PROPER(Roster!B21),\"\")","v":"Landon Keever"},{"$nulls":14},"","","","","","","","",{"v":0,"d":"0%"},"Landon Keever","L Keever, 4"]
[{"$f":"IF(Roster!A22<>\"\",Roster!A22,\"\")","v":4},{"$f":"IF(OR(Roster!A22<>\"\",Roster!B22<>\"\"),PROPER(Roster!B22),\"\")","v":"Dj Till"},1,{"$nulls":6},1,{"$nulls":6},"","","","","","",1,"",{"v":0,"d":"0%"},"Dj Till","D Till, 4"]
[{"$f":"IF(Roster!A23<>\"\",Roster!A23,\"\")","v":""},{"$f":"IF(OR(Roster!A23<>\"\",Roster!B23<>\"\"),PROPER(Roster!B23),\"\")","v":""},{"$nulls":14},"","","","","","","","",{"v":0,"d":"0%"},"",""]
[{"$f":"IF(Roster!A24<>\"\",Roster!A24,\"\")","v":""},{"$f":"IF(OR(Roster!A24<>\"\",Roster!B24<>\"\"),PROPER(Roster!B24),\"\")","v":""},{"$nulls":14},"","","","","","","","",{"v":0,"d":"0%"},"",""]
[{"$f":"IF(Roster!A25<>\"\",Roster!A25,\"\")","v":""},{"$f":"IF(OR(Roster!A25<>\"\",Roster!B25<>\"\"),PROPER(Roster!B25),\"\")","v":""},{"$nulls":14},"","","","","","","","",{"v":0,"d":"0%"},"",""]
[{"$f":"IF(Roster!A26<>\"\",Roster!A26,\"\")","v":""},{"$f":"IF(OR(Roster!A26<>\"\",Roster!B26<>\"\"),PROPER(Roster!B26),\"\")","v":""},{"$nulls":14},"","","","","","","","",{"v":0,"d":"0%"},"",""]
[{"$f":"IF(Roster!A27<>\"\",Roster!A27,\"\")","v":""},{"$f":"IF(OR(Roster!A27<>\"\",Roster!B27<>\"\"),PROPER(Roster!B27),\"\")","v":""},{"$nulls":14},"","","","","","","","",{"v":0,"d":"0%"},"",""]
[{"$f":"IF(Roster!A28<>\"\",Roster!A28,\"\")","v":""},{"$f":"IF(OR(Roster!A28<>\"\",Roster!B28<>\"\"),PROPER(Roster!B28),\"\")","v":""},{"$nulls":14},"","","","","","","","",{"v":0,"d":"0%"},"",""]
[{"$f":"IF(Roster!A29<>\"\",Roster!A29,\"\")","v":""},{"$f":"IF(OR(Roster!A29<>\"\",Roster!B29<>\"\"),PROPER(Roster!B29),\"\")","v":""},{"$nulls":14},"","","","","","","","",{"v":0,"d":"0%"},"",""]
[{"$f":"IF(Roster!A30<>\"\",Roster!A30,\"\")","v":""},{"$f":"IF(OR(Roster!A30<>\"\",Roster!B30<>\"\"),PROPER(Roster!B30),\"\")","v":"Team"},1,{"$nulls":7},2,{"$nulls":5},"","","","","","",2,"",{"v":0,"d":"0%"},"Team",{"$f":"IFERROR(IF(FIND(\" \",$B30,1),CONCATENATE(LEFT($B30,1),\" \",RIGHT($B30,LEN($B30)-FIND(\" \",$B30,1)),\", \",$A30),CONCATENATE($B30,\", \",$A30)),\"\")","v":""}]
[null,"Team Totals",{"$f":"IF(COUNTA($C$7:$C$30)>0,1,\"\")","v":1},{"$f":"SUM(D7:D30)","v":1},{"$f":"SUM(E7:E30)","v":17},27,43,7,11,14,25,19,13,5,{"$f":"SUM(O7:O30)","v":11},{"$f":"SUM(P7:P30)","v":9},{"$f":"IF(H31+2*F31+3*D31>0,H31+2*F31+3*D31,IF(C4>0,C4,\"\"))","v":64},{"$f":"IF(E31>0,D31/E31,\"\")","v":{"v":0.058823529411764705,"d":"6%"}},{"$f":"IF(G31>0,F31/G31,\"\")","v":{"v":0.627906976744186,"d":"63%"}},{"$f":"IF(I31>0,H31/I31,\"\")","v":{"v":0.6363636363636364,"d":"64%"}},{"$f":"IF(OR(E31>0,G31 >0),(D31+F31)/(E31+G31),\"\")","v":{"v":0.4666666666666667,"d":"47%"}},{"$f":"IF(E31+G31>0,E31+G31,\"\")","v":60},{"$f":"IF(J31+K31>0,J31+K31,\"\")","v":39},{"v":0.4666666666666667,"d":"47%"},{"$f":"IF(I31>=$Z$2,T31,0)","v":{"v":0.6363636363636364,"d":"64%"}}]
[null,"Opponent Totals",{"$f":"IF(SUM(D32:P32)>0,1,\"\")","v":1},5,23,12,27,2,7,9,20,7,4,null,20,9,{"$f":"IF(H32+2*F32+3*D32>0,H32+2*F32+3*D32,IF(D4>0,D4,\"\"))","v":41},{"$f":"IF(E32>0,D32/E32,\"\")","v":{"v":0.21739130434782608,"d":"22%"}},{"$f":"IF(G32>0,F32/G32,\"\")","v":{"v":0.4444444444444444,"d":"44%"}},{"$f":"IF(I32>0,H32/I32,\"\")","v":{"v":0.2857142857142857,"d":"29%"}},{"$f":"IF(OR(E32>0,G32 >0),(D32+F32)/(E32+G32),\"\")","v":{"v":0.34,"d":"34%"}},{"$f":"IF(E32+G32>0,E32+G32,\"\")","v":50},{"$f":"IF(J32+K32>0,J32+K32,\"\")","v":29},{"v":0.34,"d":"34%"},{"v":0,"d":"0%"}]
[null,null,"Peak Performances"]
[]
[null,"Top Points","Player",null,"Top REB","Player",null,"Top AST","Player"]
[null,{"$f":"MAX(Q$7:Q$30)","v":27},{"$f":"IFERROR(INDEX($AA$7:$AA$30,SMALL(IF(Q$7:Q$30=$B$36,ROW(Q$7:Q$30)-6),ROW(Q7)-6)),\" \")","v":"C Louderback, 23"},null,{"$f":"MAX(W$7:W$30)","v":9},{"$f":"IFERROR(INDEX($AA$7:$AA$30,SMALL(IF(W$7:W$30=$E$36,ROW(W$7:W$30)-6),ROW(W7)-6)),\" \")","v":"P Watt, 24"},null,{"$f":"MAX(L$7:L$30)","v":7},{"$f":"IFERROR(INDEX($AA$7:$AA$30,SMALL(IF(L$7:L$30=$H$36,ROW(L$7:L$30)-6),ROW(L7)-6)),\" \")","v":"D Barritt, 20"}]
[null,null,{"$f":"IFERROR(INDEX($AA$7:$AA$30,SMALL(IF(Q$7:Q$30=$B$36,ROW(Q$7:Q$30)-6),ROW(Q8)-6)),\" \")","v":" "},null,null,{"$f":"IFERROR(INDEX($AA$7:$AA$30,SMALL(IF(W$7:W$30=$E$36,ROW(W$7:W$30)-6),ROW(W8)-6)),\" \")","v":" "},null,null,{"$f":"IFERROR(INDEX($AA$7:$AA$30,SMALL(IF(L$7:L$30=$H$36,ROW(L$7:L$30)-6),ROW(L8)-6)),\" \")","v":" "}]
[null,null,{"$f":"IFERROR(INDEX($AA$7:$AA$30,SMALL(IF(Q$7:Q$30=$B$36,ROW(Q$7:Q$30)-6),ROW(Q9)-6)),\" \")","v":" "},null,null,{"$f":"IFERROR(INDEX($AA$7:$AA$30,SMALL(IF(W$7:W$30=$E$36,ROW(W$7:W$30)-6),ROW(W9)-6)),\" \")","v":" "},null,null,{"$f":"IFERROR(INDEX($AA$7:$AA$30,SMALL(IF(L$7:L$30=$H$36,ROW(L$7:L$30)-6),ROW(L9)-6)),\" \")","v":" "}]
[null,null,{"$f":"IFERROR(INDEX($AA$7:$AA$30,SMALL(IF(Q$7:Q$30=$B$36,ROW(Q$7:Q$30)-6),ROW(Q10)-6)),\" \")","v":" "},null,null,{"$f":"IFERROR(INDEX($AA$7:$AA$30,SMALL(IF(W$7:W$30=$E$36,ROW(W$7:W$30)-6),ROW(W10)-6)),\" \")","v":" "},null,null,{"$f":"IFERROR(INDEX($AA$7:$AA$30,SMALL(IF(L$7:L$30=$H$36,ROW(L$7:L$30)-6),ROW(L10)-6)),\" \")","v":" "}]
[null,null,{"$f":"IFERROR(INDEX($AA$7:$AA$30,SMALL(IF(Q$7:Q$30=$B$36,ROW(Q$7:Q$30)-6),ROW(Q11)-6)),\" \")","v":" "},null,null,{"$f":"IFERROR(INDEX($AA$7:$AA$30,SMALL(IF(W$7:W$30=$E$36,ROW(W$7:W$30)-6),ROW(W11)-6)),\" \")","v":" "},null,null,{"$f":"IFERROR(INDEX($AA$7:$AA$30,SMALL(IF(L$7:L$30=$H$36,ROW(L$7:L$30)-6),ROW(L11)-6)),\" \")","v":" "}]
[null,null,{"$f":"IFERROR(INDEX($B12:B$30,SMALL(IF(Q$7:Q$30=$B$36,ROW(Q$7:Q$30)-6),ROW(Q12)-6)),\" \")","v":" "}]
[null,null,{"$f":"TRIM(C36)","v":"C Louderback, 23"},null,null,{"$f":"TRIM(F36)","v":"P Watt, 24"},null,null,{"$f":"TRIM(I36)","v":"D Barritt, 20"}]
[null,null,{"$f":"TRIM(C37)","v":""},null,null,{"$f":"TRIM(F37)","v":""},null,null,{"$f":"TRIM(I37)","v":""}]
[null,null,"",null,null,"",null,null,""]
[null,null,"",null,null,"",null,null,""]
[null,null,"",null,null,"",null,null,""]
[]
[]
[null,{"$f":"COUNTIF(C42:C46,\"?*\")","v":1},null,null,{"$f":"COUNTIF(F42:F46,\"?*\")","v":1},null,null,{"$f":"COUNTIF(I42:I46,\"?*\")","v":1}]

{"sheet":"game1 (16)","index":18,"n_rows":49,"n_cols":27,"rows_kept":49,"merged":[[0,6,0,11],[1,2,1,5],[1,7,1,9],[1,10,1,12],[32,2,32,17]]}
[]
[{"$f":"IF(AND(Roster!$D$1=VLOOKUP(C2,Roster!$L$5:$R$72,2,FALSE),Roster!$D$3=VLOOKUP(C2,Roster!$L$5:$R$72,4,FALSE)),\"R\",\"\")","v":"R"},"Opponent","Tongue River",{"$nulls":4},"Date of Game",null,null,"2018-02-02",{"$nulls":12},{"$f":"IF(OR($H$4=1,$J$4=1),CONCATENATE($C$2,\": \",MONTH($K$2),\"/\",DAY($K$2),\"/\",YEAR($K$2)-2000, \" **\" ),CONCATENATE($C$2,\": \",MONTH($K$2),\"/\",DAY($K$2),\"/\",YEAR($K$2)-2000))","v":"Tongue River: 2/2/18 **"},null,8]
[{"$nulls":6},"Win","Conf W","Loss","Conf L",null,"Forfeit W?",null,"Forfeit L?",{"$nulls":9},{"$f":"IF($C$4>$D$4,CONCATENATE(Roster!$B$1,\" \",$C$4,\", \",$C$2,\" \",$D$4, \" \",$E$4),CONCATENATE($C$2,\" \",$D$4,\", \",Roster!$B$1,\" \",$C$4,\" \", $E$4 ))","v":"Upton 83, Tongue River 65 "}]
[null,"Score",83,65,null,null,{"$f":"IF(OR($L$4=1,$C$4>$D$4),1,\"\")","v":1},1,{"$f":"IF(OR($N$4=1,$C$4<$D$4),1,\"\")","v":""}]
[]
["#","PLAYER","GP","3FGM","3FGA","2FGM","2FGA","FTM","FTA","OFF REB","DEF REB","AST","STL","BLK","TO","FOUL","TL PTS","3FG %","2FG %","FT %","FG%","FGA","REB","Elig FG%","Elig FT%","Name2","FI,LastName,#"]
[{"$f":"IF(Roster!A7<>\"\",Roster!A7,\"\")","v":24},{"$f":"IF(OR(Roster!A7<>\"\",Roster!B7<>\"\"),PROPER(Roster!B7),\"\")","v":"Payton Watt"},1,4,11,4,4,1,1,2,5,2,null,null,2,2,{"$f":"IF(H7+2*F7+3*D7>0,H7+2*F7+3*D7,\"\")","v":21},{"$f":"IF(E7>0,D7/E7,\"\")","v":{"v":0.36363636363636365,"d":"36%"}},{"$f":"IF(G7>0,F7/G7,\"\")","v":{"v":1,"d":"100%"}},{"$f":"IF(I7>0,H7/I7,\"\")","v":{"v":1,"d":"100%"}},{"$f":"IF(OR(E7>0,G7 >0),(D7+F7)/(E7+G7),\"\")","v":{"v":0.5333333333333333,"d":"53%"}},{"$f":"IF(E7+G7>0,E7+G7,\"\")","v":15},{"$f":"IF(J7+K7>0,J7+K7,\"\")","v":7},{"$f":"IF(V7>=$Z$2,U7,0)","v":{"v":0.5333333333333333,"d":"53%"}},{"$f":"IF(I7>=$Z$2,T7,0)","v":{"v":0,"d":"0%"}},{"$f":"B7","v":"Payton Watt"},{"$f":"IFERROR(IF(FIND(\" \",$B7,1),CONCATENATE(LEFT($B7,1),\" \",RIGHT($B7,LEN($B7)-FIND(\" \",$B7,1)),\", \",$A7),CONCATENATE($B7,\", \",$A7)),\"\")","v":"P Watt, 24"}]
[{"$f":"IF(Roster!A8<>\"\",Roster!A8,\"\")","v":20},{"$f":"IF(OR(Roster!A8<>\"\",Roster!B8<>\"\"),PROPER(Roster!B8),\"\")","v":"Dillon Barritt"},1,0,6,4,6,null,null,1,2,4,1,null,1,2,{"$f":"IF(H8+2*F8+3*D8>0,H8+2*F8+3*D8,\"\")","v":8},{"$f":"IF(E8>0,D8/E8,\"\")","v":{"v":0,"d":"0%"}},{"$f":"IF(G8>0,F8/G8,\"\")","v":{"v":0.6666666666666666,"d":"67%"}},{"$f":"IF(I8>0,H8/I8,\"\")","v":""},{"$f":"IF(OR(E8>0,G8 >0),(D8+F8)/(E8+G8),\"\")","v":{"v":0.3333333333333333,"d":"33%"}},{"$f":"IF(E8+G8>0,E8+G8,\"\")","v":12},{"$f":"IF(J8+K8>0,J8+K8,\"\")","v":3},{"$f":"IF(V8>=$Z$2,U8,0)","v":{"v":0.3333333333333333,"d":"33%"}},{"$f":"IF(I8>=$Z$2,T8,0)","v":{"v":0,"d":"0%"}},{"$f":"B8","v":"Dillon Barritt"},{"$f":"IFERROR(IF(FIND(\" \",$B8,1),CONCATENATE(LEFT($B8,1),\" \",RIGHT($B8,LEN($B8)-FIND(\" \",$B8,1)),\", \",$A8),CONCATENATE($B8,\", \",$A8)),\"\")","v":"D Barritt, 20"}]
[{"$f":"IF(Roster!A9<>\"\",Roster!A9,\"\")","v":14},{"$f":"IF(OR(Roster!A9<>\"\",Roster!B9<>\"\"),PROPER(Roster!B9),\"\")","v":"Dawson Butts"},1,0,0,1,2,1,6,1,2,7,4,null,0,2,3,"",{"v":0.5,"d":"50%"},{"v":0.16666666666666666,"d":"17%"},{"v":0.5,"d":"50%"},2,3,{"v":0,"d":"0%"},{"v":0,"d":"0%"},"Dawson Butts","D Butts, 14"]
[{"$f":"IF(Roster!A10<>\"\",Roster!A10,\"\")","v":12},{"$f":"IF(OR(Roster!A10<>\"\",Roster!B10<>\"\"),PROPER(Roster!B10),\"\")","v":"Jayden Caylor"},{"$nulls":14},"","","","","","","","",{"v":0,"d":"0%"},"Jayden Caylor","J Caylor, 12"]
[{"$f":"IF(Roster!A11<>\"\",Roster!A11,\"\")","v":23},{"$f":"IF(OR(Roster!A11<>\"\",Roster!B11<>\"\"),PROPER(Roster!B11),\"\")","v":"Clayton Louderback"},1,null,null,11,16,3,5,4,4,5,5,1,6,2,25,"",{"v":0.6875,"d":"69%"},{"v":0.6,"d":"60%"},{"v":0.6875,"d":"69%"},16,8,{"v":0.6875,"d":"69%"},{"v":0,"d":"0%"},"Clayton Louderback","C Louderback, 23"]
[{"$f":"IF(Roster!A12<>\"\",Roster!A12,\"\")","v":10},{"$f":"IF(OR(Roster!A12<>\"\",Roster!B12<>\"\"),PROPER(Roster!B12),\"\")","v":"Jess Claycomb"},1,1,2,7,8,null,null,1,5,5,2,null,3,2,17,{"v":0.5,"d":"50%"},{"v":0.875,"d":"88%"},"",{"v":0.8,"d":"80%"},10,6,{"v":0.8,"d":"80%"},{"v":0,"d":"0%"},"Jess Claycomb","J Claycomb, 10"]
[{"$f":"IF(Roster!A13<>\"\",Roster!A13,\"\")","v":4},{"$f":"IF(OR(Roster!A13<>\"\",Roster!B13<>\"\"),PROPER(Roster!B13),\"\")","v":"Maxx Cowger"},{"$nulls":14},"","","","","","","","",{"v":0,"d":"0%"},"Maxx Cowger","M Cowger, 4"]
[{"$f":"IF(Roster!A14<>\"\",Roster!A14,\"\")","v":22},{"$f":"IF(OR(Roster!A14<>\"\",Roster!B14<>\"\"),PROPER(Roster!B14),\"\")","v":"Brayden Bruce"},1,3,4,0,1,null,null,2,null,5,1,null,1,null,9,{"v":0.75,"d":"75%"},{"v":0,"d":"0%"},"",{"v":0.6,"d":"60%"},5,2,{"v":0,"d":"0%"},{"v":0,"d":"0%"},"Brayden Bruce","B Bruce, 22"]
[{"$f":"IF(Roster!A15<>\"\",Roster!A15,\"\")","v":30},{"$f":"IF(OR(Roster!A15<>\"\",Roster!B15<>\"\"),PROPER(Roster!B15),\"\")","v":"Jo Bishop"},1,{"$nulls":13},"","","","","","","","",{"v":0,"d":"0%"},"Jo Bishop","J Bishop, 30"]
[{"$f":"IF(Roster!A16<>\"\",Roster!A16,\"\")","v":33},{"$f":"IF(OR(Roster!A16<>\"\",Roster!B16<>\"\"),PROPER(Roster!B16),\"\")","v":"Nolan Turner"},1,null,null,0,1,{"$nulls":9},"","",{"v":0,"d":"0%"},"",{"v":0,"d":"0%"},1,"",{"v":0,"d":"0%"},{"v":0,"d":"0%"},"Nolan Turner","N Turner, 33"]
[{"$f":"IF(Roster!A17<>\"\",Roster!A17,\"\")","v":32},{"$f":"IF(OR(Roster!A17<>\"\",Roster!B17<>\"\"),PROPER(Roster!B17),\"\")","v":"Robert Crawford"},1,{"$nulls":13},"","","","","","","","",{"v":0,"d":"0%"},"Robert Crawford","R Crawford, 32"]
[{"$f":"IF(Roster!A18<>\"\",Roster!A18,\"\")","v":40},{"$f":"IF(OR(Roster!A18<>\"\",Roster!B18<>\"\"),PROPER(Roster!B18),\"\")","v":"Jace Bruce"},{"$nulls":14},"","","","","","","","",{"v":0,"d":"0%"},"Jace Bruce","J Bruce, 40"]
[{"$f":"IF(Roster!A19<>\"\",Roster!A19,\"\")","v":2},{"$f":"IF(OR(Roster!A19<>\"\",Roster!B19<>\"\"),PROPER(Roster!B19),\"\")","v":"Ethan Mills"},1,{"$nulls":6},1,{"$nulls":4},1,null,"","","","","","",1,"",{"v":0,"d":"0%"},"Ethan Mills","E Mills, 2"]
[{"$f":"IF(Roster!A20<>\"\",Roster!A20,\"\")","v":2},{"$f":"IF(OR(Roster!A20<>\"\",Roster!B20<>\"\"),PROPER(Roster!B20),\"\")","v":"Bridger Alishouse"},{"$nulls":14},"","","","","","","","",{"v":0,"d":"0%"},"Bridger Alishouse","B Alishouse, 2"]
[{"$f":"IF(Roster!A21<>\"\",Roster!A21,\"\")","v":4},{"$f":"IF(OR(Roster!A21<>\"\",Roster!B21<>\"\"),PROPER(Roster!B21),\"\")","v":"Landon Keever"},{"$nulls":14},"","","","","","","","",{"v":0,"d":"0%"},"Landon Keever","L Keever, 4"]
[{"$f":"IF(Roster!A22<>\"\",Roster!A22,\"\")","v":4},{"$f":"IF(OR(Roster!A22<>\"\",Roster!B22<>\"\"),PROPER(Roster!B22),\"\")","v":"Dj Till"},1,0,1,{"$nulls":11},"",{"v":0,"d":"0%"},"","",{"v":0,"d":"0%"},1,"",{"v":0,"d":"0%"},{"v":0,"d":"0%"},"Dj Till","D Till, 4"]
[{"$f":"IF(Roster!A23<>\"\",Roster!A23,\"\")","v":""},{"$f":"IF(OR(Roster!A23<>\"\",Roster!B23<>\"\"),PROPER(Roster!B23),\"\")","v":""},{"$nulls":14},"","","","","","","","",{"v":0,"d":"0%"},"",""]
[{"$f":"IF(Roster!A24<>\"\",Roster!A24,\"\")","v":""},{"$f":"IF(OR(Roster!A24<>\"\",Roster!B24<>\"\"),PROPER(Roster!B24),\"\")","v":""},{"$nulls":14},"","","","","","","","",{"v":0,"d":"0%"},"",""]
[{"$f":"IF(Roster!A25<>\"\",Roster!A25,\"\")","v":""},{"$f":"IF(OR(Roster!A25<>\"\",Roster!B25<>\"\"),PROPER(Roster!B25),\"\")","v":""},{"$nulls":14},"","","","","","","","",{"v":0,"d":"0%"},"",""]
[{"$f":"IF(Roster!A26<>\"\",Roster!A26,\"\")","v":""},{"$f":"IF(OR(Roster!A26<>\"\",Roster!B26<>\"\"),PROPER(Roster!B26),\"\")","v":""},{"$nulls":14},"","","","","","","","",{"v":0,"d":"0%"},"",""]
[{"$f":"IF(Roster!A27<>\"\",Roster!A27,\"\")","v":""},{"$f":"IF(OR(Roster!A27<>\"\",Roster!B27<>\"\"),PROPER(Roster!B27),\"\")","v":""},{"$nulls":14},"","","","","","","","",{"v":0,"d":"0%"},"",""]
[{"$f":"IF(Roster!A28<>\"\",Roster!A28,\"\")","v":""},{"$f":"IF(OR(Roster!A28<>\"\",Roster!B28<>\"\"),PROPER(Roster!B28),\"\")","v":""},{"$nulls":14},"","","","","","","","",{"v":0,"d":"0%"},"",""]
[{"$f":"IF(Roster!A29<>\"\",Roster!A29,\"\")","v":""},{"$f":"IF(OR(Roster!A29<>\"\",Roster!B29<>\"\"),PROPER(Roster!B29),\"\")","v":""},{"$nulls":14},"","","","","","","","",{"v":0,"d":"0%"},"",""]
[{"$f":"IF(Roster!A30<>\"\",Roster!A30,\"\")","v":""},{"$f":"IF(OR(Roster!A30<>\"\",Roster!B30<>\"\"),PROPER(Roster!B30),\"\")","v":"Team"},1,{"$nulls":13},"","","","","","","","",{"v":0,"d":"0%"},"Team",{"$f":"IFERROR(IF(FIND(\" \",$B30,1),CONCATENATE(LEFT($B30,1),\" \",RIGHT($B30,LEN($B30)-FIND(\" \",$B30,1)),\", \",$A30),CONCATENATE($B30,\", \",$A30)),\"\")","v":""}]
[null,"Team Totals",{"$f":"IF(COUNTA($C$7:$C$30)>0,1,\"\")","v":1},{"$f":"SUM(D7:D30)","v":8},{"$f":"SUM(E7:E30)","v":24},27,38,5,12,12,18,28,13,1,{"$f":"SUM(O7:O30)","v":14},{"$f":"SUM(P7:P30)","v":10},{"$f":"IF(H31+2*F31+3*D31>0,H31+2*F31+3*D31,IF(C4>0,C4,\"\"))","v":83},{"$f":"IF(E31>0,D31/E31,\"\")","v":{"v":0.3333333333333333,"d":"33%"}},{"$f":"IF(G31>0,F31/G31,\"\")","v":{"v":0.7105263157894737,"d":"71%"}},{"$f":"IF(I31>0,H31/I31,\"\")","v":{"v":0.4166666666666667,"d":"42%"}},{"$f":"IF(OR(E31>0,G31 >0),(D31+F31)/(E31+G31),\"\")","v":{"v":0.5645161290322581,"d":"56%"}},{"$f":"IF(E31+G31>0,E31+G31,\"\")","v":62},{"$f":"IF(J31+K31>0,J31+K31,\"\")","v":30},{"v":0.5645161290322581,"d":"56%"},{"$f":"IF(I31>=$Z$2,T31,0)","v":{"v":0.4166666666666667,"d":"42%"}}]
[null,"Opponent Totals",{"$f":"IF(SUM(D32:P32)>0,1,\"\")","v":1},6,16,19,42,9,12,14,20,15,5,1,23,12,{"$f":"IF(H32+2*F32+3*D32>0,H32+2*F32+3*D32,IF(D4>0,D4,\"\"))","v":65},{"$f":"IF(E32>0,D32/E32,\"\")","v":{"v":0.375,"d":"38%"}},{"$f":"IF(G32>0,F32/G32,\"\")","v":{"v":0.4523809523809524,"d":"45%"}},{"$f":"IF(I32>0,H32/I32,\"\")","v":{"v":0.75,"d":"75%"}},{"$f":"IF(OR(E32>0,G32 >0),(D32+F32)/(E32+G32),\"\")","v":{"v":0.43103448275862066,"d":"43%"}},{"$f":"IF(E32+G32>0,E32+G32,\"\")","v":58},{"$f":"IF(J32+K32>0,J32+K32,\"\")","v":34},{"v":0.43103448275862066,"d":"43%"},{"v":0.75,"d":"75%"}]
[null,null,"Peak Performances"]
[]
[null,"Top Points","Player",null,"Top REB","Player",null,"Top AST","Player"]
[null,{"$f":"MAX(Q$7:Q$30)","v":25},{"$f":"IFERROR(INDEX($AA$7:$AA$30,SMALL(IF(Q$7:Q$30=$B$36,ROW(Q$7:Q$30)-6),ROW(Q7)-6)),\" \")","v":"C Louderback, 23"},null,{"$f":"MAX(W$7:W$30)","v":8},{"$f":"IFERROR(INDEX($AA$7:$AA$30,SMALL(IF(W$7:W$30=$E$36,ROW(W$7:W$30)-6),ROW(W7)-6)),\" \")","v":"C Louderback, 23"},null,{"$f":"MAX(L$7:L$30)","v":7},{"$f":"IFERROR(INDEX($AA$7:$AA$30,SMALL(IF(L$7:L$30=$H$36,ROW(L$7:L$30)-6),ROW(L7)-6)),\" \")","v":"D Butts, 14"}]
[null,null,{"$f":"IFERROR(INDEX($AA$7:$AA$30,SMALL(IF(Q$7:Q$30=$B$36,ROW(Q$7:Q$30)-6),ROW(Q8)-6)),\" \")","v":" "},null,null,{"$f":"IFERROR(INDEX($AA$7:$AA$30,SMALL(IF(W$7:W$30=$E$36,ROW(W$7:W$30)-6),ROW(W8)-6)),\" \")","v":" "},null,null,{"$f":"IFERROR(INDEX($AA$7:$AA$30,SMALL(IF(L$7:L$30=$H$36,ROW(L$7:L$30)-6),ROW(L8)-6)),\" \")","v":" "}]
[null,null,{"$f":"IFERROR(INDEX($AA$7:$AA$30,SMALL(IF(Q$7:Q$30=$B$36,ROW(Q$7:Q$30)-6),ROW(Q9)-6)),\" \")","v":" "},null,null,{"$f":"IFERROR(INDEX($AA$7:$AA$30,SMALL(IF(W$7:W$30=$E$36,ROW(W$7:W$30)-6),ROW(W9)-6)),\" \")","v":" "},null,null,{"$f":"IFERROR(INDEX($AA$7:$AA$30,SMALL(IF(L$7:L$30=$H$36,ROW(L$7:L$30)-6),ROW(L9)-6)),\" \")","v":" "}]
[null,null,{"$f":"IFERROR(INDEX($AA$7:$AA$30,SMALL(IF(Q$7:Q$30=$B$36,ROW(Q$7:Q$30)-6),ROW(Q10)-6)),\" \")","v":" "},null,null,{"$f":"IFERROR(INDEX($AA$7:$AA$30,SMALL(IF(W$7:W$30=$E$36,ROW(W$7:W$30)-6),ROW(W10)-6)),\" \")","v":" "},null,null,{"$f":"IFERROR(INDEX($AA$7:$AA$30,SMALL(IF(L$7:L$30=$H$36,ROW(L$7:L$30)-6),ROW(L10)-6)),\" \")","v":" "}]
[null,null,{"$f":"IFERROR(INDEX($AA$7:$AA$30,SMALL(IF(Q$7:Q$30=$B$36,ROW(Q$7:Q$30)-6),ROW(Q11)-6)),\" \")","v":" "},null,null,{"$f":"IFERROR(INDEX($AA$7:$AA$30,SMALL(IF(W$7:W$30=$E$36,ROW(W$7:W$30)-6),ROW(W11)-6)),\" \")","v":" "},null,null,{"$f":"IFERROR(INDEX($AA$7:$AA$30,SMALL(IF(L$7:L$30=$H$36,ROW(L$7:L$30)-6),ROW(L11)-6)),\" \")","v":" "}]
[null,null,{"$f":"IFERROR(INDEX($B12:B$30,SMALL(IF(Q$7:Q$30=$B$36,ROW(Q$7:Q$30)-6),ROW(Q12)-6)),\" \")","v":" "}]
[null,null,{"$f":"TRIM(C36)","v":"C Louderback, 23"},null,null,{"$f":"TRIM(F36)","v":"C Louderback, 23"},null,null,{"$f":"TRIM(I36)","v":"D Butts, 14"}]
[null,null,{"$f":"TRIM(C37)","v":""},null,null,{"$f":"TRIM(F37)","v":""},null,null,{"$f":"TRIM(I37)","v":""}]
[null,null,"",null,null,"",null,null,""]
[null,null,"",null,null,"",null,null,""]
[null,null,"",null,null,"",null,null,""]
[]
[]
[null,{"$f":"COUNTIF(C42:C46,\"?*\")","v":1},null,null,{"$f":"COUNTIF(F42:F46,\"?*\")","v":1},null,null,{"$f":"COUNTIF(I42:I46,\"?*\")","v":1}]

{"sheet":"game1 (17)","index":19,"n_rows":49,"n_cols":27,"rows_kept":49,"merged":[[0,6,0,11],[1,2,1,5],[1,7,1,9],[1,10,1,12],[32,2,32,17]]}
[]
[{"$f":"IF(AND(Roster!$D$1=VLOOKUP(C2,Roster!$L$5:$R$72,2,FALSE),Roster!$D$3=VLOOKUP(C2,Roster!$L$5:$R$72,4,FALSE)),\"R\",\"\")","v":"R"},"Opponent","Sundance",{"$nulls":4},"Date of Game",null,null,"2018-02-06",{"$nulls":12},{"$f":"IF(OR($H$4=1,$J$4=1),CONCATENATE($C$2,\": \",MONTH($K$2),\"/\",DAY($K$2),\"/\",YEAR($K$2)-2000, \" **\" ),CONCATENATE($C$2,\": \",MONTH($K$2),\"/\",DAY($K$2),\"/\",YEAR($K$2)-2000))","v":"Sundance: 2/6/18 **"},null,8]
[{"$nulls":6},"Win","Conf W","Loss","Conf L",null,"Forfeit W?",null,"Forfeit L?",{"$nulls":9},{"$f":"IF($C$4>$D$4,CONCATENATE(Roster!$B$1,\" \",$C$4,\", \",$C$2,\" \",$D$4, \" \",$E$4),CONCATENATE($C$2,\" \",$D$4,\", \",Roster!$B$1,\" \",$C$4,\" \", $E$4 ))","v":"Upton 69, Sundance 49 "}]
[null,"Score",69,49,null,null,{"$f":"IF(OR($L$4=1,$C$4>$D$4),1,\"\")","v":1},1,{"$f":"IF(OR($N$4=1,$C$4<$D$4),1,\"\")","v":""}]
[]
["#","PLAYER","GP","3FGM","3FGA","2FGM","2FGA","FTM","FTA","OFF REB","DEF REB","AST","STL","BLK","TO","FOUL","TL PTS","3FG %","2FG %","FT %","FG%","FGA","REB","Elig FG%","Elig FT%","Name2","FI,LastName,#"]
[{"$f":"IF(Roster!A7<>\"\",Roster!A7,\"\")","v":24},{"$f":"IF(OR(Roster!A7<>\"\",Roster!B7<>\"\"),PROPER(Roster!B7),\"\")","v":"Payton Watt"},1,0,4,5,7,0,2,6,5,1,1,null,null,4,{"$f":"IF(H7+2*F7+3*D7>0,H7+2*F7+3*D7,\"\")","v":10},{"$f":"IF(E7>0,D7/E7,\"\")","v":{"v":0,"d":"0%"}},{"$f":"IF(G7>0,F7/G7,\"\")","v":{"v":0.7142857142857143,"d":"71%"}},{"$f":"IF(I7>0,H7/I7,\"\")","v":{"v":0,"d":"0%"}},{"$f":"IF(OR(E7>0,G7 >0),(D7+F7)/(E7+G7),\"\")","v":{"v":0.45454545454545453,"d":"45%"}},{"$f":"IF(E7+G7>0,E7+G7,\"\")","v":11},{"$f":"IF(J7+K7>0,J7+K7,\"\")","v":11},{"$f":"IF(V7>=$Z$2,U7,0)","v":{"v":0.45454545454545453,"d":"45%"}},{"$f":"IF(I7>=$Z$2,T7,0)","v":{"v":0,"d":"0%"}},{"$f":"B7","v":"Payton Watt"},{"$f":"IFERROR(IF(FIND(\" \",$B7,1),CONCATENATE(LEFT($B7,1),\" \",RIGHT($B7,LEN($B7)-FIND(\" \",$B7,1)),\", \",$A7),CONCATENATE($B7,\", \",$A7)),\"\")","v":"P Watt, 24"}]
[{"$f":"IF(Roster!A8<>\"\",Roster!A8,\"\")","v":20},{"$f":"IF(OR(Roster!A8<>\"\",Roster!B8<>\"\"),PROPER(Roster!B8),\"\")","v":"Dillon Barritt"},1,5,12,0,2,{"$nulls":3},2,1,null,null,3,null,{"$f":"IF(H8+2*F8+3*D8>0,H8+2*F8+3*D8,\"\")","v":15},{"$f":"IF(E8>0,D8/E8,\"\")","v":{"v":0.4166666666666667,"d":"42%"}},{"$f":"IF(G8>0,F8/G8,\"\")","v":{"v":0,"d":"0%"}},{"$f":"IF(I8>0,H8/I8,\"\")","v":""},{"$f":"IF(OR(E8>0,G8 >0),(D8+F8)/(E8+G8),\"\")","v":{"v":0.35714285714285715,"d":"36%"}},{"$f":"IF(E8+G8>0,E8+G8,\"\")","v":14},{"$f":"IF(J8+K8>0,J8+K8,\"\")","v":2},{"$f":"IF(V8>=$Z$2,U8,0)","v":{"v":0.35714285714285715,"d":"36%"}},{"$f":"IF(I8>=$Z$2,T8,0)","v":{"v":0,"d":"0%"}},{"$f":"B8","v":"Dillon Barritt"},{"$f":"IFERROR(IF(FIND(\" \",$B8,1),CONCATENATE(LEFT($B8,1),\" \",RIGHT($B8,LEN($B8)-FIND(\" \",$B8,1)),\", \",$A8),CONCATENATE($B8,\", \",$A8)),\"\")","v":"D Barritt, 20"}]
[{"$f":"IF(Roster!A9<>\"\",Roster!A9,\"\")","v":14},{"$f":"IF(OR(Roster!A9<>\"\",Roster!B9<>\"\"),PROPER(Roster!B9),\"\")","v":"Dawson Butts"},1,null,null,2,2,null,null,3,2,3,1,{"$nulls":3},4,"",{"v":1,"d":"100%"},"",{"v":1,"d":"100%"},2,5,{"v":0,"d":"0%"},{"v":0,"d":"0%"},"Dawson Butts","D Butts, 14"]
[{"$f":"IF(Roster!A10<>\"\",Roster!A10,\"\")","v":12},{"$f":"IF(OR(Roster!A10<>\"\",Roster!B10<>\"\"),PROPER(Roster!B10),\"\")","v":"Jayden Caylor"},1,0,1,1,2,2,2,1,4,1,1,null,1,1,4,{"v":0,"d":"0%"},{"v":0.5,"d":"50%"},{"v":1,"d":"100%"},{"v":0.3333333333333333,"d":"33%"},3,5,{"v":0,"d":"0%"},{"v":0,"d":"0%"},"Jayden Caylor","J Caylor, 12"]
[{"$f":"IF(Roster!A11<>\"\",Roster!A11,\"\")","v":23},{"$f":"IF(OR(Roster!A11<>\"\",Roster!B11<>\"\"),PROPER(Roster!B11),\"\")","v":"Clayton Louderback"},1,1,3,8,16,2,4,5,4,5,4,null,null,3,21,{"v":0.3333333333333333,"d":"33%"},{"v":0.5,"d":"50%"},{"v":0.5,"d":"50%"},{"v":0.47368421052631576,"d":"47%"},19,9,{"v":0.47368421052631576,"d":"47%"},{"v":0,"d":"0%"},"Clayton Louderback","C Louderback, 23"]
[{"$f":"IF(Roster!A12<>\"\",Roster!A12,\"\")","v":10},{"$f":"IF(OR(Roster!A12<>\"\",Roster!B12<>\"\"),PROPER(Roster!B12),\"\")","v":"Jess Claycomb"},1,0,1,7,10,1,2,3,3,2,{"$nulls":3},3,15,{"v":0,"d":"0%"},{"v":0.7,"d":"70%"},{"v":0.5,"d":"50%"},{"v":0.6363636363636364,"d":"64%"},11,6,{"v":0.6363636363636364,"d":"64%"},{"v":0,"d":"0%"},"Jess Claycomb","J Claycomb, 10"]
[{"$f":"IF(Roster!A13<>\"\",Roster!A13,\"\")","v":4},{"$f":"IF(OR(Roster!A13<>\"\",Roster!B13<>\"\"),PROPER(Roster!B13),\"\")","v":"Maxx Cowger"},{"$nulls":14},"","","","","","","","",{"v":0,"d":"0%"},"Maxx Cowger","M Cowger, 4"]
[{"$f":"IF(Roster!A14<>\"\",Roster!A14,\"\")","v":22},{"$f":"IF(OR(Roster!A14<>\"\",Roster!B14<>\"\"),PROPER(Roster!B14),\"\")","v":"Brayden Bruce"},1,0,2,{"$nulls":4},1,null,3,{"$nulls":3},2,"",{"v":0,"d":"0%"},"","",{"v":0,"d":"0%"},2,1,{"v":0,"d":"0%"},{"v":0,"d":"0%"},"Brayden Bruce","B Bruce, 22"]
[{"$f":"IF(Roster!A15<>\"\",Roster!A15,\"\")","v":30},{"$f":"IF(OR(Roster!A15<>\"\",Roster!B15<>\"\"),PROPER(Roster!B15),\"\")","v":"Jo Bishop"},1,null,null,0,1,{"$nulls":3},1,{"$nulls":4},1,"","",{"v":0,"d":"0%"},"",{"v":0,"d":"0%"},1,1,{"v":0,"d":"0%"},{"v":0,"d":"0%"},"Jo Bishop","J Bishop, 30"]
[{"$f":"IF(Roster!A16<>\"\",Roster!A16,\"\")","v":33},{"$f":"IF(OR(Roster!A16<>\"\",Roster!B16<>\"\"),PROPER(Roster!B16),\"\")","v":"Nolan Turner"},1,{"$nulls":4},0,1,null,1,{"$nulls":5},"","","",{"v":0,"d":"0%"},"","",1,"",{"v":0,"d":"0%"},"Nolan Turner","N Turner, 33"]
[{"$f":"IF(Roster!A17<>\"\",Roster!A17,\"\")","v":32},{"$f":"IF(OR(Roster!A17<>\"\",Roster!B17<>\"\"),PROPER(Roster!B17),\"\")","v":"Robert Crawford"},1,0,1,0,1,null,null,1,1,{"$nulls":5},"",{"v":0,"d":"0%"},{"v":0,"d":"0%"},"",{"v":0,"d":"0%"},2,2,{"v":0,"d":"0%"},{"v":0,"d":"0%"},"Robert Crawford","R Crawford, 32"]
[{"$f":"IF(Roster!A18<>\"\",Roster!A18,\"\")","v":40},{"$f":"IF(OR(Roster!A18<>\"\",Roster!B18<>\"\"),PROPER(Roster!B18),\"\")","v":"Jace Bruce"},1,null,null,0,1,{"$nulls":9},"","",{"v":0,"d":"0%"},"",{"v":0,"d":"0%"},1,"",{"v":0,"d":"0%"},{"v":0,"d":"0%"},"Jace Bruce","J Bruce, 40"]
[{"$f":"IF(Roster!A19<>\"\",Roster!A19,\"\")","v":2},{"$f":"IF(OR(Roster!A19<>\"\",Roster!B19<>\"\"),PROPER(Roster!B19),\"\")","v":"Ethan Mills"},{"$nulls":14},"","","","","","","","",{"v":0,"d":"0%"},"Ethan Mills","E Mills, 2"]
[{"$f":"IF(Roster!A20<>\"\",Roster!A20,\"\")","v":2},{"$f":"IF(OR(Roster!A20<>\"\",Roster!B20<>\"\"),PROPER(Roster!B20),\"\")","v":"Bridger Alishouse"},{"$nulls":14},"","","","","","","","",{"v":0,"d":"0%"},"Bridger Alishouse","B Alishouse, 2"]
[{"$f":"IF(Roster!A21<>\"\",Roster!A21,\"\")","v":4},{"$f":"IF(OR(Roster!A21<>\"\",Roster!B21<>\"\"),PROPER(Roster!B21),\"\")","v":"Landon Keever"},{"$nulls":14},"","","","","","","","",{"v":0,"d":"0%"},"Landon Keever","L Keever, 4"]
[{"$f":"IF(Roster!A22<>\"\",Roster!A22,\"\")","v":4},{"$f":"IF(OR(Roster!A22<>\"\",Roster!B22<>\"\"),PROPER(Roster!B22),\"\")","v":"Dj Till"},1,0,1,{"$nulls":5},1,null,1,{"$nulls":3},"",{"v":0,"d":"0%"},"","",{"v":0,"d":"0%"},1,1,{"v":0,"d":"0%"},{"v":0,"d":"0%"},"Dj Till","D Till, 4"]
[{"$f":"IF(Roster!A23<>\"\",Roster!A23,\"\")","v":""},{"$f":"IF(OR(Roster!A23<>\"\",Roster!B23<>\"\"),PROPER(Roster!B23),\"\")","v":""},{"$nulls":14},"","","","","","","","",{"v":0,"d":"0%"},"",""]
[{"$f":"IF(Roster!A24<>\"\",Roster!A24,\"\")","v":""},{"$f":"IF(OR(Roster!A24<>\"\",Roster!B24<>\"\"),PROPER(Roster!B24),\"\")","v":""},{"$nulls":14},"","","","","","","","",{"v":0,"d":"0%"},"",""]
[{"$f":"IF(Roster!A25<>\"\",Roster!A25,\"\")","v":""},{"$f":"IF(OR(Roster!A25<>\"\",Roster!B25<>\"\"),PROPER(Roster!B25),\"\")","v":""},{"$nulls":14},"","","","","","","","",{"v":0,"d":"0%"},"",""]
[{"$f":"IF(Roster!A26<>\"\",Roster!A26,\"\")","v":""},{"$f":"IF(OR(Roster!A26<>\"\",Roster!B26<>\"\"),PROPER(Roster!B26),\"\")","v":""},{"$nulls":14},"","","","","","","","",{"v":0,"d":"0%"},"",""]
[{"$f":"IF(Roster!A27<>\"\",Roster!A27,\"\")","v":""},{"$f":"IF(OR(Roster!A27<>\"\",Roster!B27<>\"\"),PROPER(Roster!B27),\"\")","v":""},{"$nulls":14},"","","","","","","","",{"v":0,"d":"0%"},"",""]
[{"$f":"IF(Roster!A28<>\"\",Roster!A28,\"\")","v":""},{"$f":"IF(OR(Roster!A28<>\"\",Roster!B28<>\"\"),PROPER(Roster!B28),\"\")","v":""},{"$nulls":14},"","","","","","","","",{"v":0,"d":"0%"},"",""]
[{"$f":"IF(Roster!A29<>\"\",Roster!A29,\"\")","v":""},{"$f":"IF(OR(Roster!A29<>\"\",Roster!B29<>\"\"),PROPER(Roster!B29),\"\")","v":""},{"$nulls":14},"","","","","","","","",{"v":0,"d":"0%"},"",""]
[{"$f":"IF(Roster!A30<>\"\",Roster!A30,\"\")","v":""},{"$f":"IF(OR(Roster!A30<>\"\",Roster!B30<>\"\"),PROPER(Roster!B30),\"\")","v":"Team"},1,{"$nulls":13},"","","","","","","","",{"v":0,"d":"0%"},"Team",{"$f":"IFERROR(IF(FIND(\" \",$B30,1),CONCATENATE(LEFT($B30,1),\" \",RIGHT($B30,LEN($B30)-FIND(\" \",$B30,1)),\", \",$A30),CONCATENATE($B30,\", \",$A30)),\"\")","v":""}]
[null,"Team Totals",{"$f":"IF(COUNTA($C$7:$C$30)>0,1,\"\")","v":1},{"$f":"SUM(D7:D30)","v":6},{"$f":"SUM(E7:E30)","v":25},23,42,5,11,20,24,16,8,0,{"$f":"SUM(O7:O30)","v":4},{"$f":"SUM(P7:P30)","v":14},{"$f":"IF(H31+2*F31+3*D31>0,H31+2*F31+3*D31,IF(C4>0,C4,\"\"))","v":69},{"$f":"IF(E31>0,D31/E31,\"\")","v":{"v":0.24,"d":"24%"}},{"$f":"IF(G31>0,F31/G31,\"\")","v":{"v":0.5476190476190477,"d":"55%"}},{"$f":"IF(I31>0,H31/I31,\"\")","v":{"v":0.45454545454545453,"d":"45%"}},{"$f":"IF(OR(E31>0,G31 >0),(D31+F31)/(E31+G31),\"\")","v":{"v":0.43283582089552236,"d":"43%"}},{"$f":"IF(E31+G31>0,E31+G31,\"\")","v":67},{"$f":"IF(J31+K31>0,J31+K31,\"\")","v":44},{"v":0.43283582089552236,"d":"43%"},{"$f":"IF(I31>=$Z$2,T31,0)","v":{"v":0.45454545454545453,"d":"45%"}}]
[null,"Opponent Totals",{"$f":"IF(SUM(D32:P32)>0,1,\"\")","v":1},6,14,14,33,3,7,6,19,10,3,null,11,9,{"$f":"IF(H32+2*F32+3*D32>0,H32+2*F32+3*D32,IF(D4>0,D4,\"\"))","v":49},{"$f":"IF(E32>0,D32/E32,\"\")","v":{"v":0.42857142857142855,"d":"43%"}},{"$f":"IF(G32>0,F32/G32,\"\")","v":{"v":0.42424242424242425,"d":"42%"}},{"$f":"IF(I32>0,H32/I32,\"\")","v":{"v":0.42857142857142855,"d":"43%"}},{"$f":"IF(OR(E32>0,G32 >0),(D32+F32)/(E32+G32),\"\")","v":{"v":0.425531914893617,"d":"43%"}},{"$f":"IF(E32+G32>0,E32+G32,\"\")","v":47},{"$f":"IF(J32+K32>0,J32+K32,\"\")","v":25},{"v":0.425531914893617,"d":"43%"},{"v":0,"d":"0%"}]
[null,null,"Peak Performances"]
[]
[null,"Top Points","Player",null,"Top REB","Player",null,"Top AST","Player"]
[null,{"$f":"MAX(Q$7:Q$30)","v":21},{"$f":"IFERROR(INDEX($AA$7:$AA$30,SMALL(IF(Q$7:Q$30=$B$36,ROW(Q$7:Q$30)-6),ROW(Q7)-6)),\" \")","v":"C Louderback, 23"},null,{"$f":"MAX(W$7:W$30)","v":11},{"$f":"IFERROR(INDEX($AA$7:$AA$30,SMALL(IF(W$7:W$30=$E$36,ROW(W$7:W$30)-6),ROW(W7)-6)),\" \")","v":"P Watt, 24"},null,{"$f":"MAX(L$7:L$30)","v":5},{"$f":"IFERROR(INDEX($AA$7:$AA$30,SMALL(IF(L$7:L$30=$H$36,ROW(L$7:L$30)-6),ROW(L7)-6)),\" \")","v":"C Louderback, 23"}]
[null,null,{"$f":"IFERROR(INDEX($AA$7:$AA$30,SMALL(IF(Q$7:Q$30=$B$36,ROW(Q$7:Q$30)-6),ROW(Q8)-6)),\" \")","v":" "},null,null,{"$f":"IFERROR(INDEX($AA$7:$AA$30,SMALL(IF(W$7:W$30=$E$36,ROW(W$7:W$30)-6),ROW(W8)-6)),\" \")","v":" "},null,null,{"$f":"IFERROR(INDEX($AA$7:$AA$30,SMALL(IF(L$7:L$30=$H$36,ROW(L$7:L$30)-6),ROW(L8)-6)),\" \")","v":" "}]
[null,null,{"$f":"IFERROR(INDEX($AA$7:$AA$30,SMALL(IF(Q$7:Q$30=$B$36,ROW(Q$7:Q$30)-6),ROW(Q9)-6)),\" \")","v":" "},null,null,{"$f":"IFERROR(INDEX($AA$7:$AA$30,SMALL(IF(W$7:W$30=$E$36,ROW(W$7:W$30)-6),ROW(W9)-6)),\" \")","v":" "},null,null,{"$f":"IFERROR(INDEX($AA$7:$AA$30,SMALL(IF(L$7:L$30=$H$36,ROW(L$7:L$30)-6),ROW(L9)-6)),\" \")","v":" "}]
[null,null,{"$f":"IFERROR(INDEX($AA$7:$AA$30,SMALL(IF(Q$7:Q$30=$B$36,ROW(Q$7:Q$30)-6),ROW(Q10)-6)),\" \")","v":" "},null,null,{"$f":"IFERROR(INDEX($AA$7:$AA$30,SMALL(IF(W$7:W$30=$E$36,ROW(W$7:W$30)-6),ROW(W10)-6)),\" \")","v":" "},null,null,{"$f":"IFERROR(INDEX($AA$7:$AA$30,SMALL(IF(L$7:L$30=$H$36,ROW(L$7:L$30)-6),ROW(L10)-6)),\" \")","v":" "}]
[null,null,{"$f":"IFERROR(INDEX($AA$7:$AA$30,SMALL(IF(Q$7:Q$30=$B$36,ROW(Q$7:Q$30)-6),ROW(Q11)-6)),\" \")","v":" "},null,null,{"$f":"IFERROR(INDEX($AA$7:$AA$30,SMALL(IF(W$7:W$30=$E$36,ROW(W$7:W$30)-6),ROW(W11)-6)),\" \")","v":" "},null,null,{"$f":"IFERROR(INDEX($AA$7:$AA$30,SMALL(IF(L$7:L$30=$H$36,ROW(L$7:L$30)-6),ROW(L11)-6)),\" \")","v":" "}]
[null,null,{"$f":"IFERROR(INDEX($B12:B$30,SMALL(IF(Q$7:Q$30=$B$36,ROW(Q$7:Q$30)-6),ROW(Q12)-6)),\" \")","v":" "}]
[null,null,{"$f":"TRIM(C36)","v":"C Louderback, 23"},null,null,{"$f":"TRIM(F36)","v":"P Watt, 24"},null,null,{"$f":"TRIM(I36)","v":"C Louderback, 23"}]
[null,null,{"$f":"TRIM(C37)","v":""},null,null,{"$f":"TRIM(F37)","v":""},null,null,{"$f":"TRIM(I37)","v":""}]
[null,null,"",null,null,"",null,null,""]
[null,null,"",null,null,"",null,null,""]
[null,null,"",null,null,"",null,null,""]
[]
[]
[null,{"$f":"COUNTIF(C42:C46,\"?*\")","v":1},null,null,{"$f":"COUNTIF(F42:F46,\"?*\")","v":1},null,null,{"$f":"COUNTIF(I42:I46,\"?*\")","v":1}]

{"sheet":"game1 (18)","index":20,"n_rows":49,"n_cols":27,"rows_kept":49,"merged":[[0,6,0,11],[1,2,1,5],[1,7,1,9],[1,10,1,12],[32,2,32,17]]}
[]
[{"$f":"IF(AND(Roster!$D$1=VLOOKUP(C2,Roster!$L$5:$R$72,2,FALSE),Roster!$D$3=VLOOKUP(C2,Roster!$L$5:$R$72,4,FALSE)),\"R\",\"\")","v":"R"},"Opponent","Wright",{"$nulls":4},"Date of Game",null,null,"2018-02-08",{"$nulls":12},{"$f":"IF(OR($H$4=1,$J$4=1),CONCATENATE($C$2,\": \",MONTH($K$2),\"/\",DAY($K$2),\"/\",YEAR($K$2)-2000, \" **\" ),CONCATENATE($C$2,\": \",MONTH($K$2),\"/\",DAY($K$2),\"/\",YEAR($K$2)-2000))","v":"Wright: 2/8/18 **"},null,8]
[{"$nulls":6},"Win","Conf W","Loss","Conf L",null,"Forfeit W?",null,"Forfeit L?",{"$nulls":9},{"$f":"IF($C$4>$D$4,CONCATENATE(Roster!$B$1,\" \",$C$4,\", \",$C$2,\" \",$D$4, \" \",$E$4),CONCATENATE($C$2,\" \",$D$4,\", \",Roster!$B$1,\" \",$C$4,\" \", $E$4 ))","v":"Wright 67, Upton 60 "}]
[null,"Score",60,67,null,null,{"$f":"IF(OR($L$4=1,$C$4>$D$4),1,\"\")","v":""},null,{"$f":"IF(OR($N$4=1,$C$4<$D$4),1,\"\")","v":1},1]
[]
["#","PLAYER","GP","3FGM","3FGA","2FGM","2FGA","FTM","FTA","OFF REB","DEF REB","AST","STL","BLK","TO","FOUL","TL PTS","3FG %","2FG %","FT %","FG%","FGA","REB","Elig FG%","Elig FT%","Name2","FI,LastName,#"]
[{"$f":"IF(Roster!A7<>\"\",Roster!A7,\"\")","v":24},{"$f":"IF(OR(Roster!A7<>\"\",Roster!B7<>\"\"),PROPER(Roster!B7),\"\")","v":"Payton Watt"},1,2,7,6,12,5,6,2,9,3,2,1,2,1,{"$f":"IF(H7+2*F7+3*D7>0,H7+2*F7+3*D7,\"\")","v":23},{"$f":"IF(E7>0,D7/E7,\"\")","v":{"v":0.2857142857142857,"d":"29%"}},{"$f":"IF(G7>0,F7/G7,\"\")","v":{"v":0.5,"d":"50%"}},{"$f":"IF(I7>0,H7/I7,\"\")","v":{"v":0.8333333333333334,"d":"83%"}},{"$f":"IF(OR(E7>0,G7 >0),(D7+F7)/(E7+G7),\"\")","v":{"v":0.42105263157894735,"d":"42%"}},{"$f":"IF(E7+G7>0,E7+G7,\"\")","v":19},{"$f":"IF(J7+K7>0,J7+K7,\"\")","v":11},{"$f":"IF(V7>=$Z$2,U7,0)","v":{"v":0.42105263157894735,"d":"42%"}},{"$f":"IF(I7>=$Z$2,T7,0)","v":{"v":0,"d":"0%"}},{"$f":"B7","v":"Payton Watt"},{"$f":"IFERROR(IF(FIND(\" \",$B7,1),CONCATENATE(LEFT($B7,1),\" \",RIGHT($B7,LEN($B7)-FIND(\" \",$B7,1)),\", \",$A7),CONCATENATE($B7,\", \",$A7)),\"\")","v":"P Watt, 24"}]
[{"$f":"IF(Roster!A8<>\"\",Roster!A8,\"\")","v":20},{"$f":"IF(OR(Roster!A8<>\"\",Roster!B8<>\"\"),PROPER(Roster!B8),\"\")","v":"Dillon Barritt"},1,2,11,0,2,4,4,2,2,1,4,null,3,3,{"$f":"IF(H8+2*F8+3*D8>0,H8+2*F8+3*D8,\"\")","v":10},{"$f":"IF(E8>0,D8/E8,\"\")","v":{"v":0.18181818181818182,"d":"18%"}},{"$f":"IF(G8>0,F8/G8,\"\")","v":{"v":0,"d":"0%"}},{"$f":"IF(I8>0,H8/I8,\"\")","v":{"v":1,"d":"100%"}},{"$f":"IF(OR(E8>0,G8 >0),(D8+F8)/(E8+G8),\"\")","v":{"v":0.15384615384615385,"d":"15%"}},{"$f":"IF(E8+G8>0,E8+G8,\"\")","v":13},{"$f":"IF(J8+K8>0,J8+K8,\"\")","v":4},{"$f":"IF(V8>=$Z$2,U8,0)","v":{"v":0.15384615384615385,"d":"15%"}},{"$f":"IF(I8>=$Z$2,T8,0)","v":{"v":0,"d":"0%"}},{"$f":"B8","v":"Dillon Barritt"},{"$f":"IFERROR(IF(FIND(\" \",$B8,1),CONCATENATE(LEFT($B8,1),\" \",RIGHT($B8,LEN($B8)-FIND(\" \",$B8,1)),\", \",$A8),CONCATENATE($B8,\", \",$A8)),\"\")","v":"D Barritt, 20"}]
[{"$f":"IF(Roster!A9<>\"\",Roster!A9,\"\")","v":14},{"$f":"IF(OR(Roster!A9<>\"\",Roster!B9<>\"\"),PROPER(Roster!B9),\"\")","v":"Dawson Butts"},1,null,null,3,4,4,9,4,null,2,3,1,4,3,10,"",{"v":0.75,"d":"75%"},{"v":0.4444444444444444,"d":"44%"},{"v":0.75,"d":"75%"},4,4,{"v":0,"d":"0%"},{"v":0.4444444444444444,"d":"44%"},"Dawson Butts","D Butts, 14"]
[{"$f":"IF(Roster!A10<>\"\",Roster!A10,\"\")","v":12},{"$f":"IF(OR(Roster!A10<>\"\",Roster!B10<>\"\"),PROPER(Roster!B10),\"\")","v":"Jayden Caylor"},1,1,1,{"$nulls":4},1,null,1,1,1,2,4,3,{"v":1,"d":"100%"},"","",{"v":1,"d":"100%"},1,1,{"v":0,"d":"0%"},{"v":0,"d":"0%"},"Jayden Caylor","J Caylor, 12"]
[{"$f":"IF(Roster!A11<>\"\",Roster!A11,\"\")","v":23},{"$f":"IF(OR(Roster!A11<>\"\",Roster!B11<>\"\"),PROPER(Roster!B11),\"\")","v":"Clayton Louderback"},1,0,1,2,13,4,4,7,3,null,1,null,8,5,8,{"v":0,"d":"0%"},{"v":0.15384615384615385,"d":"15%"},{"v":1,"d":"100%"},{"v":0.14285714285714285,"d":"14%"},14,10,{"v":0.14285714285714285,"d":"14%"},{"v":0,"d":"0%"},"Clayton Louderback","C Louderback, 23"]
[{"$f":"IF(Roster!A12<>\"\",Roster!A12,\"\")","v":10},{"$f":"IF(OR(Roster!A12<>\"\",Roster!B12<>\"\"),PROPER(Roster!B12),\"\")","v":"Jess Claycomb"},1,1,4,0,2,3,6,1,null,null,1,null,null,4,6,{"v":0.25,"d":"25%"},{"v":0,"d":"0%"},{"v":0.5,"d":"50%"},{"v":0.16666666666666666,"d":"17%"},6,1,{"v":0,"d":"0%"},{"v":0,"d":"0%"},"Jess Claycomb","J Claycomb, 10"]
[{"$f":"IF(Roster!A13<>\"\",Roster!A13,\"\")","v":4},{"$f":"IF(OR(Roster!A13<>\"\",Roster!B13<>\"\"),PROPER(Roster!B13),\"\")","v":"Maxx Cowger"},{"$nulls":14},"","","","","","","","",{"v":0,"d":"0%"},"Maxx Cowger","M Cowger, 4"]
[{"$f":"IF(Roster!A14<>\"\",Roster!A14,\"\")","v":22},{"$f":"IF(OR(Roster!A14<>\"\",Roster!B14<>\"\"),PROPER(Roster!B14),\"\")","v":"Brayden Bruce"},1,0,1,{"$nulls":5},1,2,null,null,1,2,"",{"v":0,"d":"0%"},"","",{"v":0,"d":"0%"},1,1,{"v":0,"d":"0%"},{"v":0,"d":"0%"},"Brayden Bruce","B Bruce, 22"]
[{"$f":"IF(Roster!A15<>\"\",Roster!A15,\"\")","v":30},{"$f":"IF(OR(Roster!A15<>\"\",Roster!B15<>\"\"),PROPER(Roster!B15),\"\")","v":"Jo Bishop"},{"$nulls":14},"","","","","","","","",{"v":0,"d":"0%"},"Jo Bishop","J Bishop, 30"]
[{"$f":"IF(Roster!A16<>\"\",Roster!A16,\"\")","v":33},{"$f":"IF(OR(Roster!A16<>\"\",Roster!B16<>\"\"),PROPER(Roster!B16),\"\")","v":"Nolan Turner"},{"$nulls":14},"","","","","","","","",{"v":0,"d":"0%"},"Nolan Turner","N Turner, 33"]
[{"$f":"IF(Roster!A17<>\"\",Roster!A17,\"\")","v":32},{"$f":"IF(OR(Roster!A17<>\"\",Roster!B17<>\"\"),PROPER(Roster!B17),\"\")","v":"Robert Crawford"},{"$nulls":14},"","","","","","","","",{"v":0,"d":"0%"},"Robert Crawford","R Crawford, 32"]
[{"$f":"IF(Roster!A18<>\"\",Roster!A18,\"\")","v":40},{"$f":"IF(OR(Roster!A18<>\"\",Roster!B18<>\"\"),PROPER(Roster!B18),\"\")","v":"Jace Bruce"},{"$nulls":14},"","","","","","","","",{"v":0,"d":"0%"},"Jace Bruce","J Bruce, 40"]
[{"$f":"IF(Roster!A19<>\"\",Roster!A19,\"\")","v":2},{"$f":"IF(OR(Roster!A19<>\"\",Roster!B19<>\"\"),PROPER(Roster!B19),\"\")","v":"Ethan Mills"},{"$nulls":14},"","","","","","","","",{"v":0,"d":"0%"},"Ethan Mills","E Mills, 2"]
[{"$f":"IF(Roster!A20<>\"\",Roster!A20,\"\")","v":2},{"$f":"IF(OR(Roster!A20<>\"\",Roster!B20<>\"\"),PROPER(Roster!B20),\"\")","v":"Bridger Alishouse"},{"$nulls":14},"","","","","","","","",{"v":0,"d":"0%"},"Bridger Alishouse","B Alishouse, 2"]
[{"$f":"IF(Roster!A21<>\"\",Roster!A21,\"\")","v":4},{"$f":"IF(OR(Roster!A21<>\"\",Roster!B21<>\"\"),PROPER(Roster!B21),\"\")","v":"Landon Keever"},{"$nulls":14},"","","","","","","","",{"v":0,"d":"0%"},"Landon Keever","L Keever, 4"]
[{"$f":"IF(Roster!A22<>\"\",Roster!A22,\"\")","v":4},{"$f":"IF(OR(Roster!A22<>\"\",Roster!B22<>\"\"),PROPER(Roster!B22),\"\")","v":"Dj Till"},{"$nulls":14},"","","","","","","","",{"v":0,"d":"0%"},"Dj Till","D Till, 4"]
[{"$f":"IF(Roster!A23<>\"\",Roster!A23,\"\")","v":""},{"$f":"IF(OR(Roster!A23<>\"\",Roster!B23<>\"\"),PROPER(Roster!B23),\"\")","v":""},{"$nulls":14},"","","","","","","","",{"v":0,"d":"0%"},"",""]
[{"$f":"IF(Roster!A24<>\"\",Roster!A24,\"\")","v":""},{"$f":"IF(OR(Roster!A24<>\"\",Roster!B24<>\"\"),PROPER(Roster!B24),\"\")","v":""},{"$nulls":14},"","","","","","","","",{"v":0,"d":"0%"},"",""]
[{"$f":"IF(Roster!A25<>\"\",Roster!A25,\"\")","v":""},{"$f":"IF(OR(Roster!A25<>\"\",Roster!B25<>\"\"),PROPER(Roster!B25),\"\")","v":""},{"$nulls":14},"","","","","","","","",{"v":0,"d":"0%"},"",""]
[{"$f":"IF(Roster!A26<>\"\",Roster!A26,\"\")","v":""},{"$f":"IF(OR(Roster!A26<>\"\",Roster!B26<>\"\"),PROPER(Roster!B26),\"\")","v":""},{"$nulls":14},"","","","","","","","",{"v":0,"d":"0%"},"",""]
[{"$f":"IF(Roster!A27<>\"\",Roster!A27,\"\")","v":""},{"$f":"IF(OR(Roster!A27<>\"\",Roster!B27<>\"\"),PROPER(Roster!B27),\"\")","v":""},{"$nulls":14},"","","","","","","","",{"v":0,"d":"0%"},"",""]
[{"$f":"IF(Roster!A28<>\"\",Roster!A28,\"\")","v":""},{"$f":"IF(OR(Roster!A28<>\"\",Roster!B28<>\"\"),PROPER(Roster!B28),\"\")","v":""},{"$nulls":14},"","","","","","","","",{"v":0,"d":"0%"},"",""]
[{"$f":"IF(Roster!A29<>\"\",Roster!A29,\"\")","v":""},{"$f":"IF(OR(Roster!A29<>\"\",Roster!B29<>\"\"),PROPER(Roster!B29),\"\")","v":""},{"$nulls":14},"","","","","","","","",{"v":0,"d":"0%"},"",""]
[{"$f":"IF(Roster!A30<>\"\",Roster!A30,\"\")","v":""},{"$f":"IF(OR(Roster!A30<>\"\",Roster!B30<>\"\"),PROPER(Roster!B30),\"\")","v":"Team"},1,{"$nulls":6},3,1,{"$nulls":5},"","","","","","",4,"",{"v":0,"d":"0%"},"Team",{"$f":"IFERROR(IF(FIND(\" \",$B30,1),CONCATENATE(LEFT($B30,1),\" \",RIGHT($B30,LEN($B30)-FIND(\" \",$B30,1)),\", \",$A30),CONCATENATE($B30,\", \",$A30)),\"\")","v":""}]
[null,"Team Totals",{"$f":"IF(COUNTA($C$7:$C$30)>0,1,\"\")","v":1},{"$f":"SUM(D7:D30)","v":6},{"$f":"SUM(E7:E30)","v":25},11,33,20,29,20,16,9,12,3,{"$f":"SUM(O7:O30)","v":20},{"$f":"SUM(P7:P30)","v":22},{"$f":"IF(H31+2*F31+3*D31>0,H31+2*F31+3*D31,IF(C4>0,C4,\"\"))","v":60},{"$f":"IF(E31>0,D31/E31,\"\")","v":{"v":0.24,"d":"24%"}},{"$f":"IF(G31>0,F31/G31,\"\")","v":{"v":0.3333333333333333,"d":"33%"}},{"$f":"IF(I31>0,H31/I31,\"\")","v":{"v":0.6896551724137931,"d":"69%"}},{"$f":"IF(OR(E31>0,G31 >0),(D31+F31)/(E31+G31),\"\")","v":{"v":0.29310344827586204,"d":"29%"}},{"$f":"IF(E31+G31>0,E31+G31,\"\")","v":58},{"$f":"IF(J31+K31>0,J31+K31,\"\")","v":36},{"v":0.29310344827586204,"d":"29%"},{"$f":"IF(I31>=$Z$2,T31,0)","v":{"v":0.6896551724137931,"d":"69%"}}]
[null,"Opponent Totals",{"$f":"IF(SUM(D32:P32)>0,1,\"\")","v":1},5,8,20,37,12,27,9,25,6,9,1,25,23,{"$f":"IF(H32+2*F32+3*D32>0,H32+2*F32+3*D32,IF(D4>0,D4,\"\"))","v":67},{"$f":"IF(E32>0,D32/E32,\"\")","v":{"v":0.625,"d":"63%"}},{"$f":"IF(G32>0,F32/G32,\"\")","v":{"v":0.5405405405405406,"d":"54%"}},{"$f":"IF(I32>0,H32/I32,\"\")","v":{"v":0.4444444444444444,"d":"44%"}},{"$f":"IF(OR(E32>0,G32 >0),(D32+F32)/(E32+G32),\"\")","v":{"v":0.5555555555555556,"d":"56%"}},{"$f":"IF(E32+G32>0,E32+G32,\"\")","v":45},{"$f":"IF(J32+K32>0,J32+K32,\"\")","v":34},{"v":0.5555555555555556,"d":"56%"},{"v":0.4444444444444444,"d":"44%"}]
[null,null,"Peak Performances"]
[]
[null,"Top Points","Player",null,"Top REB","Player",null,"Top AST","Player"]
[null,{"$f":"MAX(Q$7:Q$30)","v":23},{"$f":"IFERROR(INDEX($AA$7:$AA$30,SMALL(IF(Q$7:Q$30=$B$36,ROW(Q$7:Q$30)-6),ROW(Q7)-6)),\" \")","v":"P Watt, 24"},null,{"$f":"MAX(W$7:W$30)","v":11},{"$f":"IFERROR(INDEX($AA$7:$AA$30,SMALL(IF(W$7:W$30=$E$36,ROW(W$7:W$30)-6),ROW(W7)-6)),\" \")","v":"P Watt, 24"},null,{"$f":"MAX(L$7:L$30)","v":3},{"$f":"IFERROR(INDEX($AA$7:$AA$30,SMALL(IF(L$7:L$30=$H$36,ROW(L$7:L$30)-6),ROW(L7)-6)),\" \")","v":"P Watt, 24"}]
[null,null,{"$f":"IFERROR(INDEX($AA$7:$AA$30,SMALL(IF(Q$7:Q$30=$B$36,ROW(Q$7:Q$30)-6),ROW(Q8)-6)),\" \")","v":" "},null,null,{"$f":"IFERROR(INDEX($AA$7:$AA$30,SMALL(IF(W$7:W$30=$E$36,ROW(W$7:W$30)-6),ROW(W8)-6)),\" \")","v":" "},null,null,{"$f":"IFERROR(INDEX($AA$7:$AA$30,SMALL(IF(L$7:L$30=$H$36,ROW(L$7:L$30)-6),ROW(L8)-6)),\" \")","v":" "}]
[null,null,{"$f":"IFERROR(INDEX($AA$7:$AA$30,SMALL(IF(Q$7:Q$30=$B$36,ROW(Q$7:Q$30)-6),ROW(Q9)-6)),\" \")","v":" "},null,null,{"$f":"IFERROR(INDEX($AA$7:$AA$30,SMALL(IF(W$7:W$30=$E$36,ROW(W$7:W$30)-6),ROW(W9)-6)),\" \")","v":" "},null,null,{"$f":"IFERROR(INDEX($AA$7:$AA$30,SMALL(IF(L$7:L$30=$H$36,ROW(L$7:L$30)-6),ROW(L9)-6)),\" \")","v":" "}]
[null,null,{"$f":"IFERROR(INDEX($AA$7:$AA$30,SMALL(IF(Q$7:Q$30=$B$36,ROW(Q$7:Q$30)-6),ROW(Q10)-6)),\" \")","v":" "},null,null,{"$f":"IFERROR(INDEX($AA$7:$AA$30,SMALL(IF(W$7:W$30=$E$36,ROW(W$7:W$30)-6),ROW(W10)-6)),\" \")","v":" "},null,null,{"$f":"IFERROR(INDEX($AA$7:$AA$30,SMALL(IF(L$7:L$30=$H$36,ROW(L$7:L$30)-6),ROW(L10)-6)),\" \")","v":" "}]
[null,null,{"$f":"IFERROR(INDEX($AA$7:$AA$30,SMALL(IF(Q$7:Q$30=$B$36,ROW(Q$7:Q$30)-6),ROW(Q11)-6)),\" \")","v":" "},null,null,{"$f":"IFERROR(INDEX($AA$7:$AA$30,SMALL(IF(W$7:W$30=$E$36,ROW(W$7:W$30)-6),ROW(W11)-6)),\" \")","v":" "},null,null,{"$f":"IFERROR(INDEX($AA$7:$AA$30,SMALL(IF(L$7:L$30=$H$36,ROW(L$7:L$30)-6),ROW(L11)-6)),\" \")","v":" "}]
[null,null,{"$f":"IFERROR(INDEX($B12:B$30,SMALL(IF(Q$7:Q$30=$B$36,ROW(Q$7:Q$30)-6),ROW(Q12)-6)),\" \")","v":" "}]
[null,null,{"$f":"TRIM(C36)","v":"P Watt, 24"},null,null,{"$f":"TRIM(F36)","v":"P Watt, 24"},null,null,{"$f":"TRIM(I36)","v":"P Watt, 24"}]
[null,null,{"$f":"TRIM(C37)","v":""},null,null,{"$f":"TRIM(F37)","v":""},null,null,{"$f":"TRIM(I37)","v":""}]
[null,null,"",null,null,"",null,null,""]
[null,null,"",null,null,"",null,null,""]
[null,null,"",null,null,"",null,null,""]
[]
[]
[null,{"$f":"COUNTIF(C42:C46,\"?*\")","v":1},null,null,{"$f":"COUNTIF(F42:F46,\"?*\")","v":1},null,null,{"$f":"COUNTIF(I42:I46,\"?*\")","v":1}]

{"sheet":"game1 (19)","index":21,"n_rows":49,"n_cols":27,"rows_kept":49,"merged":[[0,6,0,11],[1,2,1,5],[1,7,1,9],[1,10,1,12],[32,2,32,17]]}
[]
[{"$f":"IF(AND(Roster!$D$1=VLOOKUP(C2,Roster!$L$5:$R$72,2,FALSE),Roster!$D$3=VLOOKUP(C2,Roster!$L$5:$R$72,4,FALSE)),\"R\",\"\")","v":{"$error":"#N/A"}},"Opponent","New Underwood",{"$nulls":4},"Date of Game",null,null,"2018-02-10",{"$nulls":12},{"$f":"IF(OR($H$4=1,$J$4=1),CONCATENATE($C$2,\": \",MONTH($K$2),\"/\",DAY($K$2),\"/\",YEAR($K$2)-2000, \" **\" ),CONCATENATE($C$2,\": \",MONTH($K$2),\"/\",DAY($K$2),\"/\",YEAR($K$2)-2000))","v":"New Underwood: 2/10/18"},null,8]
[{"$nulls":6},"Win","Conf W","Loss","Conf L",null,"Forfeit W?",null,"Forfeit L?",{"$nulls":9},{"$f":"IF($C$4>$D$4,CONCATENATE(Roster!$B$1,\" \",$C$4,\", \",$C$2,\" \",$D$4, \" \",$E$4),CONCATENATE($C$2,\" \",$D$4,\", \",Roster!$B$1,\" \",$C$4,\" \", $E$4 ))","v":"Upton 75, New Underwood 41 "}]
[null,"Score",75,41,null,null,{"$f":"IF(OR($L$4=1,$C$4>$D$4),1,\"\")","v":1},null,{"$f":"IF(OR($N$4=1,$C$4<$D$4),1,\"\")","v":""}]
[]
["#","PLAYER","GP","3FGM","3FGA","2FGM","2FGA","FTM","FTA","OFF REB","DEF REB","AST","STL","BLK","TO","FOUL","TL PTS","3FG %","2FG %","FT %","FG%","FGA","REB","Elig FG%","Elig FT%","Name2","FI,LastName,#"]
[{"$f":"IF(Roster!A7<>\"\",Roster!A7,\"\")","v":24},{"$f":"IF(OR(Roster!A7<>\"\",Roster!B7<>\"\"),PROPER(Roster!B7),\"\")","v":"Payton Watt"},1,4,7,4,5,2,3,2,5,2,2,null,2,2,{"$f":"IF(H7+2*F7+3*D7>0,H7+2*F7+3*D7,\"\")","v":22},{"$f":"IF(E7>0,D7/E7,\"\")","v":{"v":0.5714285714285714,"d":"57%"}},{"$f":"IF(G7>0,F7/G7,\"\")","v":{"v":0.8,"d":"80%"}},{"$f":"IF(I7>0,H7/I7,\"\")","v":{"v":0.6666666666666666,"d":"67%"}},{"$f":"IF(OR(E7>0,G7 >0),(D7+F7)/(E7+G7),\"\")","v":{"v":0.6666666666666666,"d":"67%"}},{"$f":"IF(E7+G7>0,E7+G7,\"\")","v":12},{"$f":"IF(J7+K7>0,J7+K7,\"\")","v":7},{"$f":"IF(V7>=$Z$2,U7,0)","v":{"v":0.6666666666666666,"d":"67%"}},{"$f":"IF(I7>=$Z$2,T7,0)","v":{"v":0,"d":"0%"}},{"$f":"B7","v":"Payton Watt"},{"$f":"IFERROR(IF(FIND(\" \",$B7,1),CONCATENATE(LEFT($B7,1),\" \",RIGHT($B7,LEN($B7)-FIND(\" \",$B7,1)),\", \",$A7),CONCATENATE($B7,\", \",$A7)),\"\")","v":"P Watt, 24"}]
[{"$f":"IF(Roster!A8<>\"\",Roster!A8,\"\")","v":20},{"$f":"IF(OR(Roster!A8<>\"\",Roster!B8<>\"\"),PROPER(Roster!B8),\"\")","v":"Dillon Barritt"},1,3,8,2,3,{"$nulls":5},3,null,1,1,{"$f":"IF(H8+2*F8+3*D8>0,H8+2*F8+3*D8,\"\")","v":13},{"$f":"IF(E8>0,D8/E8,\"\")","v":{"v":0.375,"d":"38%"}},{"$f":"IF(G8>0,F8/G8,\"\")","v":{"v":0.6666666666666666,"d":"67%"}},{"$f":"IF(I8>0,H8/I8,\"\")","v":""},{"$f":"IF(OR(E8>0,G8 >0),(D8+F8)/(E8+G8),\"\")","v":{"v":0.45454545454545453,"d":"45%"}},{"$f":"IF(E8+G8>0,E8+G8,\"\")","v":11},{"$f":"IF(J8+K8>0,J8+K8,\"\")","v":""},{"$f":"IF(V8>=$Z$2,U8,0)","v":{"v":0.45454545454545453,"d":"45%"}},{"$f":"IF(I8>=$Z$2,T8,0)","v":{"v":0,"d":"0%"}},{"$f":"B8","v":"Dillon Barritt"},{"$f":"IFERROR(IF(FIND(\" \",$B8,1),CONCATENATE(LEFT($B8,1),\" \",RIGHT($B8,LEN($B8)-FIND(\" \",$B8,1)),\", \",$A8),CONCATENATE($B8,\", \",$A8)),\"\")","v":"D Barritt, 20"}]
[{"$f":"IF(Roster!A9<>\"\",Roster!A9,\"\")","v":14},{"$f":"IF(OR(Roster!A9<>\"\",Roster!B9<>\"\"),PROPER(Roster!B9),\"\")","v":"Dawson Butts"},1,0,1,null,null,0,3,null,2,6,3,null,1,null,"",{"v":0,"d":"0%"},"",{"v":0,"d":"0%"},{"v":0,"d":"0%"},1,2,{"v":0,"d":"0%"},{"v":0,"d":"0%"},"Dawson Butts","D Butts, 14"]
[{"$f":"IF(Roster!A10<>\"\",Roster!A10,\"\")","v":12},{"$f":"IF(OR(Roster!A10<>\"\",Roster!B10<>\"\"),PROPER(Roster!B10),\"\")","v":"Jayden Caylor"},1,0,1,1,2,1,2,null,2,2,4,null,2,null,3,{"v":0,"d":"0%"},{"v":0.5,"d":"50%"},{"v":0.5,"d":"50%"},{"v":0.3333333333333333,"d":"33%"},3,2,{"v":0,"d":"0%"},{"v":0,"d":"0%"},"Jayden Caylor","J Caylor, 12"]
[{"$f":"IF(Roster!A11<>\"\",Roster!A11,\"\")","v":23},{"$f":"IF(OR(Roster!A11<>\"\",Roster!B11<>\"\"),PROPER(Roster!B11),\"\")","v":"Clayton Louderback"},1,null,null,5,8,9,11,2,4,1,null,null,2,1,19,"",{"v":0.625,"d":"63%"},{"v":0.8181818181818182,"d":"82%"},{"v":0.625,"d":"63%"},8,6,{"v":0.625,"d":"63%"},{"v":0.8181818181818182,"d":"82%"},"Clayton Louderback","C Louderback, 23"]
[{"$f":"IF(Roster!A12<>\"\",Roster!A12,\"\")","v":10},{"$f":"IF(OR(Roster!A12<>\"\",Roster!B12<>\"\"),PROPER(Roster!B12),\"\")","v":"Jess Claycomb"},1,2,3,2,3,2,4,null,null,1,2,null,null,1,12,{"v":0.6666666666666666,"d":"67%"},{"v":0.6666666666666666,"d":"67%"},{"v":0.5,"d":"50%"},{"v":0.6666666666666666,"d":"67%"},6,"",{"v":0,"d":"0%"},{"v":0,"d":"0%"},"Jess Claycomb","J Claycomb, 10"]
[{"$f":"IF(Roster!A13<>\"\",Roster!A13,\"\")","v":4},{"$f":"IF(OR(Roster!A13<>\"\",Roster!B13<>\"\"),PROPER(Roster!B13),\"\")","v":"Maxx Cowger"},{"$nulls":14},"","","","","","","","",{"v":0,"d":"0%"},"Maxx Cowger","M Cowger, 4"]
[{"$f":"IF(Roster!A14<>\"\",Roster!A14,\"\")","v":22},{"$f":"IF(OR(Roster!A14<>\"\",Roster!B14<>\"\"),PROPER(Roster!B14),\"\")","v":"Brayden Bruce"},1,0,2,0,2,2,2,3,1,1,null,null,3,1,2,{"v":0,"d":"0%"},{"v":0,"d":"0%"},{"v":1,"d":"100%"},{"v":0,"d":"0%"},4,4,{"v":0,"d":"0%"},{"v":0,"d":"0%"},"Brayden Bruce","B Bruce, 22"]
[{"$f":"IF(Roster!A15<>\"\",Roster!A15,\"\")","v":30},{"$f":"IF(OR(Roster!A15<>\"\",Roster!B15<>\"\"),PROPER(Roster!B15),\"\")","v":"Jo Bishop"},1,null,null,0,1,{"$nulls":3},1,{"$nulls":3},1,null,"","",{"v":0,"d":"0%"},"",{"v":0,"d":"0%"},1,1,{"v":0,"d":"0%"},{"v":0,"d":"0%"},"Jo Bishop","J Bishop, 30"]
[{"$f":"IF(Roster!A16<>\"\",Roster!A16,\"\")","v":33},{"$f":"IF(OR(Roster!A16<>\"\",Roster!B16<>\"\"),PROPER(Roster!B16),\"\")","v":"Nolan Turner"},1,{"$nulls":6},1,1,{"$nulls":3},1,3,"","","","","","",2,"",{"v":0,"d":"0%"},"Nolan Turner","N Turner, 33"]
[{"$f":"IF(Roster!A17<>\"\",Roster!A17,\"\")","v":32},{"$f":"IF(OR(Roster!A17<>\"\",Roster!B17<>\"\"),PROPER(Roster!B17),\"\")","v":"Robert Crawford"},1,null,null,2,2,null,null,1,{"$nulls":5},1,4,"",{"v":1,"d":"100%"},"",{"v":1,"d":"100%"},2,1,{"v":0,"d":"0%"},{"v":0,"d":"0%"},"Robert Crawford","R Crawford, 32"]
[{"$f":"IF(Roster!A18<>\"\",Roster!A18,\"\")","v":40},{"$f":"IF(OR(Roster!A18<>\"\",Roster!B18<>\"\"),PROPER(Roster!B18),\"\")","v":"Jace Bruce"},1,0,2,null,null,0,1,{"$nulls":5},1,1,"",{"v":0,"d":"0%"},"",{"v":0,"d":"0%"},{"v":0,"d":"0%"},2,"",{"v":0,"d":"0%"},{"v":0,"d":"0%"},"Jace Bruce","J Bruce, 40"]
[{"$f":"IF(Roster!A19<>\"\",Roster!A19,\"\")","v":2},{"$f":"IF(OR(Roster!A19<>\"\",Roster!B19<>\"\"),PROPER(Roster!B19),\"\")","v":"Ethan Mills"},1,0,1,{"$nulls":9},1,null,"",{"v":0,"d":"0%"},"","",{"v":0,"d":"0%"},1,"",{"v":0,"d":"0%"},{"v":0,"d":"0%"},"Ethan Mills","E Mills, 2"]
[{"$f":"IF(Roster!A20<>\"\",Roster!A20,\"\")","v":2},{"$f":"IF(OR(Roster!A20<>\"\",Roster!B20<>\"\"),PROPER(Roster!B20),\"\")","v":"Bridger Alishouse"},{"$nulls":14},"","","","","","","","",{"v":0,"d":"0%"},"Bridger Alishouse","B Alishouse, 2"]
[{"$f":"IF(Roster!A21<>\"\",Roster!A21,\"\")","v":4},{"$f":"IF(OR(Roster!A21<>\"\",Roster!B21<>\"\"),PROPER(Roster!B21),\"\")","v":"Landon Keever"},{"$nulls":14},"","","","","","","","",{"v":0,"d":"0%"},"Landon Keever","L Keever, 4"]
[{"$f":"IF(Roster!A22<>\"\",Roster!A22,\"\")","v":4},{"$f":"IF(OR(Roster!A22<>\"\",Roster!B22<>\"\"),PROPER(Roster!B22),\"\")","v":"Dj Till"},1,{"$nulls":13},"","","","","","","","",{"v":0,"d":"0%"},"Dj Till","D Till, 4"]
[{"$f":"IF(Roster!A23<>\"\",Roster!A23,\"\")","v":""},{"$f":"IF(OR(Roster!A23<>\"\",Roster!B23<>\"\"),PROPER(Roster!B23),\"\")","v":""},{"$nulls":14},"","","","","","","","",{"v":0,"d":"0%"},"",""]
[{"$f":"IF(Roster!A24<>\"\",Roster!A24,\"\")","v":""},{"$f":"IF(OR(Roster!A24<>\"\",Roster!B24<>\"\"),PROPER(Roster!B24),\"\")","v":""},{"$nulls":14},"","","","","","","","",{"v":0,"d":"0%"},"",""]
[{"$f":"IF(Roster!A25<>\"\",Roster!A25,\"\")","v":""},{"$f":"IF(OR(Roster!A25<>\"\",Roster!B25<>\"\"),PROPER(Roster!B25),\"\")","v":""},{"$nulls":14},"","","","","","","","",{"v":0,"d":"0%"},"",""]
[{"$f":"IF(Roster!A26<>\"\",Roster!A26,\"\")","v":""},{"$f":"IF(OR(Roster!A26<>\"\",Roster!B26<>\"\"),PROPER(Roster!B26),\"\")","v":""},{"$nulls":14},"","","","","","","","",{"v":0,"d":"0%"},"",""]
[{"$f":"IF(Roster!A27<>\"\",Roster!A27,\"\")","v":""},{"$f":"IF(OR(Roster!A27<>\"\",Roster!B27<>\"\"),PROPER(Roster!B27),\"\")","v":""},{"$nulls":14},"","","","","","","","",{"v":0,"d":"0%"},"",""]
[{"$f":"IF(Roster!A28<>\"\",Roster!A28,\"\")","v":""},{"$f":"IF(OR(Roster!A28<>\"\",Roster!B28<>\"\"),PROPER(Roster!B28),\"\")","v":""},{"$nulls":14},"","","","","","","","",{"v":0,"d":"0%"},"",""]
[{"$f":"IF(Roster!A29<>\"\",Roster!A29,\"\")","v":""},{"$f":"IF(OR(Roster!A29<>\"\",Roster!B29<>\"\"),PROPER(Roster!B29),\"\")","v":""},{"$nulls":14},"","","","","","","","",{"v":0,"d":"0%"},"",""]
[{"$f":"IF(Roster!A30<>\"\",Roster!A30,\"\")","v":""},{"$f":"IF(OR(Roster!A30<>\"\",Roster!B30<>\"\"),PROPER(Roster!B30),\"\")","v":"Team"},1,{"$nulls":6},1,4,{"$nulls":5},"","","","","","",5,"",{"v":0,"d":"0%"},"Team",{"$f":"IFERROR(IF(FIND(\" \",$B30,1),CONCATENATE(LEFT($B30,1),\" \",RIGHT($B30,LEN($B30)-FIND(\" \",$B30,1)),\", \",$A30),CONCATENATE($B30,\", \",$A30)),\"\")","v":""}]
[null,"Team Totals",{"$f":"IF(COUNTA($C$7:$C$30)>0,1,\"\")","v":1},{"$f":"SUM(D7:D30)","v":9},{"$f":"SUM(E7:E30)","v":25},16,26,16,26,10,20,13,14,0,{"$f":"SUM(O7:O30)","v":15},{"$f":"SUM(P7:P30)","v":11},{"$f":"IF(H31+2*F31+3*D31>0,H31+2*F31+3*D31,IF(C4>0,C4,\"\"))","v":75},{"$f":"IF(E31>0,D31/E31,\"\")","v":{"v":0.36,"d":"36%"}},{"$f":"IF(G31>0,F31/G31,\"\")","v":{"v":0.6153846153846154,"d":"62%"}},{"$f":"IF(I31>0,H31/I31,\"\")","v":{"v":0.6153846153846154,"d":"62%"}},{"$f":"IF(OR(E31>0,G31 >0),(D31+F31)/(E31+G31),\"\")","v":{"v":0.49019607843137253,"d":"49%"}},{"$f":"IF(E31+G31>0,E31+G31,\"\")","v":51},{"$f":"IF(J31+K31>0,J31+K31,\"\")","v":30},{"v":0.49019607843137253,"d":"49%"},{"$f":"IF(I31>=$Z$2,T31,0)","v":{"v":0.6153846153846154,"d":"62%"}}]
[null,"Opponent Totals",{"$f":"IF(SUM(D32:P32)>0,1,\"\")","v":1},2,17,15,36,5,7,15,18,4,8,1,25,22,{"$f":"IF(H32+2*F32+3*D32>0,H32+2*F32+3*D32,IF(D4>0,D4,\"\"))","v":41},{"$f":"IF(E32>0,D32/E32,\"\")","v":{"v":0.11764705882352941,"d":"12%"}},{"$f":"IF(G32>0,F32/G32,\"\")","v":{"v":0.4166666666666667,"d":"42%"}},{"$f":"IF(I32>0,H32/I32,\"\")","v":{"v":0.7142857142857143,"d":"71%"}},{"$f":"IF(OR(E32>0,G32 >0),(D32+F32)/(E32+G32),\"\")","v":{"v":0.32075471698113206,"d":"32%"}},{"$f":"IF(E32+G32>0,E32+G32,\"\")","v":53},{"$f":"IF(J32+K32>0,J32+K32,\"\")","v":33},{"v":0.32075471698113206,"d":"32%"},{"v":0,"d":"0%"}]
[null,null,"Peak Performances"]
[]
[null,"Top Points","Player",null,"Top REB","Player",null,"Top AST","Player"]
[null,{"$f":"MAX(Q$7:Q$30)","v":22},{"$f":"IFERROR(INDEX($AA$7:$AA$30,SMALL(IF(Q$7:Q$30=$B$36,ROW(Q$7:Q$30)-6),ROW(Q7)-6)),\" \")","v":"P Watt, 24"},null,{"$f":"MAX(W$7:W$30)","v":7},{"$f":"IFERROR(INDEX($AA$7:$AA$30,SMALL(IF(W$7:W$30=$E$36,ROW(W$7:W$30)-6),ROW(W7)-6)),\" \")","v":"P Watt, 24"},null,{"$f":"MAX(L$7:L$30)","v":6},{"$f":"IFERROR(INDEX($AA$7:$AA$30,SMALL(IF(L$7:L$30=$H$36,ROW(L$7:L$30)-6),ROW(L7)-6)),\" \")","v":"D Butts, 14"}]
[null,null,{"$f":"IFERROR(INDEX($AA$7:$AA$30,SMALL(IF(Q$7:Q$30=$B$36,ROW(Q$7:Q$30)-6),ROW(Q8)-6)),\" \")","v":" "},null,null,{"$f":"IFERROR(INDEX($AA$7:$AA$30,SMALL(IF(W$7:W$30=$E$36,ROW(W$7:W$30)-6),ROW(W8)-6)),\" \")","v":" "},null,null,{"$f":"IFERROR(INDEX($AA$7:$AA$30,SMALL(IF(L$7:L$30=$H$36,ROW(L$7:L$30)-6),ROW(L8)-6)),\" \")","v":" "}]
[null,null,{"$f":"IFERROR(INDEX($AA$7:$AA$30,SMALL(IF(Q$7:Q$30=$B$36,ROW(Q$7:Q$30)-6),ROW(Q9)-6)),\" \")","v":" "},null,null,{"$f":"IFERROR(INDEX($AA$7:$AA$30,SMALL(IF(W$7:W$30=$E$36,ROW(W$7:W$30)-6),ROW(W9)-6)),\" \")","v":" "},null,null,{"$f":"IFERROR(INDEX($AA$7:$AA$30,SMALL(IF(L$7:L$30=$H$36,ROW(L$7:L$30)-6),ROW(L9)-6)),\" \")","v":" "}]
[null,null,{"$f":"IFERROR(INDEX($AA$7:$AA$30,SMALL(IF(Q$7:Q$30=$B$36,ROW(Q$7:Q$30)-6),ROW(Q10)-6)),\" \")","v":" "},null,null,{"$f":"IFERROR(INDEX($AA$7:$AA$30,SMALL(IF(W$7:W$30=$E$36,ROW(W$7:W$30)-6),ROW(W10)-6)),\" \")","v":" "},null,null,{"$f":"IFERROR(INDEX($AA$7:$AA$30,SMALL(IF(L$7:L$30=$H$36,ROW(L$7:L$30)-6),ROW(L10)-6)),\" \")","v":" "}]
[null,null,{"$f":"IFERROR(INDEX($AA$7:$AA$30,SMALL(IF(Q$7:Q$30=$B$36,ROW(Q$7:Q$30)-6),ROW(Q11)-6)),\" \")","v":" "},null,null,{"$f":"IFERROR(INDEX($AA$7:$AA$30,SMALL(IF(W$7:W$30=$E$36,ROW(W$7:W$30)-6),ROW(W11)-6)),\" \")","v":" "},null,null,{"$f":"IFERROR(INDEX($AA$7:$AA$30,SMALL(IF(L$7:L$30=$H$36,ROW(L$7:L$30)-6),ROW(L11)-6)),\" \")","v":" "}]
[null,null,{"$f":"IFERROR(INDEX($B12:B$30,SMALL(IF(Q$7:Q$30=$B$36,ROW(Q$7:Q$30)-6),ROW(Q12)-6)),\" \")","v":" "}]
[null,null,{"$f":"TRIM(C36)","v":"P Watt, 24"},null,null,{"$f":"TRIM(F36)","v":"P Watt, 24"},null,null,{"$f":"TRIM(I36)","v":"D Butts, 14"}]
[null,null,{"$f":"TRIM(C37)","v":""},null,null,{"$f":"TRIM(F37)","v":""},null,null,{"$f":"TRIM(I37)","v":""}]
[null,null,"",null,null,"",null,null,""]
[null,null,"",null,null,"",null,null,""]
[null,null,"",null,null,"",null,null,""]
[]
[]
[null,{"$f":"COUNTIF(C42:C46,\"?*\")","v":1},null,null,{"$f":"COUNTIF(F42:F46,\"?*\")","v":1},null,null,{"$f":"COUNTIF(I42:I46,\"?*\")","v":1}]

{"sheet":"game1 (20)","index":22,"n_rows":49,"n_cols":27,"rows_kept":49,"merged":[[0,6,0,11],[1,2,1,5],[1,7,1,9],[1,10,1,12],[32,2,32,17]]}
[]
[{"$f":"IF(AND(Roster!$D$1=VLOOKUP(C2,Roster!$L$5:$R$73,2,FALSE),Roster!$D$3=VLOOKUP(C2,Roster!$L$5:$R$73,4,FALSE)),\"R\",\"\")","v":"R"},"Opponent","Big Horn",{"$nulls":4},"Date of Game",null,null,"2018-02-16",{"$nulls":12},{"$f":"IF(OR($H$4=1,$J$4=1),CONCATENATE($C$2,\": \",MONTH($K$2),\"/\",DAY($K$2),\"/\",YEAR($K$2)-2000, \" **\" ),CONCATENATE($C$2,\": \",MONTH($K$2),\"/\",DAY($K$2),\"/\",YEAR($K$2)-2000))","v":"Big Horn: 2/16/18 **"},null,8]
[{"$nulls":6},"Win","Conf W","Loss","Conf L",null,"Forfeit W?",null,"Forfeit L?",{"$nulls":9},{"$f":"IF($C$4>$D$4,CONCATENATE(Roster!$B$1,\" \",$C$4,\", \",$C$2,\" \",$D$4, \" \",$E$4),CONCATENATE($C$2,\" \",$D$4,\", \",Roster!$B$1,\" \",$C$4,\" \", $E$4 ))","v":"Upton 55, Big Horn 52 "}]
[null,"Score",55,52,null,null,{"$f":"IF(OR($L$4=1,$C$4>$D$4),1,\"\")","v":1},1,{"$f":"IF(OR($N$4=1,$C$4<$D$4),1,\"\")","v":""}]
[]
["#","PLAYER","GP","3FGM","3FGA","2FGM","2FGA","FTM","FTA","OFF REB","DEF REB","AST","STL","BLK","TO","FOUL","TL PTS","3FG %","2FG %","FT %","FG%","FGA","REB","Elig FG%","Elig FT%","Name2","FI,LastName,#"]
[{"$f":"IF(Roster!A7<>\"\",Roster!A7,\"\")","v":24},{"$f":"IF(OR(Roster!A7<>\"\",Roster!B7<>\"\"),PROPER(Roster!B7),\"\")","v":"Payton Watt"},1,0,2,6,8,1,1,3,5,2,null,null,1,2,{"$f":"IF(H7+2*F7+3*D7>0,H7+2*F7+3*D7,\"\")","v":13},{"$f":"IF(E7>0,D7/E7,\"\")","v":{"v":0,"d":"0%"}},{"$f":"IF(G7>0,F7/G7,\"\")","v":{"v":0.75,"d":"75%"}},{"$f":"IF(I7>0,H7/I7,\"\")","v":{"v":1,"d":"100%"}},{"$f":"IF(OR(E7>0,G7 >0),(D7+F7)/(E7+G7),\"\")","v":{"v":0.6,"d":"60%"}},{"$f":"IF(E7+G7>0,E7+G7,\"\")","v":10},{"$f":"IF(J7+K7>0,J7+K7,\"\")","v":8},{"$f":"IF(V7>=$Z$2,U7,0)","v":{"v":0.6,"d":"60%"}},{"$f":"IF(I7>=$Z$2,T7,0)","v":{"v":0,"d":"0%"}},{"$f":"B7","v":"Payton Watt"},{"$f":"IFERROR(IF(FIND(\" \",$B7,1),CONCATENATE(LEFT($B7,1),\" \",RIGHT($B7,LEN($B7)-FIND(\" \",$B7,1)),\", \",$A7),CONCATENATE($B7,\", \",$A7)),\"\")","v":"P Watt, 24"}]
[{"$f":"IF(Roster!A8<>\"\",Roster!A8,\"\")","v":20},{"$f":"IF(OR(Roster!A8<>\"\",Roster!B8<>\"\"),PROPER(Roster!B8),\"\")","v":"Dillon Barritt"},1,2,5,1,2,{"$nulls":3},1,4,null,null,1,2,{"$f":"IF(H8+2*F8+3*D8>0,H8+2*F8+3*D8,\"\")","v":8},{"$f":"IF(E8>0,D8/E8,\"\")","v":{"v":0.4,"d":"40%"}},{"$f":"IF(G8>0,F8/G8,\"\")","v":{"v":0.5,"d":"50%"}},{"$f":"IF(I8>0,H8/I8,\"\")","v":""},{"$f":"IF(OR(E8>0,G8 >0),(D8+F8)/(E8+G8),\"\")","v":{"v":0.42857142857142855,"d":"43%"}},{"$f":"IF(E8+G8>0,E8+G8,\"\")","v":7},{"$f":"IF(J8+K8>0,J8+K8,\"\")","v":1},{"$f":"IF(V8>=$Z$2,U8,0)","v":{"v":0,"d":"0%"}},{"$f":"IF(I8>=$Z$2,T8,0)","v":{"v":0,"d":"0%"}},{"$f":"B8","v":"Dillon Barritt"},{"$f":"IFERROR(IF(FIND(\" \",$B8,1),CONCATENATE(LEFT($B8,1),\" \",RIGHT($B8,LEN($B8)-FIND(\" \",$B8,1)),\", \",$A8),CONCATENATE($B8,\", \",$A8)),\"\")","v":"D Barritt, 20"}]
[{"$f":"IF(Roster!A9<>\"\",Roster!A9,\"\")","v":14},{"$f":"IF(OR(Roster!A9<>\"\",Roster!B9<>\"\"),PROPER(Roster!B9),\"\")","v":"Dawson Butts"},1,1,1,1,3,0,2,null,3,1,null,null,2,null,5,{"v":1,"d":"100%"},{"v":0.3333333333333333,"d":"33%"},{"v":0,"d":"0%"},{"v":0.5,"d":"50%"},4,3,{"v":0,"d":"0%"},{"v":0,"d":"0%"},"Dawson Butts","D Butts, 14"]
[{"$f":"IF(Roster!A10<>\"\",Roster!A10,\"\")","v":12},{"$f":"IF(OR(Roster!A10<>\"\",Roster!B10<>\"\"),PROPER(Roster!B10),\"\")","v":"Jayden Caylor"},1,null,null,2,5,0,1,1,3,1,1,null,2,2,4,"",{"v":0.4,"d":"40%"},{"v":0,"d":"0%"},{"v":0.4,"d":"40%"},5,4,{"v":0,"d":"0%"},{"v":0,"d":"0%"},"Jayden Caylor","J Caylor, 12"]
[{"$f":"IF(Roster!A11<>\"\",Roster!A11,\"\")","v":23},{"$f":"IF(OR(Roster!A11<>\"\",Roster!B11<>\"\"),PROPER(Roster!B11),\"\")","v":"Clayton Louderback"},1,1,3,3,8,8,10,2,6,1,1,1,7,2,17,{"v":0.3333333333333333,"d":"33%"},{"v":0.375,"d":"38%"},{"v":0.8,"d":"80%"},{"v":0.36363636363636365,"d":"36%"},11,8,{"v":0.36363636363636365,"d":"36%"},{"v":0.8,"d":"80%"},"Clayton Louderback","C Louderback, 23"]
[{"$f":"IF(Roster!A12<>\"\",Roster!A12,\"\")","v":10},{"$f":"IF(OR(Roster!A12<>\"\",Roster!B12<>\"\"),PROPER(Roster!B12),\"\")","v":"Jess Claycomb"},1,0,1,1,2,2,2,2,2,{"$nulls":3},1,1,4,{"v":0,"d":"0%"},{"v":0.5,"d":"50%"},{"v":1,"d":"100%"},{"v":0.3333333333333333,"d":"33%"},3,4,{"v":0,"d":"0%"},{"v":0,"d":"0%"},"Jess Claycomb","J Claycomb, 10"]
[{"$f":"IF(Roster!A13<>\"\",Roster!A13,\"\")","v":4},{"$f":"IF(OR(Roster!A13<>\"\",Roster!B13<>\"\"),PROPER(Roster!B13),\"\")","v":"Maxx Cowger"},{"$nulls":14},"","","","","","","","",{"v":0,"d":"0%"},"Maxx Cowger","M Cowger, 4"]
[{"$f":"IF(Roster!A14<>\"\",Roster!A14,\"\")","v":22},{"$f":"IF(OR(Roster!A14<>\"\",Roster!B14<>\"\"),PROPER(Roster!B14),\"\")","v":"Brayden Bruce"},1,0,1,1,1,2,2,null,1,4,{"$nulls":4},4,{"v":0,"d":"0%"},{"v":1,"d":"100%"},{"v":1,"d":"100%"},{"v":0.5,"d":"50%"},2,1,{"v":0,"d":"0%"},{"v":0,"d":"0%"},"Brayden Bruce","B Bruce, 22"]
[{"$f":"IF(Roster!A15<>\"\",Roster!A15,\"\")","v":30},{"$f":"IF(OR(Roster!A15<>\"\",Roster!B15<>\"\"),PROPER(Roster!B15),\"\")","v":"Jo Bishop"},{"$nulls":14},"","","","","","","","",{"v":0,"d":"0%"},"Jo Bishop","J Bishop, 30"]
[{"$f":"IF(Roster!A16<>\"\",Roster!A16,\"\")","v":33},{"$f":"IF(OR(Roster!A16<>\"\",Roster!B16<>\"\"),PROPER(Roster!B16),\"\")","v":"Nolan Turner"},{"$nulls":14},"","","","","","","","",{"v":0,"d":"0%"},"Nolan Turner","N Turner, 33"]
[{"$f":"IF(Roster!A17<>\"\",Roster!A17,\"\")","v":32},{"$f":"IF(OR(Roster!A17<>\"\",Roster!B17<>\"\"),PROPER(Roster!B17),\"\")","v":"Robert Crawford"},{"$nulls":14},"","","","","","","","",{"v":0,"d":"0%"},"Robert Crawford","R Crawford, 32"]
[{"$f":"IF(Roster!A18<>\"\",Roster!A18,\"\")","v":40},{"$f":"IF(OR(Roster!A18<>\"\",Roster!B18<>\"\"),PROPER(Roster!B18),\"\")","v":"Jace Bruce"},{"$nulls":14},"","","","","","","","",{"v":0,"d":"0%"},"Jace Bruce","J Bruce, 40"]
[{"$f":"IF(Roster!A19<>\"\",Roster!A19,\"\")","v":2},{"$f":"IF(OR(Roster!A19<>\"\",Roster!B19<>\"\"),PROPER(Roster!B19),\"\")","v":"Ethan Mills"},{"$nulls":14},"","","","","","","","",{"v":0,"d":"0%"},"Ethan Mills","E Mills, 2"]
[{"$f":"IF(Roster!A20<>\"\",Roster!A20,\"\")","v":2},{"$f":"IF(OR(Roster!A20<>\"\",Roster!B20<>\"\"),PROPER(Roster!B20),\"\")","v":"Bridger Alishouse"},{"$nulls":14},"","","","","","","","",{"v":0,"d":"0%"},"Bridger Alishouse","B Alishouse, 2"]
[{"$f":"IF(Roster!A21<>\"\",Roster!A21,\"\")","v":4},{"$f":"IF(OR(Roster!A21<>\"\",Roster!B21<>\"\"),PROPER(Roster!B21),\"\")","v":"Landon Keever"},{"$nulls":14},"","","","","","","","",{"v":0,"d":"0%"},"Landon Keever","L Keever, 4"]
[{"$f":"IF(Roster!A22<>\"\",Roster!A22,\"\")","v":4},{"$f":"IF(OR(Roster!A22<>\"\",Roster!B22<>\"\"),PROPER(Roster!B22),\"\")","v":"Dj Till"},{"$nulls":14},"","","","","","","","",{"v":0,"d":"0%"},"Dj Till","D Till, 4"]
[{"$f":"IF(Roster!A23<>\"\",Roster!A23,\"\")","v":""},{"$f":"IF(OR(Roster!A23<>\"\",Roster!B23<>\"\"),PROPER(Roster!B23),\"\")","v":""},{"$nulls":14},"","","","","","","","",{"v":0,"d":"0%"},"",""]
[{"$f":"IF(Roster!A24<>\"\",Roster!A24,\"\")","v":""},{"$f":"IF(OR(Roster!A24<>\"\",Roster!B24<>\"\"),PROPER(Roster!B24),\"\")","v":""},{"$nulls":14},"","","","","","","","",{"v":0,"d":"0%"},"",""]
[{"$f":"IF(Roster!A25<>\"\",Roster!A25,\"\")","v":""},{"$f":"IF(OR(Roster!A25<>\"\",Roster!B25<>\"\"),PROPER(Roster!B25),\"\")","v":""},{"$nulls":14},"","","","","","","","",{"v":0,"d":"0%"},"",""]
[{"$f":"IF(Roster!A26<>\"\",Roster!A26,\"\")","v":""},{"$f":"IF(OR(Roster!A26<>\"\",Roster!B26<>\"\"),PROPER(Roster!B26),\"\")","v":""},{"$nulls":14},"","","","","","","","",{"v":0,"d":"0%"},"",""]
[{"$f":"IF(Roster!A27<>\"\",Roster!A27,\"\")","v":""},{"$f":"IF(OR(Roster!A27<>\"\",Roster!B27<>\"\"),PROPER(Roster!B27),\"\")","v":""},{"$nulls":14},"","","","","","","","",{"v":0,"d":"0%"},"",""]
[{"$f":"IF(Roster!A28<>\"\",Roster!A28,\"\")","v":""},{"$f":"IF(OR(Roster!A28<>\"\",Roster!B28<>\"\"),PROPER(Roster!B28),\"\")","v":""},{"$nulls":14},"","","","","","","","",{"v":0,"d":"0%"},"",""]
[{"$f":"IF(Roster!A29<>\"\",Roster!A29,\"\")","v":""},{"$f":"IF(OR(Roster!A29<>\"\",Roster!B29<>\"\"),PROPER(Roster!B29),\"\")","v":""},{"$nulls":14},"","","","","","","","",{"v":0,"d":"0%"},"",""]
[{"$f":"IF(Roster!A30<>\"\",Roster!A30,\"\")","v":""},{"$f":"IF(OR(Roster!A30<>\"\",Roster!B30<>\"\"),PROPER(Roster!B30),\"\")","v":"Team"},1,{"$nulls":6},1,2,{"$nulls":5},"","","","","","",3,"",{"v":0,"d":"0%"},"Team",{"$f":"IFERROR(IF(FIND(\" \",$B30,1),CONCATENATE(LEFT($B30,1),\" \",RIGHT($B30,LEN($B30)-FIND(\" \",$B30,1)),\", \",$A30),CONCATENATE($B30,\", \",$A30)),\"\")","v":""}]
[null,"Team Totals",{"$f":"IF(COUNTA($C$7:$C$30)>0,1,\"\")","v":1},{"$f":"SUM(D7:D30)","v":4},{"$f":"SUM(E7:E30)","v":13},15,29,13,18,9,23,13,2,1,{"$f":"SUM(O7:O30)","v":14},{"$f":"SUM(P7:P30)","v":9},{"$f":"IF(H31+2*F31+3*D31>0,H31+2*F31+3*D31,IF(C4>0,C4,\"\"))","v":55},{"$f":"IF(E31>0,D31/E31,\"\")","v":{"v":0.3076923076923077,"d":"31%"}},{"$f":"IF(G31>0,F31/G31,\"\")","v":{"v":0.5172413793103449,"d":"52%"}},{"$f":"IF(I31>0,H31/I31,\"\")","v":{"v":0.7222222222222222,"d":"72%"}},{"$f":"IF(OR(E31>0,G31 >0),(D31+F31)/(E31+G31),\"\")","v":{"v":0.4523809523809524,"d":"45%"}},{"$f":"IF(E31+G31>0,E31+G31,\"\")","v":42},{"$f":"IF(J31+K31>0,J31+K31,\"\")","v":32},{"v":0.4523809523809524,"d":"45%"},{"$f":"IF(I31>=$Z$2,T31,0)","v":{"v":0.7222222222222222,"d":"72%"}}]
[null,"Opponent Totals",{"$f":"IF(SUM(D32:P32)>0,1,\"\")","v":1},4,16,18,41,4,6,10,17,2,6,2,9,17,{"$f":"IF(H32+2*F32+3*D32>0,H32+2*F32+3*D32,IF(D4>0,D4,\"\"))","v":52},{"$f":"IF(E32>0,D32/E32,\"\")","v":{"v":0.25,"d":"25%"}},{"$f":"IF(G32>0,F32/G32,\"\")","v":{"v":0.43902439024390244,"d":"44%"}},{"$f":"IF(I32>0,H32/I32,\"\")","v":{"v":0.6666666666666666,"d":"67%"}},{"$f":"IF(OR(E32>0,G32 >0),(D32+F32)/(E32+G32),\"\")","v":{"v":0.38596491228070173,"d":"39%"}},{"$f":"IF(E32+G32>0,E32+G32,\"\")","v":57},{"$f":"IF(J32+K32>0,J32+K32,\"\")","v":27},{"v":0.38596491228070173,"d":"39%"},{"v":0,"d":"0%"}]
[null,null,"Peak Performances"]
[]
[null,"Top Points","Player",null,"Top REB","Player",null,"Top AST","Player"]
[null,{"$f":"MAX(Q$7:Q$30)","v":17},{"$f":"IFERROR(INDEX($AA$7:$AA$30,SMALL(IF(Q$7:Q$30=$B$36,ROW(Q$7:Q$30)-6),ROW(Q7)-6)),\" \")","v":"C Louderback, 23"},null,{"$f":"MAX(W$7:W$30)","v":8},{"$f":"IFERROR(INDEX($AA$7:$AA$30,SMALL(IF(W$7:W$30=$E$36,ROW(W$7:W$30)-6),ROW(W7)-6)),\" \")","v":"P Watt, 24"},null,{"$f":"MAX(L$7:L$30)","v":4},{"$f":"IFERROR(INDEX($AA$7:$AA$30,SMALL(IF(L$7:L$30=$H$36,ROW(L$7:L$30)-6),ROW(L7)-6)),\" \")","v":"D Barritt, 20"}]
[null,null,{"$f":"IFERROR(INDEX($AA$7:$AA$30,SMALL(IF(Q$7:Q$30=$B$36,ROW(Q$7:Q$30)-6),ROW(Q8)-6)),\" \")","v":" "},null,null,{"$f":"IFERROR(INDEX($AA$7:$AA$30,SMALL(IF(W$7:W$30=$E$36,ROW(W$7:W$30)-6),ROW(W8)-6)),\" \")","v":"C Louderback, 23"},null,null,{"$f":"IFERROR(INDEX($AA$7:$AA$30,SMALL(IF(L$7:L$30=$H$36,ROW(L$7:L$30)-6),ROW(L8)-6)),\" \")","v":"B Bruce, 22"}]
[null,null,{"$f":"IFERROR(INDEX($AA$7:$AA$30,SMALL(IF(Q$7:Q$30=$B$36,ROW(Q$7:Q$30)-6),ROW(Q9)-6)),\" \")","v":" "},null,null,{"$f":"IFERROR(INDEX($AA$7:$AA$30,SMALL(IF(W$7:W$30=$E$36,ROW(W$7:W$30)-6),ROW(W9)-6)),\" \")","v":" "},null,null,{"$f":"IFERROR(INDEX($AA$7:$AA$30,SMALL(IF(L$7:L$30=$H$36,ROW(L$7:L$30)-6),ROW(L9)-6)),\" \")","v":" "}]
[null,null,{"$f":"IFERROR(INDEX($AA$7:$AA$30,SMALL(IF(Q$7:Q$30=$B$36,ROW(Q$7:Q$30)-6),ROW(Q10)-6)),\" \")","v":" "},null,null,{"$f":"IFERROR(INDEX($AA$7:$AA$30,SMALL(IF(W$7:W$30=$E$36,ROW(W$7:W$30)-6),ROW(W10)-6)),\" \")","v":" "},null,null,{"$f":"IFERROR(INDEX($AA$7:$AA$30,SMALL(IF(L$7:L$30=$H$36,ROW(L$7:L$30)-6),ROW(L10)-6)),\" \")","v":" "}]
[null,null,{"$f":"IFERROR(INDEX($AA$7:$AA$30,SMALL(IF(Q$7:Q$30=$B$36,ROW(Q$7:Q$30)-6),ROW(Q11)-6)),\" \")","v":" "},null,null,{"$f":"IFERROR(INDEX($AA$7:$AA$30,SMALL(IF(W$7:W$30=$E$36,ROW(W$7:W$30)-6),ROW(W11)-6)),\" \")","v":" "},null,null,{"$f":"IFERROR(INDEX($AA$7:$AA$30,SMALL(IF(L$7:L$30=$H$36,ROW(L$7:L$30)-6),ROW(L11)-6)),\" \")","v":" "}]
[null,null,{"$f":"IFERROR(INDEX($B12:B$30,SMALL(IF(Q$7:Q$30=$B$36,ROW(Q$7:Q$30)-6),ROW(Q12)-6)),\" \")","v":" "}]
[null,null,{"$f":"TRIM(C36)","v":"C Louderback, 23"},null,null,{"$f":"TRIM(F36)","v":"P Watt, 24"},null,null,{"$f":"TRIM(I36)","v":"D Barritt, 20"}]
[null,null,{"$f":"TRIM(C37)","v":""},null,null,{"$f":"TRIM(F37)","v":"C Louderback, 23"},null,null,{"$f":"TRIM(I37)","v":"B Bruce, 22"}]
[null,null,"",null,null,"",null,null,""]
[null,null,"",null,null,"",null,null,""]
[null,null,"",null,null,"",null,null,""]
[]
[]
[null,{"$f":"COUNTIF(C42:C46,\"?*\")","v":1},null,null,{"$f":"COUNTIF(F42:F46,\"?*\")","v":2},null,null,{"$f":"COUNTIF(I42:I46,\"?*\")","v":2}]

{"sheet":"game1 (21)","index":23,"n_rows":49,"n_cols":27,"rows_kept":49,"merged":[[0,6,0,11],[1,2,1,5],[1,7,1,9],[1,10,1,12],[32,2,32,17]]}
[]
[{"$f":"IF(AND(Roster!$D$1=VLOOKUP(C2,Roster!$L$5:$R$72,2,FALSE),Roster!$D$3=VLOOKUP(C2,Roster!$L$5:$R$72,4,FALSE)),\"R\",\"\")","v":"R"},"Opponent","Tongue River",{"$nulls":4},"Date of Game",null,null,"2018-02-17",{"$nulls":12},{"$f":"IF(OR($H$4=1,$J$4=1),CONCATENATE($C$2,\": \",MONTH($K$2),\"/\",DAY($K$2),\"/\",YEAR($K$2)-2000, \" **\" ),CONCATENATE($C$2,\": \",MONTH($K$2),\"/\",DAY($K$2),\"/\",YEAR($K$2)-2000))","v":"Tongue River: 2/17/18 **"},null,8]
[{"$nulls":6},"Win","Conf W","Loss","Conf L",null,"Forfeit W?",null,"Forfeit L?",{"$nulls":9},{"$f":"IF($C$4>$D$4,CONCATENATE(Roster!$B$1,\" \",$C$4,\", \",$C$2,\" \",$D$4, \" \",$E$4),CONCATENATE($C$2,\" \",$D$4,\", \",Roster!$B$1,\" \",$C$4,\" \", $E$4 ))","v":"Upton 81, Tongue River 57 "}]
[null,"Score",81,57,null,null,{"$f":"IF(OR($L$4=1,$C$4>$D$4),1,\"\")","v":1},1,{"$f":"IF(OR($N$4=1,$C$4<$D$4),1,\"\")","v":""}]
[]
["#","PLAYER","GP","3FGM","3FGA","2FGM","2FGA","FTM","FTA","OFF REB","DEF REB","AST","STL","BLK","TO","FOUL","TL PTS","3FG %","2FG %","FT %","FG%","FGA","REB","Elig FG%","Elig FT%","Name2","FI,LastName,#"]
[{"$f":"IF(Roster!A7<>\"\",Roster!A7,\"\")","v":24},{"$f":"IF(OR(Roster!A7<>\"\",Roster!B7<>\"\"),PROPER(Roster!B7),\"\")","v":"Payton Watt"},1,0,4,10,15,4,6,6,11,4,null,null,1,null,{"$f":"IF(H7+2*F7+3*D7>0,H7+2*F7+3*D7,\"\")","v":24},{"$f":"IF(E7>0,D7/E7,\"\")","v":{"v":0,"d":"0%"}},{"$f":"IF(G7>0,F7/G7,\"\")","v":{"v":0.6666666666666666,"d":"67%"}},{"$f":"IF(I7>0,H7/I7,\"\")","v":{"v":0.6666666666666666,"d":"67%"}},{"$f":"IF(OR(E7>0,G7 >0),(D7+F7)/(E7+G7),\"\")","v":{"v":0.5263157894736842,"d":"53%"}},{"$f":"IF(E7+G7>0,E7+G7,\"\")","v":19},{"$f":"IF(J7+K7>0,J7+K7,\"\")","v":17},{"$f":"IF(V7>=$Z$2,U7,0)","v":{"v":0.5263157894736842,"d":"53%"}},{"$f":"IF(I7>=$Z$2,T7,0)","v":{"v":0,"d":"0%"}},{"$f":"B7","v":"Payton Watt"},{"$f":"IFERROR(IF(FIND(\" \",$B7,1),CONCATENATE(LEFT($B7,1),\" \",RIGHT($B7,LEN($B7)-FIND(\" \",$B7,1)),\", \",$A7),CONCATENATE($B7,\", \",$A7)),\"\")","v":"P Watt, 24"}]
[{"$f":"IF(Roster!A8<>\"\",Roster!A8,\"\")","v":20},{"$f":"IF(OR(Roster!A8<>\"\",Roster!B8<>\"\"),PROPER(Roster!B8),\"\")","v":"Dillon Barritt"},1,5,9,2,5,null,null,1,1,{"$nulls":4},4,{"$f":"IF(H8+2*F8+3*D8>0,H8+2*F8+3*D8,\"\")","v":19},{"$f":"IF(E8>0,D8/E8,\"\")","v":{"v":0.5555555555555556,"d":"56%"}},{"$f":"IF(G8>0,F8/G8,\"\")","v":{"v":0.4,"d":"40%"}},{"$f":"IF(I8>0,H8/I8,\"\")","v":""},{"$f":"IF(OR(E8>0,G8 >0),(D8+F8)/(E8+G8),\"\")","v":{"v":0.5,"d":"50%"}},{"$f":"IF(E8+G8>0,E8+G8,\"\")","v":14},{"$f":"IF(J8+K8>0,J8+K8,\"\")","v":2},{"$f":"IF(V8>=$Z$2,U8,0)","v":{"v":0.5,"d":"50%"}},{"$f":"IF(I8>=$Z$2,T8,0)","v":{"v":0,"d":"0%"}},{"$f":"B8","v":"Dillon Barritt"},{"$f":"IFERROR(IF(FIND(\" \",$B8,1),CONCATENATE(LEFT($B8,1),\" \",RIGHT($B8,LEN($B8)-FIND(\" \",$B8,1)),\", \",$A8),CONCATENATE($B8,\", \",$A8)),\"\")","v":"D Barritt, 20"}]
[{"$f":"IF(Roster!A9<>\"\",Roster!A9,\"\")","v":14},{"$f":"IF(OR(Roster!A9<>\"\",Roster!B9<>\"\"),PROPER(Roster!B9),\"\")","v":"Dawson Butts"},1,0,2,2,6,1,2,2,5,7,1,null,3,null,5,{"v":0,"d":"0%"},{"v":0.3333333333333333,"d":"33%"},{"v":0.5,"d":"50%"},{"v":0.25,"d":"25%"},8,7,{"v":0.25,"d":"25%"},{"v":0,"d":"0%"},"Dawson Butts","D Butts, 14"]
[{"$f":"IF(Roster!A10<>\"\",Roster!A10,\"\")","v":12},{"$f":"IF(OR(Roster!A10<>\"\",Roster!B10<>\"\"),PROPER(Roster!B10),\"\")","v":"Jayden Caylor"},1,1,1,2,2,null,null,1,2,2,2,null,null,4,7,{"v":1,"d":"100%"},{"v":1,"d":"100%"},"",{"v":1,"d":"100%"},3,3,{"v":0,"d":"0%"},{"v":0,"d":"0%"},"Jayden Caylor","J Caylor, 12"]
[{"$f":"IF(Roster!A11<>\"\",Roster!A11,\"\")","v":23},{"$f":"IF(OR(Roster!A11<>\"\",Roster!B11<>\"\"),PROPER(Roster!B11),\"\")","v":"Clayton Louderback"},1,0,1,7,10,3,7,3,5,6,3,null,1,3,17,{"v":0,"d":"0%"},{"v":0.7,"d":"70%"},{"v":0.42857142857142855,"d":"43%"},{"v":0.6363636363636364,"d":"64%"},11,8,{"v":0.6363636363636364,"d":"64%"},{"v":0,"d":"0%"},"Clayton Louderback","C Louderback, 23"]
[{"$f":"IF(Roster!A12<>\"\",Roster!A12,\"\")","v":10},{"$f":"IF(OR(Roster!A12<>\"\",Roster!B12<>\"\"),PROPER(Roster!B12),\"\")","v":"Jess Claycomb"},1,0,3,4,6,1,1,1,2,2,1,{"$nulls":3},9,{"v":0,"d":"0%"},{"v":0.6666666666666666,"d":"67%"},{"v":1,"d":"100%"},{"v":0.4444444444444444,"d":"44%"},9,3,{"v":0.4444444444444444,"d":"44%"},{"v":0,"d":"0%"},"Jess Claycomb","J Claycomb, 10"]
[{"$f":"IF(Roster!A13<>\"\",Roster!A13,\"\")","v":4},{"$f":"IF(OR(Roster!A13<>\"\",Roster!B13<>\"\"),PROPER(Roster!B13),\"\")","v":"Maxx Cowger"},{"$nulls":14},"","","","","","","","",{"v":0,"d":"0%"},"Maxx Cowger","M Cowger, 4"]
[{"$f":"IF(Roster!A14<>\"\",Roster!A14,\"\")","v":22},{"$f":"IF(OR(Roster!A14<>\"\",Roster!B14<>\"\"),PROPER(Roster!B14),\"\")","v":"Brayden Bruce"},1,0,3,0,1,{"$nulls":3},1,3,1,null,null,2,"",{"v":0,"d":"0%"},{"v":0,"d":"0%"},"",{"v":0,"d":"0%"},4,1,{"v":0,"d":"0%"},{"v":0,"d":"0%"},"Brayden Bruce","B Bruce, 22"]
[{"$f":"IF(Roster!A15<>\"\",Roster!A15,\"\")","v":30},{"$f":"IF(OR(Roster!A15<>\"\",Roster!B15<>\"\"),PROPER(Roster!B15),\"\")","v":"Jo Bishop"},1,{"$nulls":7},1,{"$nulls":3},1,1,"","","","","","",1,"",{"v":0,"d":"0%"},"Jo Bishop","J Bishop, 30"]
[{"$f":"IF(Roster!A16<>\"\",Roster!A16,\"\")","v":33},{"$f":"IF(OR(Roster!A16<>\"\",Roster!B16<>\"\"),PROPER(Roster!B16),\"\")","v":"Nolan Turner"},1,{"$nulls":7},1,{"$nulls":4},1,"","","","","","",1,"",{"v":0,"d":"0%"},"Nolan Turner","N Turner, 33"]
[{"$f":"IF(Roster!A17<>\"\",Roster!A17,\"\")","v":32},{"$f":"IF(OR(Roster!A17<>\"\",Roster!B17<>\"\"),PROPER(Roster!B17),\"\")","v":"Robert Crawford"},1,0,1,{"$nulls":9},1,null,"",{"v":0,"d":"0%"},"","",{"v":0,"d":"0%"},1,"",{"v":0,"d":"0%"},{"v":0,"d":"0%"},"Robert Crawford","R Crawford, 32"]
[{"$f":"IF(Roster!A18<>\"\",Roster!A18,\"\")","v":40},{"$f":"IF(OR(Roster!A18<>\"\",Roster!B18<>\"\"),PROPER(Roster!B18),\"\")","v":"Jace Bruce"},1,{"$nulls":13},"","","","","","","","",{"v":0,"d":"0%"},"Jace Bruce","J Bruce, 40"]
[{"$f":"IF(Roster!A19<>\"\",Roster!A19,\"\")","v":2},{"$f":"IF(OR(Roster!A19<>\"\",Roster!B19<>\"\"),PROPER(Roster!B19),\"\")","v":"Ethan Mills"},1,{"$nulls":13},"","","","","","","","",{"v":0,"d":"0%"},"Ethan Mills","E Mills, 2"]
[{"$f":"IF(Roster!A20<>\"\",Roster!A20,\"\")","v":2},{"$f":"IF(OR(Roster!A20<>\"\",Roster!B20<>\"\"),PROPER(Roster!B20),\"\")","v":"Bridger Alishouse"},{"$nulls":14},"","","","","","","","",{"v":0,"d":"0%"},"Bridger Alishouse","B Alishouse, 2"]
[{"$f":"IF(Roster!A21<>\"\",Roster!A21,\"\")","v":4},{"$f":"IF(OR(Roster!A21<>\"\",Roster!B21<>\"\"),PROPER(Roster!B21),\"\")","v":"Landon Keever"},{"$nulls":14},"","","","","","","","",{"v":0,"d":"0%"},"Landon Keever","L Keever, 4"]
[{"$f":"IF(Roster!A22<>\"\",Roster!A22,\"\")","v":4},{"$f":"IF(OR(Roster!A22<>\"\",Roster!B22<>\"\"),PROPER(Roster!B22),\"\")","v":"Dj Till"},{"$nulls":14},"","","","","","","","",{"v":0,"d":"0%"},"Dj Till","D Till, 4"]
[{"$f":"IF(Roster!A23<>\"\",Roster!A23,\"\")","v":""},{"$f":"IF(OR(Roster!A23<>\"\",Roster!B23<>\"\"),PROPER(Roster!B23),\"\")","v":""},{"$nulls":14},"","","","","","","","",{"v":0,"d":"0%"},"",""]
[{"$f":"IF(Roster!A24<>\"\",Roster!A24,\"\")","v":""},{"$f":"IF(OR(Roster!A24<>\"\",Roster!B24<>\"\"),PROPER(Roster!B24),\"\")","v":""},{"$nulls":14},"","","","","","","","",{"v":0,"d":"0%"},"",""]
[{"$f":"IF(Roster!A25<>\"\",Roster!A25,\"\")","v":""},{"$f":"IF(OR(Roster!A25<>\"\",Roster!B25<>\"\"),PROPER(Roster!B25),\"\")","v":""},{"$nulls":14},"","","","","","","","",{"v":0,"d":"0%"},"",""]
[{"$f":"IF(Roster!A26<>\"\",Roster!A26,\"\")","v":""},{"$f":"IF(OR(Roster!A26<>\"\",Roster!B26<>\"\"),PROPER(Roster!B26),\"\")","v":""},{"$nulls":14},"","","","","","","","",{"v":0,"d":"0%"},"",""]
[{"$f":"IF(Roster!A27<>\"\",Roster!A27,\"\")","v":""},{"$f":"IF(OR(Roster!A27<>\"\",Roster!B27<>\"\"),PROPER(Roster!B27),\"\")","v":""},{"$nulls":14},"","","","","","","","",{"v":0,"d":"0%"},"",""]
[{"$f":"IF(Roster!A28<>\"\",Roster!A28,\"\")","v":""},{"$f":"IF(OR(Roster!A28<>\"\",Roster!B28<>\"\"),PROPER(Roster!B28),\"\")","v":""},{"$nulls":14},"","","","","","","","",{"v":0,"d":"0%"},"",""]
[{"$f":"IF(Roster!A29<>\"\",Roster!A29,\"\")","v":""},{"$f":"IF(OR(Roster!A29<>\"\",Roster!B29<>\"\"),PROPER(Roster!B29),\"\")","v":""},{"$nulls":14},"","","","","","","","",{"v":0,"d":"0%"},"",""]
[{"$f":"IF(Roster!A30<>\"\",Roster!A30,\"\")","v":""},{"$f":"IF(OR(Roster!A30<>\"\",Roster!B30<>\"\"),PROPER(Roster!B30),\"\")","v":"Team"},1,{"$nulls":6},1,1,{"$nulls":5},"","","","","","",2,"",{"v":0,"d":"0%"},"Team",{"$f":"IFERROR(IF(FIND(\" \",$B30,1),CONCATENATE(LEFT($B30,1),\" \",RIGHT($B30,LEN($B30)-FIND(\" \",$B30,1)),\", \",$A30),CONCATENATE($B30,\", \",$A30)),\"\")","v":""}]
[null,"Team Totals",{"$f":"IF(COUNTA($C$7:$C$30)>0,1,\"\")","v":1},{"$f":"SUM(D7:D30)","v":6},{"$f":"SUM(E7:E30)","v":24},27,45,9,16,15,30,24,8,0,{"$f":"SUM(O7:O30)","v":7},{"$f":"SUM(P7:P30)","v":15},{"$f":"IF(H31+2*F31+3*D31>0,H31+2*F31+3*D31,IF(C4>0,C4,\"\"))","v":81},{"$f":"IF(E31>0,D31/E31,\"\")","v":{"v":0.25,"d":"25%"}},{"$f":"IF(G31>0,F31/G31,\"\")","v":{"v":0.6,"d":"60%"}},{"$f":"IF(I31>0,H31/I31,\"\")","v":{"v":0.5625,"d":"56%"}},{"$f":"IF(OR(E31>0,G31 >0),(D31+F31)/(E31+G31),\"\")","v":{"v":0.4782608695652174,"d":"48%"}},{"$f":"IF(E31+G31>0,E31+G31,\"\")","v":69},{"$f":"IF(J31+K31>0,J31+K31,\"\")","v":45},{"v":0.4782608695652174,"d":"48%"},{"$f":"IF(I31>=$Z$2,T31,0)","v":{"v":0.5625,"d":"56%"}}]
[null,"Opponent Totals",{"$f":"IF(SUM(D32:P32)>0,1,\"\")","v":1},7,20,13,37,10,17,8,24,13,3,1,12,14,{"$f":"IF(H32+2*F32+3*D32>0,H32+2*F32+3*D32,IF(D4>0,D4,\"\"))","v":57},{"$f":"IF(E32>0,D32/E32,\"\")","v":{"v":0.35,"d":"35%"}},{"$f":"IF(G32>0,F32/G32,\"\")","v":{"v":0.35135135135135137,"d":"35%"}},{"$f":"IF(I32>0,H32/I32,\"\")","v":{"v":0.5882352941176471,"d":"59%"}},{"$f":"IF(OR(E32>0,G32 >0),(D32+F32)/(E32+G32),\"\")","v":{"v":0.3508771929824561,"d":"35%"}},{"$f":"IF(E32+G32>0,E32+G32,\"\")","v":57},{"$f":"IF(J32+K32>0,J32+K32,\"\")","v":32},{"v":0.3508771929824561,"d":"35%"},{"v":0.5882352941176471,"d":"59%"}]
[null,null,"Peak Performances"]
[]
[null,"Top Points","Player",null,"Top REB","Player",null,"Top AST","Player"]
[null,{"$f":"MAX(Q$7:Q$30)","v":24},{"$f":"IFERROR(INDEX($AA$7:$AA$30,SMALL(IF(Q$7:Q$30=$B$36,ROW(Q$7:Q$30)-6),ROW(Q7)-6)),\" \")","v":"P Watt, 24"},null,{"$f":"MAX(W$7:W$30)","v":17},{"$f":"IFERROR(INDEX($AA$7:$AA$30,SMALL(IF(W$7:W$30=$E$36,ROW(W$7:W$30)-6),ROW(W7)-6)),\" \")","v":"P Watt, 24"},null,{"$f":"MAX(L$7:L$30)","v":7},{"$f":"IFERROR(INDEX($AA$7:$AA$30,SMALL(IF(L$7:L$30=$H$36,ROW(L$7:L$30)-6),ROW(L7)-6)),\" \")","v":"D Butts, 14"}]
[null,null,{"$f":"IFERROR(INDEX($AA$7:$AA$30,SMALL(IF(Q$7:Q$30=$B$36,ROW(Q$7:Q$30)-6),ROW(Q8)-6)),\" \")","v":" "},null,null,{"$f":"IFERROR(INDEX($AA$7:$AA$30,SMALL(IF(W$7:W$30=$E$36,ROW(W$7:W$30)-6),ROW(W8)-6)),\" \")","v":" "},null,null,{"$f":"IFERROR(INDEX($AA$7:$AA$30,SMALL(IF(L$7:L$30=$H$36,ROW(L$7:L$30)-6),ROW(L8)-6)),\" \")","v":" "}]
[null,null,{"$f":"IFERROR(INDEX($AA$7:$AA$30,SMALL(IF(Q$7:Q$30=$B$36,ROW(Q$7:Q$30)-6),ROW(Q9)-6)),\" \")","v":" "},null,null,{"$f":"IFERROR(INDEX($AA$7:$AA$30,SMALL(IF(W$7:W$30=$E$36,ROW(W$7:W$30)-6),ROW(W9)-6)),\" \")","v":" "},null,null,{"$f":"IFERROR(INDEX($AA$7:$AA$30,SMALL(IF(L$7:L$30=$H$36,ROW(L$7:L$30)-6),ROW(L9)-6)),\" \")","v":" "}]
[null,null,{"$f":"IFERROR(INDEX($AA$7:$AA$30,SMALL(IF(Q$7:Q$30=$B$36,ROW(Q$7:Q$30)-6),ROW(Q10)-6)),\" \")","v":" "},null,null,{"$f":"IFERROR(INDEX($AA$7:$AA$30,SMALL(IF(W$7:W$30=$E$36,ROW(W$7:W$30)-6),ROW(W10)-6)),\" \")","v":" "},null,null,{"$f":"IFERROR(INDEX($AA$7:$AA$30,SMALL(IF(L$7:L$30=$H$36,ROW(L$7:L$30)-6),ROW(L10)-6)),\" \")","v":" "}]
[null,null,{"$f":"IFERROR(INDEX($AA$7:$AA$30,SMALL(IF(Q$7:Q$30=$B$36,ROW(Q$7:Q$30)-6),ROW(Q11)-6)),\" \")","v":" "},null,null,{"$f":"IFERROR(INDEX($AA$7:$AA$30,SMALL(IF(W$7:W$30=$E$36,ROW(W$7:W$30)-6),ROW(W11)-6)),\" \")","v":" "},null,null,{"$f":"IFERROR(INDEX($AA$7:$AA$30,SMALL(IF(L$7:L$30=$H$36,ROW(L$7:L$30)-6),ROW(L11)-6)),\" \")","v":" "}]
[null,null,{"$f":"IFERROR(INDEX($B12:B$30,SMALL(IF(Q$7:Q$30=$B$36,ROW(Q$7:Q$30)-6),ROW(Q12)-6)),\" \")","v":" "}]
[null,null,{"$f":"TRIM(C36)","v":"P Watt, 24"},null,null,{"$f":"TRIM(F36)","v":"P Watt, 24"},null,null,{"$f":"TRIM(I36)","v":"D Butts, 14"}]
[null,null,{"$f":"TRIM(C37)","v":""},null,null,{"$f":"TRIM(F37)","v":""},null,null,{"$f":"TRIM(I37)","v":""}]
[null,null,"",null,null,"",null,null,""]
[null,null,"",null,null,"",null,null,""]
[null,null,"",null,null,"",null,null,""]
[]
[]
[null,{"$f":"COUNTIF(C42:C46,\"?*\")","v":1},null,null,{"$f":"COUNTIF(F42:F46,\"?*\")","v":1},null,null,{"$f":"COUNTIF(I42:I46,\"?*\")","v":1}]

{"sheet":"game1 (22)","index":24,"n_rows":49,"n_cols":27,"rows_kept":49,"merged":[[0,6,0,11],[1,2,1,5],[1,7,1,9],[1,10,1,12],[32,2,32,17]]}
[]
[{"$f":"IF(AND(Roster!$D$1=VLOOKUP(C2,Roster!$L$5:$R$72,2,FALSE),Roster!$D$3=VLOOKUP(C2,Roster!$L$5:$R$72,4,FALSE)),\"R\",\"\")","v":{"$error":"#N/A"}},"Opponent","Southeast HS",{"$nulls":4},"Date of Game",null,null,"2018-02-22",{"$nulls":12},{"$f":"IF(OR($H$4=1,$J$4=1),CONCATENATE($C$2,\": \",MONTH($K$2),\"/\",DAY($K$2),\"/\",YEAR($K$2)-2000, \" **\" ),CONCATENATE($C$2,\": \",MONTH($K$2),\"/\",DAY($K$2),\"/\",YEAR($K$2)-2000))","v":"Southeast HS: 2/22/18"},null,8]
[{"$nulls":6},"Win","Conf W","Loss","Conf L",null,"Forfeit W?",null,"Forfeit L?",{"$nulls":9},{"$f":"IF($C$4>$D$4,CONCATENATE(Roster!$B$1,\" \",$C$4,\", \",$C$2,\" \",$D$4, \" \",$E$4),CONCATENATE($C$2,\" \",$D$4,\", \",Roster!$B$1,\" \",$C$4,\" \", $E$4 ))","v":"Southeast HS 59, Upton 54 "}]
[null,"Score",54,59,null,null,{"$f":"IF(OR($L$4=1,$C$4>$D$4),1,\"\")","v":""},null,{"$f":"IF(OR($N$4=1,$C$4<$D$4),1,\"\")","v":1}]
[]
["#","PLAYER","GP","3FGM","3FGA","2FGM","2FGA","FTM","FTA","OFF REB","DEF REB","AST","STL","BLK","TO","FOUL","TL PTS","3FG %","2FG %","FT %","FG%","FGA","REB","Elig FG%","Elig FT%","Name2","FI,LastName,#"]
[{"$f":"IF(Roster!A7<>\"\",Roster!A7,\"\")","v":24},{"$f":"IF(OR(Roster!A7<>\"\",Roster!B7<>\"\"),PROPER(Roster!B7),\"\")","v":"Payton Watt"},1,1,6,4,9,1,1,2,3,1,1,1,1,3,{"$f":"IF(H7+2*F7+3*D7>0,H7+2*F7+3*D7,\"\")","v":12},{"$f":"IF(E7>0,D7/E7,\"\")","v":{"v":0.16666666666666666,"d":"17%"}},{"$f":"IF(G7>0,F7/G7,\"\")","v":{"v":0.4444444444444444,"d":"44%"}},{"$f":"IF(I7>0,H7/I7,\"\")","v":{"v":1,"d":"100%"}},{"$f":"IF(OR(E7>0,G7 >0),(D7+F7)/(E7+G7),\"\")","v":{"v":0.3333333333333333,"d":"33%"}},{"$f":"IF(E7+G7>0,E7+G7,\"\")","v":15},{"$f":"IF(J7+K7>0,J7+K7,\"\")","v":5},{"$f":"IF(V7>=$Z$2,U7,0)","v":{"v":0.3333333333333333,"d":"33%"}},{"$f":"IF(I7>=$Z$2,T7,0)","v":{"v":0,"d":"0%"}},{"$f":"B7","v":"Payton Watt"},{"$f":"IFERROR(IF(FIND(\" \",$B7,1),CONCATENATE(LEFT($B7,1),\" \",RIGHT($B7,LEN($B7)-FIND(\" \",$B7,1)),\", \",$A7),CONCATENATE($B7,\", \",$A7)),\"\")","v":"P Watt, 24"}]
[{"$f":"IF(Roster!A8<>\"\",Roster!A8,\"\")","v":20},{"$f":"IF(OR(Roster!A8<>\"\",Roster!B8<>\"\"),PROPER(Roster!B8),\"\")","v":"Dillon Barritt"},1,3,9,0,3,1,2,null,null,1,3,null,2,5,{"$f":"IF(H8+2*F8+3*D8>0,H8+2*F8+3*D8,\"\")","v":10},{"$f":"IF(E8>0,D8/E8,\"\")","v":{"v":0.3333333333333333,"d":"33%"}},{"$f":"IF(G8>0,F8/G8,\"\")","v":{"v":0,"d":"0%"}},{"$f":"IF(I8>0,H8/I8,\"\")","v":{"v":0.5,"d":"50%"}},{"$f":"IF(OR(E8>0,G8 >0),(D8+F8)/(E8+G8),\"\")","v":{"v":0.25,"d":"25%"}},{"$f":"IF(E8+G8>0,E8+G8,\"\")","v":12},{"$f":"IF(J8+K8>0,J8+K8,\"\")","v":""},{"$f":"IF(V8>=$Z$2,U8,0)","v":{"v":0.25,"d":"25%"}},{"$f":"IF(I8>=$Z$2,T8,0)","v":{"v":0,"d":"0%"}},{"$f":"B8","v":"Dillon Barritt"},{"$f":"IFERROR(IF(FIND(\" \",$B8,1),CONCATENATE(LEFT($B8,1),\" \",RIGHT($B8,LEN($B8)-FIND(\" \",$B8,1)),\", \",$A8),CONCATENATE($B8,\", \",$A8)),\"\")","v":"D Barritt, 20"}]
[{"$f":"IF(Roster!A9<>\"\",Roster!A9,\"\")","v":14},{"$f":"IF(OR(Roster!A9<>\"\",Roster!B9<>\"\"),PROPER(Roster!B9),\"\")","v":"Dawson Butts"},1,0,1,1,1,1,4,1,2,1,3,1,1,3,3,{"v":0,"d":"0%"},{"v":1,"d":"100%"},{"v":0.25,"d":"25%"},{"v":0.5,"d":"50%"},2,3,{"v":0,"d":"0%"},{"v":0,"d":"0%"},"Dawson Butts","D Butts, 14"]
[{"$f":"IF(Roster!A10<>\"\",Roster!A10,\"\")","v":12},{"$f":"IF(OR(Roster!A10<>\"\",Roster!B10<>\"\"),PROPER(Roster!B10),\"\")","v":"Jayden Caylor"},1,2,3,4,4,1,3,3,4,4,3,null,3,4,15,{"v":0.6666666666666666,"d":"67%"},{"v":1,"d":"100%"},{"v":0.3333333333333333,"d":"33%"},{"v":0.8571428571428571,"d":"86%"},7,7,{"v":0,"d":"0%"},{"v":0,"d":"0%"},"Jayden Caylor","J Caylor, 12"]
[{"$f":"IF(Roster!A11<>\"\",Roster!A11,\"\")","v":23},{"$f":"IF(OR(Roster!A11<>\"\",Roster!B11<>\"\"),PROPER(Roster!B11),\"\")","v":"Clayton Louderback"},1,0,2,3,9,0,5,2,4,3,null,null,3,2,6,{"v":0,"d":"0%"},{"v":0.3333333333333333,"d":"33%"},{"v":0,"d":"0%"},{"v":0.2727272727272727,"d":"27%"},11,6,{"v":0.2727272727272727,"d":"27%"},{"v":0,"d":"0%"},"Clayton Louderback","C Louderback, 23"]
[{"$f":"IF(Roster!A12<>\"\",Roster!A12,\"\")","v":10},{"$f":"IF(OR(Roster!A12<>\"\",Roster!B12<>\"\"),PROPER(Roster!B12),\"\")","v":"Jess Claycomb"},1,1,3,0,2,2,2,1,1,{"$nulls":3},2,2,5,{"v":0.3333333333333333,"d":"33%"},{"v":0,"d":"0%"},{"v":1,"d":"100%"},{"v":0.2,"d":"20%"},5,2,{"v":0,"d":"0%"},{"v":0,"d":"0%"},"Jess Claycomb","J Claycomb, 10"]
[{"$f":"IF(Roster!A13<>\"\",Roster!A13,\"\")","v":4},{"$f":"IF(OR(Roster!A13<>\"\",Roster!B13<>\"\"),PROPER(Roster!B13),\"\")","v":"Maxx Cowger"},{"$nulls":14},"","","","","","","","",{"v":0,"d":"0%"},"Maxx Cowger","M Cowger, 4"]
[{"$f":"IF(Roster!A14<>\"\",Roster!A14,\"\")","v":22},{"$f":"IF(OR(Roster!A14<>\"\",Roster!B14<>\"\"),PROPER(Roster!B14),\"\")","v":"Brayden Bruce"},1,1,2,{"$nulls":5},1,2,null,null,2,2,3,{"v":0.5,"d":"50%"},"","",{"v":0.5,"d":"50%"},2,1,{"v":0,"d":"0%"},{"v":0,"d":"0%"},"Brayden Bruce","B Bruce, 22"]
[{"$f":"IF(Roster!A15<>\"\",Roster!A15,\"\")","v":30},{"$f":"IF(OR(Roster!A15<>\"\",Roster!B15<>\"\"),PROPER(Roster!B15),\"\")","v":"Jo Bishop"},{"$nulls":14},"","","","","","","","",{"v":0,"d":"0%"},"Jo Bishop","J Bishop, 30"]
[{"$f":"IF(Roster!A16<>\"\",Roster!A16,\"\")","v":33},{"$f":"IF(OR(Roster!A16<>\"\",Roster!B16<>\"\"),PROPER(Roster!B16),\"\")","v":"Nolan Turner"},{"$nulls":14},"","","","","","","","",{"v":0,"d":"0%"},"Nolan Turner","N Turner, 33"]
[{"$f":"IF(Roster!A17<>\"\",Roster!A17,\"\")","v":32},{"$f":"IF(OR(Roster!A17<>\"\",Roster!B17<>\"\"),PROPER(Roster!B17),\"\")","v":"Robert Crawford"},{"$nulls":14},"","","","","","","","",{"v":0,"d":"0%"},"Robert Crawford","R Crawford, 32"]
[{"$f":"IF(Roster!A18<>\"\",Roster!A18,\"\")","v":40},{"$f":"IF(OR(Roster!A18<>\"\",Roster!B18<>\"\"),PROPER(Roster!B18),\"\")","v":"Jace Bruce"},{"$nulls":14},"","","","","","","","",{"v":0,"d":"0%"},"Jace Bruce","J Bruce, 40"]
[{"$f":"IF(Roster!A19<>\"\",Roster!A19,\"\")","v":2},{"$f":"IF(OR(Roster!A19<>\"\",Roster!B19<>\"\"),PROPER(Roster!B19),\"\")","v":"Ethan Mills"},{"$nulls":14},"","","","","","","","",{"v":0,"d":"0%"},"Ethan Mills","E Mills, 2"]
[{"$f":"IF(Roster!A20<>\"\",Roster!A20,\"\")","v":2},{"$f":"IF(OR(Roster!A20<>\"\",Roster!B20<>\"\"),PROPER(Roster!B20),\"\")","v":"Bridger Alishouse"},{"$nulls":14},"","","","","","","","",{"v":0,"d":"0%"},"Bridger Alishouse","B Alishouse, 2"]
[{"$f":"IF(Roster!A21<>\"\",Roster!A21,\"\")","v":4},{"$f":"IF(OR(Roster!A21<>\"\",Roster!B21<>\"\"),PROPER(Roster!B21),\"\")","v":"Landon Keever"},{"$nulls":14},"","","","","","","","",{"v":0,"d":"0%"},"Landon Keever","L Keever, 4"]
[{"$f":"IF(Roster!A22<>\"\",Roster!A22,\"\")","v":4},{"$f":"IF(OR(Roster!A22<>\"\",Roster!B22<>\"\"),PROPER(Roster!B22),\"\")","v":"Dj Till"},{"$nulls":14},"","","","","","","","",{"v":0,"d":"0%"},"Dj Till","D Till, 4"]
[{"$f":"IF(Roster!A23<>\"\",Roster!A23,\"\")","v":""},{"$f":"IF(OR(Roster!A23<>\"\",Roster!B23<>\"\"),PROPER(Roster!B23),\"\")","v":""},{"$nulls":14},"","","","","","","","",{"v":0,"d":"0%"},"",""]
[{"$f":"IF(Roster!A24<>\"\",Roster!A24,\"\")","v":""},{"$f":"IF(OR(Roster!A24<>\"\",Roster!B24<>\"\"),PROPER(Roster!B24),\"\")","v":""},{"$nulls":14},"","","","","","","","",{"v":0,"d":"0%"},"",""]
[{"$f":"IF(Roster!A25<>\"\",Roster!A25,\"\")","v":""},{"$f":"IF(OR(Roster!A25<>\"\",Roster!B25<>\"\"),PROPER(Roster!B25),\"\")","v":""},{"$nulls":14},"","","","","","","","",{"v":0,"d":"0%"},"",""]
[{"$f":"IF(Roster!A26<>\"\",Roster!A26,\"\")","v":""},{"$f":"IF(OR(Roster!A26<>\"\",Roster!B26<>\"\"),PROPER(Roster!B26),\"\")","v":""},{"$nulls":14},"","","","","","","","",{"v":0,"d":"0%"},"",""]
[{"$f":"IF(Roster!A27<>\"\",Roster!A27,\"\")","v":""},{"$f":"IF(OR(Roster!A27<>\"\",Roster!B27<>\"\"),PROPER(Roster!B27),\"\")","v":""},{"$nulls":14},"","","","","","","","",{"v":0,"d":"0%"},"",""]
[{"$f":"IF(Roster!A28<>\"\",Roster!A28,\"\")","v":""},{"$f":"IF(OR(Roster!A28<>\"\",Roster!B28<>\"\"),PROPER(Roster!B28),\"\")","v":""},{"$nulls":14},"","","","","","","","",{"v":0,"d":"0%"},"",""]
[{"$f":"IF(Roster!A29<>\"\",Roster!A29,\"\")","v":""},{"$f":"IF(OR(Roster!A29<>\"\",Roster!B29<>\"\"),PROPER(Roster!B29),\"\")","v":""},{"$nulls":14},"","","","","","","","",{"v":0,"d":"0%"},"",""]
[{"$f":"IF(Roster!A30<>\"\",Roster!A30,\"\")","v":""},{"$f":"IF(OR(Roster!A30<>\"\",Roster!B30<>\"\"),PROPER(Roster!B30),\"\")","v":"Team"},1,{"$nulls":6},1,2,{"$nulls":5},"","","","","","",3,"",{"v":0,"d":"0%"},"Team",{"$f":"IFERROR(IF(FIND(\" \",$B30,1),CONCATENATE(LEFT($B30,1),\" \",RIGHT($B30,LEN($B30)-FIND(\" \",$B30,1)),\", \",$A30),CONCATENATE($B30,\", \",$A30)),\"\")","v":""}]
[null,"Team Totals",{"$f":"IF(COUNTA($C$7:$C$30)>0,1,\"\")","v":1},{"$f":"SUM(D7:D30)","v":8},{"$f":"SUM(E7:E30)","v":26},12,28,6,17,10,17,12,10,2,{"$f":"SUM(O7:O30)","v":14},{"$f":"SUM(P7:P30)","v":21},{"$f":"IF(H31+2*F31+3*D31>0,H31+2*F31+3*D31,IF(C4>0,C4,\"\"))","v":54},{"$f":"IF(E31>0,D31/E31,\"\")","v":{"v":0.3076923076923077,"d":"31%"}},{"$f":"IF(G31>0,F31/G31,\"\")","v":{"v":0.42857142857142855,"d":"43%"}},{"$f":"IF(I31>0,H31/I31,\"\")","v":{"v":0.35294117647058826,"d":"35%"}},{"$f":"IF(OR(E31>0,G31 >0),(D31+F31)/(E31+G31),\"\")","v":{"v":0.37037037037037035,"d":"37%"}},{"$f":"IF(E31+G31>0,E31+G31,\"\")","v":54},{"$f":"IF(J31+K31>0,J31+K31,\"\")","v":27},{"v":0.37037037037037035,"d":"37%"},{"$f":"IF(I31>=$Z$2,T31,0)","v":{"v":0.35294117647058826,"d":"35%"}}]
[null,"Opponent Totals",{"$f":"IF(SUM(D32:P32)>0,1,\"\")","v":1},4,12,14,31,19,26,8,25,4,5,4,17,18,{"$f":"IF(H32+2*F32+3*D32>0,H32+2*F32+3*D32,IF(D4>0,D4,\"\"))","v":59},{"$f":"IF(E32>0,D32/E32,\"\")","v":{"v":0.3333333333333333,"d":"33%"}},{"$f":"IF(G32>0,F32/G32,\"\")","v":{"v":0.45161290322580644,"d":"45%"}},{"$f":"IF(I32>0,H32/I32,\"\")","v":{"v":0.7307692307692307,"d":"73%"}},{"$f":"IF(OR(E32>0,G32 >0),(D32+F32)/(E32+G32),\"\")","v":{"v":0.4186046511627907,"d":"42%"}},{"$f":"IF(E32+G32>0,E32+G32,\"\")","v":43},{"$f":"IF(J32+K32>0,J32+K32,\"\")","v":33},{"v":0.4186046511627907,"d":"42%"},{"v":0.7307692307692307,"d":"73%"}]
[null,null,"Peak Performances"]
[]
[null,"Top Points","Player",null,"Top REB","Player",null,"Top AST","Player"]
[null,{"$f":"MAX(Q$7:Q$30)","v":15},{"$f":"IFERROR(INDEX($AA$7:$AA$30,SMALL(IF(Q$7:Q$30=$B$36,ROW(Q$7:Q$30)-6),ROW(Q7)-6)),\" \")","v":"J Caylor, 12"},null,{"$f":"MAX(W$7:W$30)","v":7},{"$f":"IFERROR(INDEX($AA$7:$AA$30,SMALL(IF(W$7:W$30=$E$36,ROW(W$7:W$30)-6),ROW(W7)-6)),\" \")","v":"J Caylor, 12"},null,{"$f":"MAX(L$7:L$30)","v":4},{"$f":"IFERROR(INDEX($AA$7:$AA$30,SMALL(IF(L$7:L$30=$H$36,ROW(L$7:L$30)-6),ROW(L7)-6)),\" \")","v":"J Caylor, 12"}]
[null,null,{"$f":"IFERROR(INDEX($AA$7:$AA$30,SMALL(IF(Q$7:Q$30=$B$36,ROW(Q$7:Q$30)-6),ROW(Q8)-6)),\" \")","v":" "},null,null,{"$f":"IFERROR(INDEX($AA$7:$AA$30,SMALL(IF(W$7:W$30=$E$36,ROW(W$7:W$30)-6),ROW(W8)-6)),\" \")","v":" "},null,null,{"$f":"IFERROR(INDEX($AA$7:$AA$30,SMALL(IF(L$7:L$30=$H$36,ROW(L$7:L$30)-6),ROW(L8)-6)),\" \")","v":" "}]
[null,null,{"$f":"IFERROR(INDEX($AA$7:$AA$30,SMALL(IF(Q$7:Q$30=$B$36,ROW(Q$7:Q$30)-6),ROW(Q9)-6)),\" \")","v":" "},null,null,{"$f":"IFERROR(INDEX($AA$7:$AA$30,SMALL(IF(W$7:W$30=$E$36,ROW(W$7:W$30)-6),ROW(W9)-6)),\" \")","v":" "},null,null,{"$f":"IFERROR(INDEX($AA$7:$AA$30,SMALL(IF(L$7:L$30=$H$36,ROW(L$7:L$30)-6),ROW(L9)-6)),\" \")","v":" "}]
[null,null,{"$f":"IFERROR(INDEX($AA$7:$AA$30,SMALL(IF(Q$7:Q$30=$B$36,ROW(Q$7:Q$30)-6),ROW(Q10)-6)),\" \")","v":" "},null,null,{"$f":"IFERROR(INDEX($AA$7:$AA$30,SMALL(IF(W$7:W$30=$E$36,ROW(W$7:W$30)-6),ROW(W10)-6)),\" \")","v":" "},null,null,{"$f":"IFERROR(INDEX($AA$7:$AA$30,SMALL(IF(L$7:L$30=$H$36,ROW(L$7:L$30)-6),ROW(L10)-6)),\" \")","v":" "}]
[null,null,{"$f":"IFERROR(INDEX($AA$7:$AA$30,SMALL(IF(Q$7:Q$30=$B$36,ROW(Q$7:Q$30)-6),ROW(Q11)-6)),\" \")","v":" "},null,null,{"$f":"IFERROR(INDEX($AA$7:$AA$30,SMALL(IF(W$7:W$30=$E$36,ROW(W$7:W$30)-6),ROW(W11)-6)),\" \")","v":" "},null,null,{"$f":"IFERROR(INDEX($AA$7:$AA$30,SMALL(IF(L$7:L$30=$H$36,ROW(L$7:L$30)-6),ROW(L11)-6)),\" \")","v":" "}]
[null,null,{"$f":"IFERROR(INDEX($B12:B$30,SMALL(IF(Q$7:Q$30=$B$36,ROW(Q$7:Q$30)-6),ROW(Q12)-6)),\" \")","v":" "}]
[null,null,{"$f":"TRIM(C36)","v":"J Caylor, 12"},null,null,{"$f":"TRIM(F36)","v":"J Caylor, 12"},null,null,{"$f":"TRIM(I36)","v":"J Caylor, 12"}]
[null,null,{"$f":"TRIM(C37)","v":""},null,null,{"$f":"TRIM(F37)","v":""},null,null,{"$f":"TRIM(I37)","v":""}]
[null,null,"",null,null,"",null,null,""]
[null,null,"",null,null,"",null,null,""]
[null,null,"",null,null,"",null,null,""]
[]
[]
[null,{"$f":"COUNTIF(C42:C46,\"?*\")","v":1},null,null,{"$f":"COUNTIF(F42:F46,\"?*\")","v":1},null,null,{"$f":"COUNTIF(I42:I46,\"?*\")","v":1}]

{"sheet":"game1 (23)","index":25,"n_rows":49,"n_cols":27,"rows_kept":49,"merged":[[0,6,0,11],[1,2,1,5],[1,7,1,9],[1,10,1,12],[32,2,32,17]]}
[]
[{"$f":"IF(AND(Roster!$D$1=VLOOKUP(C2,Roster!$L$5:$R$72,2,FALSE),Roster!$D$3=VLOOKUP(C2,Roster!$L$5:$R$72,4,FALSE)),\"R\",\"\")","v":{"$error":"#N/A"}},"Opponent","Lusk   ",{"$nulls":4},"Date of Game",null,null,"2018-02-23",{"$nulls":12},{"$f":"IF(OR($H$4=1,$J$4=1),CONCATENATE($C$2,\": \",MONTH($K$2),\"/\",DAY($K$2),\"/\",YEAR($K$2)-2000, \" **\" ),CONCATENATE($C$2,\": \",MONTH($K$2),\"/\",DAY($K$2),\"/\",YEAR($K$2)-2000))","v":"Lusk   : 2/23/18"},null,8]
[{"$nulls":6},"Win","Conf W","Loss","Conf L",null,"Forfeit W?",null,"Forfeit L?",{"$nulls":9},{"$f":"IF($C$4>$D$4,CONCATENATE(Roster!$B$1,\" \",$C$4,\", \",$C$2,\" \",$D$4, \" \",$E$4),CONCATENATE($C$2,\" \",$D$4,\", \",Roster!$B$1,\" \",$C$4,\" \", $E$4 ))","v":"Upton 83, Lusk    47 "}]
[null,"Score",83,47,null,null,{"$f":"IF(OR($L$4=1,$C$4>$D$4),1,\"\")","v":1},null,{"$f":"IF(OR($N$4=1,$C$4<$D$4),1,\"\")","v":""}]
[]
["#","PLAYER","GP","3FGM","3FGA","2FGM","2FGA","FTM","FTA","OFF REB","DEF REB","AST","STL","BLK","TO","FOUL","TL PTS","3FG %","2FG %","FT %","FG%","FGA","REB","Elig FG%","Elig FT%","Name2","FI,LastName,#"]
[{"$f":"IF(Roster!A7<>\"\",Roster!A7,\"\")","v":24},{"$f":"IF(OR(Roster!A7<>\"\",Roster!B7<>\"\"),PROPER(Roster!B7),\"\")","v":"Payton Watt"},1,5,9,4,5,1,2,2,4,2,1,null,1,3,{"$f":"IF(H7+2*F7+3*D7>0,H7+2*F7+3*D7,\"\")","v":24},{"$f":"IF(E7>0,D7/E7,\"\")","v":{"v":0.5555555555555556,"d":"56%"}},{"$f":"IF(G7>0,F7/G7,\"\")","v":{"v":0.8,"d":"80%"}},{"$f":"IF(I7>0,H7/I7,\"\")","v":{"v":0.5,"d":"50%"}},{"$f":"IF(OR(E7>0,G7 >0),(D7+F7)/(E7+G7),\"\")","v":{"v":0.6428571428571429,"d":"64%"}},{"$f":"IF(E7+G7>0,E7+G7,\"\")","v":14},{"$f":"IF(J7+K7>0,J7+K7,\"\")","v":6},{"$f":"IF(V7>=$Z$2,U7,0)","v":{"v":0.6428571428571429,"d":"64%"}},{"$f":"IF(I7>=$Z$2,T7,0)","v":{"v":0,"d":"0%"}},{"$f":"B7","v":"Payton Watt"},{"$f":"IFERROR(IF(FIND(\" \",$B7,1),CONCATENATE(LEFT($B7,1),\" \",RIGHT($B7,LEN($B7)-FIND(\" \",$B7,1)),\", \",$A7),CONCATENATE($B7,\", \",$A7)),\"\")","v":"P Watt, 24"}]
[{"$f":"IF(Roster!A8<>\"\",Roster!A8,\"\")","v":20},{"$f":"IF(OR(Roster!A8<>\"\",Roster!B8<>\"\"),PROPER(Roster!B8),\"\")","v":"Dillon Barritt"},1,4,9,1,3,1,2,1,1,2,2,null,null,3,{"$f":"IF(H8+2*F8+3*D8>0,H8+2*F8+3*D8,\"\")","v":15},{"$f":"IF(E8>0,D8/E8,\"\")","v":{"v":0.4444444444444444,"d":"44%"}},{"$f":"IF(G8>0,F8/G8,\"\")","v":{"v":0.3333333333333333,"d":"33%"}},{"$f":"IF(I8>0,H8/I8,\"\")","v":{"v":0.5,"d":"50%"}},{"$f":"IF(OR(E8>0,G8 >0),(D8+F8)/(E8+G8),\"\")","v":{"v":0.4166666666666667,"d":"42%"}},{"$f":"IF(E8+G8>0,E8+G8,\"\")","v":12},{"$f":"IF(J8+K8>0,J8+K8,\"\")","v":2},{"$f":"IF(V8>=$Z$2,U8,0)","v":{"v":0.4166666666666667,"d":"42%"}},{"$f":"IF(I8>=$Z$2,T8,0)","v":{"v":0,"d":"0%"}},{"$f":"B8","v":"Dillon Barritt"},{"$f":"IFERROR(IF(FIND(\" \",$B8,1),CONCATENATE(LEFT($B8,1),\" \",RIGHT($B8,LEN($B8)-FIND(\" \",$B8,1)),\", \",$A8),CONCATENATE($B8,\", \",$A8)),\"\")","v":"D Barritt, 20"}]
[{"$f":"IF(Roster!A9<>\"\",Roster!A9,\"\")","v":14},{"$f":"IF(OR(Roster!A9<>\"\",Roster!B9<>\"\"),PROPER(Roster!B9),\"\")","v":"Dawson Butts"},1,0,1,0,1,null,null,2,2,1,1,null,1,3,"",{"v":0,"d":"0%"},{"v":0,"d":"0%"},"",{"v":0,"d":"0%"},2,4,{"v":0,"d":"0%"},{"v":0,"d":"0%"},"Dawson Butts","D Butts, 14"]
[{"$f":"IF(Roster!A10<>\"\",Roster!A10,\"\")","v":12},{"$f":"IF(OR(Roster!A10<>\"\",Roster!B10<>\"\"),PROPER(Roster!B10),\"\")","v":"Jayden Caylor"},1,null,null,2,3,3,5,1,2,2,4,null,3,1,7,"",{"v":0.6666666666666666,"d":"67%"},{"v":0.6,"d":"60%"},{"v":0.6666666666666666,"d":"67%"},3,3,{"v":0,"d":"0%"},{"v":0,"d":"0%"},"Jayden Caylor","J Caylor, 12"]
[{"$f":"IF(Roster!A11<>\"\",Roster!A11,\"\")","v":23},{"$f":"IF(OR(Roster!A11<>\"\",Roster!B11<>\"\"),PROPER(Roster!B11),\"\")","v":"Clayton Louderback"},1,1,1,5,10,5,6,4,9,6,2,null,1,3,18,{"v":1,"d":"100%"},{"v":0.5,"d":"50%"},{"v":0.8333333333333334,"d":"83%"},{"v":0.5454545454545454,"d":"55%"},11,13,{"v":0.5454545454545454,"d":"55%"},{"v":0,"d":"0%"},"Clayton Louderback","C Louderback, 23"]
[{"$f":"IF(Roster!A12<>\"\",Roster!A12,\"\")","v":10},{"$f":"IF(OR(Roster!A12<>\"\",Roster!B12<>\"\"),PROPER(Roster!B12),\"\")","v":"Jess Claycomb"},1,0,1,3,5,3,6,1,3,1,3,null,2,2,9,{"v":0,"d":"0%"},{"v":0.6,"d":"60%"},{"v":0.5,"d":"50%"},{"v":0.5,"d":"50%"},6,4,{"v":0,"d":"0%"},{"v":0,"d":"0%"},"Jess Claycomb","J Claycomb, 10"]
[{"$f":"IF(Roster!A13<>\"\",Roster!A13,\"\")","v":4},{"$f":"IF(OR(Roster!A13<>\"\",Roster!B13<>\"\"),PROPER(Roster!B13),\"\")","v":"Maxx Cowger"},{"$nulls":14},"","","","","","","","",{"v":0,"d":"0%"},"Maxx Cowger","M Cowger, 4"]
[{"$f":"IF(Roster!A14<>\"\",Roster!A14,\"\")","v":22},{"$f":"IF(OR(Roster!A14<>\"\",Roster!B14<>\"\"),PROPER(Roster!B14),\"\")","v":"Brayden Bruce"},1,null,null,2,2,0,2,1,1,5,2,null,1,null,4,"",{"v":1,"d":"100%"},{"v":0,"d":"0%"},{"v":1,"d":"100%"},2,2,{"v":0,"d":"0%"},{"v":0,"d":"0%"},"Brayden Bruce","B Bruce, 22"]
[{"$f":"IF(Roster!A15<>\"\",Roster!A15,\"\")","v":30},{"$f":"IF(OR(Roster!A15<>\"\",Roster!B15<>\"\"),PROPER(Roster!B15),\"\")","v":"Jo Bishop"},1,0,1,{"$nulls":5},2,1,null,null,1,null,"",{"v":0,"d":"0%"},"","",{"v":0,"d":"0%"},1,2,{"v":0,"d":"0%"},{"v":0,"d":"0%"},"Jo Bishop","J Bishop, 30"]
[{"$f":"IF(Roster!A16<>\"\",Roster!A16,\"\")","v":33},{"$f":"IF(OR(Roster!A16<>\"\",Roster!B16<>\"\"),PROPER(Roster!B16),\"\")","v":"Nolan Turner"},1,null,null,3,3,{"$nulls":3},2,{"$nulls":4},1,6,"",{"v":1,"d":"100%"},"",{"v":1,"d":"100%"},3,2,{"v":0,"d":"0%"},{"v":0,"d":"0%"},"Nolan Turner","N Turner, 33"]
[{"$f":"IF(Roster!A17<>\"\",Roster!A17,\"\")","v":32},{"$f":"IF(OR(Roster!A17<>\"\",Roster!B17<>\"\"),PROPER(Roster!B17),\"\")","v":"Robert Crawford"},1,{"$nulls":11},1,null,"","","","","","","","",{"v":0,"d":"0%"},"Robert Crawford","R Crawford, 32"]
[{"$f":"IF(Roster!A18<>\"\",Roster!A18,\"\")","v":40},{"$f":"IF(OR(Roster!A18<>\"\",Roster!B18<>\"\"),PROPER(Roster!B18),\"\")","v":"Jace Bruce"},1,{"$nulls":13},"","","","","","","","",{"v":0,"d":"0%"},"Jace Bruce","J Bruce, 40"]
[{"$f":"IF(Roster!A19<>\"\",Roster!A19,\"\")","v":2},{"$f":"IF(OR(Roster!A19<>\"\",Roster!B19<>\"\"),PROPER(Roster!B19),\"\")","v":"Ethan Mills"},{"$nulls":14},"","","","","","","","",{"v":0,"d":"0%"},"Ethan Mills","E Mills, 2"]
[{"$f":"IF(Roster!A20<>\"\",Roster!A20,\"\")","v":2},{"$f":"IF(OR(Roster!A20<>\"\",Roster!B20<>\"\"),PROPER(Roster!B20),\"\")","v":"Bridger Alishouse"},{"$nulls":14},"","","","","","","","",{"v":0,"d":"0%"},"Bridger Alishouse","B Alishouse, 2"]
[{"$f":"IF(Roster!A21<>\"\",Roster!A21,\"\")","v":4},{"$f":"IF(OR(Roster!A21<>\"\",Roster!B21<>\"\"),PROPER(Roster!B21),\"\")","v":"Landon Keever"},{"$nulls":14},"","","","","","","","",{"v":0,"d":"0%"},"Landon Keever","L Keever, 4"]
[{"$f":"IF(Roster!A22<>\"\",Roster!A22,\"\")","v":4},{"$f":"IF(OR(Roster!A22<>\"\",Roster!B22<>\"\"),PROPER(Roster!B22),\"\")","v":"Dj Till"},{"$nulls":14},"","","","","","","","",{"v":0,"d":"0%"},"Dj Till","D Till, 4"]
[{"$f":"IF(Roster!A23<>\"\",Roster!A23,\"\")","v":""},{"$f":"IF(OR(Roster!A23<>\"\",Roster!B23<>\"\"),PROPER(Roster!B23),\"\")","v":""},{"$nulls":14},"","","","","","","","",{"v":0,"d":"0%"},"",""]
[{"$f":"IF(Roster!A24<>\"\",Roster!A24,\"\")","v":""},{"$f":"IF(OR(Roster!A24<>\"\",Roster!B24<>\"\"),PROPER(Roster!B24),\"\")","v":""},{"$nulls":14},"","","","","","","","",{"v":0,"d":"0%"},"",""]
[{"$f":"IF(Roster!A25<>\"\",Roster!A25,\"\")","v":""},{"$f":"IF(OR(Roster!A25<>\"\",Roster!B25<>\"\"),PROPER(Roster!B25),\"\")","v":""},{"$nulls":14},"","","","","","","","",{"v":0,"d":"0%"},"",""]
[{"$f":"IF(Roster!A26<>\"\",Roster!A26,\"\")","v":""},{"$f":"IF(OR(Roster!A26<>\"\",Roster!B26<>\"\"),PROPER(Roster!B26),\"\")","v":""},{"$nulls":14},"","","","","","","","",{"v":0,"d":"0%"},"",""]
[{"$f":"IF(Roster!A27<>\"\",Roster!A27,\"\")","v":""},{"$f":"IF(OR(Roster!A27<>\"\",Roster!B27<>\"\"),PROPER(Roster!B27),\"\")","v":""},{"$nulls":14},"","","","","","","","",{"v":0,"d":"0%"},"",""]
[{"$f":"IF(Roster!A28<>\"\",Roster!A28,\"\")","v":""},{"$f":"IF(OR(Roster!A28<>\"\",Roster!B28<>\"\"),PROPER(Roster!B28),\"\")","v":""},{"$nulls":14},"","","","","","","","",{"v":0,"d":"0%"},"",""]
[{"$f":"IF(Roster!A29<>\"\",Roster!A29,\"\")","v":""},{"$f":"IF(OR(Roster!A29<>\"\",Roster!B29<>\"\"),PROPER(Roster!B29),\"\")","v":""},{"$nulls":14},"","","","","","","","",{"v":0,"d":"0%"},"",""]
[{"$f":"IF(Roster!A30<>\"\",Roster!A30,\"\")","v":""},{"$f":"IF(OR(Roster!A30<>\"\",Roster!B30<>\"\"),PROPER(Roster!B30),\"\")","v":"Team"},1,{"$nulls":6},2,{"$nulls":6},"","","","","","",2,"",{"v":0,"d":"0%"},"Team",{"$f":"IFERROR(IF(FIND(\" \",$B30,1),CONCATENATE(LEFT($B30,1),\" \",RIGHT($B30,LEN($B30)-FIND(\" \",$B30,1)),\", \",$A30),CONCATENATE($B30,\", \",$A30)),\"\")","v":""}]
[null,"Team Totals",{"$f":"IF(COUNTA($C$7:$C$30)>0,1,\"\")","v":1},{"$f":"SUM(D7:D30)","v":10},{"$f":"SUM(E7:E30)","v":22},20,32,13,23,14,26,20,15,0,{"$f":"SUM(O7:O30)","v":11},{"$f":"SUM(P7:P30)","v":16},{"$f":"IF(H31+2*F31+3*D31>0,H31+2*F31+3*D31,IF(C4>0,C4,\"\"))","v":83},{"$f":"IF(E31>0,D31/E31,\"\")","v":{"v":0.45454545454545453,"d":"45%"}},{"$f":"IF(G31>0,F31/G31,\"\")","v":{"v":0.625,"d":"63%"}},{"$f":"IF(I31>0,H31/I31,\"\")","v":{"v":0.5652173913043478,"d":"57%"}},{"$f":"IF(OR(E31>0,G31 >0),(D31+F31)/(E31+G31),\"\")","v":{"v":0.5555555555555556,"d":"56%"}},{"$f":"IF(E31+G31>0,E31+G31,\"\")","v":54},{"$f":"IF(J31+K31>0,J31+K31,\"\")","v":40},{"v":0.5555555555555556,"d":"56%"},{"$f":"IF(I31>=$Z$2,T31,0)","v":{"v":0.5652173913043478,"d":"57%"}}]
[null,"Opponent Totals",{"$f":"IF(SUM(D32:P32)>0,1,\"\")","v":1},2,6,17,46,7,18,12,15,3,5,1,18,18,{"$f":"IF(H32+2*F32+3*D32>0,H32+2*F32+3*D32,IF(D4>0,D4,\"\"))","v":47},{"$f":"IF(E32>0,D32/E32,\"\")","v":{"v":0.3333333333333333,"d":"33%"}},{"$f":"IF(G32>0,F32/G32,\"\")","v":{"v":0.3695652173913043,"d":"37%"}},{"$f":"IF(I32>0,H32/I32,\"\")","v":{"v":0.3888888888888889,"d":"39%"}},{"$f":"IF(OR(E32>0,G32 >0),(D32+F32)/(E32+G32),\"\")","v":{"v":0.36538461538461536,"d":"37%"}},{"$f":"IF(E32+G32>0,E32+G32,\"\")","v":52},{"$f":"IF(J32+K32>0,J32+K32,\"\")","v":27},{"v":0.36538461538461536,"d":"37%"},{"v":0.3888888888888889,"d":"39%"}]
[null,null,"Peak Performances"]
[]
[null,"Top Points","Player",null,"Top REB","Player",null,"Top AST","Player"]
[null,{"$f":"MAX(Q$7:Q$30)","v":24},{"$f":"IFERROR(INDEX($AA$7:$AA$30,SMALL(IF(Q$7:Q$30=$B$36,ROW(Q$7:Q$30)-6),ROW(Q7)-6)),\" \")","v":"P Watt, 24"},null,{"$f":"MAX(W$7:W$30)","v":13},{"$f":"IFERROR(INDEX($AA$7:$AA$30,SMALL(IF(W$7:W$30=$E$36,ROW(W$7:W$30)-6),ROW(W7)-6)),\" \")","v":"C Louderback, 23"},null,{"$f":"MAX(L$7:L$30)","v":6},{"$f":"IFERROR(INDEX($AA$7:$AA$30,SMALL(IF(L$7:L$30=$H$36,ROW(L$7:L$30)-6),ROW(L7)-6)),\" \")","v":"C Louderback, 23"}]
[null,null,{"$f":"IFERROR(INDEX($AA$7:$AA$30,SMALL(IF(Q$7:Q$30=$B$36,ROW(Q$7:Q$30)-6),ROW(Q8)-6)),\" \")","v":" "},null,null,{"$f":"IFERROR(INDEX($AA$7:$AA$30,SMALL(IF(W$7:W$30=$E$36,ROW(W$7:W$30)-6),ROW(W8)-6)),\" \")","v":" "},null,null,{"$f":"IFERROR(INDEX($AA$7:$AA$30,SMALL(IF(L$7:L$30=$H$36,ROW(L$7:L$30)-6),ROW(L8)-6)),\" \")","v":" "}]
[null,null,{"$f":"IFERROR(INDEX($AA$7:$AA$30,SMALL(IF(Q$7:Q$30=$B$36,ROW(Q$7:Q$30)-6),ROW(Q9)-6)),\" \")","v":" "},null,null,{"$f":"IFERROR(INDEX($AA$7:$AA$30,SMALL(IF(W$7:W$30=$E$36,ROW(W$7:W$30)-6),ROW(W9)-6)),\" \")","v":" "},null,null,{"$f":"IFERROR(INDEX($AA$7:$AA$30,SMALL(IF(L$7:L$30=$H$36,ROW(L$7:L$30)-6),ROW(L9)-6)),\" \")","v":" "}]
[null,null,{"$f":"IFERROR(INDEX($AA$7:$AA$30,SMALL(IF(Q$7:Q$30=$B$36,ROW(Q$7:Q$30)-6),ROW(Q10)-6)),\" \")","v":" "},null,null,{"$f":"IFERROR(INDEX($AA$7:$AA$30,SMALL(IF(W$7:W$30=$E$36,ROW(W$7:W$30)-6),ROW(W10)-6)),\" \")","v":" "},null,null,{"$f":"IFERROR(INDEX($AA$7:$AA$30,SMALL(IF(L$7:L$30=$H$36,ROW(L$7:L$30)-6),ROW(L10)-6)),\" \")","v":" "}]
[null,null,{"$f":"IFERROR(INDEX($AA$7:$AA$30,SMALL(IF(Q$7:Q$30=$B$36,ROW(Q$7:Q$30)-6),ROW(Q11)-6)),\" \")","v":" "},null,null,{"$f":"IFERROR(INDEX($AA$7:$AA$30,SMALL(IF(W$7:W$30=$E$36,ROW(W$7:W$30)-6),ROW(W11)-6)),\" \")","v":" "},null,null,{"$f":"IFERROR(INDEX($AA$7:$AA$30,SMALL(IF(L$7:L$30=$H$36,ROW(L$7:L$30)-6),ROW(L11)-6)),\" \")","v":" "}]
[null,null,{"$f":"IFERROR(INDEX($B12:B$30,SMALL(IF(Q$7:Q$30=$B$36,ROW(Q$7:Q$30)-6),ROW(Q12)-6)),\" \")","v":" "}]
[null,null,{"$f":"TRIM(C36)","v":"P Watt, 24"},null,null,{"$f":"TRIM(F36)","v":"C Louderback, 23"},null,null,{"$f":"TRIM(I36)","v":"C Louderback, 23"}]
[null,null,{"$f":"TRIM(C37)","v":""},null,null,{"$f":"TRIM(F37)","v":""},null,null,{"$f":"TRIM(I37)","v":""}]
[null,null,"",null,null,"",null,null,""]
[null,null,"",null,null,"",null,null,""]
[null,null,"",null,null,"",null,null,""]
[]
[]
[null,{"$f":"COUNTIF(C42:C46,\"?*\")","v":1},null,null,{"$f":"COUNTIF(F42:F46,\"?*\")","v":1},null,null,{"$f":"COUNTIF(I42:I46,\"?*\")","v":1}]

{"sheet":"game1 (24)","index":26,"n_rows":49,"n_cols":27,"rows_kept":49,"merged":[[0,6,0,11],[1,2,1,5],[1,7,1,9],[1,10,1,12],[32,2,32,17]]}
[]
[{"$f":"IF(AND(Roster!$D$1=VLOOKUP(C2,Roster!$L$5:$R$72,2,FALSE),Roster!$D$3=VLOOKUP(C2,Roster!$L$5:$R$72,4,FALSE)),\"R\",\"\")","v":{"$error":"#N/A"}},"Opponent","Big Horn",{"$nulls":4},"Date of Game",null,null,"2018-02-24",{"$nulls":12},{"$f":"IF(OR($H$4=1,$J$4=1),CONCATENATE($C$2,\": \",MONTH($K$2),\"/\",DAY($K$2),\"/\",YEAR($K$2)-2000, \" **\" ),CONCATENATE($C$2,\": \",MONTH($K$2),\"/\",DAY($K$2),\"/\",YEAR($K$2)-2000))","v":"Big Horn: 2/24/18"},null,8]
[{"$nulls":6},"Win","Conf W","Loss","Conf L",null,"Forfeit W?",null,"Forfeit L?",{"$nulls":9},{"$f":"IF($C$4>$D$4,CONCATENATE(Roster!$B$1,\" \",$C$4,\", \",$C$2,\" \",$D$4, \" \",$E$4),CONCATENATE($C$2,\" \",$D$4,\", \",Roster!$B$1,\" \",$C$4,\" \", $E$4 ))","v":"Upton 73, Big Horn 62 "}]
[null,"Score",73,62,null,null,{"$f":"IF(OR($L$4=1,$C$4>$D$4),1,\"\")","v":1},null,{"$f":"IF(OR($N$4=1,$C$4<$D$4),1,\"\")","v":""}]
[]
["#","PLAYER","GP","3FGM","3FGA","2FGM","2FGA","FTM","FTA","OFF REB","DEF REB","AST","STL","BLK","TO","FOUL","TL PTS","3FG %","2FG %","FT %","FG%","FGA","REB","Elig FG%","Elig FT%","Name2","FI,LastName,#"]
[{"$f":"IF(Roster!A7<>\"\",Roster!A7,\"\")","v":24},{"$f":"IF(OR(Roster!A7<>\"\",Roster!B7<>\"\"),PROPER(Roster!B7),\"\")","v":"Payton Watt"},1,0,2,9,15,2,4,5,7,4,null,null,1,3,{"$f":"IF(H7+2*F7+3*D7>0,H7+2*F7+3*D7,\"\")","v":20},{"$f":"IF(E7>0,D7/E7,\"\")","v":{"v":0,"d":"0%"}},{"$f":"IF(G7>0,F7/G7,\"\")","v":{"v":0.6,"d":"60%"}},{"$f":"IF(I7>0,H7/I7,\"\")","v":{"v":0.5,"d":"50%"}},{"$f":"IF(OR(E7>0,G7 >0),(D7+F7)/(E7+G7),\"\")","v":{"v":0.5294117647058824,"d":"53%"}},{"$f":"IF(E7+G7>0,E7+G7,\"\")","v":17},{"$f":"IF(J7+K7>0,J7+K7,\"\")","v":12},{"$f":"IF(V7>=$Z$2,U7,0)","v":{"v":0.5294117647058824,"d":"53%"}},{"$f":"IF(I7>=$Z$2,T7,0)","v":{"v":0,"d":"0%"}},{"$f":"B7","v":"Payton Watt"},{"$f":"IFERROR(IF(FIND(\" \",$B7,1),CONCATENATE(LEFT($B7,1),\" \",RIGHT($B7,LEN($B7)-FIND(\" \",$B7,1)),\", \",$A7),CONCATENATE($B7,\", \",$A7)),\"\")","v":"P Watt, 24"}]
[{"$f":"IF(Roster!A8<>\"\",Roster!A8,\"\")","v":20},{"$f":"IF(OR(Roster!A8<>\"\",Roster!B8<>\"\"),PROPER(Roster!B8),\"\")","v":"Dillon Barritt"},1,2,5,0,1,4,4,null,1,1,1,null,2,null,{"$f":"IF(H8+2*F8+3*D8>0,H8+2*F8+3*D8,\"\")","v":10},{"$f":"IF(E8>0,D8/E8,\"\")","v":{"v":0.4,"d":"40%"}},{"$f":"IF(G8>0,F8/G8,\"\")","v":{"v":0,"d":"0%"}},{"$f":"IF(I8>0,H8/I8,\"\")","v":{"v":1,"d":"100%"}},{"$f":"IF(OR(E8>0,G8 >0),(D8+F8)/(E8+G8),\"\")","v":{"v":0.3333333333333333,"d":"33%"}},{"$f":"IF(E8+G8>0,E8+G8,\"\")","v":6},{"$f":"IF(J8+K8>0,J8+K8,\"\")","v":1},{"$f":"IF(V8>=$Z$2,U8,0)","v":{"v":0,"d":"0%"}},{"$f":"IF(I8>=$Z$2,T8,0)","v":{"v":0,"d":"0%"}},{"$f":"B8","v":"Dillon Barritt"},{"$f":"IFERROR(IF(FIND(\" \",$B8,1),CONCATENATE(LEFT($B8,1),\" \",RIGHT($B8,LEN($B8)-FIND(\" \",$B8,1)),\", \",$A8),CONCATENATE($B8,\", \",$A8)),\"\")","v":"D Barritt, 20"}]
[{"$f":"IF(Roster!A9<>\"\",Roster!A9,\"\")","v":14},{"$f":"IF(OR(Roster!A9<>\"\",Roster!B9<>\"\"),PROPER(Roster!B9),\"\")","v":"Dawson Butts"},1,null,null,1,2,null,null,2,1,1,1,null,3,4,2,"",{"v":0.5,"d":"50%"},"",{"v":0.5,"d":"50%"},2,3,{"v":0,"d":"0%"},{"v":0,"d":"0%"},"Dawson Butts","D Butts, 14"]
[{"$f":"IF(Roster!A10<>\"\",Roster!A10,\"\")","v":12},{"$f":"IF(OR(Roster!A10<>\"\",Roster!B10<>\"\"),PROPER(Roster!B10),\"\")","v":"Jayden Caylor"},1,null,null,0,2,3,4,1,2,3,2,null,2,5,3,"",{"v":0,"d":"0%"},{"v":0.75,"d":"75%"},{"v":0,"d":"0%"},2,3,{"v":0,"d":"0%"},{"v":0,"d":"0%"},"Jayden Caylor","J Caylor, 12"]
[{"$f":"IF(Roster!A11<>\"\",Roster!A11,\"\")","v":23},{"$f":"IF(OR(Roster!A11<>\"\",Roster!B11<>\"\"),PROPER(Roster!B11),\"\")","v":"Clayton Louderback"},1,1,4,10,17,7,12,3,6,1,3,null,3,3,30,{"v":0.25,"d":"25%"},{"v":0.5882352941176471,"d":"59%"},{"v":0.5833333333333334,"d":"58%"},{"v":0.5238095238095238,"d":"52%"},21,9,{"v":0.5238095238095238,"d":"52%"},{"v":0.5833333333333334,"d":"58%"},"Clayton Louderback","C Louderback, 23"]
[{"$f":"IF(Roster!A12<>\"\",Roster!A12,\"\")","v":10},{"$f":"IF(OR(Roster!A12<>\"\",Roster!B12<>\"\"),PROPER(Roster!B12),\"\")","v":"Jess Claycomb"},1,null,null,0,3,0,2,1,4,2,1,null,3,4,"","",{"v":0,"d":"0%"},{"v":0,"d":"0%"},{"v":0,"d":"0%"},3,5,{"v":0,"d":"0%"},{"v":0,"d":"0%"},"Jess Claycomb","J Claycomb, 10"]
[{"$f":"IF(Roster!A13<>\"\",Roster!A13,\"\")","v":4},{"$f":"IF(OR(Roster!A13<>\"\",Roster!B13<>\"\"),PROPER(Roster!B13),\"\")","v":"Maxx Cowger"},{"$nulls":14},"","","","","","","","",{"v":0,"d":"0%"},"Maxx Cowger","M Cowger, 4"]
[{"$f":"IF(Roster!A14<>\"\",Roster!A14,\"\")","v":22},{"$f":"IF(OR(Roster!A14<>\"\",Roster!B14<>\"\"),PROPER(Roster!B14),\"\")","v":"Brayden Bruce"},1,null,null,1,3,6,8,2,1,1,1,null,1,2,8,"",{"v":0.3333333333333333,"d":"33%"},{"v":0.75,"d":"75%"},{"v":0.3333333333333333,"d":"33%"},3,3,{"v":0,"d":"0%"},{"v":0.75,"d":"75%"},"Brayden Bruce","B Bruce, 22"]
[{"$f":"IF(Roster!A15<>\"\",Roster!A15,\"\")","v":30},{"$f":"IF(OR(Roster!A15<>\"\",Roster!B15<>\"\"),PROPER(Roster!B15),\"\")","v":"Jo Bishop"},{"$nulls":14},"","","","","","","","",{"v":0,"d":"0%"},"Jo Bishop","J Bishop, 30"]
[{"$f":"IF(Roster!A16<>\"\",Roster!A16,\"\")","v":33},{"$f":"IF(OR(Roster!A16<>\"\",Roster!B16<>\"\"),PROPER(Roster!B16),\"\")","v":"Nolan Turner"},{"$nulls":14},"","","","","","","","",{"v":0,"d":"0%"},"Nolan Turner","N Turner, 33"]
[{"$f":"IF(Roster!A17<>\"\",Roster!A17,\"\")","v":32},{"$f":"IF(OR(Roster!A17<>\"\",Roster!B17<>\"\"),PROPER(Roster!B17),\"\")","v":"Robert Crawford"},{"$nulls":14},"","","","","","","","",{"v":0,"d":"0%"},"Robert Crawford","R Crawford, 32"]
[{"$f":"IF(Roster!A18<>\"\",Roster!A18,\"\")","v":40},{"$f":"IF(OR(Roster!A18<>\"\",Roster!B18<>\"\"),PROPER(Roster!B18),\"\")","v":"Jace Bruce"},{"$nulls":14},"","","","","","","","",{"v":0,"d":"0%"},"Jace Bruce","J Bruce, 40"]
[{"$f":"IF(Roster!A19<>\"\",Roster!A19,\"\")","v":2},{"$f":"IF(OR(Roster!A19<>\"\",Roster!B19<>\"\"),PROPER(Roster!B19),\"\")","v":"Ethan Mills"},{"$nulls":14},"","","","","","","","",{"v":0,"d":"0%"},"Ethan Mills","E Mills, 2"]
[{"$f":"IF(Roster!A20<>\"\",Roster!A20,\"\")","v":2},{"$f":"IF(OR(Roster!A20<>\"\",Roster!B20<>\"\"),PROPER(Roster!B20),\"\")","v":"Bridger Alishouse"},{"$nulls":14},"","","","","","","","",{"v":0,"d":"0%"},"Bridger Alishouse","B Alishouse, 2"]
[{"$f":"IF(Roster!A21<>\"\",Roster!A21,\"\")","v":4},{"$f":"IF(OR(Roster!A21<>\"\",Roster!B21<>\"\"),PROPER(Roster!B21),\"\")","v":"Landon Keever"},{"$nulls":14},"","","","","","","","",{"v":0,"d":"0%"},"Landon Keever","L Keever, 4"]
[{"$f":"IF(Roster!A22<>\"\",Roster!A22,\"\")","v":4},{"$f":"IF(OR(Roster!A22<>\"\",Roster!B22<>\"\"),PROPER(Roster!B22),\"\")","v":"Dj Till"},{"$nulls":14},"","","","","","","","",{"v":0,"d":"0%"},"Dj Till","D Till, 4"]
[{"$f":"IF(Roster!A23<>\"\",Roster!A23,\"\")","v":""},{"$f":"IF(OR(Roster!A23<>\"\",Roster!B23<>\"\"),PROPER(Roster!B23),\"\")","v":""},{"$nulls":14},"","","","","","","","",{"v":0,"d":"0%"},"",""]
[{"$f":"IF(Roster!A24<>\"\",Roster!A24,\"\")","v":""},{"$f":"IF(OR(Roster!A24<>\"\",Roster!B24<>\"\"),PROPER(Roster!B24),\"\")","v":""},{"$nulls":14},"","","","","","","","",{"v":0,"d":"0%"},"",""]
[{"$f":"IF(Roster!A25<>\"\",Roster!A25,\"\")","v":""},{"$f":"IF(OR(Roster!A25<>\"\",Roster!B25<>\"\"),PROPER(Roster!B25),\"\")","v":""},{"$nulls":14},"","","","","","","","",{"v":0,"d":"0%"},"",""]
[{"$f":"IF(Roster!A26<>\"\",Roster!A26,\"\")","v":""},{"$f":"IF(OR(Roster!A26<>\"\",Roster!B26<>\"\"),PROPER(Roster!B26),\"\")","v":""},{"$nulls":14},"","","","","","","","",{"v":0,"d":"0%"},"",""]
[{"$f":"IF(Roster!A27<>\"\",Roster!A27,\"\")","v":""},{"$f":"IF(OR(Roster!A27<>\"\",Roster!B27<>\"\"),PROPER(Roster!B27),\"\")","v":""},{"$nulls":14},"","","","","","","","",{"v":0,"d":"0%"},"",""]
[{"$f":"IF(Roster!A28<>\"\",Roster!A28,\"\")","v":""},{"$f":"IF(OR(Roster!A28<>\"\",Roster!B28<>\"\"),PROPER(Roster!B28),\"\")","v":""},{"$nulls":14},"","","","","","","","",{"v":0,"d":"0%"},"",""]
[{"$f":"IF(Roster!A29<>\"\",Roster!A29,\"\")","v":""},{"$f":"IF(OR(Roster!A29<>\"\",Roster!B29<>\"\"),PROPER(Roster!B29),\"\")","v":""},{"$nulls":14},"","","","","","","","",{"v":0,"d":"0%"},"",""]
[{"$f":"IF(Roster!A30<>\"\",Roster!A30,\"\")","v":""},{"$f":"IF(OR(Roster!A30<>\"\",Roster!B30<>\"\"),PROPER(Roster!B30),\"\")","v":"Team"},1,{"$nulls":6},2,2,{"$nulls":5},"","","","","","",4,"",{"v":0,"d":"0%"},"Team",{"$f":"IFERROR(IF(FIND(\" \",$B30,1),CONCATENATE(LEFT($B30,1),\" \",RIGHT($B30,LEN($B30)-FIND(\" \",$B30,1)),\", \",$A30),CONCATENATE($B30,\", \",$A30)),\"\")","v":""}]
[null,"Team Totals",{"$f":"IF(COUNTA($C$7:$C$30)>0,1,\"\")","v":1},{"$f":"SUM(D7:D30)","v":3},{"$f":"SUM(E7:E30)","v":11},21,43,22,34,16,24,13,9,0,{"$f":"SUM(O7:O30)","v":15},{"$f":"SUM(P7:P30)","v":21},{"$f":"IF(H31+2*F31+3*D31>0,H31+2*F31+3*D31,IF(C4>0,C4,\"\"))","v":73},{"$f":"IF(E31>0,D31/E31,\"\")","v":{"v":0.2727272727272727,"d":"27%"}},{"$f":"IF(G31>0,F31/G31,\"\")","v":{"v":0.4883720930232558,"d":"49%"}},{"$f":"IF(I31>0,H31/I31,\"\")","v":{"v":0.6470588235294118,"d":"65%"}},{"$f":"IF(OR(E31>0,G31 >0),(D31+F31)/(E31+G31),\"\")","v":{"v":0.4444444444444444,"d":"44%"}},{"$f":"IF(E31+G31>0,E31+G31,\"\")","v":54},{"$f":"IF(J31+K31>0,J31+K31,\"\")","v":40},{"v":0.4444444444444444,"d":"44%"},{"$f":"IF(I31>=$Z$2,T31,0)","v":{"v":0.6470588235294118,"d":"65%"}}]
[null,"Opponent Totals",{"$f":"IF(SUM(D32:P32)>0,1,\"\")","v":1},5,21,17,36,13,20,13,18,7,3,null,22,28,{"$f":"IF(H32+2*F32+3*D32>0,H32+2*F32+3*D32,IF(D4>0,D4,\"\"))","v":62},{"$f":"IF(E32>0,D32/E32,\"\")","v":{"v":0.23809523809523808,"d":"24%"}},{"$f":"IF(G32>0,F32/G32,\"\")","v":{"v":0.4722222222222222,"d":"47%"}},{"$f":"IF(I32>0,H32/I32,\"\")","v":{"v":0.65,"d":"65%"}},{"$f":"IF(OR(E32>0,G32 >0),(D32+F32)/(E32+G32),\"\")","v":{"v":0.38596491228070173,"d":"39%"}},{"$f":"IF(E32+G32>0,E32+G32,\"\")","v":57},{"$f":"IF(J32+K32>0,J32+K32,\"\")","v":31},{"v":0.38596491228070173,"d":"39%"},{"v":0.65,"d":"65%"}]
[null,null,"Peak Performances"]
[]
[null,"Top Points","Player",null,"Top REB","Player",null,"Top AST","Player"]
[null,{"$f":"MAX(Q$7:Q$30)","v":30},{"$f":"IFERROR(INDEX($AA$7:$AA$30,SMALL(IF(Q$7:Q$30=$B$36,ROW(Q$7:Q$30)-6),ROW(Q7)-6)),\" \")","v":"C Louderback, 23"},null,{"$f":"MAX(W$7:W$30)","v":12},{"$f":"IFERROR(INDEX($AA$7:$AA$30,SMALL(IF(W$7:W$30=$E$36,ROW(W$7:W$30)-6),ROW(W7)-6)),\" \")","v":"P Watt, 24"},null,{"$f":"MAX(L$7:L$30)","v":4},{"$f":"IFERROR(INDEX($AA$7:$AA$30,SMALL(IF(L$7:L$30=$H$36,ROW(L$7:L$30)-6),ROW(L7)-6)),\" \")","v":"P Watt, 24"}]
[null,null,{"$f":"IFERROR(INDEX($AA$7:$AA$30,SMALL(IF(Q$7:Q$30=$B$36,ROW(Q$7:Q$30)-6),ROW(Q8)-6)),\" \")","v":" "},null,null,{"$f":"IFERROR(INDEX($AA$7:$AA$30,SMALL(IF(W$7:W$30=$E$36,ROW(W$7:W$30)-6),ROW(W8)-6)),\" \")","v":" "},null,null,{"$f":"IFERROR(INDEX($AA$7:$AA$30,SMALL(IF(L$7:L$30=$H$36,ROW(L$7:L$30)-6),ROW(L8)-6)),\" \")","v":" "}]
[null,null,{"$f":"IFERROR(INDEX($AA$7:$AA$30,SMALL(IF(Q$7:Q$30=$B$36,ROW(Q$7:Q$30)-6),ROW(Q9)-6)),\" \")","v":" "},null,null,{"$f":"IFERROR(INDEX($AA$7:$AA$30,SMALL(IF(W$7:W$30=$E$36,ROW(W$7:W$30)-6),ROW(W9)-6)),\" \")","v":" "},null,null,{"$f":"IFERROR(INDEX($AA$7:$AA$30,SMALL(IF(L$7:L$30=$H$36,ROW(L$7:L$30)-6),ROW(L9)-6)),\" \")","v":" "}]
[null,null,{"$f":"IFERROR(INDEX($AA$7:$AA$30,SMALL(IF(Q$7:Q$30=$B$36,ROW(Q$7:Q$30)-6),ROW(Q10)-6)),\" \")","v":" "},null,null,{"$f":"IFERROR(INDEX($AA$7:$AA$30,SMALL(IF(W$7:W$30=$E$36,ROW(W$7:W$30)-6),ROW(W10)-6)),\" \")","v":" "},null,null,{"$f":"IFERROR(INDEX($AA$7:$AA$30,SMALL(IF(L$7:L$30=$H$36,ROW(L$7:L$30)-6),ROW(L10)-6)),\" \")","v":" "}]
[null,null,{"$f":"IFERROR(INDEX($AA$7:$AA$30,SMALL(IF(Q$7:Q$30=$B$36,ROW(Q$7:Q$30)-6),ROW(Q11)-6)),\" \")","v":" "},null,null,{"$f":"IFERROR(INDEX($AA$7:$AA$30,SMALL(IF(W$7:W$30=$E$36,ROW(W$7:W$30)-6),ROW(W11)-6)),\" \")","v":" "},null,null,{"$f":"IFERROR(INDEX($AA$7:$AA$30,SMALL(IF(L$7:L$30=$H$36,ROW(L$7:L$30)-6),ROW(L11)-6)),\" \")","v":" "}]
[null,null,{"$f":"IFERROR(INDEX($B12:B$30,SMALL(IF(Q$7:Q$30=$B$36,ROW(Q$7:Q$30)-6),ROW(Q12)-6)),\" \")","v":" "}]
[null,null,{"$f":"TRIM(C36)","v":"C Louderback, 23"},null,null,{"$f":"TRIM(F36)","v":"P Watt, 24"},null,null,{"$f":"TRIM(I36)","v":"P Watt, 24"}]
[null,null,{"$f":"TRIM(C37)","v":""},null,null,{"$f":"TRIM(F37)","v":""},null,null,{"$f":"TRIM(I37)","v":""}]
[null,null,"",null,null,"",null,null,""]
[null,null,"",null,null,"",null,null,""]
[null,null,"",null,null,"",null,null,""]
[]
[]
[null,{"$f":"COUNTIF(C42:C46,\"?*\")","v":1},null,null,{"$f":"COUNTIF(F42:F46,\"?*\")","v":1},null,null,{"$f":"COUNTIF(I42:I46,\"?*\")","v":1}]

{"sheet":"game1 (25)","index":27,"n_rows":49,"n_cols":27,"rows_kept":49,"merged":[[0,6,0,11],[1,2,1,5],[1,7,1,9],[1,10,1,12],[32,2,32,17]]}
[]
[{"$f":"IF(AND(Roster!$D$1=VLOOKUP(C2,Roster!$L$5:$R$72,2,FALSE),Roster!$D$3=VLOOKUP(C2,Roster!$L$5:$R$72,4,FALSE)),\"R\",\"\")","v":{"$error":"#N/A"}},"Opponent","Wright  ",{"$nulls":4},"Date of Game",null,null,"2018-02-24",{"$nulls":12},{"$f":"IF(OR($H$4=1,$J$4=1),CONCATENATE($C$2,\": \",MONTH($K$2),\"/\",DAY($K$2),\"/\",YEAR($K$2)-2000, \" **\" ),CONCATENATE($C$2,\": \",MONTH($K$2),\"/\",DAY($K$2),\"/\",YEAR($K$2)-2000))","v":"Wright  : 2/24/18"},null,8]
[{"$nulls":6},"Win","Conf W","Loss","Conf L",null,"Forfeit W?",null,"Forfeit L?",{"$nulls":9},{"$f":"IF($C$4>$D$4,CONCATENATE(Roster!$B$1,\" \",$C$4,\", \",$C$2,\" \",$D$4, \" \",$E$4),CONCATENATE($C$2,\" \",$D$4,\", \",Roster!$B$1,\" \",$C$4,\" \", $E$4 ))","v":"Upton 82, Wright   56 "}]
[null,"Score",82,56,null,null,{"$f":"IF(OR($L$4=1,$C$4>$D$4),1,\"\")","v":1},null,{"$f":"IF(OR($N$4=1,$C$4<$D$4),1,\"\")","v":""}]
[]
["#","PLAYER","GP","3FGM","3FGA","2FGM","2FGA","FTM","FTA","OFF REB","DEF REB","AST","STL","BLK","TO","FOUL","TL PTS","3FG %","2FG %","FT %","FG%","FGA","REB","Elig FG%","Elig FT%","Name2","FI,LastName,#"]
[{"$f":"IF(Roster!A7<>\"\",Roster!A7,\"\")","v":24},{"$f":"IF(OR(Roster!A7<>\"\",Roster!B7<>\"\"),PROPER(Roster!B7),\"\")","v":"Payton Watt"},1,6,10,4,4,4,5,null,6,2,1,null,2,2,{"$f":"IF(H7+2*F7+3*D7>0,H7+2*F7+3*D7,\"\")","v":30},{"$f":"IF(E7>0,D7/E7,\"\")","v":{"v":0.6,"d":"60%"}},{"$f":"IF(G7>0,F7/G7,\"\")","v":{"v":1,"d":"100%"}},{"$f":"IF(I7>0,H7/I7,\"\")","v":{"v":0.8,"d":"80%"}},{"$f":"IF(OR(E7>0,G7 >0),(D7+F7)/(E7+G7),\"\")","v":{"v":0.7142857142857143,"d":"71%"}},{"$f":"IF(E7+G7>0,E7+G7,\"\")","v":14},{"$f":"IF(J7+K7>0,J7+K7,\"\")","v":6},{"$f":"IF(V7>=$Z$2,U7,0)","v":{"v":0.7142857142857143,"d":"71%"}},{"$f":"IF(I7>=$Z$2,T7,0)","v":{"v":0,"d":"0%"}},{"$f":"B7","v":"Payton Watt"},{"$f":"IFERROR(IF(FIND(\" \",$B7,1),CONCATENATE(LEFT($B7,1),\" \",RIGHT($B7,LEN($B7)-FIND(\" \",$B7,1)),\", \",$A7),CONCATENATE($B7,\", \",$A7)),\"\")","v":"P Watt, 24"}]
[{"$f":"IF(Roster!A8<>\"\",Roster!A8,\"\")","v":20},{"$f":"IF(OR(Roster!A8<>\"\",Roster!B8<>\"\"),PROPER(Roster!B8),\"\")","v":"Dillon Barritt"},1,1,8,1,2,2,2,2,1,3,2,null,null,3,{"$f":"IF(H8+2*F8+3*D8>0,H8+2*F8+3*D8,\"\")","v":7},{"$f":"IF(E8>0,D8/E8,\"\")","v":{"v":0.125,"d":"13%"}},{"$f":"IF(G8>0,F8/G8,\"\")","v":{"v":0.5,"d":"50%"}},{"$f":"IF(I8>0,H8/I8,\"\")","v":{"v":1,"d":"100%"}},{"$f":"IF(OR(E8>0,G8 >0),(D8+F8)/(E8+G8),\"\")","v":{"v":0.2,"d":"20%"}},{"$f":"IF(E8+G8>0,E8+G8,\"\")","v":10},{"$f":"IF(J8+K8>0,J8+K8,\"\")","v":3},{"$f":"IF(V8>=$Z$2,U8,0)","v":{"v":0.2,"d":"20%"}},{"$f":"IF(I8>=$Z$2,T8,0)","v":{"v":0,"d":"0%"}},{"$f":"B8","v":"Dillon Barritt"},{"$f":"IFERROR(IF(FIND(\" \",$B8,1),CONCATENATE(LEFT($B8,1),\" \",RIGHT($B8,LEN($B8)-FIND(\" \",$B8,1)),\", \",$A8),CONCATENATE($B8,\", \",$A8)),\"\")","v":"D Barritt, 20"}]
[{"$f":"IF(Roster!A9<>\"\",Roster!A9,\"\")","v":14},{"$f":"IF(OR(Roster!A9<>\"\",Roster!B9<>\"\"),PROPER(Roster!B9),\"\")","v":"Dawson Butts"},1,null,null,1,6,2,2,3,2,2,1,null,2,1,4,"",{"v":0.16666666666666666,"d":"17%"},{"v":1,"d":"100%"},{"v":0.16666666666666666,"d":"17%"},6,5,{"v":0,"d":"0%"},{"v":0,"d":"0%"},"Dawson Butts","D Butts, 14"]
[{"$f":"IF(Roster!A10<>\"\",Roster!A10,\"\")","v":12},{"$f":"IF(OR(Roster!A10<>\"\",Roster!B10<>\"\"),PROPER(Roster!B10),\"\")","v":"Jayden Caylor"},1,null,null,2,2,1,3,1,1,2,4,null,1,1,5,"",{"v":1,"d":"100%"},{"v":0.3333333333333333,"d":"33%"},{"v":1,"d":"100%"},2,2,{"v":0,"d":"0%"},{"v":0,"d":"0%"},"Jayden Caylor","J Caylor, 12"]
[{"$f":"IF(Roster!A11<>\"\",Roster!A11,\"\")","v":23},{"$f":"IF(OR(Roster!A11<>\"\",Roster!B11<>\"\"),PROPER(Roster!B11),\"\")","v":"Clayton Louderback"},1,0,2,8,12,2,6,4,1,8,3,null,null,3,18,{"v":0,"d":"0%"},{"v":0.6666666666666666,"d":"67%"},{"v":0.3333333333333333,"d":"33%"},{"v":0.5714285714285714,"d":"57%"},14,5,{"v":0.5714285714285714,"d":"57%"},{"v":0,"d":"0%"},"Clayton Louderback","C Louderback, 23"]
[{"$f":"IF(Roster!A12<>\"\",Roster!A12,\"\")","v":10},{"$f":"IF(OR(Roster!A12<>\"\",Roster!B12<>\"\"),PROPER(Roster!B12),\"\")","v":"Jess Claycomb"},1,2,6,1,5,4,4,1,4,2,2,null,null,1,12,{"v":0.3333333333333333,"d":"33%"},{"v":0.2,"d":"20%"},{"v":1,"d":"100%"},{"v":0.2727272727272727,"d":"27%"},11,5,{"v":0.2727272727272727,"d":"27%"},{"v":0,"d":"0%"},"Jess Claycomb","J Claycomb, 10"]
[{"$f":"IF(Roster!A13<>\"\",Roster!A13,\"\")","v":4},{"$f":"IF(OR(Roster!A13<>\"\",Roster!B13<>\"\"),PROPER(Roster!B13),\"\")","v":"Maxx Cowger"},{"$nulls":14},"","","","","","","","",{"v":0,"d":"0%"},"Maxx Cowger","M Cowger, 4"]
[{"$f":"IF(Roster!A14<>\"\",Roster!A14,\"\")","v":22},{"$f":"IF(OR(Roster!A14<>\"\",Roster!B14<>\"\"),PROPER(Roster!B14),\"\")","v":"Brayden Bruce"},1,0,1,1,5,4,4,5,3,4,1,null,2,1,6,{"v":0,"d":"0%"},{"v":0.2,"d":"20%"},{"v":1,"d":"100%"},{"v":0.16666666666666666,"d":"17%"},6,8,{"v":0,"d":"0%"},{"v":0,"d":"0%"},"Brayden Bruce","B Bruce, 22"]
[{"$f":"IF(Roster!A15<>\"\",Roster!A15,\"\")","v":30},{"$f":"IF(OR(Roster!A15<>\"\",Roster!B15<>\"\"),PROPER(Roster!B15),\"\")","v":"Jo Bishop"},1,null,null,0,1,{"$nulls":9},"","",{"v":0,"d":"0%"},"",{"v":0,"d":"0%"},1,"",{"v":0,"d":"0%"},{"v":0,"d":"0%"},"Jo Bishop","J Bishop, 30"]
[{"$f":"IF(Roster!A16<>\"\",Roster!A16,\"\")","v":33},{"$f":"IF(OR(Roster!A16<>\"\",Roster!B16<>\"\"),PROPER(Roster!B16),\"\")","v":"Nolan Turner"},1,{"$nulls":6},1,2,{"$nulls":5},"","","","","","",3,"",{"v":0,"d":"0%"},"Nolan Turner","N Turner, 33"]
[{"$f":"IF(Roster!A17<>\"\",Roster!A17,\"\")","v":32},{"$f":"IF(OR(Roster!A17<>\"\",Roster!B17<>\"\"),PROPER(Roster!B17),\"\")","v":"Robert Crawford"},1,0,1,{"$nulls":11},"",{"v":0,"d":"0%"},"","",{"v":0,"d":"0%"},1,"",{"v":0,"d":"0%"},{"v":0,"d":"0%"},"Robert Crawford","R Crawford, 32"]
[{"$f":"IF(Roster!A18<>\"\",Roster!A18,\"\")","v":40},{"$f":"IF(OR(Roster!A18<>\"\",Roster!B18<>\"\"),PROPER(Roster!B18),\"\")","v":"Jace Bruce"},1,0,1,0,1,{"$nulls":9},"",{"v":0,"d":"0%"},{"v":0,"d":"0%"},"",{"v":0,"d":"0%"},2,"",{"v":0,"d":"0%"},{"v":0,"d":"0%"},"Jace Bruce","J Bruce, 40"]
[{"$f":"IF(Roster!A19<>\"\",Roster!A19,\"\")","v":2},{"$f":"IF(OR(Roster!A19<>\"\",Roster!B19<>\"\"),PROPER(Roster!B19),\"\")","v":"Ethan Mills"},{"$nulls":14},"","","","","","","","",{"v":0,"d":"0%"},"Ethan Mills","E Mills, 2"]
[{"$f":"IF(Roster!A20<>\"\",Roster!A20,\"\")","v":2},{"$f":"IF(OR(Roster!A20<>\"\",Roster!B20<>\"\"),PROPER(Roster!B20),\"\")","v":"Bridger Alishouse"},{"$nulls":14},"","","","","","","","",{"v":0,"d":"0%"},"Bridger Alishouse","B Alishouse, 2"]
[{"$f":"IF(Roster!A21<>\"\",Roster!A21,\"\")","v":4},{"$f":"IF(OR(Roster!A21<>\"\",Roster!B21<>\"\"),PROPER(Roster!B21),\"\")","v":"Landon Keever"},{"$nulls":14},"","","","","","","","",{"v":0,"d":"0%"},"Landon Keever","L Keever, 4"]
[{"$f":"IF(Roster!A22<>\"\",Roster!A22,\"\")","v":4},{"$f":"IF(OR(Roster!A22<>\"\",Roster!B22<>\"\"),PROPER(Roster!B22),\"\")","v":"Dj Till"},{"$nulls":14},"","","","","","","","",{"v":0,"d":"0%"},"Dj Till","D Till, 4"]
[{"$f":"IF(Roster!A23<>\"\",Roster!A23,\"\")","v":""},{"$f":"IF(OR(Roster!A23<>\"\",Roster!B23<>\"\"),PROPER(Roster!B23),\"\")","v":""},{"$nulls":14},"","","","","","","","",{"v":0,"d":"0%"},"",""]
[{"$f":"IF(Roster!A24<>\"\",Roster!A24,\"\")","v":""},{"$f":"IF(OR(Roster!A24<>\"\",Roster!B24<>\"\"),PROPER(Roster!B24),\"\")","v":""},{"$nulls":14},"","","","","","","","",{"v":0,"d":"0%"},"",""]
[{"$f":"IF(Roster!A25<>\"\",Roster!A25,\"\")","v":""},{"$f":"IF(OR(Roster!A25<>\"\",Roster!B25<>\"\"),PROPER(Roster!B25),\"\")","v":""},{"$nulls":14},"","","","","","","","",{"v":0,"d":"0%"},"",""]
[{"$f":"IF(Roster!A26<>\"\",Roster!A26,\"\")","v":""},{"$f":"IF(OR(Roster!A26<>\"\",Roster!B26<>\"\"),PROPER(Roster!B26),\"\")","v":""},{"$nulls":14},"","","","","","","","",{"v":0,"d":"0%"},"",""]
[{"$f":"IF(Roster!A27<>\"\",Roster!A27,\"\")","v":""},{"$f":"IF(OR(Roster!A27<>\"\",Roster!B27<>\"\"),PROPER(Roster!B27),\"\")","v":""},{"$nulls":14},"","","","","","","","",{"v":0,"d":"0%"},"",""]
[{"$f":"IF(Roster!A28<>\"\",Roster!A28,\"\")","v":""},{"$f":"IF(OR(Roster!A28<>\"\",Roster!B28<>\"\"),PROPER(Roster!B28),\"\")","v":""},{"$nulls":14},"","","","","","","","",{"v":0,"d":"0%"},"",""]
[{"$f":"IF(Roster!A29<>\"\",Roster!A29,\"\")","v":""},{"$f":"IF(OR(Roster!A29<>\"\",Roster!B29<>\"\"),PROPER(Roster!B29),\"\")","v":""},{"$nulls":14},"","","","","","","","",{"v":0,"d":"0%"},"",""]
[{"$f":"IF(Roster!A30<>\"\",Roster!A30,\"\")","v":""},{"$f":"IF(OR(Roster!A30<>\"\",Roster!B30<>\"\"),PROPER(Roster!B30),\"\")","v":"Team"},1,{"$nulls":6},1,4,{"$nulls":5},"","","","","","",5,"",{"v":0,"d":"0%"},"Team",{"$f":"IFERROR(IF(FIND(\" \",$B30,1),CONCATENATE(LEFT($B30,1),\" \",RIGHT($B30,LEN($B30)-FIND(\" \",$B30,1)),\", \",$A30),CONCATENATE($B30,\", \",$A30)),\"\")","v":""}]
[null,"Team Totals",{"$f":"IF(COUNTA($C$7:$C$30)>0,1,\"\")","v":1},{"$f":"SUM(D7:D30)","v":9},{"$f":"SUM(E7:E30)","v":29},18,38,19,26,18,24,23,14,0,{"$f":"SUM(O7:O30)","v":7},{"$f":"SUM(P7:P30)","v":12},{"$f":"IF(H31+2*F31+3*D31>0,H31+2*F31+3*D31,IF(C4>0,C4,\"\"))","v":82},{"$f":"IF(E31>0,D31/E31,\"\")","v":{"v":0.3103448275862069,"d":"31%"}},{"$f":"IF(G31>0,F31/G31,\"\")","v":{"v":0.47368421052631576,"d":"47%"}},{"$f":"IF(I31>0,H31/I31,\"\")","v":{"v":0.7307692307692307,"d":"73%"}},{"$f":"IF(OR(E31>0,G31 >0),(D31+F31)/(E31+G31),\"\")","v":{"v":0.40298507462686567,"d":"40%"}},{"$f":"IF(E31+G31>0,E31+G31,\"\")","v":67},{"$f":"IF(J31+K31>0,J31+K31,\"\")","v":42},{"v":0.40298507462686567,"d":"40%"},{"$f":"IF(I31>=$Z$2,T31,0)","v":{"v":0.7307692307692307,"d":"73%"}}]
[null,"Opponent Totals",{"$f":"IF(SUM(D32:P32)>0,1,\"\")","v":1},2,8,21,45,8,11,7,25,14,3,null,22,17,{"$f":"IF(H32+2*F32+3*D32>0,H32+2*F32+3*D32,IF(D4>0,D4,\"\"))","v":56},{"$f":"IF(E32>0,D32/E32,\"\")","v":{"v":0.25,"d":"25%"}},{"$f":"IF(G32>0,F32/G32,\"\")","v":{"v":0.4666666666666667,"d":"47%"}},{"$f":"IF(I32>0,H32/I32,\"\")","v":{"v":0.7272727272727273,"d":"73%"}},{"$f":"IF(OR(E32>0,G32 >0),(D32+F32)/(E32+G32),\"\")","v":{"v":0.4339622641509434,"d":"43%"}},{"$f":"IF(E32+G32>0,E32+G32,\"\")","v":53},{"$f":"IF(J32+K32>0,J32+K32,\"\")","v":32},{"v":0.4339622641509434,"d":"43%"},{"v":0.7272727272727273,"d":"73%"}]
[null,null,"Peak Performances"]
[]
[null,"Top Points","Player",null,"Top REB","Player",null,"Top AST","Player"]
[null,{"$f":"MAX(Q$7:Q$30)","v":30},{"$f":"IFERROR(INDEX($AA$7:$AA$30,SMALL(IF(Q$7:Q$30=$B$36,ROW(Q$7:Q$30)-6),ROW(Q7)-6)),\" \")","v":"P Watt, 24"},null,{"$f":"MAX(W$7:W$30)","v":8},{"$f":"IFERROR(INDEX($AA$7:$AA$30,SMALL(IF(W$7:W$30=$E$36,ROW(W$7:W$30)-6),ROW(W7)-6)),\" \")","v":"B Bruce, 22"},null,{"$f":"MAX(L$7:L$30)","v":8},{"$f":"IFERROR(INDEX($AA$7:$AA$30,SMALL(IF(L$7:L$30=$H$36,ROW(L$7:L$30)-6),ROW(L7)-6)),\" \")","v":"C Louderback, 23"}]
[null,null,{"$f":"IFERROR(INDEX($AA$7:$AA$30,SMALL(IF(Q$7:Q$30=$B$36,ROW(Q$7:Q$30)-6),ROW(Q8)-6)),\" \")","v":" "},null,null,{"$f":"IFERROR(INDEX($AA$7:$AA$30,SMALL(IF(W$7:W$30=$E$36,ROW(W$7:W$30)-6),ROW(W8)-6)),\" \")","v":" "},null,null,{"$f":"IFERROR(INDEX($AA$7:$AA$30,SMALL(IF(L$7:L$30=$H$36,ROW(L$7:L$30)-6),ROW(L8)-6)),\" \")","v":" "}]
[null,null,{"$f":"IFERROR(INDEX($AA$7:$AA$30,SMALL(IF(Q$7:Q$30=$B$36,ROW(Q$7:Q$30)-6),ROW(Q9)-6)),\" \")","v":" "},null,null,{"$f":"IFERROR(INDEX($AA$7:$AA$30,SMALL(IF(W$7:W$30=$E$36,ROW(W$7:W$30)-6),ROW(W9)-6)),\" \")","v":" "},null,null,{"$f":"IFERROR(INDEX($AA$7:$AA$30,SMALL(IF(L$7:L$30=$H$36,ROW(L$7:L$30)-6),ROW(L9)-6)),\" \")","v":" "}]
[null,null,{"$f":"IFERROR(INDEX($AA$7:$AA$30,SMALL(IF(Q$7:Q$30=$B$36,ROW(Q$7:Q$30)-6),ROW(Q10)-6)),\" \")","v":" "},null,null,{"$f":"IFERROR(INDEX($AA$7:$AA$30,SMALL(IF(W$7:W$30=$E$36,ROW(W$7:W$30)-6),ROW(W10)-6)),\" \")","v":" "},null,null,{"$f":"IFERROR(INDEX($AA$7:$AA$30,SMALL(IF(L$7:L$30=$H$36,ROW(L$7:L$30)-6),ROW(L10)-6)),\" \")","v":" "}]
[null,null,{"$f":"IFERROR(INDEX($AA$7:$AA$30,SMALL(IF(Q$7:Q$30=$B$36,ROW(Q$7:Q$30)-6),ROW(Q11)-6)),\" \")","v":" "},null,null,{"$f":"IFERROR(INDEX($AA$7:$AA$30,SMALL(IF(W$7:W$30=$E$36,ROW(W$7:W$30)-6),ROW(W11)-6)),\" \")","v":" "},null,null,{"$f":"IFERROR(INDEX($AA$7:$AA$30,SMALL(IF(L$7:L$30=$H$36,ROW(L$7:L$30)-6),ROW(L11)-6)),\" \")","v":" "}]
[null,null,{"$f":"IFERROR(INDEX($B12:B$30,SMALL(IF(Q$7:Q$30=$B$36,ROW(Q$7:Q$30)-6),ROW(Q12)-6)),\" \")","v":" "}]
[null,null,{"$f":"TRIM(C36)","v":"P Watt, 24"},null,null,{"$f":"TRIM(F36)","v":"B Bruce, 22"},null,null,{"$f":"TRIM(I36)","v":"C Louderback, 23"}]
[null,null,{"$f":"TRIM(C37)","v":""},null,null,{"$f":"TRIM(F37)","v":""},null,null,{"$f":"TRIM(I37)","v":""}]
[null,null,"",null,null,"",null,null,""]
[null,null,"",null,null,"",null,null,""]
[null,null,"",null,null,"",null,null,""]
[]
[]
[null,{"$f":"COUNTIF(C42:C46,\"?*\")","v":1},null,null,{"$f":"COUNTIF(F42:F46,\"?*\")","v":1},null,null,{"$f":"COUNTIF(I42:I46,\"?*\")","v":1}]

{"sheet":"game1 (26)","index":28,"n_rows":49,"n_cols":27,"rows_kept":49,"merged":[[0,6,0,11],[1,2,1,5],[1,7,1,9],[1,10,1,12],[32,2,32,17]]}
[]
[{"$f":"IF(AND(Roster!$D$1=VLOOKUP(C2,Roster!$L$5:$R$72,2,FALSE),Roster!$D$3=VLOOKUP(C2,Roster!$L$5:$R$72,4,FALSE)),\"R\",\"\")","v":""},"Opponent","Wyoming Indian",{"$nulls":4},"Date of Game",null,null,"2018-03-01",{"$nulls":12},{"$f":"IF(OR($H$4=1,$J$4=1),CONCATENATE($C$2,\": \",MONTH($K$2),\"/\",DAY($K$2),\"/\",YEAR($K$2)-2000, \" **\" ),CONCATENATE($C$2,\": \",MONTH($K$2),\"/\",DAY($K$2),\"/\",YEAR($K$2)-2000))","v":"Wyoming Indian: 3/1/18"},null,8]
[{"$nulls":6},"Win","Conf W","Loss","Conf L",null,"Forfeit W?",null,"Forfeit L?",{"$nulls":9},{"$f":"IF($C$4>$D$4,CONCATENATE(Roster!$B$1,\" \",$C$4,\", \",$C$2,\" \",$D$4, \" \",$E$4),CONCATENATE($C$2,\" \",$D$4,\", \",Roster!$B$1,\" \",$C$4,\" \", $E$4 ))","v":"Upton 67, Wyoming Indian 55 "}]
[null,"Score",67,55,null,null,{"$f":"IF(OR($L$4=1,$C$4>$D$4),1,\"\")","v":1},null,{"$f":"IF(OR($N$4=1,$C$4<$D$4),1,\"\")","v":""}]
[]
["#","PLAYER","GP","3FGM","3FGA","2FGM","2FGA","FTM","FTA","OFF REB","DEF REB","AST","STL","BLK","TO","FOUL","TL PTS","3FG %","2FG %","FT %","FG%","FGA","REB","Elig FG%","Elig FT%","Name2","FI,LastName,#"]
[{"$f":"IF(Roster!A7<>\"\",Roster!A7,\"\")","v":24},{"$f":"IF(OR(Roster!A7<>\"\",Roster!B7<>\"\"),PROPER(Roster!B7),\"\")","v":"Payton Watt"},1,3,9,5,9,3,4,1,5,2,1,null,3,1,{"$f":"IF(H7+2*F7+3*D7>0,H7+2*F7+3*D7,\"\")","v":22},{"$f":"IF(E7>0,D7/E7,\"\")","v":{"v":0.3333333333333333,"d":"33%"}},{"$f":"IF(G7>0,F7/G7,\"\")","v":{"v":0.5555555555555556,"d":"56%"}},{"$f":"IF(I7>0,H7/I7,\"\")","v":{"v":0.75,"d":"75%"}},{"$f":"IF(OR(E7>0,G7 >0),(D7+F7)/(E7+G7),\"\")","v":{"v":0.4444444444444444,"d":"44%"}},{"$f":"IF(E7+G7>0,E7+G7,\"\")","v":18},{"$f":"IF(J7+K7>0,J7+K7,\"\")","v":6},{"$f":"IF(V7>=$Z$2,U7,0)","v":{"v":0.4444444444444444,"d":"44%"}},{"$f":"IF(I7>=$Z$2,T7,0)","v":{"v":0,"d":"0%"}},{"$f":"B7","v":"Payton Watt"},{"$f":"IFERROR(IF(FIND(\" \",$B7,1),CONCATENATE(LEFT($B7,1),\" \",RIGHT($B7,LEN($B7)-FIND(\" \",$B7,1)),\", \",$A7),CONCATENATE($B7,\", \",$A7)),\"\")","v":"P Watt, 24"}]
[{"$f":"IF(Roster!A8<>\"\",Roster!A8,\"\")","v":20},{"$f":"IF(OR(Roster!A8<>\"\",Roster!B8<>\"\"),PROPER(Roster!B8),\"\")","v":"Dillon Barritt"},1,1,5,0,3,1,4,2,6,4,null,null,3,2,{"$f":"IF(H8+2*F8+3*D8>0,H8+2*F8+3*D8,\"\")","v":4},{"$f":"IF(E8>0,D8/E8,\"\")","v":{"v":0.2,"d":"20%"}},{"$f":"IF(G8>0,F8/G8,\"\")","v":{"v":0,"d":"0%"}},{"$f":"IF(I8>0,H8/I8,\"\")","v":{"v":0.25,"d":"25%"}},{"$f":"IF(OR(E8>0,G8 >0),(D8+F8)/(E8+G8),\"\")","v":{"v":0.125,"d":"13%"}},{"$f":"IF(E8+G8>0,E8+G8,\"\")","v":8},{"$f":"IF(J8+K8>0,J8+K8,\"\")","v":8},{"$f":"IF(V8>=$Z$2,U8,0)","v":{"v":0.125,"d":"13%"}},{"$f":"IF(I8>=$Z$2,T8,0)","v":{"v":0,"d":"0%"}},{"$f":"B8","v":"Dillon Barritt"},{"$f":"IFERROR(IF(FIND(\" \",$B8,1),CONCATENATE(LEFT($B8,1),\" \",RIGHT($B8,LEN($B8)-FIND(\" \",$B8,1)),\", \",$A8),CONCATENATE($B8,\", \",$A8)),\"\")","v":"D Barritt, 20"}]
[{"$f":"IF(Roster!A9<>\"\",Roster!A9,\"\")","v":14},{"$f":"IF(OR(Roster!A9<>\"\",Roster!B9<>\"\"),PROPER(Roster!B9),\"\")","v":"Dawson Butts"},1,null,null,1,1,0,3,1,2,null,3,null,1,2,2,"",{"v":1,"d":"100%"},{"v":0,"d":"0%"},{"v":1,"d":"100%"},1,3,{"v":0,"d":"0%"},{"v":0,"d":"0%"},"Dawson Butts","D Butts, 14"]
[{"$f":"IF(Roster!A10<>\"\",Roster!A10,\"\")","v":12},{"$f":"IF(OR(Roster!A10<>\"\",Roster!B10<>\"\"),PROPER(Roster!B10),\"\")","v":"Jayden Caylor"},1,null,null,0,2,2,2,null,2,1,1,null,null,1,2,"",{"v":0,"d":"0%"},{"v":1,"d":"100%"},{"v":0,"d":"0%"},2,2,{"v":0,"d":"0%"},{"v":0,"d":"0%"},"Jayden Caylor","J Caylor, 12"]
[{"$f":"IF(Roster!A11<>\"\",Roster!A11,\"\")","v":23},{"$f":"IF(OR(Roster!A11<>\"\",Roster!B11<>\"\"),PROPER(Roster!B11),\"\")","v":"Clayton Louderback"},1,1,2,10,13,5,6,4,10,2,2,1,4,4,28,{"v":0.5,"d":"50%"},{"v":0.7692307692307693,"d":"77%"},{"v":0.8333333333333334,"d":"83%"},{"v":0.7333333333333333,"d":"73%"},15,14,{"v":0.7333333333333333,"d":"73%"},{"v":0,"d":"0%"},"Clayton Louderback","C Louderback, 23"]
[{"$f":"IF(Roster!A12<>\"\",Roster!A12,\"\")","v":10},{"$f":"IF(OR(Roster!A12<>\"\",Roster!B12<>\"\"),PROPER(Roster!B12),\"\")","v":"Jess Claycomb"},1,null,null,1,2,5,6,1,2,4,1,null,null,4,7,"",{"v":0.5,"d":"50%"},{"v":0.8333333333333334,"d":"83%"},{"v":0.5,"d":"50%"},2,3,{"v":0,"d":"0%"},{"v":0,"d":"0%"},"Jess Claycomb","J Claycomb, 10"]
[{"$f":"IF(Roster!A13<>\"\",Roster!A13,\"\")","v":4},{"$f":"IF(OR(Roster!A13<>\"\",Roster!B13<>\"\"),PROPER(Roster!B13),\"\")","v":"Maxx Cowger"},{"$nulls":14},"","","","","","","","",{"v":0,"d":"0%"},"Maxx Cowger","M Cowger, 4"]
[{"$f":"IF(Roster!A14<>\"\",Roster!A14,\"\")","v":22},{"$f":"IF(OR(Roster!A14<>\"\",Roster!B14<>\"\"),PROPER(Roster!B14),\"\")","v":"Brayden Bruce"},1,null,null,1,1,{"$nulls":3},1,2,1,null,1,null,2,"",{"v":1,"d":"100%"},"",{"v":1,"d":"100%"},1,1,{"v":0,"d":"0%"},{"v":0,"d":"0%"},"Brayden Bruce","B Bruce, 22"]
[{"$f":"IF(Roster!A15<>\"\",Roster!A15,\"\")","v":30},{"$f":"IF(OR(Roster!A15<>\"\",Roster!B15<>\"\"),PROPER(Roster!B15),\"\")","v":"Jo Bishop"},{"$nulls":14},"","","","","","","","",{"v":0,"d":"0%"},"Jo Bishop","J Bishop, 30"]
[{"$f":"IF(Roster!A16<>\"\",Roster!A16,\"\")","v":33},{"$f":"IF(OR(Roster!A16<>\"\",Roster!B16<>\"\"),PROPER(Roster!B16),\"\")","v":"Nolan Turner"},{"$nulls":14},"","","","","","","","",{"v":0,"d":"0%"},"Nolan Turner","N Turner, 33"]
[{"$f":"IF(Roster!A17<>\"\",Roster!A17,\"\")","v":32},{"$f":"IF(OR(Roster!A17<>\"\",Roster!B17<>\"\"),PROPER(Roster!B17),\"\")","v":"Robert Crawford"},{"$nulls":14},"","","","","","","","",{"v":0,"d":"0%"},"Robert Crawford","R Crawford, 32"]
[{"$f":"IF(Roster!A18<>\"\",Roster!A18,\"\")","v":40},{"$f":"IF(OR(Roster!A18<>\"\",Roster!B18<>\"\"),PROPER(Roster!B18),\"\")","v":"Jace Bruce"},{"$nulls":14},"","","","","","","","",{"v":0,"d":"0%"},"Jace Bruce","J Bruce, 40"]
[{"$f":"IF(Roster!A19<>\"\",Roster!A19,\"\")","v":2},{"$f":"IF(OR(Roster!A19<>\"\",Roster!B19<>\"\"),PROPER(Roster!B19),\"\")","v":"Ethan Mills"},{"$nulls":14},"","","","","","","","",{"v":0,"d":"0%"},"Ethan Mills","E Mills, 2"]
[{"$f":"IF(Roster!A20<>\"\",Roster!A20,\"\")","v":2},{"$f":"IF(OR(Roster!A20<>\"\",Roster!B20<>\"\"),PROPER(Roster!B20),\"\")","v":"Bridger Alishouse"},{"$nulls":14},"","","","","","","","",{"v":0,"d":"0%"},"Bridger Alishouse","B Alishouse, 2"]
[{"$f":"IF(Roster!A21<>\"\",Roster!A21,\"\")","v":4},{"$f":"IF(OR(Roster!A21<>\"\",Roster!B21<>\"\"),PROPER(Roster!B21),\"\")","v":"Landon Keever"},{"$nulls":14},"","","","","","","","",{"v":0,"d":"0%"},"Landon Keever","L Keever, 4"]
[{"$f":"IF(Roster!A22<>\"\",Roster!A22,\"\")","v":4},{"$f":"IF(OR(Roster!A22<>\"\",Roster!B22<>\"\"),PROPER(Roster!B22),\"\")","v":"Dj Till"},{"$nulls":14},"","","","","","","","",{"v":0,"d":"0%"},"Dj Till","D Till, 4"]
[{"$f":"IF(Roster!A23<>\"\",Roster!A23,\"\")","v":""},{"$f":"IF(OR(Roster!A23<>\"\",Roster!B23<>\"\"),PROPER(Roster!B23),\"\")","v":""},{"$nulls":14},"","","","","","","","",{"v":0,"d":"0%"},"",""]
[{"$f":"IF(Roster!A24<>\"\",Roster!A24,\"\")","v":""},{"$f":"IF(OR(Roster!A24<>\"\",Roster!B24<>\"\"),PROPER(Roster!B24),\"\")","v":""},{"$nulls":14},"","","","","","","","",{"v":0,"d":"0%"},"",""]
[{"$f":"IF(Roster!A25<>\"\",Roster!A25,\"\")","v":""},{"$f":"IF(OR(Roster!A25<>\"\",Roster!B25<>\"\"),PROPER(Roster!B25),\"\")","v":""},{"$nulls":14},"","","","","","","","",{"v":0,"d":"0%"},"",""]
[{"$f":"IF(Roster!A26<>\"\",Roster!A26,\"\")","v":""},{"$f":"IF(OR(Roster!A26<>\"\",Roster!B26<>\"\"),PROPER(Roster!B26),\"\")","v":""},{"$nulls":14},"","","","","","","","",{"v":0,"d":"0%"},"",""]
[{"$f":"IF(Roster!A27<>\"\",Roster!A27,\"\")","v":""},{"$f":"IF(OR(Roster!A27<>\"\",Roster!B27<>\"\"),PROPER(Roster!B27),\"\")","v":""},{"$nulls":14},"","","","","","","","",{"v":0,"d":"0%"},"",""]
[{"$f":"IF(Roster!A28<>\"\",Roster!A28,\"\")","v":""},{"$f":"IF(OR(Roster!A28<>\"\",Roster!B28<>\"\"),PROPER(Roster!B28),\"\")","v":""},{"$nulls":14},"","","","","","","","",{"v":0,"d":"0%"},"",""]
[{"$f":"IF(Roster!A29<>\"\",Roster!A29,\"\")","v":""},{"$f":"IF(OR(Roster!A29<>\"\",Roster!B29<>\"\"),PROPER(Roster!B29),\"\")","v":""},{"$nulls":14},"","","","","","","","",{"v":0,"d":"0%"},"",""]
[{"$f":"IF(Roster!A30<>\"\",Roster!A30,\"\")","v":""},{"$f":"IF(OR(Roster!A30<>\"\",Roster!B30<>\"\"),PROPER(Roster!B30),\"\")","v":"Team"},1,{"$nulls":6},1,3,{"$nulls":5},"","","","","","",4,"",{"v":0,"d":"0%"},"Team",{"$f":"IFERROR(IF(FIND(\" \",$B30,1),CONCATENATE(LEFT($B30,1),\" \",RIGHT($B30,LEN($B30)-FIND(\" \",$B30,1)),\", \",$A30),CONCATENATE($B30,\", \",$A30)),\"\")","v":""}]
[null,"Team Totals",{"$f":"IF(COUNTA($C$7:$C$30)>0,1,\"\")","v":1},{"$f":"SUM(D7:D30)","v":5},{"$f":"SUM(E7:E30)","v":16},18,31,16,25,10,31,15,9,1,{"$f":"SUM(O7:O30)","v":12},{"$f":"SUM(P7:P30)","v":14},{"$f":"IF(H31+2*F31+3*D31>0,H31+2*F31+3*D31,IF(C4>0,C4,\"\"))","v":67},{"$f":"IF(E31>0,D31/E31,\"\")","v":{"v":0.3125,"d":"31%"}},{"$f":"IF(G31>0,F31/G31,\"\")","v":{"v":0.5806451612903226,"d":"58%"}},{"$f":"IF(I31>0,H31/I31,\"\")","v":{"v":0.64,"d":"64%"}},{"$f":"IF(OR(E31>0,G31 >0),(D31+F31)/(E31+G31),\"\")","v":{"v":0.48936170212765956,"d":"49%"}},{"$f":"IF(E31+G31>0,E31+G31,\"\")","v":47},{"$f":"IF(J31+K31>0,J31+K31,\"\")","v":41},{"v":0.48936170212765956,"d":"49%"},{"$f":"IF(I31>=$Z$2,T31,0)","v":{"v":0.64,"d":"64%"}}]
[null,"Opponent Totals",{"$f":"IF(SUM(D32:P32)>0,1,\"\")","v":1},6,23,14,29,9,17,6,19,6,7,1,13,22,{"$f":"IF(H32+2*F32+3*D32>0,H32+2*F32+3*D32,IF(D4>0,D4,\"\"))","v":55},{"$f":"IF(E32>0,D32/E32,\"\")","v":{"v":0.2608695652173913,"d":"26%"}},{"$f":"IF(G32>0,F32/G32,\"\")","v":{"v":0.4827586206896552,"d":"48%"}},{"$f":"IF(I32>0,H32/I32,\"\")","v":{"v":0.5294117647058824,"d":"53%"}},{"$f":"IF(OR(E32>0,G32 >0),(D32+F32)/(E32+G32),\"\")","v":{"v":0.38461538461538464,"d":"38%"}},{"$f":"IF(E32+G32>0,E32+G32,\"\")","v":52},{"$f":"IF(J32+K32>0,J32+K32,\"\")","v":25},{"v":0.38461538461538464,"d":"38%"},{"v":0.5294117647058824,"d":"53%"}]
[null,null,"Peak Performances"]
[]
[null,"Top Points","Player",null,"Top REB","Player",null,"Top AST","Player"]
[null,{"$f":"MAX(Q$7:Q$30)","v":28},{"$f":"IFERROR(INDEX($AA$7:$AA$30,SMALL(IF(Q$7:Q$30=$B$36,ROW(Q$7:Q$30)-6),ROW(Q7)-6)),\" \")","v":"C Louderback, 23"},null,{"$f":"MAX(W$7:W$30)","v":14},{"$f":"IFERROR(INDEX($AA$7:$AA$30,SMALL(IF(W$7:W$30=$E$36,ROW(W$7:W$30)-6),ROW(W7)-6)),\" \")","v":"C Louderback, 23"},null,{"$f":"MAX(L$7:L$30)","v":4},{"$f":"IFERROR(INDEX($AA$7:$AA$30,SMALL(IF(L$7:L$30=$H$36,ROW(L$7:L$30)-6),ROW(L7)-6)),\" \")","v":"D Barritt, 20"}]
[null,null,{"$f":"IFERROR(INDEX($AA$7:$AA$30,SMALL(IF(Q$7:Q$30=$B$36,ROW(Q$7:Q$30)-6),ROW(Q8)-6)),\" \")","v":" "},null,null,{"$f":"IFERROR(INDEX($AA$7:$AA$30,SMALL(IF(W$7:W$30=$E$36,ROW(W$7:W$30)-6),ROW(W8)-6)),\" \")","v":" "},null,null,{"$f":"IFERROR(INDEX($AA$7:$AA$30,SMALL(IF(L$7:L$30=$H$36,ROW(L$7:L$30)-6),ROW(L8)-6)),\" \")","v":"J Claycomb, 10"}]
[null,null,{"$f":"IFERROR(INDEX($AA$7:$AA$30,SMALL(IF(Q$7:Q$30=$B$36,ROW(Q$7:Q$30)-6),ROW(Q9)-6)),\" \")","v":" "},null,null,{"$f":"IFERROR(INDEX($AA$7:$AA$30,SMALL(IF(W$7:W$30=$E$36,ROW(W$7:W$30)-6),ROW(W9)-6)),\" \")","v":" "},null,null,{"$f":"IFERROR(INDEX($AA$7:$AA$30,SMALL(IF(L$7:L$30=$H$36,ROW(L$7:L$30)-6),ROW(L9)-6)),\" \")","v":" "}]
[null,null,{"$f":"IFERROR(INDEX($AA$7:$AA$30,SMALL(IF(Q$7:Q$30=$B$36,ROW(Q$7:Q$30)-6),ROW(Q10)-6)),\" \")","v":" "},null,null,{"$f":"IFERROR(INDEX($AA$7:$AA$30,SMALL(IF(W$7:W$30=$E$36,ROW(W$7:W$30)-6),ROW(W10)-6)),\" \")","v":" "},null,null,{"$f":"IFERROR(INDEX($AA$7:$AA$30,SMALL(IF(L$7:L$30=$H$36,ROW(L$7:L$30)-6),ROW(L10)-6)),\" \")","v":" "}]
[null,null,{"$f":"IFERROR(INDEX($AA$7:$AA$30,SMALL(IF(Q$7:Q$30=$B$36,ROW(Q$7:Q$30)-6),ROW(Q11)-6)),\" \")","v":" "},null,null,{"$f":"IFERROR(INDEX($AA$7:$AA$30,SMALL(IF(W$7:W$30=$E$36,ROW(W$7:W$30)-6),ROW(W11)-6)),\" \")","v":" "},null,null,{"$f":"IFERROR(INDEX($AA$7:$AA$30,SMALL(IF(L$7:L$30=$H$36,ROW(L$7:L$30)-6),ROW(L11)-6)),\" \")","v":" "}]
[null,null,{"$f":"IFERROR(INDEX($B12:B$30,SMALL(IF(Q$7:Q$30=$B$36,ROW(Q$7:Q$30)-6),ROW(Q12)-6)),\" \")","v":" "}]
[null,null,{"$f":"TRIM(C36)","v":"C Louderback, 23"},null,null,{"$f":"TRIM(F36)","v":"C Louderback, 23"},null,null,{"$f":"TRIM(I36)","v":"D Barritt, 20"}]
[null,null,{"$f":"TRIM(C37)","v":""},null,null,{"$f":"TRIM(F37)","v":""},null,null,{"$f":"TRIM(I37)","v":"J Claycomb, 10"}]
[null,null,"",null,null,"",null,null,""]
[null,null,"",null,null,"",null,null,""]
[null,null,"",null,null,"",null,null,""]
[]
[]
[null,{"$f":"COUNTIF(C42:C46,\"?*\")","v":1},null,null,{"$f":"COUNTIF(F42:F46,\"?*\")","v":1},null,null,{"$f":"COUNTIF(I42:I46,\"?*\")","v":2}]

{"sheet":"game1 (27)","index":29,"n_rows":49,"n_cols":27,"rows_kept":49,"merged":[[0,6,0,11],[1,2,1,5],[1,7,1,9],[1,10,1,12],[32,2,32,17]]}
[]
[{"$f":"IF(AND(Roster!$D$1=VLOOKUP(C2,Roster!$L$5:$R$72,2,FALSE),Roster!$D$3=VLOOKUP(C2,Roster!$L$5:$R$72,4,FALSE)),\"R\",\"\")","v":{"$error":"#N/A"}},"Opponent","Pine Bluffs  ",{"$nulls":4},"Date of Game",null,null,"2018-03-02",{"$nulls":12},{"$f":"IF(OR($H$4=1,$J$4=1),CONCATENATE($C$2,\": \",MONTH($K$2),\"/\",DAY($K$2),\"/\",YEAR($K$2)-2000, \" **\" ),CONCATENATE($C$2,\": \",MONTH($K$2),\"/\",DAY($K$2),\"/\",YEAR($K$2)-2000))","v":"Pine Bluffs  : 3/2/18"},null,8]
[{"$nulls":6},"Win","Conf W","Loss","Conf L",null,"Forfeit W?",null,"Forfeit L?",{"$nulls":9},{"$f":"IF($C$4>$D$4,CONCATENATE(Roster!$B$1,\" \",$C$4,\", \",$C$2,\" \",$D$4, \" \",$E$4),CONCATENATE($C$2,\" \",$D$4,\", \",Roster!$B$1,\" \",$C$4,\" \", $E$4 ))","v":"Pine Bluffs   60, Upton 49 "}]
[null,"Score",49,60,null,null,{"$f":"IF(OR($L$4=1,$C$4>$D$4),1,\"\")","v":""},null,{"$f":"IF(OR($N$4=1,$C$4<$D$4),1,\"\")","v":1}]
[]
["#","PLAYER","GP","3FGM","3FGA","2FGM","2FGA","FTM","FTA","OFF REB","DEF REB","AST","STL","BLK","TO","FOUL","TL PTS","3FG %","2FG %","FT %","FG%","FGA","REB","Elig FG%","Elig FT%","Name2","FI,LastName,#"]
[{"$f":"IF(Roster!A7<>\"\",Roster!A7,\"\")","v":24},{"$f":"IF(OR(Roster!A7<>\"\",Roster!B7<>\"\"),PROPER(Roster!B7),\"\")","v":"Payton Watt"},1,2,4,5,10,2,2,4,4,1,1,null,4,4,{"$f":"IF(H7+2*F7+3*D7>0,H7+2*F7+3*D7,\"\")","v":18},{"$f":"IF(E7>0,D7/E7,\"\")","v":{"v":0.5,"d":"50%"}},{"$f":"IF(G7>0,F7/G7,\"\")","v":{"v":0.5,"d":"50%"}},{"$f":"IF(I7>0,H7/I7,\"\")","v":{"v":1,"d":"100%"}},{"$f":"IF(OR(E7>0,G7 >0),(D7+F7)/(E7+G7),\"\")","v":{"v":0.5,"d":"50%"}},{"$f":"IF(E7+G7>0,E7+G7,\"\")","v":14},{"$f":"IF(J7+K7>0,J7+K7,\"\")","v":8},{"$f":"IF(V7>=$Z$2,U7,0)","v":{"v":0.5,"d":"50%"}},{"$f":"IF(I7>=$Z$2,T7,0)","v":{"v":0,"d":"0%"}},{"$f":"B7","v":"Payton Watt"},{"$f":"IFERROR(IF(FIND(\" \",$B7,1),CONCATENATE(LEFT($B7,1),\" \",RIGHT($B7,LEN($B7)-FIND(\" \",$B7,1)),\", \",$A7),CONCATENATE($B7,\", \",$A7)),\"\")","v":"P Watt, 24"}]
[{"$f":"IF(Roster!A8<>\"\",Roster!A8,\"\")","v":20},{"$f":"IF(OR(Roster!A8<>\"\",Roster!B8<>\"\"),PROPER(Roster!B8),\"\")","v":"Dillon Barritt"},1,3,7,0,3,null,null,1,5,null,1,null,2,1,{"$f":"IF(H8+2*F8+3*D8>0,H8+2*F8+3*D8,\"\")","v":9},{"$f":"IF(E8>0,D8/E8,\"\")","v":{"v":0.42857142857142855,"d":"43%"}},{"$f":"IF(G8>0,F8/G8,\"\")","v":{"v":0,"d":"0%"}},{"$f":"IF(I8>0,H8/I8,\"\")","v":""},{"$f":"IF(OR(E8>0,G8 >0),(D8+F8)/(E8+G8),\"\")","v":{"v":0.3,"d":"30%"}},{"$f":"IF(E8+G8>0,E8+G8,\"\")","v":10},{"$f":"IF(J8+K8>0,J8+K8,\"\")","v":6},{"$f":"IF(V8>=$Z$2,U8,0)","v":{"v":0.3,"d":"30%"}},{"$f":"IF(I8>=$Z$2,T8,0)","v":{"v":0,"d":"0%"}},{"$f":"B8","v":"Dillon Barritt"},{"$f":"IFERROR(IF(FIND(\" \",$B8,1),CONCATENATE(LEFT($B8,1),\" \",RIGHT($B8,LEN($B8)-FIND(\" \",$B8,1)),\", \",$A8),CONCATENATE($B8,\", \",$A8)),\"\")","v":"D Barritt, 20"}]
[{"$f":"IF(Roster!A9<>\"\",Roster!A9,\"\")","v":14},{"$f":"IF(OR(Roster!A9<>\"\",Roster!B9<>\"\"),PROPER(Roster!B9),\"\")","v":"Dawson Butts"},1,null,null,1,2,1,1,1,1,1,null,null,1,2,3,"",{"v":0.5,"d":"50%"},{"v":1,"d":"100%"},{"v":0.5,"d":"50%"},2,2,{"v":0,"d":"0%"},{"v":0,"d":"0%"},"Dawson Butts","D Butts, 14"]
[{"$f":"IF(Roster!A10<>\"\",Roster!A10,\"\")","v":12},{"$f":"IF(OR(Roster!A10<>\"\",Roster!B10<>\"\"),PROPER(Roster!B10),\"\")","v":"Jayden Caylor"},1,0,2,1,2,0,1,null,3,2,1,null,1,4,2,{"v":0,"d":"0%"},{"v":0.5,"d":"50%"},{"v":0,"d":"0%"},{"v":0.25,"d":"25%"},4,3,{"v":0,"d":"0%"},{"v":0,"d":"0%"},"Jayden Caylor","J Caylor, 12"]
[{"$f":"IF(Roster!A11<>\"\",Roster!A11,\"\")","v":23},{"$f":"IF(OR(Roster!A11<>\"\",Roster!B11<>\"\"),PROPER(Roster!B11),\"\")","v":"Clayton Louderback"},1,0,2,5,15,3,4,1,6,2,1,null,4,4,13,{"v":0,"d":"0%"},{"v":0.3333333333333333,"d":"33%"},{"v":0.75,"d":"75%"},{"v":0.29411764705882354,"d":"29%"},17,7,{"v":0.29411764705882354,"d":"29%"},{"v":0,"d":"0%"},"Clayton Louderback","C Louderback, 23"]
[{"$f":"IF(Roster!A12<>\"\",Roster!A12,\"\")","v":10},{"$f":"IF(OR(Roster!A12<>\"\",Roster!B12<>\"\"),PROPER(Roster!B12),\"\")","v":"Jess Claycomb"},1,0,1,2,2,{"$nulls":3},1,1,1,null,1,3,4,{"v":0,"d":"0%"},{"v":1,"d":"100%"},"",{"v":0.6666666666666666,"d":"67%"},3,1,{"v":0,"d":"0%"},{"v":0,"d":"0%"},"Jess Claycomb","J Claycomb, 10"]
[{"$f":"IF(Roster!A13<>\"\",Roster!A13,\"\")","v":4},{"$f":"IF(OR(Roster!A13<>\"\",Roster!B13<>\"\"),PROPER(Roster!B13),\"\")","v":"Maxx Cowger"},{"$nulls":14},"","","","","","","","",{"v":0,"d":"0%"},"Maxx Cowger","M Cowger, 4"]
[{"$f":"IF(Roster!A14<>\"\",Roster!A14,\"\")","v":22},{"$f":"IF(OR(Roster!A14<>\"\",Roster!B14<>\"\"),PROPER(Roster!B14),\"\")","v":"Brayden Bruce"},1,null,null,0,2,null,null,1,1,2,null,null,2,null,"","",{"v":0,"d":"0%"},"",{"v":0,"d":"0%"},2,2,{"v":0,"d":"0%"},{"v":0,"d":"0%"},"Brayden Bruce","B Bruce, 22"]
[{"$f":"IF(Roster!A15<>\"\",Roster!A15,\"\")","v":30},{"$f":"IF(OR(Roster!A15<>\"\",Roster!B15<>\"\"),PROPER(Roster!B15),\"\")","v":"Jo Bishop"},{"$nulls":14},"","","","","","","","",{"v":0,"d":"0%"},"Jo Bishop","J Bishop, 30"]
[{"$f":"IF(Roster!A16<>\"\",Roster!A16,\"\")","v":33},{"$f":"IF(OR(Roster!A16<>\"\",Roster!B16<>\"\"),PROPER(Roster!B16),\"\")","v":"Nolan Turner"},{"$nulls":14},"","","","","","","","",{"v":0,"d":"0%"},"Nolan Turner","N Turner, 33"]
[{"$f":"IF(Roster!A17<>\"\",Roster!A17,\"\")","v":32},{"$f":"IF(OR(Roster!A17<>\"\",Roster!B17<>\"\"),PROPER(Roster!B17),\"\")","v":"Robert Crawford"},{"$nulls":14},"","","","","","","","",{"v":0,"d":"0%"},"Robert Crawford","R Crawford, 32"]
[{"$f":"IF(Roster!A18<>\"\",Roster!A18,\"\")","v":40},{"$f":"IF(OR(Roster!A18<>\"\",Roster!B18<>\"\"),PROPER(Roster!B18),\"\")","v":"Jace Bruce"},{"$nulls":14},"","","","","","","","",{"v":0,"d":"0%"},"Jace Bruce","J Bruce, 40"]
[{"$f":"IF(Roster!A19<>\"\",Roster!A19,\"\")","v":2},{"$f":"IF(OR(Roster!A19<>\"\",Roster!B19<>\"\"),PROPER(Roster!B19),\"\")","v":"Ethan Mills"},{"$nulls":14},"","","","","","","","",{"v":0,"d":"0%"},"Ethan Mills","E Mills, 2"]
[{"$f":"IF(Roster!A20<>\"\",Roster!A20,\"\")","v":2},{"$f":"IF(OR(Roster!A20<>\"\",Roster!B20<>\"\"),PROPER(Roster!B20),\"\")","v":"Bridger Alishouse"},{"$nulls":14},"","","","","","","","",{"v":0,"d":"0%"},"Bridger Alishouse","B Alishouse, 2"]
[{"$f":"IF(Roster!A21<>\"\",Roster!A21,\"\")","v":4},{"$f":"IF(OR(Roster!A21<>\"\",Roster!B21<>\"\"),PROPER(Roster!B21),\"\")","v":"Landon Keever"},{"$nulls":14},"","","","","","","","",{"v":0,"d":"0%"},"Landon Keever","L Keever, 4"]
[{"$f":"IF(Roster!A22<>\"\",Roster!A22,\"\")","v":4},{"$f":"IF(OR(Roster!A22<>\"\",Roster!B22<>\"\"),PROPER(Roster!B22),\"\")","v":"Dj Till"},{"$nulls":14},"","","","","","","","",{"v":0,"d":"0%"},"Dj Till","D Till, 4"]
[{"$f":"IF(Roster!A23<>\"\",Roster!A23,\"\")","v":""},{"$f":"IF(OR(Roster!A23<>\"\",Roster!B23<>\"\"),PROPER(Roster!B23),\"\")","v":""},{"$nulls":14},"","","","","","","","",{"v":0,"d":"0%"},"",""]
[{"$f":"IF(Roster!A24<>\"\",Roster!A24,\"\")","v":""},{"$f":"IF(OR(Roster!A24<>\"\",Roster!B24<>\"\"),PROPER(Roster!B24),\"\")","v":""},{"$nulls":14},"","","","","","","","",{"v":0,"d":"0%"},"",""]
[{"$f":"IF(Roster!A25<>\"\",Roster!A25,\"\")","v":""},{"$f":"IF(OR(Roster!A25<>\"\",Roster!B25<>\"\"),PROPER(Roster!B25),\"\")","v":""},{"$nulls":14},"","","","","","","","",{"v":0,"d":"0%"},"",""]
[{"$f":"IF(Roster!A26<>\"\",Roster!A26,\"\")","v":""},{"$f":"IF(OR(Roster!A26<>\"\",Roster!B26<>\"\"),PROPER(Roster!B26),\"\")","v":""},{"$nulls":14},"","","","","","","","",{"v":0,"d":"0%"},"",""]
[{"$f":"IF(Roster!A27<>\"\",Roster!A27,\"\")","v":""},{"$f":"IF(OR(Roster!A27<>\"\",Roster!B27<>\"\"),PROPER(Roster!B27),\"\")","v":""},{"$nulls":14},"","","","","","","","",{"v":0,"d":"0%"},"",""]
[{"$f":"IF(Roster!A28<>\"\",Roster!A28,\"\")","v":""},{"$f":"IF(OR(Roster!A28<>\"\",Roster!B28<>\"\"),PROPER(Roster!B28),\"\")","v":""},{"$nulls":14},"","","","","","","","",{"v":0,"d":"0%"},"",""]
[{"$f":"IF(Roster!A29<>\"\",Roster!A29,\"\")","v":""},{"$f":"IF(OR(Roster!A29<>\"\",Roster!B29<>\"\"),PROPER(Roster!B29),\"\")","v":""},{"$nulls":14},"","","","","","","","",{"v":0,"d":"0%"},"",""]
[{"$f":"IF(Roster!A30<>\"\",Roster!A30,\"\")","v":""},{"$f":"IF(OR(Roster!A30<>\"\",Roster!B30<>\"\"),PROPER(Roster!B30),\"\")","v":"Team"},1,{"$nulls":13},"","","","","","","","",{"v":0,"d":"0%"},"Team",{"$f":"IFERROR(IF(FIND(\" \",$B30,1),CONCATENATE(LEFT($B30,1),\" \",RIGHT($B30,LEN($B30)-FIND(\" \",$B30,1)),\", \",$A30),CONCATENATE($B30,\", \",$A30)),\"\")","v":""}]
[null,"Team Totals",{"$f":"IF(COUNTA($C$7:$C$30)>0,1,\"\")","v":1},{"$f":"SUM(D7:D30)","v":5},{"$f":"SUM(E7:E30)","v":16},14,36,6,8,8,21,9,5,0,{"$f":"SUM(O7:O30)","v":15},{"$f":"SUM(P7:P30)","v":18},{"$f":"IF(H31+2*F31+3*D31>0,H31+2*F31+3*D31,IF(C4>0,C4,\"\"))","v":49},{"$f":"IF(E31>0,D31/E31,\"\")","v":{"v":0.3125,"d":"31%"}},{"$f":"IF(G31>0,F31/G31,\"\")","v":{"v":0.3888888888888889,"d":"39%"}},{"$f":"IF(I31>0,H31/I31,\"\")","v":{"v":0.75,"d":"75%"}},{"$f":"IF(OR(E31>0,G31 >0),(D31+F31)/(E31+G31),\"\")","v":{"v":0.36538461538461536,"d":"37%"}},{"$f":"IF(E31+G31>0,E31+G31,\"\")","v":52},{"$f":"IF(J31+K31>0,J31+K31,\"\")","v":29},{"v":0.36538461538461536,"d":"37%"},{"$f":"IF(I31>=$Z$2,T31,0)","v":{"v":0.75,"d":"75%"}}]
[null,"Opponent Totals",{"$f":"IF(SUM(D32:P32)>0,1,\"\")","v":1},3,12,22,40,7,12,7,24,1,8,1,11,15,{"$f":"IF(H32+2*F32+3*D32>0,H32+2*F32+3*D32,IF(D4>0,D4,\"\"))","v":60},{"$f":"IF(E32>0,D32/E32,\"\")","v":{"v":0.25,"d":"25%"}},{"$f":"IF(G32>0,F32/G32,\"\")","v":{"v":0.55,"d":"55%"}},{"$f":"IF(I32>0,H32/I32,\"\")","v":{"v":0.5833333333333334,"d":"58%"}},{"$f":"IF(OR(E32>0,G32 >0),(D32+F32)/(E32+G32),\"\")","v":{"v":0.4807692307692308,"d":"48%"}},{"$f":"IF(E32+G32>0,E32+G32,\"\")","v":52},{"$f":"IF(J32+K32>0,J32+K32,\"\")","v":31},{"v":0.4807692307692308,"d":"48%"},{"v":0.5833333333333334,"d":"58%"}]
[null,null,"Peak Performances"]
[]
[null,"Top Points","Player",null,"Top REB","Player",null,"Top AST","Player"]
[null,{"$f":"MAX(Q$7:Q$30)","v":18},{"$f":"IFERROR(INDEX($AA$7:$AA$30,SMALL(IF(Q$7:Q$30=$B$36,ROW(Q$7:Q$30)-6),ROW(Q7)-6)),\" \")","v":"P Watt, 24"},null,{"$f":"MAX(W$7:W$30)","v":8},{"$f":"IFERROR(INDEX($AA$7:$AA$30,SMALL(IF(W$7:W$30=$E$36,ROW(W$7:W$30)-6),ROW(W7)-6)),\" \")","v":"P Watt, 24"},null,{"$f":"MAX(L$7:L$30)","v":2},{"$f":"IFERROR(INDEX($AA$7:$AA$30,SMALL(IF(L$7:L$30=$H$36,ROW(L$7:L$30)-6),ROW(L7)-6)),\" \")","v":"J Caylor, 12"}]
[null,null,{"$f":"IFERROR(INDEX($AA$7:$AA$30,SMALL(IF(Q$7:Q$30=$B$36,ROW(Q$7:Q$30)-6),ROW(Q8)-6)),\" \")","v":" "},null,null,{"$f":"IFERROR(INDEX($AA$7:$AA$30,SMALL(IF(W$7:W$30=$E$36,ROW(W$7:W$30)-6),ROW(W8)-6)),\" \")","v":" "},null,null,{"$f":"IFERROR(INDEX($AA$7:$AA$30,SMALL(IF(L$7:L$30=$H$36,ROW(L$7:L$30)-6),ROW(L8)-6)),\" \")","v":"C Louderback, 23"}]
[null,null,{"$f":"IFERROR(INDEX($AA$7:$AA$30,SMALL(IF(Q$7:Q$30=$B$36,ROW(Q$7:Q$30)-6),ROW(Q9)-6)),\" \")","v":" "},null,null,{"$f":"IFERROR(INDEX($AA$7:$AA$30,SMALL(IF(W$7:W$30=$E$36,ROW(W$7:W$30)-6),ROW(W9)-6)),\" \")","v":" "},null,null,{"$f":"IFERROR(INDEX($AA$7:$AA$30,SMALL(IF(L$7:L$30=$H$36,ROW(L$7:L$30)-6),ROW(L9)-6)),\" \")","v":"B Bruce, 22"}]
[null,null,{"$f":"IFERROR(INDEX($AA$7:$AA$30,SMALL(IF(Q$7:Q$30=$B$36,ROW(Q$7:Q$30)-6),ROW(Q10)-6)),\" \")","v":" "},null,null,{"$f":"IFERROR(INDEX($AA$7:$AA$30,SMALL(IF(W$7:W$30=$E$36,ROW(W$7:W$30)-6),ROW(W10)-6)),\" \")","v":" "},null,null,{"$f":"IFERROR(INDEX($AA$7:$AA$30,SMALL(IF(L$7:L$30=$H$36,ROW(L$7:L$30)-6),ROW(L10)-6)),\" \")","v":" "}]
[null,null,{"$f":"IFERROR(INDEX($AA$7:$AA$30,SMALL(IF(Q$7:Q$30=$B$36,ROW(Q$7:Q$30)-6),ROW(Q11)-6)),\" \")","v":" "},null,null,{"$f":"IFERROR(INDEX($AA$7:$AA$30,SMALL(IF(W$7:W$30=$E$36,ROW(W$7:W$30)-6),ROW(W11)-6)),\" \")","v":" "},null,null,{"$f":"IFERROR(INDEX($AA$7:$AA$30,SMALL(IF(L$7:L$30=$H$36,ROW(L$7:L$30)-6),ROW(L11)-6)),\" \")","v":" "}]
[null,null,{"$f":"IFERROR(INDEX($B12:B$30,SMALL(IF(Q$7:Q$30=$B$36,ROW(Q$7:Q$30)-6),ROW(Q12)-6)),\" \")","v":" "}]
[null,null,{"$f":"TRIM(C36)","v":"P Watt, 24"},null,null,{"$f":"TRIM(F36)","v":"P Watt, 24"},null,null,{"$f":"TRIM(I36)","v":"J Caylor, 12"}]
[null,null,{"$f":"TRIM(C37)","v":""},null,null,{"$f":"TRIM(F37)","v":""},null,null,{"$f":"TRIM(I37)","v":"C Louderback, 23"}]
[null,null,"",null,null,"",null,null,"B Bruce, 22"]
[null,null,"",null,null,"",null,null,""]
[null,null,"",null,null,"",null,null,""]
[]
[]
[null,{"$f":"COUNTIF(C42:C46,\"?*\")","v":1},null,null,{"$f":"COUNTIF(F42:F46,\"?*\")","v":1},null,null,{"$f":"COUNTIF(I42:I46,\"?*\")","v":3}]

{"sheet":"game1 (28)","index":30,"n_rows":49,"n_cols":27,"rows_kept":49,"merged":[[0,6,0,11],[1,2,1,5],[1,7,1,9],[1,10,1,12],[32,2,32,17]]}
[]
[{"$f":"IF(AND(Roster!$D$1=VLOOKUP(C2,Roster!$L$5:$R$72,2,FALSE),Roster!$D$3=VLOOKUP(C2,Roster!$L$5:$R$72,4,FALSE)),\"R\",\"\")","v":""},"Opponent","Rocky Mountain",{"$nulls":4},"Date of Game",null,null,"2018-03-03",{"$nulls":12},{"$f":"IF(OR($H$4=1,$J$4=1),CONCATENATE($C$2,\": \",MONTH($K$2),\"/\",DAY($K$2),\"/\",YEAR($K$2)-2000, \" **\" ),CONCATENATE($C$2,\": \",MONTH($K$2),\"/\",DAY($K$2),\"/\",YEAR($K$2)-2000))","v":"Rocky Mountain: 3/3/18"},null,8]
[{"$nulls":6},"Win","Conf W","Loss","Conf L",null,"Forfeit W?",null,"Forfeit L?",{"$nulls":9},{"$f":"IF($C$4>$D$4,CONCATENATE(Roster!$B$1,\" \",$C$4,\", \",$C$2,\" \",$D$4, \" \",$E$4),CONCATENATE($C$2,\" \",$D$4,\", \",Roster!$B$1,\" \",$C$4,\" \", $E$4 ))","v":"Rocky Mountain 60, Upton 56 "}]
[null,"Score",56,60,null,null,{"$f":"IF(OR($L$4=1,$C$4>$D$4),1,\"\")","v":""},null,{"$f":"IF(OR($N$4=1,$C$4<$D$4),1,\"\")","v":1}]
[]
["#","PLAYER","GP","3FGM","3FGA","2FGM","2FGA","FTM","FTA","OFF REB","DEF REB","AST","STL","BLK","TO","FOUL","TL PTS","3FG %","2FG %","FT %","FG%","FGA","REB","Elig FG%","Elig FT%","Name2","FI,LastName,#"]
[{"$f":"IF(Roster!A7<>\"\",Roster!A7,\"\")","v":24},{"$f":"IF(OR(Roster!A7<>\"\",Roster!B7<>\"\"),PROPER(Roster!B7),\"\")","v":"Payton Watt"},1,3,11,6,10,2,3,1,4,2,1,1,3,3,{"$f":"IF(H7+2*F7+3*D7>0,H7+2*F7+3*D7,\"\")","v":23},{"$f":"IF(E7>0,D7/E7,\"\")","v":{"v":0.2727272727272727,"d":"27%"}},{"$f":"IF(G7>0,F7/G7,\"\")","v":{"v":0.6,"d":"60%"}},{"$f":"IF(I7>0,H7/I7,\"\")","v":{"v":0.6666666666666666,"d":"67%"}},{"$f":"IF(OR(E7>0,G7 >0),(D7+F7)/(E7+G7),\"\")","v":{"v":0.42857142857142855,"d":"43%"}},{"$f":"IF(E7+G7>0,E7+G7,\"\")","v":21},{"$f":"IF(J7+K7>0,J7+K7,\"\")","v":5},{"$f":"IF(V7>=$Z$2,U7,0)","v":{"v":0.42857142857142855,"d":"43%"}},{"$f":"IF(I7>=$Z$2,T7,0)","v":{"v":0,"d":"0%"}},{"$f":"B7","v":"Payton Watt"},{"$f":"IFERROR(IF(FIND(\" \",$B7,1),CONCATENATE(LEFT($B7,1),\" \",RIGHT($B7,LEN($B7)-FIND(\" \",$B7,1)),\", \",$A7),CONCATENATE($B7,\", \",$A7)),\"\")","v":"P Watt, 24"}]
[{"$f":"IF(Roster!A8<>\"\",Roster!A8,\"\")","v":20},{"$f":"IF(OR(Roster!A8<>\"\",Roster!B8<>\"\"),PROPER(Roster!B8),\"\")","v":"Dillon Barritt"},1,3,10,null,null,5,6,1,1,1,3,null,4,1,{"$f":"IF(H8+2*F8+3*D8>0,H8+2*F8+3*D8,\"\")","v":14},{"$f":"IF(E8>0,D8/E8,\"\")","v":{"v":0.3,"d":"30%"}},{"$f":"IF(G8>0,F8/G8,\"\")","v":""},{"$f":"IF(I8>0,H8/I8,\"\")","v":{"v":0.8333333333333334,"d":"83%"}},{"$f":"IF(OR(E8>0,G8 >0),(D8+F8)/(E8+G8),\"\")","v":{"v":0.3,"d":"30%"}},{"$f":"IF(E8+G8>0,E8+G8,\"\")","v":10},{"$f":"IF(J8+K8>0,J8+K8,\"\")","v":2},{"$f":"IF(V8>=$Z$2,U8,0)","v":{"v":0.3,"d":"30%"}},{"$f":"IF(I8>=$Z$2,T8,0)","v":{"v":0,"d":"0%"}},{"$f":"B8","v":"Dillon Barritt"},{"$f":"IFERROR(IF(FIND(\" \",$B8,1),CONCATENATE(LEFT($B8,1),\" \",RIGHT($B8,LEN($B8)-FIND(\" \",$B8,1)),\", \",$A8),CONCATENATE($B8,\", \",$A8)),\"\")","v":"D Barritt, 20"}]
[{"$f":"IF(Roster!A9<>\"\",Roster!A9,\"\")","v":14},{"$f":"IF(OR(Roster!A9<>\"\",Roster!B9<>\"\"),PROPER(Roster!B9),\"\")","v":"Dawson Butts"},1,0,1,1,3,null,null,3,null,2,1,null,null,4,2,{"v":0,"d":"0%"},{"v":0.3333333333333333,"d":"33%"},"",{"v":0.25,"d":"25%"},4,3,{"v":0,"d":"0%"},{"v":0,"d":"0%"},"Dawson Butts","D Butts, 14"]
[{"$f":"IF(Roster!A10<>\"\",Roster!A10,\"\")","v":12},{"$f":"IF(OR(Roster!A10<>\"\",Roster!B10<>\"\"),PROPER(Roster!B10),\"\")","v":"Jayden Caylor"},1,0,1,0,2,1,2,5,2,2,3,null,4,5,1,{"v":0,"d":"0%"},{"v":0,"d":"0%"},{"v":0.5,"d":"50%"},{"v":0,"d":"0%"},3,7,{"v":0,"d":"0%"},{"v":0,"d":"0%"},"Jayden Caylor","J Caylor, 12"]
[{"$f":"IF(Roster!A11<>\"\",Roster!A11,\"\")","v":23},{"$f":"IF(OR(Roster!A11<>\"\",Roster!B11<>\"\"),PROPER(Roster!B11),\"\")","v":"Clayton Louderback"},1,0,4,6,13,2,8,4,6,2,3,null,5,2,14,{"v":0,"d":"0%"},{"v":0.46153846153846156,"d":"46%"},{"v":0.25,"d":"25%"},{"v":0.35294117647058826,"d":"35%"},17,10,{"v":0.35294117647058826,"d":"35%"},{"v":0.25,"d":"25%"},"Clayton Louderback","C Louderback, 23"]
[{"$f":"IF(Roster!A12<>\"\",Roster!A12,\"\")","v":10},{"$f":"IF(OR(Roster!A12<>\"\",Roster!B12<>\"\"),PROPER(Roster!B12),\"\")","v":"Jess Claycomb"},1,0,1,null,null,2,2,2,null,null,1,null,null,2,2,{"v":0,"d":"0%"},"",{"v":1,"d":"100%"},{"v":0,"d":"0%"},1,2,{"v":0,"d":"0%"},{"v":0,"d":"0%"},"Jess Claycomb","J Claycomb, 10"]
[{"$f":"IF(Roster!A13<>\"\",Roster!A13,\"\")","v":4},{"$f":"IF(OR(Roster!A13<>\"\",Roster!B13<>\"\"),PROPER(Roster!B13),\"\")","v":"Maxx Cowger"},{"$nulls":14},"","","","","","","","",{"v":0,"d":"0%"},"Maxx Cowger","M Cowger, 4"]
[{"$f":"IF(Roster!A14<>\"\",Roster!A14,\"\")","v":22},{"$f":"IF(OR(Roster!A14<>\"\",Roster!B14<>\"\"),PROPER(Roster!B14),\"\")","v":"Brayden Bruce"},1,0,1,0,1,0,2,null,null,3,2,null,3,null,"",{"v":0,"d":"0%"},{"v":0,"d":"0%"},{"v":0,"d":"0%"},{"v":0,"d":"0%"},2,"",{"v":0,"d":"0%"},{"v":0,"d":"0%"},"Brayden Bruce","B Bruce, 22"]
[{"$f":"IF(Roster!A15<>\"\",Roster!A15,\"\")","v":30},{"$f":"IF(OR(Roster!A15<>\"\",Roster!B15<>\"\"),PROPER(Roster!B15),\"\")","v":"Jo Bishop"},{"$nulls":14},"","","","","","","","",{"v":0,"d":"0%"},"Jo Bishop","J Bishop, 30"]
[{"$f":"IF(Roster!A16<>\"\",Roster!A16,\"\")","v":33},{"$f":"IF(OR(Roster!A16<>\"\",Roster!B16<>\"\"),PROPER(Roster!B16),\"\")","v":"Nolan Turner"},{"$nulls":14},"","","","","","","","",{"v":0,"d":"0%"},"Nolan Turner","N Turner, 33"]
[{"$f":"IF(Roster!A17<>\"\",Roster!A17,\"\")","v":32},{"$f":"IF(OR(Roster!A17<>\"\",Roster!B17<>\"\"),PROPER(Roster!B17),\"\")","v":"Robert Crawford"},{"$nulls":14},"","","","","","","","",{"v":0,"d":"0%"},"Robert Crawford","R Crawford, 32"]
[{"$f":"IF(Roster!A18<>\"\",Roster!A18,\"\")","v":40},{"$f":"IF(OR(Roster!A18<>\"\",Roster!B18<>\"\"),PROPER(Roster!B18),\"\")","v":"Jace Bruce"},{"$nulls":14},"","","","","","","","",{"v":0,"d":"0%"},"Jace Bruce","J Bruce, 40"]
[{"$f":"IF(Roster!A19<>\"\",Roster!A19,\"\")","v":2},{"$f":"IF(OR(Roster!A19<>\"\",Roster!B19<>\"\"),PROPER(Roster!B19),\"\")","v":"Ethan Mills"},{"$nulls":14},"","","","","","","","",{"v":0,"d":"0%"},"Ethan Mills","E Mills, 2"]
[{"$f":"IF(Roster!A20<>\"\",Roster!A20,\"\")","v":2},{"$f":"IF(OR(Roster!A20<>\"\",Roster!B20<>\"\"),PROPER(Roster!B20),\"\")","v":"Bridger Alishouse"},{"$nulls":14},"","","","","","","","",{"v":0,"d":"0%"},"Bridger Alishouse","B Alishouse, 2"]
[{"$f":"IF(Roster!A21<>\"\",Roster!A21,\"\")","v":4},{"$f":"IF(OR(Roster!A21<>\"\",Roster!B21<>\"\"),PROPER(Roster!B21),\"\")","v":"Landon Keever"},{"$nulls":14},"","","","","","","","",{"v":0,"d":"0%"},"Landon Keever","L Keever, 4"]
[{"$f":"IF(Roster!A22<>\"\",Roster!A22,\"\")","v":4},{"$f":"IF(OR(Roster!A22<>\"\",Roster!B22<>\"\"),PROPER(Roster!B22),\"\")","v":"Dj Till"},{"$nulls":14},"","","","","","","","",{"v":0,"d":"0%"},"Dj Till","D Till, 4"]
[{"$f":"IF(Roster!A23<>\"\",Roster!A23,\"\")","v":""},{"$f":"IF(OR(Roster!A23<>\"\",Roster!B23<>\"\"),PROPER(Roster!B23),\"\")","v":""},{"$nulls":14},"","","","","","","","",{"v":0,"d":"0%"},"",""]
[{"$f":"IF(Roster!A24<>\"\",Roster!A24,\"\")","v":""},{"$f":"IF(OR(Roster!A24<>\"\",Roster!B24<>\"\"),PROPER(Roster!B24),\"\")","v":""},{"$nulls":14},"","","","","","","","",{"v":0,"d":"0%"},"",""]
[{"$f":"IF(Roster!A25<>\"\",Roster!A25,\"\")","v":""},{"$f":"IF(OR(Roster!A25<>\"\",Roster!B25<>\"\"),PROPER(Roster!B25),\"\")","v":""},{"$nulls":14},"","","","","","","","",{"v":0,"d":"0%"},"",""]
[{"$f":"IF(Roster!A26<>\"\",Roster!A26,\"\")","v":""},{"$f":"IF(OR(Roster!A26<>\"\",Roster!B26<>\"\"),PROPER(Roster!B26),\"\")","v":""},{"$nulls":14},"","","","","","","","",{"v":0,"d":"0%"},"",""]
[{"$f":"IF(Roster!A27<>\"\",Roster!A27,\"\")","v":""},{"$f":"IF(OR(Roster!A27<>\"\",Roster!B27<>\"\"),PROPER(Roster!B27),\"\")","v":""},{"$nulls":14},"","","","","","","","",{"v":0,"d":"0%"},"",""]
[{"$f":"IF(Roster!A28<>\"\",Roster!A28,\"\")","v":""},{"$f":"IF(OR(Roster!A28<>\"\",Roster!B28<>\"\"),PROPER(Roster!B28),\"\")","v":""},{"$nulls":14},"","","","","","","","",{"v":0,"d":"0%"},"",""]
[{"$f":"IF(Roster!A29<>\"\",Roster!A29,\"\")","v":""},{"$f":"IF(OR(Roster!A29<>\"\",Roster!B29<>\"\"),PROPER(Roster!B29),\"\")","v":""},{"$nulls":14},"","","","","","","","",{"v":0,"d":"0%"},"",""]
[{"$f":"IF(Roster!A30<>\"\",Roster!A30,\"\")","v":""},{"$f":"IF(OR(Roster!A30<>\"\",Roster!B30<>\"\"),PROPER(Roster!B30),\"\")","v":"Team"},1,{"$nulls":7},1,{"$nulls":5},"","","","","","",1,"",{"v":0,"d":"0%"},"Team",{"$f":"IFERROR(IF(FIND(\" \",$B30,1),CONCATENATE(LEFT($B30,1),\" \",RIGHT($B30,LEN($B30)-FIND(\" \",$B30,1)),\", \",$A30),CONCATENATE($B30,\", \",$A30)),\"\")","v":""}]
[null,"Team Totals",{"$f":"IF(COUNTA($C$7:$C$30)>0,1,\"\")","v":1},{"$f":"SUM(D7:D30)","v":6},{"$f":"SUM(E7:E30)","v":29},13,29,12,23,16,14,12,14,1,{"$f":"SUM(O7:O30)","v":19},{"$f":"SUM(P7:P30)","v":17},{"$f":"IF(H31+2*F31+3*D31>0,H31+2*F31+3*D31,IF(C4>0,C4,\"\"))","v":56},{"$f":"IF(E31>0,D31/E31,\"\")","v":{"v":0.20689655172413793,"d":"21%"}},{"$f":"IF(G31>0,F31/G31,\"\")","v":{"v":0.4482758620689655,"d":"45%"}},{"$f":"IF(I31>0,H31/I31,\"\")","v":{"v":0.5217391304347826,"d":"52%"}},{"$f":"IF(OR(E31>0,G31 >0),(D31+F31)/(E31+G31),\"\")","v":{"v":0.3275862068965517,"d":"33%"}},{"$f":"IF(E31+G31>0,E31+G31,\"\")","v":58},{"$f":"IF(J31+K31>0,J31+K31,\"\")","v":30},{"v":0.3275862068965517,"d":"33%"},{"$f":"IF(I31>=$Z$2,T31,0)","v":{"v":0.5217391304347826,"d":"52%"}}]
[null,"Opponent Totals",{"$f":"IF(SUM(D32:P32)>0,1,\"\")","v":1},3,8,22,35,7,15,8,28,11,8,1,27,24,{"$f":"IF(H32+2*F32+3*D32>0,H32+2*F32+3*D32,IF(D4>0,D4,\"\"))","v":60},{"$f":"IF(E32>0,D32/E32,\"\")","v":{"v":0.375,"d":"38%"}},{"$f":"IF(G32>0,F32/G32,\"\")","v":{"v":0.6285714285714286,"d":"63%"}},{"$f":"IF(I32>0,H32/I32,\"\")","v":{"v":0.4666666666666667,"d":"47%"}},{"$f":"IF(OR(E32>0,G32 >0),(D32+F32)/(E32+G32),\"\")","v":{"v":0.5813953488372093,"d":"58%"}},{"$f":"IF(E32+G32>0,E32+G32,\"\")","v":43},{"$f":"IF(J32+K32>0,J32+K32,\"\")","v":36},{"v":0.5813953488372093,"d":"58%"},{"v":0.4666666666666667,"d":"47%"}]
[null,null,"Peak Performances"]
[]
[null,"Top Points","Player",null,"Top REB","Player",null,"Top AST","Player"]
[null,{"$f":"MAX(Q$7:Q$30)","v":23},{"$f":"IFERROR(INDEX($AA$7:$AA$30,SMALL(IF(Q$7:Q$30=$B$36,ROW(Q$7:Q$30)-6),ROW(Q7)-6)),\" \")","v":"P Watt, 24"},null,{"$f":"MAX(W$7:W$30)","v":10},{"$f":"IFERROR(INDEX($AA$7:$AA$30,SMALL(IF(W$7:W$30=$E$36,ROW(W$7:W$30)-6),ROW(W7)-6)),\" \")","v":"C Louderback, 23"},null,{"$f":"MAX(L$7:L$30)","v":3},{"$f":"IFERROR(INDEX($AA$7:$AA$30,SMALL(IF(L$7:L$30=$H$36,ROW(L$7:L$30)-6),ROW(L7)-6)),\" \")","v":"B Bruce, 22"}]
[null,null,{"$f":"IFERROR(INDEX($AA$7:$AA$30,SMALL(IF(Q$7:Q$30=$B$36,ROW(Q$7:Q$30)-6),ROW(Q8)-6)),\" \")","v":" "},null,null,{"$f":"IFERROR(INDEX($AA$7:$AA$30,SMALL(IF(W$7:W$30=$E$36,ROW(W$7:W$30)-6),ROW(W8)-6)),\" \")","v":" "},null,null,{"$f":"IFERROR(INDEX($AA$7:$AA$30,SMALL(IF(L$7:L$30=$H$36,ROW(L$7:L$30)-6),ROW(L8)-6)),\" \")","v":" "}]
[null,null,{"$f":"IFERROR(INDEX($AA$7:$AA$30,SMALL(IF(Q$7:Q$30=$B$36,ROW(Q$7:Q$30)-6),ROW(Q9)-6)),\" \")","v":" "},null,null,{"$f":"IFERROR(INDEX($AA$7:$AA$30,SMALL(IF(W$7:W$30=$E$36,ROW(W$7:W$30)-6),ROW(W9)-6)),\" \")","v":" "},null,null,{"$f":"IFERROR(INDEX($AA$7:$AA$30,SMALL(IF(L$7:L$30=$H$36,ROW(L$7:L$30)-6),ROW(L9)-6)),\" \")","v":" "}]
[null,null,{"$f":"IFERROR(INDEX($AA$7:$AA$30,SMALL(IF(Q$7:Q$30=$B$36,ROW(Q$7:Q$30)-6),ROW(Q10)-6)),\" \")","v":" "},null,null,{"$f":"IFERROR(INDEX($AA$7:$AA$30,SMALL(IF(W$7:W$30=$E$36,ROW(W$7:W$30)-6),ROW(W10)-6)),\" \")","v":" "},null,null,{"$f":"IFERROR(INDEX($AA$7:$AA$30,SMALL(IF(L$7:L$30=$H$36,ROW(L$7:L$30)-6),ROW(L10)-6)),\" \")","v":" "}]
[null,null,{"$f":"IFERROR(INDEX($AA$7:$AA$30,SMALL(IF(Q$7:Q$30=$B$36,ROW(Q$7:Q$30)-6),ROW(Q11)-6)),\" \")","v":" "},null,null,{"$f":"IFERROR(INDEX($AA$7:$AA$30,SMALL(IF(W$7:W$30=$E$36,ROW(W$7:W$30)-6),ROW(W11)-6)),\" \")","v":" "},null,null,{"$f":"IFERROR(INDEX($AA$7:$AA$30,SMALL(IF(L$7:L$30=$H$36,ROW(L$7:L$30)-6),ROW(L11)-6)),\" \")","v":" "}]
[null,null,{"$f":"IFERROR(INDEX($B12:B$30,SMALL(IF(Q$7:Q$30=$B$36,ROW(Q$7:Q$30)-6),ROW(Q12)-6)),\" \")","v":" "}]
[null,null,{"$f":"TRIM(C36)","v":"P Watt, 24"},null,null,{"$f":"TRIM(F36)","v":"C Louderback, 23"},null,null,{"$f":"TRIM(I36)","v":"B Bruce, 22"}]
[null,null,{"$f":"TRIM(C37)","v":""},null,null,{"$f":"TRIM(F37)","v":""},null,null,{"$f":"TRIM(I37)","v":""}]
[null,null,"",null,null,"",null,null,""]
[null,null,"",null,null,"",null,null,""]
[null,null,"",null,null,"",null,null,""]
[]
[]
[null,{"$f":"COUNTIF(C42:C46,\"?*\")","v":1},null,null,{"$f":"COUNTIF(F42:F46,\"?*\")","v":1},null,null,{"$f":"COUNTIF(I42:I46,\"?*\")","v":1}]

{"sheet":"game1 (29)","index":31,"n_rows":49,"n_cols":27,"rows_kept":49,"merged":[[0,6,0,11],[1,2,1,5],[1,7,1,9],[1,10,1,12],[32,2,32,17]]}
[]
[{"$f":"IF(AND(Roster!$D$1=VLOOKUP(C2,Roster!$L$5:$R$72,2,FALSE),Roster!$D$3=VLOOKUP(C2,Roster!$L$5:$R$72,4,FALSE)),\"R\",\"\")","v":{"$error":"#N/A"}},"Opponent",{"$nulls":5},"Date of Game",{"$nulls":15},{"$f":"IF(OR($H$4=1,$J$4=1),CONCATENATE($C$2,\": \",MONTH($K$2),\"/\",DAY($K$2),\"/\",YEAR($K$2)-2000, \" **\" ),CONCATENATE($C$2,\": \",MONTH($K$2),\"/\",DAY($K$2),\"/\",YEAR($K$2)-2000))","v":": 1/0/-100"},null,9]
[{"$nulls":6},"Win","Conf W","Loss","Conf L",null,"Forfeit W?",null,"Forfeit L?",{"$nulls":9},{"$f":"IF($C$4>$D$4,CONCATENATE(Roster!$B$1,\" \",$C$4,\", \",$C$2,\" \",$D$4, \" \",$E$4),CONCATENATE($C$2,\" \",$D$4,\", \",Roster!$B$1,\" \",$C$4,\" \", $E$4 ))","v":" , Upton  "}]
[null,"Score",{"$nulls":4},{"$f":"IF(OR($L$4=1,$C$4>$D$4),1,\"\")","v":""},null,{"$f":"IF(OR($N$4=1,$C$4<$D$4),1,\"\")","v":""}]
[]
["#","PLAYER","GP","3FGM","3FGA","2FGM","2FGA","FTM","FTA","OFF REB","DEF REB","AST","STL","BLK","TO","FOUL","TL PTS","3FG %","2FG %","FT %","FG%","FGA","REB","Elig FG%","Elig FT%","Name2","FI,LastName,#"]
[{"$f":"IF(Roster!A7<>\"\",Roster!A7,\"\")","v":24},{"$f":"IF(OR(Roster!A7<>\"\",Roster!B7<>\"\"),PROPER(Roster!B7),\"\")","v":"Payton Watt"},{"$nulls":14},{"$f":"IF(H7+2*F7+3*D7>0,H7+2*F7+3*D7,\"\")","v":""},{"$f":"IF(E7>0,D7/E7,\"\")","v":""},{"$f":"IF(G7>0,F7/G7,\"\")","v":""},{"$f":"IF(I7>0,H7/I7,\"\")","v":""},{"$f":"IF(OR(E7>0,G7 >0),(D7+F7)/(E7+G7),\"\")","v":""},{"$f":"IF(E7+G7>0,E7+G7,\"\")","v":""},{"$f":"IF(J7+K7>0,J7+K7,\"\")","v":""},{"$f":"IF(V7>=$Z$2,U7,0)","v":""},{"$f":"IF(I7>=$Z$2,T7,0)","v":{"v":0,"d":"0%"}},{"$f":"B7","v":"Payton Watt"},{"$f":"IFERROR(IF(FIND(\" \",$B7,1),CONCATENATE(LEFT($B7,1),\" \",RIGHT($B7,LEN($B7)-FIND(\" \",$B7,1)),\", \",$A7),CONCATENATE($B7,\", \",$A7)),\"\")","v":"P Watt, 24"}]
[{"$f":"IF(Roster!A8<>\"\",Roster!A8,\"\")","v":20},{"$f":"IF(OR(Roster!A8<>\"\",Roster!B8<>\"\"),PROPER(Roster!B8),\"\")","v":"Dillon Barritt"},{"$nulls":14},{"$f":"IF(H8+2*F8+3*D8>0,H8+2*F8+3*D8,\"\")","v":""},{"$f":"IF(E8>0,D8/E8,\"\")","v":""},{"$f":"IF(G8>0,F8/G8,\"\")","v":""},{"$f":"IF(I8>0,H8/I8,\"\")","v":""},{"$f":"IF(OR(E8>0,G8 >0),(D8+F8)/(E8+G8),\"\")","v":""},{"$f":"IF(E8+G8>0,E8+G8,\"\")","v":""},{"$f":"IF(J8+K8>0,J8+K8,\"\")","v":""},{"$f":"IF(V8>=$Z$2,U8,0)","v":""},{"$f":"IF(I8>=$Z$2,T8,0)","v":{"v":0,"d":"0%"}},{"$f":"B8","v":"Dillon Barritt"},{"$f":"IFERROR(IF(FIND(\" \",$B8,1),CONCATENATE(LEFT($B8,1),\" \",RIGHT($B8,LEN($B8)-FIND(\" \",$B8,1)),\", \",$A8),CONCATENATE($B8,\", \",$A8)),\"\")","v":"D Barritt, 20"}]
[{"$f":"IF(Roster!A9<>\"\",Roster!A9,\"\")","v":14},{"$f":"IF(OR(Roster!A9<>\"\",Roster!B9<>\"\"),PROPER(Roster!B9),\"\")","v":"Dawson Butts"},{"$nulls":14},"","","","","","","","",{"v":0,"d":"0%"},"Dawson Butts","D Butts, 14"]
[{"$f":"IF(Roster!A10<>\"\",Roster!A10,\"\")","v":12},{"$f":"IF(OR(Roster!A10<>\"\",Roster!B10<>\"\"),PROPER(Roster!B10),\"\")","v":"Jayden Caylor"},{"$nulls":14},"","","","","","","","",{"v":0,"d":"0%"},"Jayden Caylor","J Caylor, 12"]
[{"$f":"IF(Roster!A11<>\"\",Roster!A11,\"\")","v":23},{"$f":"IF(OR(Roster!A11<>\"\",Roster!B11<>\"\"),PROPER(Roster!B11),\"\")","v":"Clayton Louderback"},{"$nulls":14},"","","","","","","","",{"v":0,"d":"0%"},"Clayton Louderback","C Louderback, 23"]
[{"$f":"IF(Roster!A12<>\"\",Roster!A12,\"\")","v":10},{"$f":"IF(OR(Roster!A12<>\"\",Roster!B12<>\"\"),PROPER(Roster!B12),\"\")","v":"Jess Claycomb"},{"$nulls":14},"","","","","","","","",{"v":0,"d":"0%"},"Jess Claycomb","J Claycomb, 10"]
[{"$f":"IF(Roster!A13<>\"\",Roster!A13,\"\")","v":4},{"$f":"IF(OR(Roster!A13<>\"\",Roster!B13<>\"\"),PROPER(Roster!B13),\"\")","v":"Maxx Cowger"},{"$nulls":14},"","","","","","","","",{"v":0,"d":"0%"},"Maxx Cowger","M Cowger, 4"]
[{"$f":"IF(Roster!A14<>\"\",Roster!A14,\"\")","v":22},{"$f":"IF(OR(Roster!A14<>\"\",Roster!B14<>\"\"),PROPER(Roster!B14),\"\")","v":"Brayden Bruce"},{"$nulls":14},"","","","","","","","",{"v":0,"d":"0%"},"Brayden Bruce","B Bruce, 22"]
[{"$f":"IF(Roster!A15<>\"\",Roster!A15,\"\")","v":30},{"$f":"IF(OR(Roster!A15<>\"\",Roster!B15<>\"\"),PROPER(Roster!B15),\"\")","v":"Jo Bishop"},{"$nulls":14},"","","","","","","","",{"v":0,"d":"0%"},"Jo Bishop","J Bishop, 30"]
[{"$f":"IF(Roster!A16<>\"\",Roster!A16,\"\")","v":33},{"$f":"IF(OR(Roster!A16<>\"\",Roster!B16<>\"\"),PROPER(Roster!B16),\"\")","v":"Nolan Turner"},{"$nulls":14},"","","","","","","","",{"v":0,"d":"0%"},"Nolan Turner","N Turner, 33"]
[{"$f":"IF(Roster!A17<>\"\",Roster!A17,\"\")","v":32},{"$f":"IF(OR(Roster!A17<>\"\",Roster!B17<>\"\"),PROPER(Roster!B17),\"\")","v":"Robert Crawford"},{"$nulls":14},"","","","","","","","",{"v":0,"d":"0%"},"Robert Crawford","R Crawford, 32"]
[{"$f":"IF(Roster!A18<>\"\",Roster!A18,\"\")","v":40},{"$f":"IF(OR(Roster!A18<>\"\",Roster!B18<>\"\"),PROPER(Roster!B18),\"\")","v":"Jace Bruce"},{"$nulls":14},"","","","","","","","",{"v":0,"d":"0%"},"Jace Bruce","J Bruce, 40"]
[{"$f":"IF(Roster!A19<>\"\",Roster!A19,\"\")","v":2},{"$f":"IF(OR(Roster!A19<>\"\",Roster!B19<>\"\"),PROPER(Roster!B19),\"\")","v":"Ethan Mills"},{"$nulls":14},"","","","","","","","",{"v":0,"d":"0%"},"Ethan Mills","E Mills, 2"]
[{"$f":"IF(Roster!A20<>\"\",Roster!A20,\"\")","v":2},{"$f":"IF(OR(Roster!A20<>\"\",Roster!B20<>\"\"),PROPER(Roster!B20),\"\")","v":"Bridger Alishouse"},{"$nulls":14},"","","","","","","","",{"v":0,"d":"0%"},"Bridger Alishouse","B Alishouse, 2"]
[{"$f":"IF(Roster!A21<>\"\",Roster!A21,\"\")","v":4},{"$f":"IF(OR(Roster!A21<>\"\",Roster!B21<>\"\"),PROPER(Roster!B21),\"\")","v":"Landon Keever"},{"$nulls":14},"","","","","","","","",{"v":0,"d":"0%"},"Landon Keever","L Keever, 4"]
[{"$f":"IF(Roster!A22<>\"\",Roster!A22,\"\")","v":4},{"$f":"IF(OR(Roster!A22<>\"\",Roster!B22<>\"\"),PROPER(Roster!B22),\"\")","v":"Dj Till"},{"$nulls":14},"","","","","","","","",{"v":0,"d":"0%"},"Dj Till","D Till, 4"]
[{"$f":"IF(Roster!A23<>\"\",Roster!A23,\"\")","v":""},{"$f":"IF(OR(Roster!A23<>\"\",Roster!B23<>\"\"),PROPER(Roster!B23),\"\")","v":""},{"$nulls":14},"","","","","","","","",{"v":0,"d":"0%"},"",""]
[{"$f":"IF(Roster!A24<>\"\",Roster!A24,\"\")","v":""},{"$f":"IF(OR(Roster!A24<>\"\",Roster!B24<>\"\"),PROPER(Roster!B24),\"\")","v":""},{"$nulls":14},"","","","","","","","",{"v":0,"d":"0%"},"",""]
[{"$f":"IF(Roster!A25<>\"\",Roster!A25,\"\")","v":""},{"$f":"IF(OR(Roster!A25<>\"\",Roster!B25<>\"\"),PROPER(Roster!B25),\"\")","v":""},{"$nulls":14},"","","","","","","","",{"v":0,"d":"0%"},"",""]
[{"$f":"IF(Roster!A26<>\"\",Roster!A26,\"\")","v":""},{"$f":"IF(OR(Roster!A26<>\"\",Roster!B26<>\"\"),PROPER(Roster!B26),\"\")","v":""},{"$nulls":14},"","","","","","","","",{"v":0,"d":"0%"},"",""]
[{"$f":"IF(Roster!A27<>\"\",Roster!A27,\"\")","v":""},{"$f":"IF(OR(Roster!A27<>\"\",Roster!B27<>\"\"),PROPER(Roster!B27),\"\")","v":""},{"$nulls":14},"","","","","","","","",{"v":0,"d":"0%"},"",""]
[{"$f":"IF(Roster!A28<>\"\",Roster!A28,\"\")","v":""},{"$f":"IF(OR(Roster!A28<>\"\",Roster!B28<>\"\"),PROPER(Roster!B28),\"\")","v":""},{"$nulls":14},"","","","","","","","",{"v":0,"d":"0%"},"",""]
[{"$f":"IF(Roster!A29<>\"\",Roster!A29,\"\")","v":""},{"$f":"IF(OR(Roster!A29<>\"\",Roster!B29<>\"\"),PROPER(Roster!B29),\"\")","v":""},{"$nulls":14},"","","","","","","","",{"v":0,"d":"0%"},"",""]
[{"$f":"IF(Roster!A30<>\"\",Roster!A30,\"\")","v":""},{"$f":"IF(OR(Roster!A30<>\"\",Roster!B30<>\"\"),PROPER(Roster!B30),\"\")","v":"Team"},{"$nulls":14},"","","","","","","","",{"v":0,"d":"0%"},"Team",{"$f":"IFERROR(IF(FIND(\" \",$B30,1),CONCATENATE(LEFT($B30,1),\" \",RIGHT($B30,LEN($B30)-FIND(\" \",$B30,1)),\", \",$A30),CONCATENATE($B30,\", \",$A30)),\"\")","v":""}]
[null,"Team Totals",{"$f":"IF(COUNTA($C$7:$C$30)>0,1,\"\")","v":""},{"$f":"SUM(D7:D30)","v":0},{"$f":"SUM(E7:E30)","v":0},0,0,0,0,0,0,0,0,0,{"$f":"SUM(O7:O30)","v":0},{"$f":"SUM(P7:P30)","v":0},{"$f":"IF(H31+2*F31+3*D31>0,H31+2*F31+3*D31,IF(C4>0,C4,\"\"))","v":""},{"$f":"IF(E31>0,D31/E31,\"\")","v":""},{"$f":"IF(G31>0,F31/G31,\"\")","v":""},{"$f":"IF(I31>0,H31/I31,\"\")","v":""},{"$f":"IF(OR(E31>0,G31 >0),(D31+F31)/(E31+G31),\"\")","v":""},{"$f":"IF(E31+G31>0,E31+G31,\"\")","v":""},{"$f":"IF(J31+K31>0,J31+K31,\"\")","v":""},"",{"$f":"IF(I31>=$Z$2,T31,0)","v":{"v":0,"d":"0%"}}]
[null,"Opponent Totals",{"$f":"IF(SUM(D32:P32)>0,1,\"\")","v":""},{"$nulls":13},{"$f":"IF(H32+2*F32+3*D32>0,H32+2*F32+3*D32,IF(D4>0,D4,\"\"))","v":""},{"$f":"IF(E32>0,D32/E32,\"\")","v":""},{"$f":"IF(G32>0,F32/G32,\"\")","v":""},{"$f":"IF(I32>0,H32/I32,\"\")","v":""},{"$f":"IF(OR(E32>0,G32 >0),(D32+F32)/(E32+G32),\"\")","v":""},{"$f":"IF(E32+G32>0,E32+G32,\"\")","v":""},{"$f":"IF(J32+K32>0,J32+K32,\"\")","v":""},"",{"v":0,"d":"0%"}]
[null,null,"Peak Performances"]
[]
[null,"Top Points","Player",null,"Top REB","Player",null,"Top AST","Player"]
[null,{"$f":"MAX(Q$7:Q$30)","v":0},{"$f":"IFERROR(INDEX($AA$7:$AA$30,SMALL(IF(Q$7:Q$30=$B$36,ROW(Q$7:Q$30)-6),ROW(Q7)-6)),\" \")","v":" "},null,{"$f":"MAX(W$7:W$30)","v":0},{"$f":"IFERROR(INDEX($AA$7:$AA$30,SMALL(IF(W$7:W$30=$E$36,ROW(W$7:W$30)-6),ROW(W7)-6)),\" \")","v":" "},null,{"$f":"MAX(L$7:L$30)","v":0},{"$f":"IFERROR(INDEX($AA$7:$AA$30,SMALL(IF(L$7:L$30=$H$36,ROW(L$7:L$30)-6),ROW(L7)-6)),\" \")","v":"P Watt, 24"}]
[null,null,{"$f":"IFERROR(INDEX($AA$7:$AA$30,SMALL(IF(Q$7:Q$30=$B$36,ROW(Q$7:Q$30)-6),ROW(Q8)-6)),\" \")","v":" "},null,null,{"$f":"IFERROR(INDEX($AA$7:$AA$30,SMALL(IF(W$7:W$30=$E$36,ROW(W$7:W$30)-6),ROW(W8)-6)),\" \")","v":" "},null,null,{"$f":"IFERROR(INDEX($AA$7:$AA$30,SMALL(IF(L$7:L$30=$H$36,ROW(L$7:L$30)-6),ROW(L8)-6)),\" \")","v":"D Barritt, 20"}]
[null,null,{"$f":"IFERROR(INDEX($AA$7:$AA$30,SMALL(IF(Q$7:Q$30=$B$36,ROW(Q$7:Q$30)-6),ROW(Q9)-6)),\" \")","v":" "},null,null,{"$f":"IFERROR(INDEX($AA$7:$AA$30,SMALL(IF(W$7:W$30=$E$36,ROW(W$7:W$30)-6),ROW(W9)-6)),\" \")","v":" "},null,null,{"$f":"IFERROR(INDEX($AA$7:$AA$30,SMALL(IF(L$7:L$30=$H$36,ROW(L$7:L$30)-6),ROW(L9)-6)),\" \")","v":"D Butts, 14"}]
[null,null,{"$f":"IFERROR(INDEX($AA$7:$AA$30,SMALL(IF(Q$7:Q$30=$B$36,ROW(Q$7:Q$30)-6),ROW(Q10)-6)),\" \")","v":" "},null,null,{"$f":"IFERROR(INDEX($AA$7:$AA$30,SMALL(IF(W$7:W$30=$E$36,ROW(W$7:W$30)-6),ROW(W10)-6)),\" \")","v":" "},null,null,{"$f":"IFERROR(INDEX($AA$7:$AA$30,SMALL(IF(L$7:L$30=$H$36,ROW(L$7:L$30)-6),ROW(L10)-6)),\" \")","v":"J Caylor, 12"}]
[null,null,{"$f":"IFERROR(INDEX($AA$7:$AA$30,SMALL(IF(Q$7:Q$30=$B$36,ROW(Q$7:Q$30)-6),ROW(Q11)-6)),\" \")","v":" "},null,null,{"$f":"IFERROR(INDEX($AA$7:$AA$30,SMALL(IF(W$7:W$30=$E$36,ROW(W$7:W$30)-6),ROW(W11)-6)),\" \")","v":" "},null,null,{"$f":"IFERROR(INDEX($AA$7:$AA$30,SMALL(IF(L$7:L$30=$H$36,ROW(L$7:L$30)-6),ROW(L11)-6)),\" \")","v":"C Louderback, 23"}]
[null,null,{"$f":"IFERROR(INDEX($B12:B$30,SMALL(IF(Q$7:Q$30=$B$36,ROW(Q$7:Q$30)-6),ROW(Q12)-6)),\" \")","v":" "}]
[null,null,{"$f":"TRIM(C36)","v":""},null,null,{"$f":"TRIM(F36)","v":""},null,null,{"$f":"TRIM(I36)","v":"P Watt, 24"}]
[null,null,{"$f":"TRIM(C37)","v":""},null,null,{"$f":"TRIM(F37)","v":""},null,null,{"$f":"TRIM(I37)","v":"D Barritt, 20"}]
[null,null,"",null,null,"",null,null,"D Butts, 14"]
[null,null,"",null,null,"",null,null,"J Caylor, 12"]
[null,null,"",null,null,"",null,null,"C Louderback, 23"]
[]
[]
[null,{"$f":"COUNTIF(C42:C46,\"?*\")","v":0},null,null,{"$f":"COUNTIF(F42:F46,\"?*\")","v":0},null,null,{"$f":"COUNTIF(I42:I46,\"?*\")","v":5}]

{"sheet":"game1 (30)","index":32,"n_rows":49,"n_cols":27,"rows_kept":49,"merged":[[0,6,0,11],[1,2,1,5],[1,7,1,9],[1,10,1,12],[32,2,32,17]]}
[]
[{"$f":"IF(AND(Roster!$D$1=VLOOKUP(C2,Roster!$L$5:$R$72,2,FALSE),Roster!$D$3=VLOOKUP(C2,Roster!$L$5:$R$72,4,FALSE)),\"R\",\"\")","v":{"$error":"#N/A"}},"Opponent",{"$nulls":5},"Date of Game",{"$nulls":15},{"$f":"IF(OR($H$4=1,$J$4=1),CONCATENATE($C$2,\": \",MONTH($K$2),\"/\",DAY($K$2),\"/\",YEAR($K$2)-2000, \" **\" ),CONCATENATE($C$2,\": \",MONTH($K$2),\"/\",DAY($K$2),\"/\",YEAR($K$2)-2000))","v":": 1/0/-100"},null,9]
[{"$nulls":6},"Win","Conf W","Loss","Conf L",null,"Forfeit W?",null,"Forfeit L?",{"$nulls":9},{"$f":"IF($C$4>$D$4,CONCATENATE(Roster!$B$1,\" \",$C$4,\", \",$C$2,\" \",$D$4, \" \",$E$4),CONCATENATE($C$2,\" \",$D$4,\", \",Roster!$B$1,\" \",$C$4,\" \", $E$4 ))","v":" , Upton  "}]
[null,"Score",{"$nulls":4},{"$f":"IF(OR($L$4=1,$C$4>$D$4),1,\"\")","v":""},null,{"$f":"IF(OR($N$4=1,$C$4<$D$4),1,\"\")","v":""}]
[]
["#","PLAYER","GP","3FGM","3FGA","2FGM","2FGA","FTM","FTA","OFF REB","DEF REB","AST","STL","BLK","TO","FOUL","TL PTS","3FG %","2FG %","FT %","FG%","FGA","REB","Elig FG%","Elig FT%","Name2","FI,LastName,#"]
[{"$f":"IF(Roster!A7<>\"\",Roster!A7,\"\")","v":24},{"$f":"IF(OR(Roster!A7<>\"\",Roster!B7<>\"\"),PROPER(Roster!B7),\"\")","v":"Payton Watt"},{"$nulls":14},{"$f":"IF(H7+2*F7+3*D7>0,H7+2*F7+3*D7,\"\")","v":""},{"$f":"IF(E7>0,D7/E7,\"\")","v":""},{"$f":"IF(G7>0,F7/G7,\"\")","v":""},{"$f":"IF(I7>0,H7/I7,\"\")","v":""},{"$f":"IF(OR(E7>0,G7 >0),(D7+F7)/(E7+G7),\"\")","v":""},{"$f":"IF(E7+G7>0,E7+G7,\"\")","v":""},{"$f":"IF(J7+K7>0,J7+K7,\"\")","v":""},{"$f":"IF(V7>=$Z$2,U7,0)","v":""},{"$f":"IF(I7>=$Z$2,T7,0)","v":{"v":0,"d":"0%"}},{"$f":"B7","v":"Payton Watt"},{"$f":"IFERROR(IF(FIND(\" \",$B7,1),CONCATENATE(LEFT($B7,1),\" \",RIGHT($B7,LEN($B7)-FIND(\" \",$B7,1)),\", \",$A7),CONCATENATE($B7,\", \",$A7)),\"\")","v":"P Watt, 24"}]
[{"$f":"IF(Roster!A8<>\"\",Roster!A8,\"\")","v":20},{"$f":"IF(OR(Roster!A8<>\"\",Roster!B8<>\"\"),PROPER(Roster!B8),\"\")","v":"Dillon Barritt"},{"$nulls":14},{"$f":"IF(H8+2*F8+3*D8>0,H8+2*F8+3*D8,\"\")","v":""},{"$f":"IF(E8>0,D8/E8,\"\")","v":""},{"$f":"IF(G8>0,F8/G8,\"\")","v":""},{"$f":"IF(I8>0,H8/I8,\"\")","v":""},{"$f":"IF(OR(E8>0,G8 >0),(D8+F8)/(E8+G8),\"\")","v":""},{"$f":"IF(E8+G8>0,E8+G8,\"\")","v":""},{"$f":"IF(J8+K8>0,J8+K8,\"\")","v":""},{"$f":"IF(V8>=$Z$2,U8,0)","v":""},{"$f":"IF(I8>=$Z$2,T8,0)","v":{"v":0,"d":"0%"}},{"$f":"B8","v":"Dillon Barritt"},{"$f":"IFERROR(IF(FIND(\" \",$B8,1),CONCATENATE(LEFT($B8,1),\" \",RIGHT($B8,LEN($B8)-FIND(\" \",$B8,1)),\", \",$A8),CONCATENATE($B8,\", \",$A8)),\"\")","v":"D Barritt, 20"}]
[{"$f":"IF(Roster!A9<>\"\",Roster!A9,\"\")","v":14},{"$f":"IF(OR(Roster!A9<>\"\",Roster!B9<>\"\"),PROPER(Roster!B9),\"\")","v":"Dawson Butts"},{"$nulls":14},"","","","","","","","",{"v":0,"d":"0%"},"Dawson Butts","D Butts, 14"]
[{"$f":"IF(Roster!A10<>\"\",Roster!A10,\"\")","v":12},{"$f":"IF(OR(Roster!A10<>\"\",Roster!B10<>\"\"),PROPER(Roster!B10),\"\")","v":"Jayden Caylor"},{"$nulls":14},"","","","","","","","",{"v":0,"d":"0%"},"Jayden Caylor","J Caylor, 12"]
[{"$f":"IF(Roster!A11<>\"\",Roster!A11,\"\")","v":23},{"$f":"IF(OR(Roster!A11<>\"\",Roster!B11<>\"\"),PROPER(Roster!B11),\"\")","v":"Clayton Louderback"},{"$nulls":14},"","","","","","","","",{"v":0,"d":"0%"},"Clayton Louderback","C Louderback, 23"]
[{"$f":"IF(Roster!A12<>\"\",Roster!A12,\"\")","v":10},{"$f":"IF(OR(Roster!A12<>\"\",Roster!B12<>\"\"),PROPER(Roster!B12),\"\")","v":"Jess Claycomb"},{"$nulls":14},"","","","","","","","",{"v":0,"d":"0%"},"Jess Claycomb","J Claycomb, 10"]
[{"$f":"IF(Roster!A13<>\"\",Roster!A13,\"\")","v":4},{"$f":"IF(OR(Roster!A13<>\"\",Roster!B13<>\"\"),PROPER(Roster!B13),\"\")","v":"Maxx Cowger"},{"$nulls":14},"","","","","","","","",{"v":0,"d":"0%"},"Maxx Cowger","M Cowger, 4"]
[{"$f":"IF(Roster!A14<>\"\",Roster!A14,\"\")","v":22},{"$f":"IF(OR(Roster!A14<>\"\",Roster!B14<>\"\"),PROPER(Roster!B14),\"\")","v":"Brayden Bruce"},{"$nulls":14},"","","","","","","","",{"v":0,"d":"0%"},"Brayden Bruce","B Bruce, 22"]
[{"$f":"IF(Roster!A15<>\"\",Roster!A15,\"\")","v":30},{"$f":"IF(OR(Roster!A15<>\"\",Roster!B15<>\"\"),PROPER(Roster!B15),\"\")","v":"Jo Bishop"},{"$nulls":14},"","","","","","","","",{"v":0,"d":"0%"},"Jo Bishop","J Bishop, 30"]
[{"$f":"IF(Roster!A16<>\"\",Roster!A16,\"\")","v":33},{"$f":"IF(OR(Roster!A16<>\"\",Roster!B16<>\"\"),PROPER(Roster!B16),\"\")","v":"Nolan Turner"},{"$nulls":14},"","","","","","","","",{"v":0,"d":"0%"},"Nolan Turner","N Turner, 33"]
[{"$f":"IF(Roster!A17<>\"\",Roster!A17,\"\")","v":32},{"$f":"IF(OR(Roster!A17<>\"\",Roster!B17<>\"\"),PROPER(Roster!B17),\"\")","v":"Robert Crawford"},{"$nulls":14},"","","","","","","","",{"v":0,"d":"0%"},"Robert Crawford","R Crawford, 32"]
[{"$f":"IF(Roster!A18<>\"\",Roster!A18,\"\")","v":40},{"$f":"IF(OR(Roster!A18<>\"\",Roster!B18<>\"\"),PROPER(Roster!B18),\"\")","v":"Jace Bruce"},{"$nulls":14},"","","","","","","","",{"v":0,"d":"0%"},"Jace Bruce","J Bruce, 40"]
[{"$f":"IF(Roster!A19<>\"\",Roster!A19,\"\")","v":2},{"$f":"IF(OR(Roster!A19<>\"\",Roster!B19<>\"\"),PROPER(Roster!B19),\"\")","v":"Ethan Mills"},{"$nulls":14},"","","","","","","","",{"v":0,"d":"0%"},"Ethan Mills","E Mills, 2"]
[{"$f":"IF(Roster!A20<>\"\",Roster!A20,\"\")","v":2},{"$f":"IF(OR(Roster!A20<>\"\",Roster!B20<>\"\"),PROPER(Roster!B20),\"\")","v":"Bridger Alishouse"},{"$nulls":14},"","","","","","","","",{"v":0,"d":"0%"},"Bridger Alishouse","B Alishouse, 2"]
[{"$f":"IF(Roster!A21<>\"\",Roster!A21,\"\")","v":4},{"$f":"IF(OR(Roster!A21<>\"\",Roster!B21<>\"\"),PROPER(Roster!B21),\"\")","v":"Landon Keever"},{"$nulls":14},"","","","","","","","",{"v":0,"d":"0%"},"Landon Keever","L Keever, 4"]
[{"$f":"IF(Roster!A22<>\"\",Roster!A22,\"\")","v":4},{"$f":"IF(OR(Roster!A22<>\"\",Roster!B22<>\"\"),PROPER(Roster!B22),\"\")","v":"Dj Till"},{"$nulls":14},"","","","","","","","",{"v":0,"d":"0%"},"Dj Till","D Till, 4"]
[{"$f":"IF(Roster!A23<>\"\",Roster!A23,\"\")","v":""},{"$f":"IF(OR(Roster!A23<>\"\",Roster!B23<>\"\"),PROPER(Roster!B23),\"\")","v":""},{"$nulls":14},"","","","","","","","",{"v":0,"d":"0%"},"",""]
[{"$f":"IF(Roster!A24<>\"\",Roster!A24,\"\")","v":""},{"$f":"IF(OR(Roster!A24<>\"\",Roster!B24<>\"\"),PROPER(Roster!B24),\"\")","v":""},{"$nulls":14},"","","","","","","","",{"v":0,"d":"0%"},"",""]
[{"$f":"IF(Roster!A25<>\"\",Roster!A25,\"\")","v":""},{"$f":"IF(OR(Roster!A25<>\"\",Roster!B25<>\"\"),PROPER(Roster!B25),\"\")","v":""},{"$nulls":14},"","","","","","","","",{"v":0,"d":"0%"},"",""]
[{"$f":"IF(Roster!A26<>\"\",Roster!A26,\"\")","v":""},{"$f":"IF(OR(Roster!A26<>\"\",Roster!B26<>\"\"),PROPER(Roster!B26),\"\")","v":""},{"$nulls":14},"","","","","","","","",{"v":0,"d":"0%"},"",""]
[{"$f":"IF(Roster!A27<>\"\",Roster!A27,\"\")","v":""},{"$f":"IF(OR(Roster!A27<>\"\",Roster!B27<>\"\"),PROPER(Roster!B27),\"\")","v":""},{"$nulls":14},"","","","","","","","",{"v":0,"d":"0%"},"",""]
[{"$f":"IF(Roster!A28<>\"\",Roster!A28,\"\")","v":""},{"$f":"IF(OR(Roster!A28<>\"\",Roster!B28<>\"\"),PROPER(Roster!B28),\"\")","v":""},{"$nulls":14},"","","","","","","","",{"v":0,"d":"0%"},"",""]
[{"$f":"IF(Roster!A29<>\"\",Roster!A29,\"\")","v":""},{"$f":"IF(OR(Roster!A29<>\"\",Roster!B29<>\"\"),PROPER(Roster!B29),\"\")","v":""},{"$nulls":14},"","","","","","","","",{"v":0,"d":"0%"},"",""]
[{"$f":"IF(Roster!A30<>\"\",Roster!A30,\"\")","v":""},{"$f":"IF(OR(Roster!A30<>\"\",Roster!B30<>\"\"),PROPER(Roster!B30),\"\")","v":"Team"},{"$nulls":14},"","","","","","","","",{"v":0,"d":"0%"},"Team",{"$f":"IFERROR(IF(FIND(\" \",$B30,1),CONCATENATE(LEFT($B30,1),\" \",RIGHT($B30,LEN($B30)-FIND(\" \",$B30,1)),\", \",$A30),CONCATENATE($B30,\", \",$A30)),\"\")","v":""}]
[null,"Team Totals",{"$f":"IF(COUNTA($C$7:$C$30)>0,1,\"\")","v":""},{"$f":"SUM(D7:D30)","v":0},{"$f":"SUM(E7:E30)","v":0},0,0,0,0,0,0,0,0,0,{"$f":"SUM(O7:O30)","v":0},{"$f":"SUM(P7:P30)","v":0},{"$f":"IF(H31+2*F31+3*D31>0,H31+2*F31+3*D31,IF(C4>0,C4,\"\"))","v":""},{"$f":"IF(E31>0,D31/E31,\"\")","v":""},{"$f":"IF(G31>0,F31/G31,\"\")","v":""},{"$f":"IF(I31>0,H31/I31,\"\")","v":""},{"$f":"IF(OR(E31>0,G31 >0),(D31+F31)/(E31+G31),\"\")","v":""},{"$f":"IF(E31+G31>0,E31+G31,\"\")","v":""},{"$f":"IF(J31+K31>0,J31+K31,\"\")","v":""},"",{"$f":"IF(I31>=$Z$2,T31,0)","v":{"v":0,"d":"0%"}}]
[null,"Opponent Totals",{"$f":"IF(SUM(D32:P32)>0,1,\"\")","v":""},{"$nulls":13},{"$f":"IF(H32+2*F32+3*D32>0,H32+2*F32+3*D32,IF(D4>0,D4,\"\"))","v":""},{"$f":"IF(E32>0,D32/E32,\"\")","v":""},{"$f":"IF(G32>0,F32/G32,\"\")","v":""},{"$f":"IF(I32>0,H32/I32,\"\")","v":""},{"$f":"IF(OR(E32>0,G32 >0),(D32+F32)/(E32+G32),\"\")","v":""},{"$f":"IF(E32+G32>0,E32+G32,\"\")","v":""},{"$f":"IF(J32+K32>0,J32+K32,\"\")","v":""},"",{"v":0,"d":"0%"}]
[null,null,"Peak Performances"]
[]
[null,"Top Points","Player",null,"Top REB","Player",null,"Top AST","Player"]
[null,{"$f":"MAX(Q$7:Q$30)","v":0},{"$f":"IFERROR(INDEX($AA$7:$AA$30,SMALL(IF(Q$7:Q$30=$B$36,ROW(Q$7:Q$30)-6),ROW(Q7)-6)),\" \")","v":" "},null,{"$f":"MAX(W$7:W$30)","v":0},{"$f":"IFERROR(INDEX($AA$7:$AA$30,SMALL(IF(W$7:W$30=$E$36,ROW(W$7:W$30)-6),ROW(W7)-6)),\" \")","v":" "},null,{"$f":"MAX(L$7:L$30)","v":0},{"$f":"IFERROR(INDEX($AA$7:$AA$30,SMALL(IF(L$7:L$30=$H$36,ROW(L$7:L$30)-6),ROW(L7)-6)),\" \")","v":"P Watt, 24"}]
[null,null,{"$f":"IFERROR(INDEX($AA$7:$AA$30,SMALL(IF(Q$7:Q$30=$B$36,ROW(Q$7:Q$30)-6),ROW(Q8)-6)),\" \")","v":" "},null,null,{"$f":"IFERROR(INDEX($AA$7:$AA$30,SMALL(IF(W$7:W$30=$E$36,ROW(W$7:W$30)-6),ROW(W8)-6)),\" \")","v":" "},null,null,{"$f":"IFERROR(INDEX($AA$7:$AA$30,SMALL(IF(L$7:L$30=$H$36,ROW(L$7:L$30)-6),ROW(L8)-6)),\" \")","v":"D Barritt, 20"}]
[null,null,{"$f":"IFERROR(INDEX($AA$7:$AA$30,SMALL(IF(Q$7:Q$30=$B$36,ROW(Q$7:Q$30)-6),ROW(Q9)-6)),\" \")","v":" "},null,null,{"$f":"IFERROR(INDEX($AA$7:$AA$30,SMALL(IF(W$7:W$30=$E$36,ROW(W$7:W$30)-6),ROW(W9)-6)),\" \")","v":" "},null,null,{"$f":"IFERROR(INDEX($AA$7:$AA$30,SMALL(IF(L$7:L$30=$H$36,ROW(L$7:L$30)-6),ROW(L9)-6)),\" \")","v":"D Butts, 14"}]
[null,null,{"$f":"IFERROR(INDEX($AA$7:$AA$30,SMALL(IF(Q$7:Q$30=$B$36,ROW(Q$7:Q$30)-6),ROW(Q10)-6)),\" \")","v":" "},null,null,{"$f":"IFERROR(INDEX($AA$7:$AA$30,SMALL(IF(W$7:W$30=$E$36,ROW(W$7:W$30)-6),ROW(W10)-6)),\" \")","v":" "},null,null,{"$f":"IFERROR(INDEX($AA$7:$AA$30,SMALL(IF(L$7:L$30=$H$36,ROW(L$7:L$30)-6),ROW(L10)-6)),\" \")","v":"J Caylor, 12"}]
[null,null,{"$f":"IFERROR(INDEX($AA$7:$AA$30,SMALL(IF(Q$7:Q$30=$B$36,ROW(Q$7:Q$30)-6),ROW(Q11)-6)),\" \")","v":" "},null,null,{"$f":"IFERROR(INDEX($AA$7:$AA$30,SMALL(IF(W$7:W$30=$E$36,ROW(W$7:W$30)-6),ROW(W11)-6)),\" \")","v":" "},null,null,{"$f":"IFERROR(INDEX($AA$7:$AA$30,SMALL(IF(L$7:L$30=$H$36,ROW(L$7:L$30)-6),ROW(L11)-6)),\" \")","v":"C Louderback, 23"}]
[null,null,{"$f":"IFERROR(INDEX($B12:B$30,SMALL(IF(Q$7:Q$30=$B$36,ROW(Q$7:Q$30)-6),ROW(Q12)-6)),\" \")","v":" "}]
[null,null,{"$f":"TRIM(C36)","v":""},null,null,{"$f":"TRIM(F36)","v":""},null,null,{"$f":"TRIM(I36)","v":"P Watt, 24"}]
[null,null,{"$f":"TRIM(C37)","v":""},null,null,{"$f":"TRIM(F37)","v":""},null,null,{"$f":"TRIM(I37)","v":"D Barritt, 20"}]
[null,null,"",null,null,"",null,null,"D Butts, 14"]
[null,null,"",null,null,"",null,null,"J Caylor, 12"]
[null,null,"",null,null,"",null,null,"C Louderback, 23"]
[]
[]
[null,{"$f":"COUNTIF(C42:C46,\"?*\")","v":0},null,null,{"$f":"COUNTIF(F42:F46,\"?*\")","v":0},null,null,{"$f":"COUNTIF(I42:I46,\"?*\")","v":5}]

{"sheet":"game1 (31)","index":33,"n_rows":49,"n_cols":27,"rows_kept":49,"merged":[[0,6,0,11],[1,2,1,5],[1,7,1,9],[1,10,1,12],[32,2,32,17]]}
[]
[{"$f":"IF(AND(Roster!$D$1=VLOOKUP(C2,Roster!$L$5:$R$72,2,FALSE),Roster!$D$3=VLOOKUP(C2,Roster!$L$5:$R$72,4,FALSE)),\"R\",\"\")","v":{"$error":"#N/A"}},"Opponent",{"$nulls":5},"Date of Game",{"$nulls":15},{"$f":"IF(OR($H$4=1,$J$4=1),CONCATENATE($C$2,\": \",MONTH($K$2),\"/\",DAY($K$2),\"/\",YEAR($K$2)-2000, \" **\" ),CONCATENATE($C$2,\": \",MONTH($K$2),\"/\",DAY($K$2),\"/\",YEAR($K$2)-2000))","v":": 1/0/-100"},null,9]
[{"$nulls":6},"Win","Conf W","Loss","Conf L",null,"Forfeit W?",null,"Forfeit L?",{"$nulls":9},{"$f":"IF($C$4>$D$4,CONCATENATE(Roster!$B$1,\" \",$C$4,\", \",$C$2,\" \",$D$4, \" \",$E$4),CONCATENATE($C$2,\" \",$D$4,\", \",Roster!$B$1,\" \",$C$4,\" \", $E$4 ))","v":" , Upton  "}]
[null,"Score",{"$nulls":4},{"$f":"IF(OR($L$4=1,$C$4>$D$4),1,\"\")","v":""},null,{"$f":"IF(OR($N$4=1,$C$4<$D$4),1,\"\")","v":""}]
[]
["#","PLAYER","GP","3FGM","3FGA","2FGM","2FGA","FTM","FTA","OFF REB","DEF REB","AST","STL","BLK","TO","FOUL","TL PTS","3FG %","2FG %","FT %","FG%","FGA","REB","Elig FG%","Elig FT%","Name2","FI,LastName,#"]
[{"$f":"IF(Roster!A7<>\"\",Roster!A7,\"\")","v":24},{"$f":"IF(OR(Roster!A7<>\"\",Roster!B7<>\"\"),PROPER(Roster!B7),\"\")","v":"Payton Watt"},{"$nulls":14},{"$f":"IF(H7+2*F7+3*D7>0,H7+2*F7+3*D7,\"\")","v":""},{"$f":"IF(E7>0,D7/E7,\"\")","v":""},{"$f":"IF(G7>0,F7/G7,\"\")","v":""},{"$f":"IF(I7>0,H7/I7,\"\")","v":""},{"$f":"IF(OR(E7>0,G7 >0),(D7+F7)/(E7+G7),\"\")","v":""},{"$f":"IF(E7+G7>0,E7+G7,\"\")","v":""},{"$f":"IF(J7+K7>0,J7+K7,\"\")","v":""},{"$f":"IF(V7>=$Z$2,U7,0)","v":""},{"$f":"IF(I7>=$Z$2,T7,0)","v":{"v":0,"d":"0%"}},{"$f":"B7","v":"Payton Watt"},{"$f":"IFERROR(IF(FIND(\" \",$B7,1),CONCATENATE(LEFT($B7,1),\" \",RIGHT($B7,LEN($B7)-FIND(\" \",$B7,1)),\", \",$A7),CONCATENATE($B7,\", \",$A7)),\"\")","v":"P Watt, 24"}]
[{"$f":"IF(Roster!A8<>\"\",Roster!A8,\"\")","v":20},{"$f":"IF(OR(Roster!A8<>\"\",Roster!B8<>\"\"),PROPER(Roster!B8),\"\")","v":"Dillon Barritt"},{"$nulls":14},{"$f":"IF(H8+2*F8+3*D8>0,H8+2*F8+3*D8,\"\")","v":""},{"$f":"IF(E8>0,D8/E8,\"\")","v":""},{"$f":"IF(G8>0,F8/G8,\"\")","v":""},{"$f":"IF(I8>0,H8/I8,\"\")","v":""},{"$f":"IF(OR(E8>0,G8 >0),(D8+F8)/(E8+G8),\"\")","v":""},{"$f":"IF(E8+G8>0,E8+G8,\"\")","v":""},{"$f":"IF(J8+K8>0,J8+K8,\"\")","v":""},{"$f":"IF(V8>=$Z$2,U8,0)","v":""},{"$f":"IF(I8>=$Z$2,T8,0)","v":{"v":0,"d":"0%"}},{"$f":"B8","v":"Dillon Barritt"},{"$f":"IFERROR(IF(FIND(\" \",$B8,1),CONCATENATE(LEFT($B8,1),\" \",RIGHT($B8,LEN($B8)-FIND(\" \",$B8,1)),\", \",$A8),CONCATENATE($B8,\", \",$A8)),\"\")","v":"D Barritt, 20"}]
[{"$f":"IF(Roster!A9<>\"\",Roster!A9,\"\")","v":14},{"$f":"IF(OR(Roster!A9<>\"\",Roster!B9<>\"\"),PROPER(Roster!B9),\"\")","v":"Dawson Butts"},{"$nulls":14},"","","","","","","","",{"v":0,"d":"0%"},"Dawson Butts","D Butts, 14"]
[{"$f":"IF(Roster!A10<>\"\",Roster!A10,\"\")","v":12},{"$f":"IF(OR(Roster!A10<>\"\",Roster!B10<>\"\"),PROPER(Roster!B10),\"\")","v":"Jayden Caylor"},{"$nulls":14},"","","","","","","","",{"v":0,"d":"0%"},"Jayden Caylor","J Caylor, 12"]
[{"$f":"IF(Roster!A11<>\"\",Roster!A11,\"\")","v":23},{"$f":"IF(OR(Roster!A11<>\"\",Roster!B11<>\"\"),PROPER(Roster!B11),\"\")","v":"Clayton Louderback"},{"$nulls":14},"","","","","","","","",{"v":0,"d":"0%"},"Clayton Louderback","C Louderback, 23"]
[{"$f":"IF(Roster!A12<>\"\",Roster!A12,\"\")","v":10},{"$f":"IF(OR(Roster!A12<>\"\",Roster!B12<>\"\"),PROPER(Roster!B12),\"\")","v":"Jess Claycomb"},{"$nulls":14},"","","","","","","","",{"v":0,"d":"0%"},"Jess Claycomb","J Claycomb, 10"]
[{"$f":"IF(Roster!A13<>\"\",Roster!A13,\"\")","v":4},{"$f":"IF(OR(Roster!A13<>\"\",Roster!B13<>\"\"),PROPER(Roster!B13),\"\")","v":"Maxx Cowger"},{"$nulls":14},"","","","","","","","",{"v":0,"d":"0%"},"Maxx Cowger","M Cowger, 4"]
[{"$f":"IF(Roster!A14<>\"\",Roster!A14,\"\")","v":22},{"$f":"IF(OR(Roster!A14<>\"\",Roster!B14<>\"\"),PROPER(Roster!B14),\"\")","v":"Brayden Bruce"},{"$nulls":14},"","","","","","","","",{"v":0,"d":"0%"},"Brayden Bruce","B Bruce, 22"]
[{"$f":"IF(Roster!A15<>\"\",Roster!A15,\"\")","v":30},{"$f":"IF(OR(Roster!A15<>\"\",Roster!B15<>\"\"),PROPER(Roster!B15),\"\")","v":"Jo Bishop"},{"$nulls":14},"","","","","","","","",{"v":0,"d":"0%"},"Jo Bishop","J Bishop, 30"]
[{"$f":"IF(Roster!A16<>\"\",Roster!A16,\"\")","v":33},{"$f":"IF(OR(Roster!A16<>\"\",Roster!B16<>\"\"),PROPER(Roster!B16),\"\")","v":"Nolan Turner"},{"$nulls":14},"","","","","","","","",{"v":0,"d":"0%"},"Nolan Turner","N Turner, 33"]
[{"$f":"IF(Roster!A17<>\"\",Roster!A17,\"\")","v":32},{"$f":"IF(OR(Roster!A17<>\"\",Roster!B17<>\"\"),PROPER(Roster!B17),\"\")","v":"Robert Crawford"},{"$nulls":14},"","","","","","","","",{"v":0,"d":"0%"},"Robert Crawford","R Crawford, 32"]
[{"$f":"IF(Roster!A18<>\"\",Roster!A18,\"\")","v":40},{"$f":"IF(OR(Roster!A18<>\"\",Roster!B18<>\"\"),PROPER(Roster!B18),\"\")","v":"Jace Bruce"},{"$nulls":14},"","","","","","","","",{"v":0,"d":"0%"},"Jace Bruce","J Bruce, 40"]
[{"$f":"IF(Roster!A19<>\"\",Roster!A19,\"\")","v":2},{"$f":"IF(OR(Roster!A19<>\"\",Roster!B19<>\"\"),PROPER(Roster!B19),\"\")","v":"Ethan Mills"},{"$nulls":14},"","","","","","","","",{"v":0,"d":"0%"},"Ethan Mills","E Mills, 2"]
[{"$f":"IF(Roster!A20<>\"\",Roster!A20,\"\")","v":2},{"$f":"IF(OR(Roster!A20<>\"\",Roster!B20<>\"\"),PROPER(Roster!B20),\"\")","v":"Bridger Alishouse"},{"$nulls":14},"","","","","","","","",{"v":0,"d":"0%"},"Bridger Alishouse","B Alishouse, 2"]
[{"$f":"IF(Roster!A21<>\"\",Roster!A21,\"\")","v":4},{"$f":"IF(OR(Roster!A21<>\"\",Roster!B21<>\"\"),PROPER(Roster!B21),\"\")","v":"Landon Keever"},{"$nulls":14},"","","","","","","","",{"v":0,"d":"0%"},"Landon Keever","L Keever, 4"]
[{"$f":"IF(Roster!A22<>\"\",Roster!A22,\"\")","v":4},{"$f":"IF(OR(Roster!A22<>\"\",Roster!B22<>\"\"),PROPER(Roster!B22),\"\")","v":"Dj Till"},{"$nulls":14},"","","","","","","","",{"v":0,"d":"0%"},"Dj Till","D Till, 4"]
[{"$f":"IF(Roster!A23<>\"\",Roster!A23,\"\")","v":""},{"$f":"IF(OR(Roster!A23<>\"\",Roster!B23<>\"\"),PROPER(Roster!B23),\"\")","v":""},{"$nulls":14},"","","","","","","","",{"v":0,"d":"0%"},"",""]
[{"$f":"IF(Roster!A24<>\"\",Roster!A24,\"\")","v":""},{"$f":"IF(OR(Roster!A24<>\"\",Roster!B24<>\"\"),PROPER(Roster!B24),\"\")","v":""},{"$nulls":14},"","","","","","","","",{"v":0,"d":"0%"},"",""]
[{"$f":"IF(Roster!A25<>\"\",Roster!A25,\"\")","v":""},{"$f":"IF(OR(Roster!A25<>\"\",Roster!B25<>\"\"),PROPER(Roster!B25),\"\")","v":""},{"$nulls":14},"","","","","","","","",{"v":0,"d":"0%"},"",""]
[{"$f":"IF(Roster!A26<>\"\",Roster!A26,\"\")","v":""},{"$f":"IF(OR(Roster!A26<>\"\",Roster!B26<>\"\"),PROPER(Roster!B26),\"\")","v":""},{"$nulls":14},"","","","","","","","",{"v":0,"d":"0%"},"",""]
[{"$f":"IF(Roster!A27<>\"\",Roster!A27,\"\")","v":""},{"$f":"IF(OR(Roster!A27<>\"\",Roster!B27<>\"\"),PROPER(Roster!B27),\"\")","v":""},{"$nulls":14},"","","","","","","","",{"v":0,"d":"0%"},"",""]
[{"$f":"IF(Roster!A28<>\"\",Roster!A28,\"\")","v":""},{"$f":"IF(OR(Roster!A28<>\"\",Roster!B28<>\"\"),PROPER(Roster!B28),\"\")","v":""},{"$nulls":14},"","","","","","","","",{"v":0,"d":"0%"},"",""]
[{"$f":"IF(Roster!A29<>\"\",Roster!A29,\"\")","v":""},{"$f":"IF(OR(Roster!A29<>\"\",Roster!B29<>\"\"),PROPER(Roster!B29),\"\")","v":""},{"$nulls":14},"","","","","","","","",{"v":0,"d":"0%"},"",""]
[{"$f":"IF(Roster!A30<>\"\",Roster!A30,\"\")","v":""},{"$f":"IF(OR(Roster!A30<>\"\",Roster!B30<>\"\"),PROPER(Roster!B30),\"\")","v":"Team"},{"$nulls":14},"","","","","","","","",{"v":0,"d":"0%"},"Team",{"$f":"IFERROR(IF(FIND(\" \",$B30,1),CONCATENATE(LEFT($B30,1),\" \",RIGHT($B30,LEN($B30)-FIND(\" \",$B30,1)),\", \",$A30),CONCATENATE($B30,\", \",$A30)),\"\")","v":""}]
[null,"Team Totals",{"$f":"IF(COUNTA($C$7:$C$30)>0,1,\"\")","v":""},{"$f":"SUM(D7:D30)","v":0},{"$f":"SUM(E7:E30)","v":0},0,0,0,0,0,0,0,0,0,{"$f":"SUM(O7:O30)","v":0},{"$f":"SUM(P7:P30)","v":0},{"$f":"IF(H31+2*F31+3*D31>0,H31+2*F31+3*D31,IF(C4>0,C4,\"\"))","v":""},{"$f":"IF(E31>0,D31/E31,\"\")","v":""},{"$f":"IF(G31>0,F31/G31,\"\")","v":""},{"$f":"IF(I31>0,H31/I31,\"\")","v":""},{"$f":"IF(OR(E31>0,G31 >0),(D31+F31)/(E31+G31),\"\")","v":""},{"$f":"IF(E31+G31>0,E31+G31,\"\")","v":""},{"$f":"IF(J31+K31>0,J31+K31,\"\")","v":""},"",{"$f":"IF(I31>=$Z$2,T31,0)","v":{"v":0,"d":"0%"}}]
[null,"Opponent Totals",{"$f":"IF(SUM(D32:P32)>0,1,\"\")","v":""},{"$nulls":13},{"$f":"IF(H32+2*F32+3*D32>0,H32+2*F32+3*D32,IF(D4>0,D4,\"\"))","v":""},{"$f":"IF(E32>0,D32/E32,\"\")","v":""},{"$f":"IF(G32>0,F32/G32,\"\")","v":""},{"$f":"IF(I32>0,H32/I32,\"\")","v":""},{"$f":"IF(OR(E32>0,G32 >0),(D32+F32)/(E32+G32),\"\")","v":""},{"$f":"IF(E32+G32>0,E32+G32,\"\")","v":""},{"$f":"IF(J32+K32>0,J32+K32,\"\")","v":""},"",{"v":0,"d":"0%"}]
[null,null,"Peak Performances"]
[]
[null,"Top Points","Player",null,"Top REB","Player",null,"Top AST","Player"]
[null,{"$f":"MAX(Q$7:Q$30)","v":0},{"$f":"IFERROR(INDEX($AA$7:$AA$30,SMALL(IF(Q$7:Q$30=$B$36,ROW(Q$7:Q$30)-6),ROW(Q7)-6)),\" \")","v":" "},null,{"$f":"MAX(W$7:W$30)","v":0},{"$f":"IFERROR(INDEX($AA$7:$AA$30,SMALL(IF(W$7:W$30=$E$36,ROW(W$7:W$30)-6),ROW(W7)-6)),\" \")","v":" "},null,{"$f":"MAX(L$7:L$30)","v":0},{"$f":"IFERROR(INDEX($AA$7:$AA$30,SMALL(IF(L$7:L$30=$H$36,ROW(L$7:L$30)-6),ROW(L7)-6)),\" \")","v":"P Watt, 24"}]
[null,null,{"$f":"IFERROR(INDEX($AA$7:$AA$30,SMALL(IF(Q$7:Q$30=$B$36,ROW(Q$7:Q$30)-6),ROW(Q8)-6)),\" \")","v":" "},null,null,{"$f":"IFERROR(INDEX($AA$7:$AA$30,SMALL(IF(W$7:W$30=$E$36,ROW(W$7:W$30)-6),ROW(W8)-6)),\" \")","v":" "},null,null,{"$f":"IFERROR(INDEX($AA$7:$AA$30,SMALL(IF(L$7:L$30=$H$36,ROW(L$7:L$30)-6),ROW(L8)-6)),\" \")","v":"D Barritt, 20"}]
[null,null,{"$f":"IFERROR(INDEX($AA$7:$AA$30,SMALL(IF(Q$7:Q$30=$B$36,ROW(Q$7:Q$30)-6),ROW(Q9)-6)),\" \")","v":" "},null,null,{"$f":"IFERROR(INDEX($AA$7:$AA$30,SMALL(IF(W$7:W$30=$E$36,ROW(W$7:W$30)-6),ROW(W9)-6)),\" \")","v":" "},null,null,{"$f":"IFERROR(INDEX($AA$7:$AA$30,SMALL(IF(L$7:L$30=$H$36,ROW(L$7:L$30)-6),ROW(L9)-6)),\" \")","v":"D Butts, 14"}]
[null,null,{"$f":"IFERROR(INDEX($AA$7:$AA$30,SMALL(IF(Q$7:Q$30=$B$36,ROW(Q$7:Q$30)-6),ROW(Q10)-6)),\" \")","v":" "},null,null,{"$f":"IFERROR(INDEX($AA$7:$AA$30,SMALL(IF(W$7:W$30=$E$36,ROW(W$7:W$30)-6),ROW(W10)-6)),\" \")","v":" "},null,null,{"$f":"IFERROR(INDEX($AA$7:$AA$30,SMALL(IF(L$7:L$30=$H$36,ROW(L$7:L$30)-6),ROW(L10)-6)),\" \")","v":"J Caylor, 12"}]
[null,null,{"$f":"IFERROR(INDEX($AA$7:$AA$30,SMALL(IF(Q$7:Q$30=$B$36,ROW(Q$7:Q$30)-6),ROW(Q11)-6)),\" \")","v":" "},null,null,{"$f":"IFERROR(INDEX($AA$7:$AA$30,SMALL(IF(W$7:W$30=$E$36,ROW(W$7:W$30)-6),ROW(W11)-6)),\" \")","v":" "},null,null,{"$f":"IFERROR(INDEX($AA$7:$AA$30,SMALL(IF(L$7:L$30=$H$36,ROW(L$7:L$30)-6),ROW(L11)-6)),\" \")","v":"C Louderback, 23"}]
[null,null,{"$f":"IFERROR(INDEX($B12:B$30,SMALL(IF(Q$7:Q$30=$B$36,ROW(Q$7:Q$30)-6),ROW(Q12)-6)),\" \")","v":" "}]
[null,null,{"$f":"TRIM(C36)","v":""},null,null,{"$f":"TRIM(F36)","v":""},null,null,{"$f":"TRIM(I36)","v":"P Watt, 24"}]
[null,null,{"$f":"TRIM(C37)","v":""},null,null,{"$f":"TRIM(F37)","v":""},null,null,{"$f":"TRIM(I37)","v":"D Barritt, 20"}]
[null,null,"",null,null,"",null,null,"D Butts, 14"]
[null,null,"",null,null,"",null,null,"J Caylor, 12"]
[null,null,"",null,null,"",null,null,"C Louderback, 23"]
[]
[]
[null,{"$f":"COUNTIF(C42:C46,\"?*\")","v":0},null,null,{"$f":"COUNTIF(F42:F46,\"?*\")","v":0},null,null,{"$f":"COUNTIF(I42:I46,\"?*\")","v":5}]

{"sheet":"game1 (32)","index":34,"n_rows":49,"n_cols":27,"rows_kept":49,"merged":[[0,6,0,11],[1,2,1,5],[1,7,1,9],[1,10,1,12],[32,2,32,17]]}
[]
[{"$f":"IF(AND(Roster!$D$1=VLOOKUP(C2,Roster!$L$5:$R$72,2,FALSE),Roster!$D$3=VLOOKUP(C2,Roster!$L$5:$R$72,4,FALSE)),\"R\",\"\")","v":{"$error":"#N/A"}},"Opponent",{"$nulls":5},"Date of Game",{"$nulls":15},{"$f":"IF(OR($H$4=1,$J$4=1),CONCATENATE($C$2,\": \",MONTH($K$2),\"/\",DAY($K$2),\"/\",YEAR($K$2)-2000, \" **\" ),CONCATENATE($C$2,\": \",MONTH($K$2),\"/\",DAY($K$2),\"/\",YEAR($K$2)-2000))","v":": 1/0/-100"},null,9]
[{"$nulls":6},"Win","Conf W","Loss","Conf L",null,"Forfeit W?",null,"Forfeit L?",{"$nulls":9},{"$f":"IF($C$4>$D$4,CONCATENATE(Roster!$B$1,\" \",$C$4,\", \",$C$2,\" \",$D$4, \" \",$E$4),CONCATENATE($C$2,\" \",$D$4,\", \",Roster!$B$1,\" \",$C$4,\" \", $E$4 ))","v":" , Upton  "}]
[null,"Score",{"$nulls":4},{"$f":"IF(OR($L$4=1,$C$4>$D$4),1,\"\")","v":""},null,{"$f":"IF(OR($N$4=1,$C$4<$D$4),1,\"\")","v":""}]
[]
["#","PLAYER","GP","3FGM","3FGA","2FGM","2FGA","FTM","FTA","OFF REB","DEF REB","AST","STL","BLK","TO","FOUL","TL PTS","3FG %","2FG %","FT %","FG%","FGA","REB","Elig FG%","Elig FT%","Name2","FI,LastName,#"]
[{"$f":"IF(Roster!A7<>\"\",Roster!A7,\"\")","v":24},{"$f":"IF(OR(Roster!A7<>\"\",Roster!B7<>\"\"),PROPER(Roster!B7),\"\")","v":"Payton Watt"},{"$nulls":14},{"$f":"IF(H7+2*F7+3*D7>0,H7+2*F7+3*D7,\"\")","v":""},{"$f":"IF(E7>0,D7/E7,\"\")","v":""},{"$f":"IF(G7>0,F7/G7,\"\")","v":""},{"$f":"IF(I7>0,H7/I7,\"\")","v":""},{"$f":"IF(OR(E7>0,G7 >0),(D7+F7)/(E7+G7),\"\")","v":""},{"$f":"IF(E7+G7>0,E7+G7,\"\")","v":""},{"$f":"IF(J7+K7>0,J7+K7,\"\")","v":""},{"$f":"IF(V7>=$Z$2,U7,0)","v":""},{"$f":"IF(I7>=$Z$2,T7,0)","v":{"v":0,"d":"0%"}},{"$f":"B7","v":"Payton Watt"},{"$f":"IFERROR(IF(FIND(\" \",$B7,1),CONCATENATE(LEFT($B7,1),\" \",RIGHT($B7,LEN($B7)-FIND(\" \",$B7,1)),\", \",$A7),CONCATENATE($B7,\", \",$A7)),\"\")","v":"P Watt, 24"}]
[{"$f":"IF(Roster!A8<>\"\",Roster!A8,\"\")","v":20},{"$f":"IF(OR(Roster!A8<>\"\",Roster!B8<>\"\"),PROPER(Roster!B8),\"\")","v":"Dillon Barritt"},{"$nulls":14},{"$f":"IF(H8+2*F8+3*D8>0,H8+2*F8+3*D8,\"\")","v":""},{"$f":"IF(E8>0,D8/E8,\"\")","v":""},{"$f":"IF(G8>0,F8/G8,\"\")","v":""},{"$f":"IF(I8>0,H8/I8,\"\")","v":""},{"$f":"IF(OR(E8>0,G8 >0),(D8+F8)/(E8+G8),\"\")","v":""},{"$f":"IF(E8+G8>0,E8+G8,\"\")","v":""},{"$f":"IF(J8+K8>0,J8+K8,\"\")","v":""},{"$f":"IF(V8>=$Z$2,U8,0)","v":""},{"$f":"IF(I8>=$Z$2,T8,0)","v":{"v":0,"d":"0%"}},{"$f":"B8","v":"Dillon Barritt"},{"$f":"IFERROR(IF(FIND(\" \",$B8,1),CONCATENATE(LEFT($B8,1),\" \",RIGHT($B8,LEN($B8)-FIND(\" \",$B8,1)),\", \",$A8),CONCATENATE($B8,\", \",$A8)),\"\")","v":"D Barritt, 20"}]
[{"$f":"IF(Roster!A9<>\"\",Roster!A9,\"\")","v":14},{"$f":"IF(OR(Roster!A9<>\"\",Roster!B9<>\"\"),PROPER(Roster!B9),\"\")","v":"Dawson Butts"},{"$nulls":14},"","","","","","","","",{"v":0,"d":"0%"},"Dawson Butts","D Butts, 14"]
[{"$f":"IF(Roster!A10<>\"\",Roster!A10,\"\")","v":12},{"$f":"IF(OR(Roster!A10<>\"\",Roster!B10<>\"\"),PROPER(Roster!B10),\"\")","v":"Jayden Caylor"},{"$nulls":14},"","","","","","","","",{"v":0,"d":"0%"},"Jayden Caylor","J Caylor, 12"]
[{"$f":"IF(Roster!A11<>\"\",Roster!A11,\"\")","v":23},{"$f":"IF(OR(Roster!A11<>\"\",Roster!B11<>\"\"),PROPER(Roster!B11),\"\")","v":"Clayton Louderback"},{"$nulls":14},"","","","","","","","",{"v":0,"d":"0%"},"Clayton Louderback","C Louderback, 23"]
[{"$f":"IF(Roster!A12<>\"\",Roster!A12,\"\")","v":10},{"$f":"IF(OR(Roster!A12<>\"\",Roster!B12<>\"\"),PROPER(Roster!B12),\"\")","v":"Jess Claycomb"},{"$nulls":14},"","","","","","","","",{"v":0,"d":"0%"},"Jess Claycomb","J Claycomb, 10"]
[{"$f":"IF(Roster!A13<>\"\",Roster!A13,\"\")","v":4},{"$f":"IF(OR(Roster!A13<>\"\",Roster!B13<>\"\"),PROPER(Roster!B13),\"\")","v":"Maxx Cowger"},{"$nulls":14},"","","","","","","","",{"v":0,"d":"0%"},"Maxx Cowger","M Cowger, 4"]
[{"$f":"IF(Roster!A14<>\"\",Roster!A14,\"\")","v":22},{"$f":"IF(OR(Roster!A14<>\"\",Roster!B14<>\"\"),PROPER(Roster!B14),\"\")","v":"Brayden Bruce"},{"$nulls":14},"","","","","","","","",{"v":0,"d":"0%"},"Brayden Bruce","B Bruce, 22"]
[{"$f":"IF(Roster!A15<>\"\",Roster!A15,\"\")","v":30},{"$f":"IF(OR(Roster!A15<>\"\",Roster!B15<>\"\"),PROPER(Roster!B15),\"\")","v":"Jo Bishop"},{"$nulls":14},"","","","","","","","",{"v":0,"d":"0%"},"Jo Bishop","J Bishop, 30"]
[{"$f":"IF(Roster!A16<>\"\",Roster!A16,\"\")","v":33},{"$f":"IF(OR(Roster!A16<>\"\",Roster!B16<>\"\"),PROPER(Roster!B16),\"\")","v":"Nolan Turner"},{"$nulls":14},"","","","","","","","",{"v":0,"d":"0%"},"Nolan Turner","N Turner, 33"]
[{"$f":"IF(Roster!A17<>\"\",Roster!A17,\"\")","v":32},{"$f":"IF(OR(Roster!A17<>\"\",Roster!B17<>\"\"),PROPER(Roster!B17),\"\")","v":"Robert Crawford"},{"$nulls":14},"","","","","","","","",{"v":0,"d":"0%"},"Robert Crawford","R Crawford, 32"]
[{"$f":"IF(Roster!A18<>\"\",Roster!A18,\"\")","v":40},{"$f":"IF(OR(Roster!A18<>\"\",Roster!B18<>\"\"),PROPER(Roster!B18),\"\")","v":"Jace Bruce"},{"$nulls":14},"","","","","","","","",{"v":0,"d":"0%"},"Jace Bruce","J Bruce, 40"]
[{"$f":"IF(Roster!A19<>\"\",Roster!A19,\"\")","v":2},{"$f":"IF(OR(Roster!A19<>\"\",Roster!B19<>\"\"),PROPER(Roster!B19),\"\")","v":"Ethan Mills"},{"$nulls":14},"","","","","","","","",{"v":0,"d":"0%"},"Ethan Mills","E Mills, 2"]
[{"$f":"IF(Roster!A20<>\"\",Roster!A20,\"\")","v":2},{"$f":"IF(OR(Roster!A20<>\"\",Roster!B20<>\"\"),PROPER(Roster!B20),\"\")","v":"Bridger Alishouse"},{"$nulls":14},"","","","","","","","",{"v":0,"d":"0%"},"Bridger Alishouse","B Alishouse, 2"]
[{"$f":"IF(Roster!A21<>\"\",Roster!A21,\"\")","v":4},{"$f":"IF(OR(Roster!A21<>\"\",Roster!B21<>\"\"),PROPER(Roster!B21),\"\")","v":"Landon Keever"},{"$nulls":14},"","","","","","","","",{"v":0,"d":"0%"},"Landon Keever","L Keever, 4"]
[{"$f":"IF(Roster!A22<>\"\",Roster!A22,\"\")","v":4},{"$f":"IF(OR(Roster!A22<>\"\",Roster!B22<>\"\"),PROPER(Roster!B22),\"\")","v":"Dj Till"},{"$nulls":14},"","","","","","","","",{"v":0,"d":"0%"},"Dj Till","D Till, 4"]
[{"$f":"IF(Roster!A23<>\"\",Roster!A23,\"\")","v":""},{"$f":"IF(OR(Roster!A23<>\"\",Roster!B23<>\"\"),PROPER(Roster!B23),\"\")","v":""},{"$nulls":14},"","","","","","","","",{"v":0,"d":"0%"},"",""]
[{"$f":"IF(Roster!A24<>\"\",Roster!A24,\"\")","v":""},{"$f":"IF(OR(Roster!A24<>\"\",Roster!B24<>\"\"),PROPER(Roster!B24),\"\")","v":""},{"$nulls":14},"","","","","","","","",{"v":0,"d":"0%"},"",""]
[{"$f":"IF(Roster!A25<>\"\",Roster!A25,\"\")","v":""},{"$f":"IF(OR(Roster!A25<>\"\",Roster!B25<>\"\"),PROPER(Roster!B25),\"\")","v":""},{"$nulls":14},"","","","","","","","",{"v":0,"d":"0%"},"",""]
[{"$f":"IF(Roster!A26<>\"\",Roster!A26,\"\")","v":""},{"$f":"IF(OR(Roster!A26<>\"\",Roster!B26<>\"\"),PROPER(Roster!B26),\"\")","v":""},{"$nulls":14},"","","","","","","","",{"v":0,"d":"0%"},"",""]
[{"$f":"IF(Roster!A27<>\"\",Roster!A27,\"\")","v":""},{"$f":"IF(OR(Roster!A27<>\"\",Roster!B27<>\"\"),PROPER(Roster!B27),\"\")","v":""},{"$nulls":14},"","","","","","","","",{"v":0,"d":"0%"},"",""]
[{"$f":"IF(Roster!A28<>\"\",Roster!A28,\"\")","v":""},{"$f":"IF(OR(Roster!A28<>\"\",Roster!B28<>\"\"),PROPER(Roster!B28),\"\")","v":""},{"$nulls":14},"","","","","","","","",{"v":0,"d":"0%"},"",""]
[{"$f":"IF(Roster!A29<>\"\",Roster!A29,\"\")","v":""},{"$f":"IF(OR(Roster!A29<>\"\",Roster!B29<>\"\"),PROPER(Roster!B29),\"\")","v":""},{"$nulls":14},"","","","","","","","",{"v":0,"d":"0%"},"",""]
[{"$f":"IF(Roster!A30<>\"\",Roster!A30,\"\")","v":""},{"$f":"IF(OR(Roster!A30<>\"\",Roster!B30<>\"\"),PROPER(Roster!B30),\"\")","v":"Team"},{"$nulls":14},"","","","","","","","",{"v":0,"d":"0%"},"Team",{"$f":"IFERROR(IF(FIND(\" \",$B30,1),CONCATENATE(LEFT($B30,1),\" \",RIGHT($B30,LEN($B30)-FIND(\" \",$B30,1)),\", \",$A30),CONCATENATE($B30,\", \",$A30)),\"\")","v":""}]
[null,"Team Totals",{"$f":"IF(COUNTA($C$7:$C$30)>0,1,\"\")","v":""},{"$f":"SUM(D7:D30)","v":0},{"$f":"SUM(E7:E30)","v":0},0,0,0,0,0,0,0,0,0,{"$f":"SUM(O7:O30)","v":0},{"$f":"SUM(P7:P30)","v":0},{"$f":"IF(H31+2*F31+3*D31>0,H31+2*F31+3*D31,IF(C4>0,C4,\"\"))","v":""},{"$f":"IF(E31>0,D31/E31,\"\")","v":""},{"$f":"IF(G31>0,F31/G31,\"\")","v":""},{"$f":"IF(I31>0,H31/I31,\"\")","v":""},{"$f":"IF(OR(E31>0,G31 >0),(D31+F31)/(E31+G31),\"\")","v":""},{"$f":"IF(E31+G31>0,E31+G31,\"\")","v":""},{"$f":"IF(J31+K31>0,J31+K31,\"\")","v":""},"",{"$f":"IF(I31>=$Z$2,T31,0)","v":{"v":0,"d":"0%"}}]
[null,"Opponent Totals",{"$f":"IF(SUM(D32:P32)>0,1,\"\")","v":""},{"$nulls":13},{"$f":"IF(H32+2*F32+3*D32>0,H32+2*F32+3*D32,IF(D4>0,D4,\"\"))","v":""},{"$f":"IF(E32>0,D32/E32,\"\")","v":""},{"$f":"IF(G32>0,F32/G32,\"\")","v":""},{"$f":"IF(I32>0,H32/I32,\"\")","v":""},{"$f":"IF(OR(E32>0,G32 >0),(D32+F32)/(E32+G32),\"\")","v":""},{"$f":"IF(E32+G32>0,E32+G32,\"\")","v":""},{"$f":"IF(J32+K32>0,J32+K32,\"\")","v":""},"",{"v":0,"d":"0%"}]
[null,null,"Peak Performances"]
[]
[null,"Top Points","Player",null,"Top REB","Player",null,"Top AST","Player"]
[null,{"$f":"MAX(Q$7:Q$30)","v":0},{"$f":"IFERROR(INDEX($AA$7:$AA$30,SMALL(IF(Q$7:Q$30=$B$36,ROW(Q$7:Q$30)-6),ROW(Q7)-6)),\" \")","v":" "},null,{"$f":"MAX(W$7:W$30)","v":0},{"$f":"IFERROR(INDEX($AA$7:$AA$30,SMALL(IF(W$7:W$30=$E$36,ROW(W$7:W$30)-6),ROW(W7)-6)),\" \")","v":" "},null,{"$f":"MAX(L$7:L$30)","v":0},{"$f":"IFERROR(INDEX($AA$7:$AA$30,SMALL(IF(L$7:L$30=$H$36,ROW(L$7:L$30)-6),ROW(L7)-6)),\" \")","v":"P Watt, 24"}]
[null,null,{"$f":"IFERROR(INDEX($AA$7:$AA$30,SMALL(IF(Q$7:Q$30=$B$36,ROW(Q$7:Q$30)-6),ROW(Q8)-6)),\" \")","v":" "},null,null,{"$f":"IFERROR(INDEX($AA$7:$AA$30,SMALL(IF(W$7:W$30=$E$36,ROW(W$7:W$30)-6),ROW(W8)-6)),\" \")","v":" "},null,null,{"$f":"IFERROR(INDEX($AA$7:$AA$30,SMALL(IF(L$7:L$30=$H$36,ROW(L$7:L$30)-6),ROW(L8)-6)),\" \")","v":"D Barritt, 20"}]
[null,null,{"$f":"IFERROR(INDEX($AA$7:$AA$30,SMALL(IF(Q$7:Q$30=$B$36,ROW(Q$7:Q$30)-6),ROW(Q9)-6)),\" \")","v":" "},null,null,{"$f":"IFERROR(INDEX($AA$7:$AA$30,SMALL(IF(W$7:W$30=$E$36,ROW(W$7:W$30)-6),ROW(W9)-6)),\" \")","v":" "},null,null,{"$f":"IFERROR(INDEX($AA$7:$AA$30,SMALL(IF(L$7:L$30=$H$36,ROW(L$7:L$30)-6),ROW(L9)-6)),\" \")","v":"D Butts, 14"}]
[null,null,{"$f":"IFERROR(INDEX($AA$7:$AA$30,SMALL(IF(Q$7:Q$30=$B$36,ROW(Q$7:Q$30)-6),ROW(Q10)-6)),\" \")","v":" "},null,null,{"$f":"IFERROR(INDEX($AA$7:$AA$30,SMALL(IF(W$7:W$30=$E$36,ROW(W$7:W$30)-6),ROW(W10)-6)),\" \")","v":" "},null,null,{"$f":"IFERROR(INDEX($AA$7:$AA$30,SMALL(IF(L$7:L$30=$H$36,ROW(L$7:L$30)-6),ROW(L10)-6)),\" \")","v":"J Caylor, 12"}]
[null,null,{"$f":"IFERROR(INDEX($AA$7:$AA$30,SMALL(IF(Q$7:Q$30=$B$36,ROW(Q$7:Q$30)-6),ROW(Q11)-6)),\" \")","v":" "},null,null,{"$f":"IFERROR(INDEX($AA$7:$AA$30,SMALL(IF(W$7:W$30=$E$36,ROW(W$7:W$30)-6),ROW(W11)-6)),\" \")","v":" "},null,null,{"$f":"IFERROR(INDEX($AA$7:$AA$30,SMALL(IF(L$7:L$30=$H$36,ROW(L$7:L$30)-6),ROW(L11)-6)),\" \")","v":"C Louderback, 23"}]
[null,null,{"$f":"IFERROR(INDEX($B12:B$30,SMALL(IF(Q$7:Q$30=$B$36,ROW(Q$7:Q$30)-6),ROW(Q12)-6)),\" \")","v":" "}]
[null,null,{"$f":"TRIM(C36)","v":""},null,null,{"$f":"TRIM(F36)","v":""},null,null,{"$f":"TRIM(I36)","v":"P Watt, 24"}]
[null,null,{"$f":"TRIM(C37)","v":""},null,null,{"$f":"TRIM(F37)","v":""},null,null,{"$f":"TRIM(I37)","v":"D Barritt, 20"}]
[null,null,"",null,null,"",null,null,"D Butts, 14"]
[null,null,"",null,null,"",null,null,"J Caylor, 12"]
[null,null,"",null,null,"",null,null,"C Louderback, 23"]
[]
[]
[null,{"$f":"COUNTIF(C42:C46,\"?*\")","v":0},null,null,{"$f":"COUNTIF(F42:F46,\"?*\")","v":0},null,null,{"$f":"COUNTIF(I42:I46,\"?*\")","v":5}]

{"sheet":"game1 (33)","index":35,"n_rows":49,"n_cols":27,"rows_kept":49,"merged":[[0,6,0,11],[1,2,1,5],[1,7,1,9],[1,10,1,12],[32,2,32,17]]}
[]
[{"$f":"IF(AND(Roster!$D$1=VLOOKUP(C2,Roster!$L$5:$R$72,2,FALSE),Roster!$D$3=VLOOKUP(C2,Roster!$L$5:$R$72,4,FALSE)),\"R\",\"\")","v":{"$error":"#N/A"}},"Opponent",{"$nulls":5},"Date of Game",{"$nulls":15},{"$f":"IF(OR($H$4=1,$J$4=1),CONCATENATE($C$2,\": \",MONTH($K$2),\"/\",DAY($K$2),\"/\",YEAR($K$2)-2000, \" **\" ),CONCATENATE($C$2,\": \",MONTH($K$2),\"/\",DAY($K$2),\"/\",YEAR($K$2)-2000))","v":": 1/0/-100"},null,9]
[{"$nulls":6},"Win","Conf W","Loss","Conf L",null,"Forfeit W?",null,"Forfeit L?",{"$nulls":9},{"$f":"IF($C$4>$D$4,CONCATENATE(Roster!$B$1,\" \",$C$4,\", \",$C$2,\" \",$D$4, \" \",$E$4),CONCATENATE($C$2,\" \",$D$4,\", \",Roster!$B$1,\" \",$C$4,\" \", $E$4 ))","v":" , Upton  "}]
[null,"Score",{"$nulls":4},{"$f":"IF(OR($L$4=1,$C$4>$D$4),1,\"\")","v":""},null,{"$f":"IF(OR($N$4=1,$C$4<$D$4),1,\"\")","v":""}]
[]
["#","PLAYER","GP","3FGM","3FGA","2FGM","2FGA","FTM","FTA","OFF REB","DEF REB","AST","STL","BLK","TO","FOUL","TL PTS","3FG %","2FG %","FT %","FG%","FGA","REB","Elig FG%","Elig FT%","Name2","FI,LastName,#"]
[{"$f":"IF(Roster!A7<>\"\",Roster!A7,\"\")","v":24},{"$f":"IF(OR(Roster!A7<>\"\",Roster!B7<>\"\"),PROPER(Roster!B7),\"\")","v":"Payton Watt"},{"$nulls":14},{"$f":"IF(H7+2*F7+3*D7>0,H7+2*F7+3*D7,\"\")","v":""},{"$f":"IF(E7>0,D7/E7,\"\")","v":""},{"$f":"IF(G7>0,F7/G7,\"\")","v":""},{"$f":"IF(I7>0,H7/I7,\"\")","v":""},{"$f":"IF(OR(E7>0,G7 >0),(D7+F7)/(E7+G7),\"\")","v":""},{"$f":"IF(E7+G7>0,E7+G7,\"\")","v":""},{"$f":"IF(J7+K7>0,J7+K7,\"\")","v":""},{"$f":"IF(V7>=$Z$2,U7,0)","v":""},{"$f":"IF(I7>=$Z$2,T7,0)","v":{"v":0,"d":"0%"}},{"$f":"B7","v":"Payton Watt"},{"$f":"IFERROR(IF(FIND(\" \",$B7,1),CONCATENATE(LEFT($B7,1),\" \",RIGHT($B7,LEN($B7)-FIND(\" \",$B7,1)),\", \",$A7),CONCATENATE($B7,\", \",$A7)),\"\")","v":"P Watt, 24"}]
[{"$f":"IF(Roster!A8<>\"\",Roster!A8,\"\")","v":20},{"$f":"IF(OR(Roster!A8<>\"\",Roster!B8<>\"\"),PROPER(Roster!B8),\"\")","v":"Dillon Barritt"},{"$nulls":14},{"$f":"IF(H8+2*F8+3*D8>0,H8+2*F8+3*D8,\"\")","v":""},{"$f":"IF(E8>0,D8/E8,\"\")","v":""},{"$f":"IF(G8>0,F8/G8,\"\")","v":""},{"$f":"IF(I8>0,H8/I8,\"\")","v":""},{"$f":"IF(OR(E8>0,G8 >0),(D8+F8)/(E8+G8),\"\")","v":""},{"$f":"IF(E8+G8>0,E8+G8,\"\")","v":""},{"$f":"IF(J8+K8>0,J8+K8,\"\")","v":""},{"$f":"IF(V8>=$Z$2,U8,0)","v":""},{"$f":"IF(I8>=$Z$2,T8,0)","v":{"v":0,"d":"0%"}},{"$f":"B8","v":"Dillon Barritt"},{"$f":"IFERROR(IF(FIND(\" \",$B8,1),CONCATENATE(LEFT($B8,1),\" \",RIGHT($B8,LEN($B8)-FIND(\" \",$B8,1)),\", \",$A8),CONCATENATE($B8,\", \",$A8)),\"\")","v":"D Barritt, 20"}]
[{"$f":"IF(Roster!A9<>\"\",Roster!A9,\"\")","v":14},{"$f":"IF(OR(Roster!A9<>\"\",Roster!B9<>\"\"),PROPER(Roster!B9),\"\")","v":"Dawson Butts"},{"$nulls":14},"","","","","","","","",{"v":0,"d":"0%"},"Dawson Butts","D Butts, 14"]
[{"$f":"IF(Roster!A10<>\"\",Roster!A10,\"\")","v":12},{"$f":"IF(OR(Roster!A10<>\"\",Roster!B10<>\"\"),PROPER(Roster!B10),\"\")","v":"Jayden Caylor"},{"$nulls":14},"","","","","","","","",{"v":0,"d":"0%"},"Jayden Caylor","J Caylor, 12"]
[{"$f":"IF(Roster!A11<>\"\",Roster!A11,\"\")","v":23},{"$f":"IF(OR(Roster!A11<>\"\",Roster!B11<>\"\"),PROPER(Roster!B11),\"\")","v":"Clayton Louderback"},{"$nulls":14},"","","","","","","","",{"v":0,"d":"0%"},"Clayton Louderback","C Louderback, 23"]
[{"$f":"IF(Roster!A12<>\"\",Roster!A12,\"\")","v":10},{"$f":"IF(OR(Roster!A12<>\"\",Roster!B12<>\"\"),PROPER(Roster!B12),\"\")","v":"Jess Claycomb"},{"$nulls":14},"","","","","","","","",{"v":0,"d":"0%"},"Jess Claycomb","J Claycomb, 10"]
[{"$f":"IF(Roster!A13<>\"\",Roster!A13,\"\")","v":4},{"$f":"IF(OR(Roster!A13<>\"\",Roster!B13<>\"\"),PROPER(Roster!B13),\"\")","v":"Maxx Cowger"},{"$nulls":14},"","","","","","","","",{"v":0,"d":"0%"},"Maxx Cowger","M Cowger, 4"]
[{"$f":"IF(Roster!A14<>\"\",Roster!A14,\"\")","v":22},{"$f":"IF(OR(Roster!A14<>\"\",Roster!B14<>\"\"),PROPER(Roster!B14),\"\")","v":"Brayden Bruce"},{"$nulls":14},"","","","","","","","",{"v":0,"d":"0%"},"Brayden Bruce","B Bruce, 22"]
[{"$f":"IF(Roster!A15<>\"\",Roster!A15,\"\")","v":30},{"$f":"IF(OR(Roster!A15<>\"\",Roster!B15<>\"\"),PROPER(Roster!B15),\"\")","v":"Jo Bishop"},{"$nulls":14},"","","","","","","","",{"v":0,"d":"0%"},"Jo Bishop","J Bishop, 30"]
[{"$f":"IF(Roster!A16<>\"\",Roster!A16,\"\")","v":33},{"$f":"IF(OR(Roster!A16<>\"\",Roster!B16<>\"\"),PROPER(Roster!B16),\"\")","v":"Nolan Turner"},{"$nulls":14},"","","","","","","","",{"v":0,"d":"0%"},"Nolan Turner","N Turner, 33"]
[{"$f":"IF(Roster!A17<>\"\",Roster!A17,\"\")","v":32},{"$f":"IF(OR(Roster!A17<>\"\",Roster!B17<>\"\"),PROPER(Roster!B17),\"\")","v":"Robert Crawford"},{"$nulls":14},"","","","","","","","",{"v":0,"d":"0%"},"Robert Crawford","R Crawford, 32"]
[{"$f":"IF(Roster!A18<>\"\",Roster!A18,\"\")","v":40},{"$f":"IF(OR(Roster!A18<>\"\",Roster!B18<>\"\"),PROPER(Roster!B18),\"\")","v":"Jace Bruce"},{"$nulls":14},"","","","","","","","",{"v":0,"d":"0%"},"Jace Bruce","J Bruce, 40"]
[{"$f":"IF(Roster!A19<>\"\",Roster!A19,\"\")","v":2},{"$f":"IF(OR(Roster!A19<>\"\",Roster!B19<>\"\"),PROPER(Roster!B19),\"\")","v":"Ethan Mills"},{"$nulls":14},"","","","","","","","",{"v":0,"d":"0%"},"Ethan Mills","E Mills, 2"]
[{"$f":"IF(Roster!A20<>\"\",Roster!A20,\"\")","v":2},{"$f":"IF(OR(Roster!A20<>\"\",Roster!B20<>\"\"),PROPER(Roster!B20),\"\")","v":"Bridger Alishouse"},{"$nulls":14},"","","","","","","","",{"v":0,"d":"0%"},"Bridger Alishouse","B Alishouse, 2"]
[{"$f":"IF(Roster!A21<>\"\",Roster!A21,\"\")","v":4},{"$f":"IF(OR(Roster!A21<>\"\",Roster!B21<>\"\"),PROPER(Roster!B21),\"\")","v":"Landon Keever"},{"$nulls":14},"","","","","","","","",{"v":0,"d":"0%"},"Landon Keever","L Keever, 4"]
[{"$f":"IF(Roster!A22<>\"\",Roster!A22,\"\")","v":4},{"$f":"IF(OR(Roster!A22<>\"\",Roster!B22<>\"\"),PROPER(Roster!B22),\"\")","v":"Dj Till"},{"$nulls":14},"","","","","","","","",{"v":0,"d":"0%"},"Dj Till","D Till, 4"]
[{"$f":"IF(Roster!A23<>\"\",Roster!A23,\"\")","v":""},{"$f":"IF(OR(Roster!A23<>\"\",Roster!B23<>\"\"),PROPER(Roster!B23),\"\")","v":""},{"$nulls":14},"","","","","","","","",{"v":0,"d":"0%"},"",""]
[{"$f":"IF(Roster!A24<>\"\",Roster!A24,\"\")","v":""},{"$f":"IF(OR(Roster!A24<>\"\",Roster!B24<>\"\"),PROPER(Roster!B24),\"\")","v":""},{"$nulls":14},"","","","","","","","",{"v":0,"d":"0%"},"",""]
[{"$f":"IF(Roster!A25<>\"\",Roster!A25,\"\")","v":""},{"$f":"IF(OR(Roster!A25<>\"\",Roster!B25<>\"\"),PROPER(Roster!B25),\"\")","v":""},{"$nulls":14},"","","","","","","","",{"v":0,"d":"0%"},"",""]
[{"$f":"IF(Roster!A26<>\"\",Roster!A26,\"\")","v":""},{"$f":"IF(OR(Roster!A26<>\"\",Roster!B26<>\"\"),PROPER(Roster!B26),\"\")","v":""},{"$nulls":14},"","","","","","","","",{"v":0,"d":"0%"},"",""]
[{"$f":"IF(Roster!A27<>\"\",Roster!A27,\"\")","v":""},{"$f":"IF(OR(Roster!A27<>\"\",Roster!B27<>\"\"),PROPER(Roster!B27),\"\")","v":""},{"$nulls":14},"","","","","","","","",{"v":0,"d":"0%"},"",""]
[{"$f":"IF(Roster!A28<>\"\",Roster!A28,\"\")","v":""},{"$f":"IF(OR(Roster!A28<>\"\",Roster!B28<>\"\"),PROPER(Roster!B28),\"\")","v":""},{"$nulls":14},"","","","","","","","",{"v":0,"d":"0%"},"",""]
[{"$f":"IF(Roster!A29<>\"\",Roster!A29,\"\")","v":""},{"$f":"IF(OR(Roster!A29<>\"\",Roster!B29<>\"\"),PROPER(Roster!B29),\"\")","v":""},{"$nulls":14},"","","","","","","","",{"v":0,"d":"0%"},"",""]
[{"$f":"IF(Roster!A30<>\"\",Roster!A30,\"\")","v":""},{"$f":"IF(OR(Roster!A30<>\"\",Roster!B30<>\"\"),PROPER(Roster!B30),\"\")","v":"Team"},{"$nulls":14},"","","","","","","","",{"v":0,"d":"0%"},"Team",{"$f":"IFERROR(IF(FIND(\" \",$B30,1),CONCATENATE(LEFT($B30,1),\" \",RIGHT($B30,LEN($B30)-FIND(\" \",$B30,1)),\", \",$A30),CONCATENATE($B30,\", \",$A30)),\"\")","v":""}]
[null,"Team Totals",{"$f":"IF(COUNTA($C$7:$C$30)>0,1,\"\")","v":""},{"$f":"SUM(D7:D30)","v":0},{"$f":"SUM(E7:E30)","v":0},0,0,0,0,0,0,0,0,0,{"$f":"SUM(O7:O30)","v":0},{"$f":"SUM(P7:P30)","v":0},{"$f":"IF(H31+2*F31+3*D31>0,H31+2*F31+3*D31,IF(C4>0,C4,\"\"))","v":""},{"$f":"IF(E31>0,D31/E31,\"\")","v":""},{"$f":"IF(G31>0,F31/G31,\"\")","v":""},{"$f":"IF(I31>0,H31/I31,\"\")","v":""},{"$f":"IF(OR(E31>0,G31 >0),(D31+F31)/(E31+G31),\"\")","v":""},{"$f":"IF(E31+G31>0,E31+G31,\"\")","v":""},{"$f":"IF(J31+K31>0,J31+K31,\"\")","v":""},"",{"$f":"IF(I31>=$Z$2,T31,0)","v":{"v":0,"d":"0%"}}]
[null,"Opponent Totals",{"$f":"IF(SUM(D32:P32)>0,1,\"\")","v":""},{"$nulls":13},{"$f":"IF(H32+2*F32+3*D32>0,H32+2*F32+3*D32,IF(D4>0,D4,\"\"))","v":""},{"$f":"IF(E32>0,D32/E32,\"\")","v":""},{"$f":"IF(G32>0,F32/G32,\"\")","v":""},{"$f":"IF(I32>0,H32/I32,\"\")","v":""},{"$f":"IF(OR(E32>0,G32 >0),(D32+F32)/(E32+G32),\"\")","v":""},{"$f":"IF(E32+G32>0,E32+G32,\"\")","v":""},{"$f":"IF(J32+K32>0,J32+K32,\"\")","v":""},"",{"v":0,"d":"0%"}]
[null,null,"Peak Performances"]
[]
[null,"Top Points","Player",null,"Top REB","Player",null,"Top AST","Player"]
[null,{"$f":"MAX(Q$7:Q$30)","v":0},{"$f":"IFERROR(INDEX($AA$7:$AA$30,SMALL(IF(Q$7:Q$30=$B$36,ROW(Q$7:Q$30)-6),ROW(Q7)-6)),\" \")","v":" "},null,{"$f":"MAX(W$7:W$30)","v":0},{"$f":"IFERROR(INDEX($AA$7:$AA$30,SMALL(IF(W$7:W$30=$E$36,ROW(W$7:W$30)-6),ROW(W7)-6)),\" \")","v":" "},null,{"$f":"MAX(L$7:L$30)","v":0},{"$f":"IFERROR(INDEX($AA$7:$AA$30,SMALL(IF(L$7:L$30=$H$36,ROW(L$7:L$30)-6),ROW(L7)-6)),\" \")","v":"P Watt, 24"}]
[null,null,{"$f":"IFERROR(INDEX($AA$7:$AA$30,SMALL(IF(Q$7:Q$30=$B$36,ROW(Q$7:Q$30)-6),ROW(Q8)-6)),\" \")","v":" "},null,null,{"$f":"IFERROR(INDEX($AA$7:$AA$30,SMALL(IF(W$7:W$30=$E$36,ROW(W$7:W$30)-6),ROW(W8)-6)),\" \")","v":" "},null,null,{"$f":"IFERROR(INDEX($AA$7:$AA$30,SMALL(IF(L$7:L$30=$H$36,ROW(L$7:L$30)-6),ROW(L8)-6)),\" \")","v":"D Barritt, 20"}]
[null,null,{"$f":"IFERROR(INDEX($AA$7:$AA$30,SMALL(IF(Q$7:Q$30=$B$36,ROW(Q$7:Q$30)-6),ROW(Q9)-6)),\" \")","v":" "},null,null,{"$f":"IFERROR(INDEX($AA$7:$AA$30,SMALL(IF(W$7:W$30=$E$36,ROW(W$7:W$30)-6),ROW(W9)-6)),\" \")","v":" "},null,null,{"$f":"IFERROR(INDEX($AA$7:$AA$30,SMALL(IF(L$7:L$30=$H$36,ROW(L$7:L$30)-6),ROW(L9)-6)),\" \")","v":"D Butts, 14"}]
[null,null,{"$f":"IFERROR(INDEX($AA$7:$AA$30,SMALL(IF(Q$7:Q$30=$B$36,ROW(Q$7:Q$30)-6),ROW(Q10)-6)),\" \")","v":" "},null,null,{"$f":"IFERROR(INDEX($AA$7:$AA$30,SMALL(IF(W$7:W$30=$E$36,ROW(W$7:W$30)-6),ROW(W10)-6)),\" \")","v":" "},null,null,{"$f":"IFERROR(INDEX($AA$7:$AA$30,SMALL(IF(L$7:L$30=$H$36,ROW(L$7:L$30)-6),ROW(L10)-6)),\" \")","v":"J Caylor, 12"}]
[null,null,{"$f":"IFERROR(INDEX($AA$7:$AA$30,SMALL(IF(Q$7:Q$30=$B$36,ROW(Q$7:Q$30)-6),ROW(Q11)-6)),\" \")","v":" "},null,null,{"$f":"IFERROR(INDEX($AA$7:$AA$30,SMALL(IF(W$7:W$30=$E$36,ROW(W$7:W$30)-6),ROW(W11)-6)),\" \")","v":" "},null,null,{"$f":"IFERROR(INDEX($AA$7:$AA$30,SMALL(IF(L$7:L$30=$H$36,ROW(L$7:L$30)-6),ROW(L11)-6)),\" \")","v":"C Louderback, 23"}]
[null,null,{"$f":"IFERROR(INDEX($B12:B$30,SMALL(IF(Q$7:Q$30=$B$36,ROW(Q$7:Q$30)-6),ROW(Q12)-6)),\" \")","v":" "}]
[null,null,{"$f":"TRIM(C36)","v":""},null,null,{"$f":"TRIM(F36)","v":""},null,null,{"$f":"TRIM(I36)","v":"P Watt, 24"}]
[null,null,{"$f":"TRIM(C37)","v":""},null,null,{"$f":"TRIM(F37)","v":""},null,null,{"$f":"TRIM(I37)","v":"D Barritt, 20"}]
[null,null,"",null,null,"",null,null,"D Butts, 14"]
[null,null,"",null,null,"",null,null,"J Caylor, 12"]
[null,null,"",null,null,"",null,null,"C Louderback, 23"]
[]
[]
[null,{"$f":"COUNTIF(C42:C46,\"?*\")","v":0},null,null,{"$f":"COUNTIF(F42:F46,\"?*\")","v":0},null,null,{"$f":"COUNTIF(I42:I46,\"?*\")","v":5}]

{"sheet":"game1 (34)","index":36,"n_rows":49,"n_cols":27,"rows_kept":49,"merged":[[0,6,0,11],[1,2,1,5],[1,7,1,9],[1,10,1,12],[32,2,32,17]]}
[]
[{"$f":"IF(AND(Roster!$D$1=VLOOKUP(C2,Roster!$L$5:$R$72,2,FALSE),Roster!$D$3=VLOOKUP(C2,Roster!$L$5:$R$72,4,FALSE)),\"R\",\"\")","v":{"$error":"#N/A"}},"Opponent",{"$nulls":5},"Date of Game",{"$nulls":15},{"$f":"IF(OR($H$4=1,$J$4=1),CONCATENATE($C$2,\": \",MONTH($K$2),\"/\",DAY($K$2),\"/\",YEAR($K$2)-2000, \" **\" ),CONCATENATE($C$2,\": \",MONTH($K$2),\"/\",DAY($K$2),\"/\",YEAR($K$2)-2000))","v":": 1/0/-100"},null,9]
[{"$nulls":6},"Win","Conf W","Loss","Conf L",null,"Forfeit W?",null,"Forfeit L?",{"$nulls":9},{"$f":"IF($C$4>$D$4,CONCATENATE(Roster!$B$1,\" \",$C$4,\", \",$C$2,\" \",$D$4, \" \",$E$4),CONCATENATE($C$2,\" \",$D$4,\", \",Roster!$B$1,\" \",$C$4,\" \", $E$4 ))","v":" , Upton  "}]
[null,"Score",{"$nulls":4},{"$f":"IF(OR($L$4=1,$C$4>$D$4),1,\"\")","v":""},null,{"$f":"IF(OR($N$4=1,$C$4<$D$4),1,\"\")","v":""}]
[]
["#","PLAYER","GP","3FGM","3FGA","2FGM","2FGA","FTM","FTA","OFF REB","DEF REB","AST","STL","BLK","TO","FOUL","TL PTS","3FG %","2FG %","FT %","FG%","FGA","REB","Elig FG%","Elig FT%","Name2","FI,LastName,#"]
[{"$f":"IF(Roster!A7<>\"\",Roster!A7,\"\")","v":24},{"$f":"IF(OR(Roster!A7<>\"\",Roster!B7<>\"\"),PROPER(Roster!B7),\"\")","v":"Payton Watt"},{"$nulls":14},{"$f":"IF(H7+2*F7+3*D7>0,H7+2*F7+3*D7,\"\")","v":""},{"$f":"IF(E7>0,D7/E7,\"\")","v":""},{"$f":"IF(G7>0,F7/G7,\"\")","v":""},{"$f":"IF(I7>0,H7/I7,\"\")","v":""},{"$f":"IF(OR(E7>0,G7 >0),(D7+F7)/(E7+G7),\"\")","v":""},{"$f":"IF(E7+G7>0,E7+G7,\"\")","v":""},{"$f":"IF(J7+K7>0,J7+K7,\"\")","v":""},{"$f":"IF(V7>=$Z$2,U7,0)","v":""},{"$f":"IF(I7>=$Z$2,T7,0)","v":{"v":0,"d":"0%"}},{"$f":"B7","v":"Payton Watt"},{"$f":"IFERROR(IF(FIND(\" \",$B7,1),CONCATENATE(LEFT($B7,1),\" \",RIGHT($B7,LEN($B7)-FIND(\" \",$B7,1)),\", \",$A7),CONCATENATE($B7,\", \",$A7)),\"\")","v":"P Watt, 24"}]
[{"$f":"IF(Roster!A8<>\"\",Roster!A8,\"\")","v":20},{"$f":"IF(OR(Roster!A8<>\"\",Roster!B8<>\"\"),PROPER(Roster!B8),\"\")","v":"Dillon Barritt"},{"$nulls":14},{"$f":"IF(H8+2*F8+3*D8>0,H8+2*F8+3*D8,\"\")","v":""},{"$f":"IF(E8>0,D8/E8,\"\")","v":""},{"$f":"IF(G8>0,F8/G8,\"\")","v":""},{"$f":"IF(I8>0,H8/I8,\"\")","v":""},{"$f":"IF(OR(E8>0,G8 >0),(D8+F8)/(E8+G8),\"\")","v":""},{"$f":"IF(E8+G8>0,E8+G8,\"\")","v":""},{"$f":"IF(J8+K8>0,J8+K8,\"\")","v":""},{"$f":"IF(V8>=$Z$2,U8,0)","v":""},{"$f":"IF(I8>=$Z$2,T8,0)","v":{"v":0,"d":"0%"}},{"$f":"B8","v":"Dillon Barritt"},{"$f":"IFERROR(IF(FIND(\" \",$B8,1),CONCATENATE(LEFT($B8,1),\" \",RIGHT($B8,LEN($B8)-FIND(\" \",$B8,1)),\", \",$A8),CONCATENATE($B8,\", \",$A8)),\"\")","v":"D Barritt, 20"}]
[{"$f":"IF(Roster!A9<>\"\",Roster!A9,\"\")","v":14},{"$f":"IF(OR(Roster!A9<>\"\",Roster!B9<>\"\"),PROPER(Roster!B9),\"\")","v":"Dawson Butts"},{"$nulls":14},"","","","","","","","",{"v":0,"d":"0%"},"Dawson Butts","D Butts, 14"]
[{"$f":"IF(Roster!A10<>\"\",Roster!A10,\"\")","v":12},{"$f":"IF(OR(Roster!A10<>\"\",Roster!B10<>\"\"),PROPER(Roster!B10),\"\")","v":"Jayden Caylor"},{"$nulls":14},"","","","","","","","",{"v":0,"d":"0%"},"Jayden Caylor","J Caylor, 12"]
[{"$f":"IF(Roster!A11<>\"\",Roster!A11,\"\")","v":23},{"$f":"IF(OR(Roster!A11<>\"\",Roster!B11<>\"\"),PROPER(Roster!B11),\"\")","v":"Clayton Louderback"},{"$nulls":14},"","","","","","","","",{"v":0,"d":"0%"},"Clayton Louderback","C Louderback, 23"]
[{"$f":"IF(Roster!A12<>\"\",Roster!A12,\"\")","v":10},{"$f":"IF(OR(Roster!A12<>\"\",Roster!B12<>\"\"),PROPER(Roster!B12),\"\")","v":"Jess Claycomb"},{"$nulls":14},"","","","","","","","",{"v":0,"d":"0%"},"Jess Claycomb","J Claycomb, 10"]
[{"$f":"IF(Roster!A13<>\"\",Roster!A13,\"\")","v":4},{"$f":"IF(OR(Roster!A13<>\"\",Roster!B13<>\"\"),PROPER(Roster!B13),\"\")","v":"Maxx Cowger"},{"$nulls":14},"","","","","","","","",{"v":0,"d":"0%"},"Maxx Cowger","M Cowger, 4"]
[{"$f":"IF(Roster!A14<>\"\",Roster!A14,\"\")","v":22},{"$f":"IF(OR(Roster!A14<>\"\",Roster!B14<>\"\"),PROPER(Roster!B14),\"\")","v":"Brayden Bruce"},{"$nulls":14},"","","","","","","","",{"v":0,"d":"0%"},"Brayden Bruce","B Bruce, 22"]
[{"$f":"IF(Roster!A15<>\"\",Roster!A15,\"\")","v":30},{"$f":"IF(OR(Roster!A15<>\"\",Roster!B15<>\"\"),PROPER(Roster!B15),\"\")","v":"Jo Bishop"},{"$nulls":14},"","","","","","","","",{"v":0,"d":"0%"},"Jo Bishop","J Bishop, 30"]
[{"$f":"IF(Roster!A16<>\"\",Roster!A16,\"\")","v":33},{"$f":"IF(OR(Roster!A16<>\"\",Roster!B16<>\"\"),PROPER(Roster!B16),\"\")","v":"Nolan Turner"},{"$nulls":14},"","","","","","","","",{"v":0,"d":"0%"},"Nolan Turner","N Turner, 33"]
[{"$f":"IF(Roster!A17<>\"\",Roster!A17,\"\")","v":32},{"$f":"IF(OR(Roster!A17<>\"\",Roster!B17<>\"\"),PROPER(Roster!B17),\"\")","v":"Robert Crawford"},{"$nulls":14},"","","","","","","","",{"v":0,"d":"0%"},"Robert Crawford","R Crawford, 32"]
[{"$f":"IF(Roster!A18<>\"\",Roster!A18,\"\")","v":40},{"$f":"IF(OR(Roster!A18<>\"\",Roster!B18<>\"\"),PROPER(Roster!B18),\"\")","v":"Jace Bruce"},{"$nulls":14},"","","","","","","","",{"v":0,"d":"0%"},"Jace Bruce","J Bruce, 40"]
[{"$f":"IF(Roster!A19<>\"\",Roster!A19,\"\")","v":2},{"$f":"IF(OR(Roster!A19<>\"\",Roster!B19<>\"\"),PROPER(Roster!B19),\"\")","v":"Ethan Mills"},{"$nulls":14},"","","","","","","","",{"v":0,"d":"0%"},"Ethan Mills","E Mills, 2"]
[{"$f":"IF(Roster!A20<>\"\",Roster!A20,\"\")","v":2},{"$f":"IF(OR(Roster!A20<>\"\",Roster!B20<>\"\"),PROPER(Roster!B20),\"\")","v":"Bridger Alishouse"},{"$nulls":14},"","","","","","","","",{"v":0,"d":"0%"},"Bridger Alishouse","B Alishouse, 2"]
[{"$f":"IF(Roster!A21<>\"\",Roster!A21,\"\")","v":4},{"$f":"IF(OR(Roster!A21<>\"\",Roster!B21<>\"\"),PROPER(Roster!B21),\"\")","v":"Landon Keever"},{"$nulls":14},"","","","","","","","",{"v":0,"d":"0%"},"Landon Keever","L Keever, 4"]
[{"$f":"IF(Roster!A22<>\"\",Roster!A22,\"\")","v":4},{"$f":"IF(OR(Roster!A22<>\"\",Roster!B22<>\"\"),PROPER(Roster!B22),\"\")","v":"Dj Till"},{"$nulls":14},"","","","","","","","",{"v":0,"d":"0%"},"Dj Till","D Till, 4"]
[{"$f":"IF(Roster!A23<>\"\",Roster!A23,\"\")","v":""},{"$f":"IF(OR(Roster!A23<>\"\",Roster!B23<>\"\"),PROPER(Roster!B23),\"\")","v":""},{"$nulls":14},"","","","","","","","",{"v":0,"d":"0%"},"",""]
[{"$f":"IF(Roster!A24<>\"\",Roster!A24,\"\")","v":""},{"$f":"IF(OR(Roster!A24<>\"\",Roster!B24<>\"\"),PROPER(Roster!B24),\"\")","v":""},{"$nulls":14},"","","","","","","","",{"v":0,"d":"0%"},"",""]
[{"$f":"IF(Roster!A25<>\"\",Roster!A25,\"\")","v":""},{"$f":"IF(OR(Roster!A25<>\"\",Roster!B25<>\"\"),PROPER(Roster!B25),\"\")","v":""},{"$nulls":14},"","","","","","","","",{"v":0,"d":"0%"},"",""]
[{"$f":"IF(Roster!A26<>\"\",Roster!A26,\"\")","v":""},{"$f":"IF(OR(Roster!A26<>\"\",Roster!B26<>\"\"),PROPER(Roster!B26),\"\")","v":""},{"$nulls":14},"","","","","","","","",{"v":0,"d":"0%"},"",""]
[{"$f":"IF(Roster!A27<>\"\",Roster!A27,\"\")","v":""},{"$f":"IF(OR(Roster!A27<>\"\",Roster!B27<>\"\"),PROPER(Roster!B27),\"\")","v":""},{"$nulls":14},"","","","","","","","",{"v":0,"d":"0%"},"",""]
[{"$f":"IF(Roster!A28<>\"\",Roster!A28,\"\")","v":""},{"$f":"IF(OR(Roster!A28<>\"\",Roster!B28<>\"\"),PROPER(Roster!B28),\"\")","v":""},{"$nulls":14},"","","","","","","","",{"v":0,"d":"0%"},"",""]
[{"$f":"IF(Roster!A29<>\"\",Roster!A29,\"\")","v":""},{"$f":"IF(OR(Roster!A29<>\"\",Roster!B29<>\"\"),PROPER(Roster!B29),\"\")","v":""},{"$nulls":14},"","","","","","","","",{"v":0,"d":"0%"},"",""]
[{"$f":"IF(Roster!A30<>\"\",Roster!A30,\"\")","v":""},{"$f":"IF(OR(Roster!A30<>\"\",Roster!B30<>\"\"),PROPER(Roster!B30),\"\")","v":"Team"},{"$nulls":14},"","","","","","","","",{"v":0,"d":"0%"},"Team",{"$f":"IFERROR(IF(FIND(\" \",$B30,1),CONCATENATE(LEFT($B30,1),\" \",RIGHT($B30,LEN($B30)-FIND(\" \",$B30,1)),\", \",$A30),CONCATENATE($B30,\", \",$A30)),\"\")","v":""}]
[null,"Team Totals",{"$f":"IF(COUNTA($C$7:$C$30)>0,1,\"\")","v":""},{"$f":"SUM(D7:D30)","v":0},{"$f":"SUM(E7:E30)","v":0},0,0,0,0,0,0,0,0,0,{"$f":"SUM(O7:O30)","v":0},{"$f":"SUM(P7:P30)","v":0},{"$f":"IF(H31+2*F31+3*D31>0,H31+2*F31+3*D31,IF(C4>0,C4,\"\"))","v":""},{"$f":"IF(E31>0,D31/E31,\"\")","v":""},{"$f":"IF(G31>0,F31/G31,\"\")","v":""},{"$f":"IF(I31>0,H31/I31,\"\")","v":""},{"$f":"IF(OR(E31>0,G31 >0),(D31+F31)/(E31+G31),\"\")","v":""},{"$f":"IF(E31+G31>0,E31+G31,\"\")","v":""},{"$f":"IF(J31+K31>0,J31+K31,\"\")","v":""},"",{"$f":"IF(I31>=$Z$2,T31,0)","v":{"v":0,"d":"0%"}}]
[null,"Opponent Totals",{"$f":"IF(SUM(D32:P32)>0,1,\"\")","v":""},{"$nulls":13},{"$f":"IF(H32+2*F32+3*D32>0,H32+2*F32+3*D32,IF(D4>0,D4,\"\"))","v":""},{"$f":"IF(E32>0,D32/E32,\"\")","v":""},{"$f":"IF(G32>0,F32/G32,\"\")","v":""},{"$f":"IF(I32>0,H32/I32,\"\")","v":""},{"$f":"IF(OR(E32>0,G32 >0),(D32+F32)/(E32+G32),\"\")","v":""},{"$f":"IF(E32+G32>0,E32+G32,\"\")","v":""},{"$f":"IF(J32+K32>0,J32+K32,\"\")","v":""},"",{"v":0,"d":"0%"}]
[null,null,"Peak Performances"]
[]
[null,"Top Points","Player",null,"Top REB","Player",null,"Top AST","Player"]
[null,{"$f":"MAX(Q$7:Q$30)","v":0},{"$f":"IFERROR(INDEX($AA$7:$AA$30,SMALL(IF(Q$7:Q$30=$B$36,ROW(Q$7:Q$30)-6),ROW(Q7)-6)),\" \")","v":" "},null,{"$f":"MAX(W$7:W$30)","v":0},{"$f":"IFERROR(INDEX($AA$7:$AA$30,SMALL(IF(W$7:W$30=$E$36,ROW(W$7:W$30)-6),ROW(W7)-6)),\" \")","v":" "},null,{"$f":"MAX(L$7:L$30)","v":0},{"$f":"IFERROR(INDEX($AA$7:$AA$30,SMALL(IF(L$7:L$30=$H$36,ROW(L$7:L$30)-6),ROW(L7)-6)),\" \")","v":"P Watt, 24"}]
[null,null,{"$f":"IFERROR(INDEX($AA$7:$AA$30,SMALL(IF(Q$7:Q$30=$B$36,ROW(Q$7:Q$30)-6),ROW(Q8)-6)),\" \")","v":" "},null,null,{"$f":"IFERROR(INDEX($AA$7:$AA$30,SMALL(IF(W$7:W$30=$E$36,ROW(W$7:W$30)-6),ROW(W8)-6)),\" \")","v":" "},null,null,{"$f":"IFERROR(INDEX($AA$7:$AA$30,SMALL(IF(L$7:L$30=$H$36,ROW(L$7:L$30)-6),ROW(L8)-6)),\" \")","v":"D Barritt, 20"}]
[null,null,{"$f":"IFERROR(INDEX($AA$7:$AA$30,SMALL(IF(Q$7:Q$30=$B$36,ROW(Q$7:Q$30)-6),ROW(Q9)-6)),\" \")","v":" "},null,null,{"$f":"IFERROR(INDEX($AA$7:$AA$30,SMALL(IF(W$7:W$30=$E$36,ROW(W$7:W$30)-6),ROW(W9)-6)),\" \")","v":" "},null,null,{"$f":"IFERROR(INDEX($AA$7:$AA$30,SMALL(IF(L$7:L$30=$H$36,ROW(L$7:L$30)-6),ROW(L9)-6)),\" \")","v":"D Butts, 14"}]
[null,null,{"$f":"IFERROR(INDEX($AA$7:$AA$30,SMALL(IF(Q$7:Q$30=$B$36,ROW(Q$7:Q$30)-6),ROW(Q10)-6)),\" \")","v":" "},null,null,{"$f":"IFERROR(INDEX($AA$7:$AA$30,SMALL(IF(W$7:W$30=$E$36,ROW(W$7:W$30)-6),ROW(W10)-6)),\" \")","v":" "},null,null,{"$f":"IFERROR(INDEX($AA$7:$AA$30,SMALL(IF(L$7:L$30=$H$36,ROW(L$7:L$30)-6),ROW(L10)-6)),\" \")","v":"J Caylor, 12"}]
[null,null,{"$f":"IFERROR(INDEX($AA$7:$AA$30,SMALL(IF(Q$7:Q$30=$B$36,ROW(Q$7:Q$30)-6),ROW(Q11)-6)),\" \")","v":" "},null,null,{"$f":"IFERROR(INDEX($AA$7:$AA$30,SMALL(IF(W$7:W$30=$E$36,ROW(W$7:W$30)-6),ROW(W11)-6)),\" \")","v":" "},null,null,{"$f":"IFERROR(INDEX($AA$7:$AA$30,SMALL(IF(L$7:L$30=$H$36,ROW(L$7:L$30)-6),ROW(L11)-6)),\" \")","v":"C Louderback, 23"}]
[null,null,{"$f":"IFERROR(INDEX($B12:B$30,SMALL(IF(Q$7:Q$30=$B$36,ROW(Q$7:Q$30)-6),ROW(Q12)-6)),\" \")","v":" "}]
[null,null,{"$f":"TRIM(C36)","v":""},null,null,{"$f":"TRIM(F36)","v":""},null,null,{"$f":"TRIM(I36)","v":"P Watt, 24"}]
[null,null,{"$f":"TRIM(C37)","v":""},null,null,{"$f":"TRIM(F37)","v":""},null,null,{"$f":"TRIM(I37)","v":"D Barritt, 20"}]
[null,null,"",null,null,"",null,null,"D Butts, 14"]
[null,null,"",null,null,"",null,null,"J Caylor, 12"]
[null,null,"",null,null,"",null,null,"C Louderback, 23"]
[]
[]
[null,{"$f":"COUNTIF(C42:C46,\"?*\")","v":0},null,null,{"$f":"COUNTIF(F42:F46,\"?*\")","v":0},null,null,{"$f":"COUNTIF(I42:I46,\"?*\")","v":5}]

{"sheet":"game1 (35)","index":37,"n_rows":49,"n_cols":27,"rows_kept":49,"merged":[[0,6,0,11],[1,2,1,5],[1,7,1,9],[1,10,1,12],[32,2,32,17]]}
[]
[{"$f":"IF(AND(Roster!$D$1=VLOOKUP(C2,Roster!$L$5:$R$72,2,FALSE),Roster!$D$3=VLOOKUP(C2,Roster!$L$5:$R$72,4,FALSE)),\"R\",\"\")","v":{"$error":"#N/A"}},"Opponent",{"$nulls":5},"Date of Game",{"$nulls":15},{"$f":"IF(OR($H$4=1,$J$4=1),CONCATENATE($C$2,\": \",MONTH($K$2),\"/\",DAY($K$2),\"/\",YEAR($K$2)-2000, \" **\" ),CONCATENATE($C$2,\": \",MONTH($K$2),\"/\",DAY($K$2),\"/\",YEAR($K$2)-2000))","v":": 1/0/-100"},null,9]
[{"$nulls":6},"Win","Conf W","Loss","Conf L",null,"Forfeit W?",null,"Forfeit L?",{"$nulls":9},{"$f":"IF($C$4>$D$4,CONCATENATE(Roster!$B$1,\" \",$C$4,\", \",$C$2,\" \",$D$4, \" \",$E$4),CONCATENATE($C$2,\" \",$D$4,\", \",Roster!$B$1,\" \",$C$4,\" \", $E$4 ))","v":" , Upton  "}]
[null,"Score",{"$nulls":4},{"$f":"IF(OR($L$4=1,$C$4>$D$4),1,\"\")","v":""},null,{"$f":"IF(OR($N$4=1,$C$4<$D$4),1,\"\")","v":""}]
[]
["#","PLAYER","GP","3FGM","3FGA","2FGM","2FGA","FTM","FTA","OFF REB","DEF REB","AST","STL","BLK","TO","FOUL","TL PTS","3FG %","2FG %","FT %","FG%","FGA","REB","Elig FG%","Elig FT%","Name2","FI,LastName,#"]
[{"$f":"IF(Roster!A7<>\"\",Roster!A7,\"\")","v":24},{"$f":"IF(OR(Roster!A7<>\"\",Roster!B7<>\"\"),PROPER(Roster!B7),\"\")","v":"Payton Watt"},{"$nulls":14},{"$f":"IF(H7+2*F7+3*D7>0,H7+2*F7+3*D7,\"\")","v":""},{"$f":"IF(E7>0,D7/E7,\"\")","v":""},{"$f":"IF(G7>0,F7/G7,\"\")","v":""},{"$f":"IF(I7>0,H7/I7,\"\")","v":""},{"$f":"IF(OR(E7>0,G7 >0),(D7+F7)/(E7+G7),\"\")","v":""},{"$f":"IF(E7+G7>0,E7+G7,\"\")","v":""},{"$f":"IF(J7+K7>0,J7+K7,\"\")","v":""},{"$f":"IF(V7>=$Z$2,U7,0)","v":""},{"$f":"IF(I7>=$Z$2,T7,0)","v":{"v":0,"d":"0%"}},{"$f":"B7","v":"Payton Watt"},{"$f":"IFERROR(IF(FIND(\" \",$B7,1),CONCATENATE(LEFT($B7,1),\" \",RIGHT($B7,LEN($B7)-FIND(\" \",$B7,1)),\", \",$A7),CONCATENATE($B7,\", \",$A7)),\"\")","v":"P Watt, 24"}]
[{"$f":"IF(Roster!A8<>\"\",Roster!A8,\"\")","v":20},{"$f":"IF(OR(Roster!A8<>\"\",Roster!B8<>\"\"),PROPER(Roster!B8),\"\")","v":"Dillon Barritt"},{"$nulls":14},{"$f":"IF(H8+2*F8+3*D8>0,H8+2*F8+3*D8,\"\")","v":""},{"$f":"IF(E8>0,D8/E8,\"\")","v":""},{"$f":"IF(G8>0,F8/G8,\"\")","v":""},{"$f":"IF(I8>0,H8/I8,\"\")","v":""},{"$f":"IF(OR(E8>0,G8 >0),(D8+F8)/(E8+G8),\"\")","v":""},{"$f":"IF(E8+G8>0,E8+G8,\"\")","v":""},{"$f":"IF(J8+K8>0,J8+K8,\"\")","v":""},{"$f":"IF(V8>=$Z$2,U8,0)","v":""},{"$f":"IF(I8>=$Z$2,T8,0)","v":{"v":0,"d":"0%"}},{"$f":"B8","v":"Dillon Barritt"},{"$f":"IFERROR(IF(FIND(\" \",$B8,1),CONCATENATE(LEFT($B8,1),\" \",RIGHT($B8,LEN($B8)-FIND(\" \",$B8,1)),\", \",$A8),CONCATENATE($B8,\", \",$A8)),\"\")","v":"D Barritt, 20"}]
[{"$f":"IF(Roster!A9<>\"\",Roster!A9,\"\")","v":14},{"$f":"IF(OR(Roster!A9<>\"\",Roster!B9<>\"\"),PROPER(Roster!B9),\"\")","v":"Dawson Butts"},{"$nulls":14},"","","","","","","","",{"v":0,"d":"0%"},"Dawson Butts","D Butts, 14"]
[{"$f":"IF(Roster!A10<>\"\",Roster!A10,\"\")","v":12},{"$f":"IF(OR(Roster!A10<>\"\",Roster!B10<>\"\"),PROPER(Roster!B10),\"\")","v":"Jayden Caylor"},{"$nulls":14},"","","","","","","","",{"v":0,"d":"0%"},"Jayden Caylor","J Caylor, 12"]
[{"$f":"IF(Roster!A11<>\"\",Roster!A11,\"\")","v":23},{"$f":"IF(OR(Roster!A11<>\"\",Roster!B11<>\"\"),PROPER(Roster!B11),\"\")","v":"Clayton Louderback"},{"$nulls":14},"","","","","","","","",{"v":0,"d":"0%"},"Clayton Louderback","C Louderback, 23"]
[{"$f":"IF(Roster!A12<>\"\",Roster!A12,\"\")","v":10},{"$f":"IF(OR(Roster!A12<>\"\",Roster!B12<>\"\"),PROPER(Roster!B12),\"\")","v":"Jess Claycomb"},{"$nulls":14},"","","","","","","","",{"v":0,"d":"0%"},"Jess Claycomb","J Claycomb, 10"]
[{"$f":"IF(Roster!A13<>\"\",Roster!A13,\"\")","v":4},{"$f":"IF(OR(Roster!A13<>\"\",Roster!B13<>\"\"),PROPER(Roster!B13),\"\")","v":"Maxx Cowger"},{"$nulls":14},"","","","","","","","",{"v":0,"d":"0%"},"Maxx Cowger","M Cowger, 4"]
[{"$f":"IF(Roster!A14<>\"\",Roster!A14,\"\")","v":22},{"$f":"IF(OR(Roster!A14<>\"\",Roster!B14<>\"\"),PROPER(Roster!B14),\"\")","v":"Brayden Bruce"},{"$nulls":14},"","","","","","","","",{"v":0,"d":"0%"},"Brayden Bruce","B Bruce, 22"]
[{"$f":"IF(Roster!A15<>\"\",Roster!A15,\"\")","v":30},{"$f":"IF(OR(Roster!A15<>\"\",Roster!B15<>\"\"),PROPER(Roster!B15),\"\")","v":"Jo Bishop"},{"$nulls":14},"","","","","","","","",{"v":0,"d":"0%"},"Jo Bishop","J Bishop, 30"]
[{"$f":"IF(Roster!A16<>\"\",Roster!A16,\"\")","v":33},{"$f":"IF(OR(Roster!A16<>\"\",Roster!B16<>\"\"),PROPER(Roster!B16),\"\")","v":"Nolan Turner"},{"$nulls":14},"","","","","","","","",{"v":0,"d":"0%"},"Nolan Turner","N Turner, 33"]
[{"$f":"IF(Roster!A17<>\"\",Roster!A17,\"\")","v":32},{"$f":"IF(OR(Roster!A17<>\"\",Roster!B17<>\"\"),PROPER(Roster!B17),\"\")","v":"Robert Crawford"},{"$nulls":14},"","","","","","","","",{"v":0,"d":"0%"},"Robert Crawford","R Crawford, 32"]
[{"$f":"IF(Roster!A18<>\"\",Roster!A18,\"\")","v":40},{"$f":"IF(OR(Roster!A18<>\"\",Roster!B18<>\"\"),PROPER(Roster!B18),\"\")","v":"Jace Bruce"},{"$nulls":14},"","","","","","","","",{"v":0,"d":"0%"},"Jace Bruce","J Bruce, 40"]
[{"$f":"IF(Roster!A19<>\"\",Roster!A19,\"\")","v":2},{"$f":"IF(OR(Roster!A19<>\"\",Roster!B19<>\"\"),PROPER(Roster!B19),\"\")","v":"Ethan Mills"},{"$nulls":14},"","","","","","","","",{"v":0,"d":"0%"},"Ethan Mills","E Mills, 2"]
[{"$f":"IF(Roster!A20<>\"\",Roster!A20,\"\")","v":2},{"$f":"IF(OR(Roster!A20<>\"\",Roster!B20<>\"\"),PROPER(Roster!B20),\"\")","v":"Bridger Alishouse"},{"$nulls":14},"","","","","","","","",{"v":0,"d":"0%"},"Bridger Alishouse","B Alishouse, 2"]
[{"$f":"IF(Roster!A21<>\"\",Roster!A21,\"\")","v":4},{"$f":"IF(OR(Roster!A21<>\"\",Roster!B21<>\"\"),PROPER(Roster!B21),\"\")","v":"Landon Keever"},{"$nulls":14},"","","","","","","","",{"v":0,"d":"0%"},"Landon Keever","L Keever, 4"]
[{"$f":"IF(Roster!A22<>\"\",Roster!A22,\"\")","v":4},{"$f":"IF(OR(Roster!A22<>\"\",Roster!B22<>\"\"),PROPER(Roster!B22),\"\")","v":"Dj Till"},{"$nulls":14},"","","","","","","","",{"v":0,"d":"0%"},"Dj Till","D Till, 4"]
[{"$f":"IF(Roster!A23<>\"\",Roster!A23,\"\")","v":""},{"$f":"IF(OR(Roster!A23<>\"\",Roster!B23<>\"\"),PROPER(Roster!B23),\"\")","v":""},{"$nulls":14},"","","","","","","","",{"v":0,"d":"0%"},"",""]
[{"$f":"IF(Roster!A24<>\"\",Roster!A24,\"\")","v":""},{"$f":"IF(OR(Roster!A24<>\"\",Roster!B24<>\"\"),PROPER(Roster!B24),\"\")","v":""},{"$nulls":14},"","","","","","","","",{"v":0,"d":"0%"},"",""]
[{"$f":"IF(Roster!A25<>\"\",Roster!A25,\"\")","v":""},{"$f":"IF(OR(Roster!A25<>\"\",Roster!B25<>\"\"),PROPER(Roster!B25),\"\")","v":""},{"$nulls":14},"","","","","","","","",{"v":0,"d":"0%"},"",""]
[{"$f":"IF(Roster!A26<>\"\",Roster!A26,\"\")","v":""},{"$f":"IF(OR(Roster!A26<>\"\",Roster!B26<>\"\"),PROPER(Roster!B26),\"\")","v":""},{"$nulls":14},"","","","","","","","",{"v":0,"d":"0%"},"",""]
[{"$f":"IF(Roster!A27<>\"\",Roster!A27,\"\")","v":""},{"$f":"IF(OR(Roster!A27<>\"\",Roster!B27<>\"\"),PROPER(Roster!B27),\"\")","v":""},{"$nulls":14},"","","","","","","","",{"v":0,"d":"0%"},"",""]
[{"$f":"IF(Roster!A28<>\"\",Roster!A28,\"\")","v":""},{"$f":"IF(OR(Roster!A28<>\"\",Roster!B28<>\"\"),PROPER(Roster!B28),\"\")","v":""},{"$nulls":14},"","","","","","","","",{"v":0,"d":"0%"},"",""]
[{"$f":"IF(Roster!A29<>\"\",Roster!A29,\"\")","v":""},{"$f":"IF(OR(Roster!A29<>\"\",Roster!B29<>\"\"),PROPER(Roster!B29),\"\")","v":""},{"$nulls":14},"","","","","","","","",{"v":0,"d":"0%"},"",""]
[{"$f":"IF(Roster!A30<>\"\",Roster!A30,\"\")","v":""},{"$f":"IF(OR(Roster!A30<>\"\",Roster!B30<>\"\"),PROPER(Roster!B30),\"\")","v":"Team"},{"$nulls":14},"","","","","","","","",{"v":0,"d":"0%"},"Team",{"$f":"IFERROR(IF(FIND(\" \",$B30,1),CONCATENATE(LEFT($B30,1),\" \",RIGHT($B30,LEN($B30)-FIND(\" \",$B30,1)),\", \",$A30),CONCATENATE($B30,\", \",$A30)),\"\")","v":""}]
[null,"Team Totals",{"$f":"IF(COUNTA($C$7:$C$30)>0,1,\"\")","v":""},{"$f":"SUM(D7:D30)","v":0},{"$f":"SUM(E7:E30)","v":0},0,0,0,0,0,0,0,0,0,{"$f":"SUM(O7:O30)","v":0},{"$f":"SUM(P7:P30)","v":0},{"$f":"IF(H31+2*F31+3*D31>0,H31+2*F31+3*D31,IF(C4>0,C4,\"\"))","v":""},{"$f":"IF(E31>0,D31/E31,\"\")","v":""},{"$f":"IF(G31>0,F31/G31,\"\")","v":""},{"$f":"IF(I31>0,H31/I31,\"\")","v":""},{"$f":"IF(OR(E31>0,G31 >0),(D31+F31)/(E31+G31),\"\")","v":""},{"$f":"IF(E31+G31>0,E31+G31,\"\")","v":""},{"$f":"IF(J31+K31>0,J31+K31,\"\")","v":""},"",{"$f":"IF(I31>=$Z$2,T31,0)","v":{"v":0,"d":"0%"}}]
[null,"Opponent Totals",{"$f":"IF(SUM(D32:P32)>0,1,\"\")","v":""},{"$nulls":13},{"$f":"IF(H32+2*F32+3*D32>0,H32+2*F32+3*D32,IF(D4>0,D4,\"\"))","v":""},{"$f":"IF(E32>0,D32/E32,\"\")","v":""},{"$f":"IF(G32>0,F32/G32,\"\")","v":""},{"$f":"IF(I32>0,H32/I32,\"\")","v":""},{"$f":"IF(OR(E32>0,G32 >0),(D32+F32)/(E32+G32),\"\")","v":""},{"$f":"IF(E32+G32>0,E32+G32,\"\")","v":""},{"$f":"IF(J32+K32>0,J32+K32,\"\")","v":""},"",{"v":0,"d":"0%"}]
[null,null,"Peak Performances"]
[]
[null,"Top Points","Player",null,"Top REB","Player",null,"Top AST","Player"]
[null,{"$f":"MAX(Q$7:Q$30)","v":0},{"$f":"IFERROR(INDEX($AA$7:$AA$30,SMALL(IF(Q$7:Q$30=$B$36,ROW(Q$7:Q$30)-6),ROW(Q7)-6)),\" \")","v":" "},null,{"$f":"MAX(W$7:W$30)","v":0},{"$f":"IFERROR(INDEX($AA$7:$AA$30,SMALL(IF(W$7:W$30=$E$36,ROW(W$7:W$30)-6),ROW(W7)-6)),\" \")","v":" "},null,{"$f":"MAX(L$7:L$30)","v":0},{"$f":"IFERROR(INDEX($AA$7:$AA$30,SMALL(IF(L$7:L$30=$H$36,ROW(L$7:L$30)-6),ROW(L7)-6)),\" \")","v":"P Watt, 24"}]
[null,null,{"$f":"IFERROR(INDEX($AA$7:$AA$30,SMALL(IF(Q$7:Q$30=$B$36,ROW(Q$7:Q$30)-6),ROW(Q8)-6)),\" \")","v":" "},null,null,{"$f":"IFERROR(INDEX($AA$7:$AA$30,SMALL(IF(W$7:W$30=$E$36,ROW(W$7:W$30)-6),ROW(W8)-6)),\" \")","v":" "},null,null,{"$f":"IFERROR(INDEX($AA$7:$AA$30,SMALL(IF(L$7:L$30=$H$36,ROW(L$7:L$30)-6),ROW(L8)-6)),\" \")","v":"D Barritt, 20"}]
[null,null,{"$f":"IFERROR(INDEX($AA$7:$AA$30,SMALL(IF(Q$7:Q$30=$B$36,ROW(Q$7:Q$30)-6),ROW(Q9)-6)),\" \")","v":" "},null,null,{"$f":"IFERROR(INDEX($AA$7:$AA$30,SMALL(IF(W$7:W$30=$E$36,ROW(W$7:W$30)-6),ROW(W9)-6)),\" \")","v":" "},null,null,{"$f":"IFERROR(INDEX($AA$7:$AA$30,SMALL(IF(L$7:L$30=$H$36,ROW(L$7:L$30)-6),ROW(L9)-6)),\" \")","v":"D Butts, 14"}]
[null,null,{"$f":"IFERROR(INDEX($AA$7:$AA$30,SMALL(IF(Q$7:Q$30=$B$36,ROW(Q$7:Q$30)-6),ROW(Q10)-6)),\" \")","v":" "},null,null,{"$f":"IFERROR(INDEX($AA$7:$AA$30,SMALL(IF(W$7:W$30=$E$36,ROW(W$7:W$30)-6),ROW(W10)-6)),\" \")","v":" "},null,null,{"$f":"IFERROR(INDEX($AA$7:$AA$30,SMALL(IF(L$7:L$30=$H$36,ROW(L$7:L$30)-6),ROW(L10)-6)),\" \")","v":"J Caylor, 12"}]
[null,null,{"$f":"IFERROR(INDEX($AA$7:$AA$30,SMALL(IF(Q$7:Q$30=$B$36,ROW(Q$7:Q$30)-6),ROW(Q11)-6)),\" \")","v":" "},null,null,{"$f":"IFERROR(INDEX($AA$7:$AA$30,SMALL(IF(W$7:W$30=$E$36,ROW(W$7:W$30)-6),ROW(W11)-6)),\" \")","v":" "},null,null,{"$f":"IFERROR(INDEX($AA$7:$AA$30,SMALL(IF(L$7:L$30=$H$36,ROW(L$7:L$30)-6),ROW(L11)-6)),\" \")","v":"C Louderback, 23"}]
[null,null,{"$f":"IFERROR(INDEX($B12:B$30,SMALL(IF(Q$7:Q$30=$B$36,ROW(Q$7:Q$30)-6),ROW(Q12)-6)),\" \")","v":" "}]
[null,null,{"$f":"TRIM(C36)","v":""},null,null,{"$f":"TRIM(F36)","v":""},null,null,{"$f":"TRIM(I36)","v":"P Watt, 24"}]
[null,null,{"$f":"TRIM(C37)","v":""},null,null,{"$f":"TRIM(F37)","v":""},null,null,{"$f":"TRIM(I37)","v":"D Barritt, 20"}]
[null,null,"",null,null,"",null,null,"D Butts, 14"]
[null,null,"",null,null,"",null,null,"J Caylor, 12"]
[null,null,"",null,null,"",null,null,"C Louderback, 23"]
[]
[]
[null,{"$f":"COUNTIF(C42:C46,\"?*\")","v":0},null,null,{"$f":"COUNTIF(F42:F46,\"?*\")","v":0},null,null,{"$f":"COUNTIF(I42:I46,\"?*\")","v":5}]

{"sheet":"game1 (36)","index":38,"n_rows":49,"n_cols":27,"rows_kept":49,"merged":[[0,6,0,11],[1,2,1,5],[1,7,1,9],[1,10,1,12],[32,2,32,17]]}
[]
[{"$f":"IF(AND(Roster!$D$1=VLOOKUP(C2,Roster!$L$5:$R$72,2,FALSE),Roster!$D$3=VLOOKUP(C2,Roster!$L$5:$R$72,4,FALSE)),\"R\",\"\")","v":{"$error":"#N/A"}},"Opponent",{"$nulls":5},"Date of Game",{"$nulls":15},{"$f":"IF(OR($H$4=1,$J$4=1),CONCATENATE($C$2,\": \",MONTH($K$2),\"/\",DAY($K$2),\"/\",YEAR($K$2)-2000, \" **\" ),CONCATENATE($C$2,\": \",MONTH($K$2),\"/\",DAY($K$2),\"/\",YEAR($K$2)-2000))","v":": 1/0/-100"},null,9]
[{"$nulls":6},"Win","Conf W","Loss","Conf L",null,"Forfeit W?",null,"Forfeit L?",{"$nulls":9},{"$f":"IF($C$4>$D$4,CONCATENATE(Roster!$B$1,\" \",$C$4,\", \",$C$2,\" \",$D$4, \" \",$E$4),CONCATENATE($C$2,\" \",$D$4,\", \",Roster!$B$1,\" \",$C$4,\" \", $E$4 ))","v":" , Upton  "}]
[null,"Score",{"$nulls":4},{"$f":"IF(OR($L$4=1,$C$4>$D$4),1,\"\")","v":""},null,{"$f":"IF(OR($N$4=1,$C$4<$D$4),1,\"\")","v":""}]
[]
["#","PLAYER","GP","3FGM","3FGA","2FGM","2FGA","FTM","FTA","OFF REB","DEF REB","AST","STL","BLK","TO","FOUL","TL PTS","3FG %","2FG %","FT %","FG%","FGA","REB","Elig FG%","Elig FT%","Name2","FI,LastName,#"]
[{"$f":"IF(Roster!A7<>\"\",Roster!A7,\"\")","v":24},{"$f":"IF(OR(Roster!A7<>\"\",Roster!B7<>\"\"),PROPER(Roster!B7),\"\")","v":"Payton Watt"},{"$nulls":14},{"$f":"IF(H7+2*F7+3*D7>0,H7+2*F7+3*D7,\"\")","v":""},{"$f":"IF(E7>0,D7/E7,\"\")","v":""},{"$f":"IF(G7>0,F7/G7,\"\")","v":""},{"$f":"IF(I7>0,H7/I7,\"\")","v":""},{"$f":"IF(OR(E7>0,G7 >0),(D7+F7)/(E7+G7),\"\")","v":""},{"$f":"IF(E7+G7>0,E7+G7,\"\")","v":""},{"$f":"IF(J7+K7>0,J7+K7,\"\")","v":""},{"$f":"IF(V7>=$Z$2,U7,0)","v":""},{"$f":"IF(I7>=$Z$2,T7,0)","v":{"v":0,"d":"0%"}},{"$f":"B7","v":"Payton Watt"},{"$f":"IFERROR(IF(FIND(\" \",$B7,1),CONCATENATE(LEFT($B7,1),\" \",RIGHT($B7,LEN($B7)-FIND(\" \",$B7,1)),\", \",$A7),CONCATENATE($B7,\", \",$A7)),\"\")","v":"P Watt, 24"}]
[{"$f":"IF(Roster!A8<>\"\",Roster!A8,\"\")","v":20},{"$f":"IF(OR(Roster!A8<>\"\",Roster!B8<>\"\"),PROPER(Roster!B8),\"\")","v":"Dillon Barritt"},{"$nulls":14},{"$f":"IF(H8+2*F8+3*D8>0,H8+2*F8+3*D8,\"\")","v":""},{"$f":"IF(E8>0,D8/E8,\"\")","v":""},{"$f":"IF(G8>0,F8/G8,\"\")","v":""},{"$f":"IF(I8>0,H8/I8,\"\")","v":""},{"$f":"IF(OR(E8>0,G8 >0),(D8+F8)/(E8+G8),\"\")","v":""},{"$f":"IF(E8+G8>0,E8+G8,\"\")","v":""},{"$f":"IF(J8+K8>0,J8+K8,\"\")","v":""},{"$f":"IF(V8>=$Z$2,U8,0)","v":""},{"$f":"IF(I8>=$Z$2,T8,0)","v":{"v":0,"d":"0%"}},{"$f":"B8","v":"Dillon Barritt"},{"$f":"IFERROR(IF(FIND(\" \",$B8,1),CONCATENATE(LEFT($B8,1),\" \",RIGHT($B8,LEN($B8)-FIND(\" \",$B8,1)),\", \",$A8),CONCATENATE($B8,\", \",$A8)),\"\")","v":"D Barritt, 20"}]
[{"$f":"IF(Roster!A9<>\"\",Roster!A9,\"\")","v":14},{"$f":"IF(OR(Roster!A9<>\"\",Roster!B9<>\"\"),PROPER(Roster!B9),\"\")","v":"Dawson Butts"},{"$nulls":14},"","","","","","","","",{"v":0,"d":"0%"},"Dawson Butts","D Butts, 14"]
[{"$f":"IF(Roster!A10<>\"\",Roster!A10,\"\")","v":12},{"$f":"IF(OR(Roster!A10<>\"\",Roster!B10<>\"\"),PROPER(Roster!B10),\"\")","v":"Jayden Caylor"},{"$nulls":14},"","","","","","","","",{"v":0,"d":"0%"},"Jayden Caylor","J Caylor, 12"]
[{"$f":"IF(Roster!A11<>\"\",Roster!A11,\"\")","v":23},{"$f":"IF(OR(Roster!A11<>\"\",Roster!B11<>\"\"),PROPER(Roster!B11),\"\")","v":"Clayton Louderback"},{"$nulls":14},"","","","","","","","",{"v":0,"d":"0%"},"Clayton Louderback","C Louderback, 23"]
[{"$f":"IF(Roster!A12<>\"\",Roster!A12,\"\")","v":10},{"$f":"IF(OR(Roster!A12<>\"\",Roster!B12<>\"\"),PROPER(Roster!B12),\"\")","v":"Jess Claycomb"},{"$nulls":14},"","","","","","","","",{"v":0,"d":"0%"},"Jess Claycomb","J Claycomb, 10"]
[{"$f":"IF(Roster!A13<>\"\",Roster!A13,\"\")","v":4},{"$f":"IF(OR(Roster!A13<>\"\",Roster!B13<>\"\"),PROPER(Roster!B13),\"\")","v":"Maxx Cowger"},{"$nulls":14},"","","","","","","","",{"v":0,"d":"0%"},"Maxx Cowger","M Cowger, 4"]
[{"$f":"IF(Roster!A14<>\"\",Roster!A14,\"\")","v":22},{"$f":"IF(OR(Roster!A14<>\"\",Roster!B14<>\"\"),PROPER(Roster!B14),\"\")","v":"Brayden Bruce"},{"$nulls":14},"","","","","","","","",{"v":0,"d":"0%"},"Brayden Bruce","B Bruce, 22"]
[{"$f":"IF(Roster!A15<>\"\",Roster!A15,\"\")","v":30},{"$f":"IF(OR(Roster!A15<>\"\",Roster!B15<>\"\"),PROPER(Roster!B15),\"\")","v":"Jo Bishop"},{"$nulls":14},"","","","","","","","",{"v":0,"d":"0%"},"Jo Bishop","J Bishop, 30"]
[{"$f":"IF(Roster!A16<>\"\",Roster!A16,\"\")","v":33},{"$f":"IF(OR(Roster!A16<>\"\",Roster!B16<>\"\"),PROPER(Roster!B16),\"\")","v":"Nolan Turner"},{"$nulls":14},"","","","","","","","",{"v":0,"d":"0%"},"Nolan Turner","N Turner, 33"]
[{"$f":"IF(Roster!A17<>\"\",Roster!A17,\"\")","v":32},{"$f":"IF(OR(Roster!A17<>\"\",Roster!B17<>\"\"),PROPER(Roster!B17),\"\")","v":"Robert Crawford"},{"$nulls":14},"","","","","","","","",{"v":0,"d":"0%"},"Robert Crawford","R Crawford, 32"]
[{"$f":"IF(Roster!A18<>\"\",Roster!A18,\"\")","v":40},{"$f":"IF(OR(Roster!A18<>\"\",Roster!B18<>\"\"),PROPER(Roster!B18),\"\")","v":"Jace Bruce"},{"$nulls":14},"","","","","","","","",{"v":0,"d":"0%"},"Jace Bruce","J Bruce, 40"]
[{"$f":"IF(Roster!A19<>\"\",Roster!A19,\"\")","v":2},{"$f":"IF(OR(Roster!A19<>\"\",Roster!B19<>\"\"),PROPER(Roster!B19),\"\")","v":"Ethan Mills"},{"$nulls":14},"","","","","","","","",{"v":0,"d":"0%"},"Ethan Mills","E Mills, 2"]
[{"$f":"IF(Roster!A20<>\"\",Roster!A20,\"\")","v":2},{"$f":"IF(OR(Roster!A20<>\"\",Roster!B20<>\"\"),PROPER(Roster!B20),\"\")","v":"Bridger Alishouse"},{"$nulls":14},"","","","","","","","",{"v":0,"d":"0%"},"Bridger Alishouse","B Alishouse, 2"]
[{"$f":"IF(Roster!A21<>\"\",Roster!A21,\"\")","v":4},{"$f":"IF(OR(Roster!A21<>\"\",Roster!B21<>\"\"),PROPER(Roster!B21),\"\")","v":"Landon Keever"},{"$nulls":14},"","","","","","","","",{"v":0,"d":"0%"},"Landon Keever","L Keever, 4"]
[{"$f":"IF(Roster!A22<>\"\",Roster!A22,\"\")","v":4},{"$f":"IF(OR(Roster!A22<>\"\",Roster!B22<>\"\"),PROPER(Roster!B22),\"\")","v":"Dj Till"},{"$nulls":14},"","","","","","","","",{"v":0,"d":"0%"},"Dj Till","D Till, 4"]
[{"$f":"IF(Roster!A23<>\"\",Roster!A23,\"\")","v":""},{"$f":"IF(OR(Roster!A23<>\"\",Roster!B23<>\"\"),PROPER(Roster!B23),\"\")","v":""},{"$nulls":14},"","","","","","","","",{"v":0,"d":"0%"},"",""]
[{"$f":"IF(Roster!A24<>\"\",Roster!A24,\"\")","v":""},{"$f":"IF(OR(Roster!A24<>\"\",Roster!B24<>\"\"),PROPER(Roster!B24),\"\")","v":""},{"$nulls":14},"","","","","","","","",{"v":0,"d":"0%"},"",""]
[{"$f":"IF(Roster!A25<>\"\",Roster!A25,\"\")","v":""},{"$f":"IF(OR(Roster!A25<>\"\",Roster!B25<>\"\"),PROPER(Roster!B25),\"\")","v":""},{"$nulls":14},"","","","","","","","",{"v":0,"d":"0%"},"",""]
[{"$f":"IF(Roster!A26<>\"\",Roster!A26,\"\")","v":""},{"$f":"IF(OR(Roster!A26<>\"\",Roster!B26<>\"\"),PROPER(Roster!B26),\"\")","v":""},{"$nulls":14},"","","","","","","","",{"v":0,"d":"0%"},"",""]
[{"$f":"IF(Roster!A27<>\"\",Roster!A27,\"\")","v":""},{"$f":"IF(OR(Roster!A27<>\"\",Roster!B27<>\"\"),PROPER(Roster!B27),\"\")","v":""},{"$nulls":14},"","","","","","","","",{"v":0,"d":"0%"},"",""]
[{"$f":"IF(Roster!A28<>\"\",Roster!A28,\"\")","v":""},{"$f":"IF(OR(Roster!A28<>\"\",Roster!B28<>\"\"),PROPER(Roster!B28),\"\")","v":""},{"$nulls":14},"","","","","","","","",{"v":0,"d":"0%"},"",""]
[{"$f":"IF(Roster!A29<>\"\",Roster!A29,\"\")","v":""},{"$f":"IF(OR(Roster!A29<>\"\",Roster!B29<>\"\"),PROPER(Roster!B29),\"\")","v":""},{"$nulls":14},"","","","","","","","",{"v":0,"d":"0%"},"",""]
[{"$f":"IF(Roster!A30<>\"\",Roster!A30,\"\")","v":""},{"$f":"IF(OR(Roster!A30<>\"\",Roster!B30<>\"\"),PROPER(Roster!B30),\"\")","v":"Team"},{"$nulls":14},"","","","","","","","",{"v":0,"d":"0%"},"Team",{"$f":"IFERROR(IF(FIND(\" \",$B30,1),CONCATENATE(LEFT($B30,1),\" \",RIGHT($B30,LEN($B30)-FIND(\" \",$B30,1)),\", \",$A30),CONCATENATE($B30,\", \",$A30)),\"\")","v":""}]
[null,"Team Totals",{"$f":"IF(COUNTA($C$7:$C$30)>0,1,\"\")","v":""},{"$f":"SUM(D7:D30)","v":0},{"$f":"SUM(E7:E30)","v":0},0,0,0,0,0,0,0,0,0,{"$f":"SUM(O7:O30)","v":0},{"$f":"SUM(P7:P30)","v":0},{"$f":"IF(H31+2*F31+3*D31>0,H31+2*F31+3*D31,IF(C4>0,C4,\"\"))","v":""},{"$f":"IF(E31>0,D31/E31,\"\")","v":""},{"$f":"IF(G31>0,F31/G31,\"\")","v":""},{"$f":"IF(I31>0,H31/I31,\"\")","v":""},{"$f":"IF(OR(E31>0,G31 >0),(D31+F31)/(E31+G31),\"\")","v":""},{"$f":"IF(E31+G31>0,E31+G31,\"\")","v":""},{"$f":"IF(J31+K31>0,J31+K31,\"\")","v":""},"",{"$f":"IF(I31>=$Z$2,T31,0)","v":{"v":0,"d":"0%"}}]
[null,"Opponent Totals",{"$f":"IF(SUM(D32:P32)>0,1,\"\")","v":""},{"$nulls":13},{"$f":"IF(H32+2*F32+3*D32>0,H32+2*F32+3*D32,IF(D4>0,D4,\"\"))","v":""},{"$f":"IF(E32>0,D32/E32,\"\")","v":""},{"$f":"IF(G32>0,F32/G32,\"\")","v":""},{"$f":"IF(I32>0,H32/I32,\"\")","v":""},{"$f":"IF(OR(E32>0,G32 >0),(D32+F32)/(E32+G32),\"\")","v":""},{"$f":"IF(E32+G32>0,E32+G32,\"\")","v":""},{"$f":"IF(J32+K32>0,J32+K32,\"\")","v":""},"",{"v":0,"d":"0%"}]
[null,null,"Peak Performances"]
[]
[null,"Top Points","Player",null,"Top REB","Player",null,"Top AST","Player"]
[null,{"$f":"MAX(Q$7:Q$30)","v":0},{"$f":"IFERROR(INDEX($AA$7:$AA$30,SMALL(IF(Q$7:Q$30=$B$36,ROW(Q$7:Q$30)-6),ROW(Q7)-6)),\" \")","v":" "},null,{"$f":"MAX(W$7:W$30)","v":0},{"$f":"IFERROR(INDEX($AA$7:$AA$30,SMALL(IF(W$7:W$30=$E$36,ROW(W$7:W$30)-6),ROW(W7)-6)),\" \")","v":" "},null,{"$f":"MAX(L$7:L$30)","v":0},{"$f":"IFERROR(INDEX($AA$7:$AA$30,SMALL(IF(L$7:L$30=$H$36,ROW(L$7:L$30)-6),ROW(L7)-6)),\" \")","v":"P Watt, 24"}]
[null,null,{"$f":"IFERROR(INDEX($AA$7:$AA$30,SMALL(IF(Q$7:Q$30=$B$36,ROW(Q$7:Q$30)-6),ROW(Q8)-6)),\" \")","v":" "},null,null,{"$f":"IFERROR(INDEX($AA$7:$AA$30,SMALL(IF(W$7:W$30=$E$36,ROW(W$7:W$30)-6),ROW(W8)-6)),\" \")","v":" "},null,null,{"$f":"IFERROR(INDEX($AA$7:$AA$30,SMALL(IF(L$7:L$30=$H$36,ROW(L$7:L$30)-6),ROW(L8)-6)),\" \")","v":"D Barritt, 20"}]
[null,null,{"$f":"IFERROR(INDEX($AA$7:$AA$30,SMALL(IF(Q$7:Q$30=$B$36,ROW(Q$7:Q$30)-6),ROW(Q9)-6)),\" \")","v":" "},null,null,{"$f":"IFERROR(INDEX($AA$7:$AA$30,SMALL(IF(W$7:W$30=$E$36,ROW(W$7:W$30)-6),ROW(W9)-6)),\" \")","v":" "},null,null,{"$f":"IFERROR(INDEX($AA$7:$AA$30,SMALL(IF(L$7:L$30=$H$36,ROW(L$7:L$30)-6),ROW(L9)-6)),\" \")","v":"D Butts, 14"}]
[null,null,{"$f":"IFERROR(INDEX($AA$7:$AA$30,SMALL(IF(Q$7:Q$30=$B$36,ROW(Q$7:Q$30)-6),ROW(Q10)-6)),\" \")","v":" "},null,null,{"$f":"IFERROR(INDEX($AA$7:$AA$30,SMALL(IF(W$7:W$30=$E$36,ROW(W$7:W$30)-6),ROW(W10)-6)),\" \")","v":" "},null,null,{"$f":"IFERROR(INDEX($AA$7:$AA$30,SMALL(IF(L$7:L$30=$H$36,ROW(L$7:L$30)-6),ROW(L10)-6)),\" \")","v":"J Caylor, 12"}]
[null,null,{"$f":"IFERROR(INDEX($AA$7:$AA$30,SMALL(IF(Q$7:Q$30=$B$36,ROW(Q$7:Q$30)-6),ROW(Q11)-6)),\" \")","v":" "},null,null,{"$f":"IFERROR(INDEX($AA$7:$AA$30,SMALL(IF(W$7:W$30=$E$36,ROW(W$7:W$30)-6),ROW(W11)-6)),\" \")","v":" "},null,null,{"$f":"IFERROR(INDEX($AA$7:$AA$30,SMALL(IF(L$7:L$30=$H$36,ROW(L$7:L$30)-6),ROW(L11)-6)),\" \")","v":"C Louderback, 23"}]
[null,null,{"$f":"IFERROR(INDEX($B12:B$30,SMALL(IF(Q$7:Q$30=$B$36,ROW(Q$7:Q$30)-6),ROW(Q12)-6)),\" \")","v":" "}]
[null,null,{"$f":"TRIM(C36)","v":""},null,null,{"$f":"TRIM(F36)","v":""},null,null,{"$f":"TRIM(I36)","v":"P Watt, 24"}]
[null,null,{"$f":"TRIM(C37)","v":""},null,null,{"$f":"TRIM(F37)","v":""},null,null,{"$f":"TRIM(I37)","v":"D Barritt, 20"}]
[null,null,"",null,null,"",null,null,"D Butts, 14"]
[null,null,"",null,null,"",null,null,"J Caylor, 12"]
[null,null,"",null,null,"",null,null,"C Louderback, 23"]
[]
[]
[null,{"$f":"COUNTIF(C42:C46,\"?*\")","v":0},null,null,{"$f":"COUNTIF(F42:F46,\"?*\")","v":0},null,null,{"$f":"COUNTIF(I42:I46,\"?*\")","v":5}]

{"sheet":"game1 (37)","index":39,"n_rows":49,"n_cols":27,"rows_kept":49,"merged":[[0,6,0,11],[1,2,1,5],[1,7,1,9],[1,10,1,12],[32,2,32,17]]}
[]
[{"$f":"IF(AND(Roster!$D$1=VLOOKUP(C2,Roster!$L$5:$R$72,2,FALSE),Roster!$D$3=VLOOKUP(C2,Roster!$L$5:$R$72,4,FALSE)),\"R\",\"\")","v":{"$error":"#N/A"}},"Opponent",{"$nulls":5},"Date of Game",{"$nulls":15},{"$f":"IF(OR($H$4=1,$J$4=1),CONCATENATE($C$2,\": \",MONTH($K$2),\"/\",DAY($K$2),\"/\",YEAR($K$2)-2000, \" **\" ),CONCATENATE($C$2,\": \",MONTH($K$2),\"/\",DAY($K$2),\"/\",YEAR($K$2)-2000))","v":": 1/0/-100"},null,9]
[{"$nulls":6},"Win","Conf W","Loss","Conf L",null,"Forfeit W?",null,"Forfeit L?",{"$nulls":9},{"$f":"IF($C$4>$D$4,CONCATENATE(Roster!$B$1,\" \",$C$4,\", \",$C$2,\" \",$D$4, \" \",$E$4),CONCATENATE($C$2,\" \",$D$4,\", \",Roster!$B$1,\" \",$C$4,\" \", $E$4 ))","v":" , Upton  "}]
[null,"Score",{"$nulls":4},{"$f":"IF(OR($L$4=1,$C$4>$D$4),1,\"\")","v":""},null,{"$f":"IF(OR($N$4=1,$C$4<$D$4),1,\"\")","v":""}]
[]
["#","PLAYER","GP","3FGM","3FGA","2FGM","2FGA","FTM","FTA","OFF REB","DEF REB","AST","STL","BLK","TO","FOUL","TL PTS","3FG %","2FG %","FT %","FG%","FGA","REB","Elig FG%","Elig FT%","Name2","FI,LastName,#"]
[{"$f":"IF(Roster!A7<>\"\",Roster!A7,\"\")","v":24},{"$f":"IF(OR(Roster!A7<>\"\",Roster!B7<>\"\"),PROPER(Roster!B7),\"\")","v":"Payton Watt"},{"$nulls":14},{"$f":"IF(H7+2*F7+3*D7>0,H7+2*F7+3*D7,\"\")","v":""},{"$f":"IF(E7>0,D7/E7,\"\")","v":""},{"$f":"IF(G7>0,F7/G7,\"\")","v":""},{"$f":"IF(I7>0,H7/I7,\"\")","v":""},{"$f":"IF(OR(E7>0,G7 >0),(D7+F7)/(E7+G7),\"\")","v":""},{"$f":"IF(E7+G7>0,E7+G7,\"\")","v":""},{"$f":"IF(J7+K7>0,J7+K7,\"\")","v":""},{"$f":"IF(V7>=$Z$2,U7,0)","v":""},{"$f":"IF(I7>=$Z$2,T7,0)","v":{"v":0,"d":"0%"}},{"$f":"B7","v":"Payton Watt"},{"$f":"IFERROR(IF(FIND(\" \",$B7,1),CONCATENATE(LEFT($B7,1),\" \",RIGHT($B7,LEN($B7)-FIND(\" \",$B7,1)),\", \",$A7),CONCATENATE($B7,\", \",$A7)),\"\")","v":"P Watt, 24"}]
[{"$f":"IF(Roster!A8<>\"\",Roster!A8,\"\")","v":20},{"$f":"IF(OR(Roster!A8<>\"\",Roster!B8<>\"\"),PROPER(Roster!B8),\"\")","v":"Dillon Barritt"},{"$nulls":14},{"$f":"IF(H8+2*F8+3*D8>0,H8+2*F8+3*D8,\"\")","v":""},{"$f":"IF(E8>0,D8/E8,\"\")","v":""},{"$f":"IF(G8>0,F8/G8,\"\")","v":""},{"$f":"IF(I8>0,H8/I8,\"\")","v":""},{"$f":"IF(OR(E8>0,G8 >0),(D8+F8)/(E8+G8),\"\")","v":""},{"$f":"IF(E8+G8>0,E8+G8,\"\")","v":""},{"$f":"IF(J8+K8>0,J8+K8,\"\")","v":""},{"$f":"IF(V8>=$Z$2,U8,0)","v":""},{"$f":"IF(I8>=$Z$2,T8,0)","v":{"v":0,"d":"0%"}},{"$f":"B8","v":"Dillon Barritt"},{"$f":"IFERROR(IF(FIND(\" \",$B8,1),CONCATENATE(LEFT($B8,1),\" \",RIGHT($B8,LEN($B8)-FIND(\" \",$B8,1)),\", \",$A8),CONCATENATE($B8,\", \",$A8)),\"\")","v":"D Barritt, 20"}]
[{"$f":"IF(Roster!A9<>\"\",Roster!A9,\"\")","v":14},{"$f":"IF(OR(Roster!A9<>\"\",Roster!B9<>\"\"),PROPER(Roster!B9),\"\")","v":"Dawson Butts"},{"$nulls":14},"","","","","","","","",{"v":0,"d":"0%"},"Dawson Butts","D Butts, 14"]
[{"$f":"IF(Roster!A10<>\"\",Roster!A10,\"\")","v":12},{"$f":"IF(OR(Roster!A10<>\"\",Roster!B10<>\"\"),PROPER(Roster!B10),\"\")","v":"Jayden Caylor"},{"$nulls":14},"","","","","","","","",{"v":0,"d":"0%"},"Jayden Caylor","J Caylor, 12"]
[{"$f":"IF(Roster!A11<>\"\",Roster!A11,\"\")","v":23},{"$f":"IF(OR(Roster!A11<>\"\",Roster!B11<>\"\"),PROPER(Roster!B11),\"\")","v":"Clayton Louderback"},{"$nulls":14},"","","","","","","","",{"v":0,"d":"0%"},"Clayton Louderback","C Louderback, 23"]
[{"$f":"IF(Roster!A12<>\"\",Roster!A12,\"\")","v":10},{"$f":"IF(OR(Roster!A12<>\"\",Roster!B12<>\"\"),PROPER(Roster!B12),\"\")","v":"Jess Claycomb"},{"$nulls":14},"","","","","","","","",{"v":0,"d":"0%"},"Jess Claycomb","J Claycomb, 10"]
[{"$f":"IF(Roster!A13<>\"\",Roster!A13,\"\")","v":4},{"$f":"IF(OR(Roster!A13<>\"\",Roster!B13<>\"\"),PROPER(Roster!B13),\"\")","v":"Maxx Cowger"},{"$nulls":14},"","","","","","","","",{"v":0,"d":"0%"},"Maxx Cowger","M Cowger, 4"]
[{"$f":"IF(Roster!A14<>\"\",Roster!A14,\"\")","v":22},{"$f":"IF(OR(Roster!A14<>\"\",Roster!B14<>\"\"),PROPER(Roster!B14),\"\")","v":"Brayden Bruce"},{"$nulls":14},"","","","","","","","",{"v":0,"d":"0%"},"Brayden Bruce","B Bruce, 22"]
[{"$f":"IF(Roster!A15<>\"\",Roster!A15,\"\")","v":30},{"$f":"IF(OR(Roster!A15<>\"\",Roster!B15<>\"\"),PROPER(Roster!B15),\"\")","v":"Jo Bishop"},{"$nulls":14},"","","","","","","","",{"v":0,"d":"0%"},"Jo Bishop","J Bishop, 30"]
[{"$f":"IF(Roster!A16<>\"\",Roster!A16,\"\")","v":33},{"$f":"IF(OR(Roster!A16<>\"\",Roster!B16<>\"\"),PROPER(Roster!B16),\"\")","v":"Nolan Turner"},{"$nulls":14},"","","","","","","","",{"v":0,"d":"0%"},"Nolan Turner","N Turner, 33"]
[{"$f":"IF(Roster!A17<>\"\",Roster!A17,\"\")","v":32},{"$f":"IF(OR(Roster!A17<>\"\",Roster!B17<>\"\"),PROPER(Roster!B17),\"\")","v":"Robert Crawford"},{"$nulls":14},"","","","","","","","",{"v":0,"d":"0%"},"Robert Crawford","R Crawford, 32"]
[{"$f":"IF(Roster!A18<>\"\",Roster!A18,\"\")","v":40},{"$f":"IF(OR(Roster!A18<>\"\",Roster!B18<>\"\"),PROPER(Roster!B18),\"\")","v":"Jace Bruce"},{"$nulls":14},"","","","","","","","",{"v":0,"d":"0%"},"Jace Bruce","J Bruce, 40"]
[{"$f":"IF(Roster!A19<>\"\",Roster!A19,\"\")","v":2},{"$f":"IF(OR(Roster!A19<>\"\",Roster!B19<>\"\"),PROPER(Roster!B19),\"\")","v":"Ethan Mills"},{"$nulls":14},"","","","","","","","",{"v":0,"d":"0%"},"Ethan Mills","E Mills, 2"]
[{"$f":"IF(Roster!A20<>\"\",Roster!A20,\"\")","v":2},{"$f":"IF(OR(Roster!A20<>\"\",Roster!B20<>\"\"),PROPER(Roster!B20),\"\")","v":"Bridger Alishouse"},{"$nulls":14},"","","","","","","","",{"v":0,"d":"0%"},"Bridger Alishouse","B Alishouse, 2"]
[{"$f":"IF(Roster!A21<>\"\",Roster!A21,\"\")","v":4},{"$f":"IF(OR(Roster!A21<>\"\",Roster!B21<>\"\"),PROPER(Roster!B21),\"\")","v":"Landon Keever"},{"$nulls":14},"","","","","","","","",{"v":0,"d":"0%"},"Landon Keever","L Keever, 4"]
[{"$f":"IF(Roster!A22<>\"\",Roster!A22,\"\")","v":4},{"$f":"IF(OR(Roster!A22<>\"\",Roster!B22<>\"\"),PROPER(Roster!B22),\"\")","v":"Dj Till"},{"$nulls":14},"","","","","","","","",{"v":0,"d":"0%"},"Dj Till","D Till, 4"]
[{"$f":"IF(Roster!A23<>\"\",Roster!A23,\"\")","v":""},{"$f":"IF(OR(Roster!A23<>\"\",Roster!B23<>\"\"),PROPER(Roster!B23),\"\")","v":""},{"$nulls":14},"","","","","","","","",{"v":0,"d":"0%"},"",""]
[{"$f":"IF(Roster!A24<>\"\",Roster!A24,\"\")","v":""},{"$f":"IF(OR(Roster!A24<>\"\",Roster!B24<>\"\"),PROPER(Roster!B24),\"\")","v":""},{"$nulls":14},"","","","","","","","",{"v":0,"d":"0%"},"",""]
[{"$f":"IF(Roster!A25<>\"\",Roster!A25,\"\")","v":""},{"$f":"IF(OR(Roster!A25<>\"\",Roster!B25<>\"\"),PROPER(Roster!B25),\"\")","v":""},{"$nulls":14},"","","","","","","","",{"v":0,"d":"0%"},"",""]
[{"$f":"IF(Roster!A26<>\"\",Roster!A26,\"\")","v":""},{"$f":"IF(OR(Roster!A26<>\"\",Roster!B26<>\"\"),PROPER(Roster!B26),\"\")","v":""},{"$nulls":14},"","","","","","","","",{"v":0,"d":"0%"},"",""]
[{"$f":"IF(Roster!A27<>\"\",Roster!A27,\"\")","v":""},{"$f":"IF(OR(Roster!A27<>\"\",Roster!B27<>\"\"),PROPER(Roster!B27),\"\")","v":""},{"$nulls":14},"","","","","","","","",{"v":0,"d":"0%"},"",""]
[{"$f":"IF(Roster!A28<>\"\",Roster!A28,\"\")","v":""},{"$f":"IF(OR(Roster!A28<>\"\",Roster!B28<>\"\"),PROPER(Roster!B28),\"\")","v":""},{"$nulls":14},"","","","","","","","",{"v":0,"d":"0%"},"",""]
[{"$f":"IF(Roster!A29<>\"\",Roster!A29,\"\")","v":""},{"$f":"IF(OR(Roster!A29<>\"\",Roster!B29<>\"\"),PROPER(Roster!B29),\"\")","v":""},{"$nulls":14},"","","","","","","","",{"v":0,"d":"0%"},"",""]
[{"$f":"IF(Roster!A30<>\"\",Roster!A30,\"\")","v":""},{"$f":"IF(OR(Roster!A30<>\"\",Roster!B30<>\"\"),PROPER(Roster!B30),\"\")","v":"Team"},{"$nulls":14},"","","","","","","","",{"v":0,"d":"0%"},"Team",{"$f":"IFERROR(IF(FIND(\" \",$B30,1),CONCATENATE(LEFT($B30,1),\" \",RIGHT($B30,LEN($B30)-FIND(\" \",$B30,1)),\", \",$A30),CONCATENATE($B30,\", \",$A30)),\"\")","v":""}]
[null,"Team Totals",{"$f":"IF(COUNTA($C$7:$C$30)>0,1,\"\")","v":""},{"$f":"SUM(D7:D30)","v":0},{"$f":"SUM(E7:E30)","v":0},0,0,0,0,0,0,0,0,0,{"$f":"SUM(O7:O30)","v":0},{"$f":"SUM(P7:P30)","v":0},{"$f":"IF(H31+2*F31+3*D31>0,H31+2*F31+3*D31,IF(C4>0,C4,\"\"))","v":""},{"$f":"IF(E31>0,D31/E31,\"\")","v":""},{"$f":"IF(G31>0,F31/G31,\"\")","v":""},{"$f":"IF(I31>0,H31/I31,\"\")","v":""},{"$f":"IF(OR(E31>0,G31 >0),(D31+F31)/(E31+G31),\"\")","v":""},{"$f":"IF(E31+G31>0,E31+G31,\"\")","v":""},{"$f":"IF(J31+K31>0,J31+K31,\"\")","v":""},"",{"$f":"IF(I31>=$Z$2,T31,0)","v":{"v":0,"d":"0%"}}]
[null,"Opponent Totals",{"$f":"IF(SUM(D32:P32)>0,1,\"\")","v":""},{"$nulls":13},{"$f":"IF(H32+2*F32+3*D32>0,H32+2*F32+3*D32,IF(D4>0,D4,\"\"))","v":""},{"$f":"IF(E32>0,D32/E32,\"\")","v":""},{"$f":"IF(G32>0,F32/G32,\"\")","v":""},{"$f":"IF(I32>0,H32/I32,\"\")","v":""},{"$f":"IF(OR(E32>0,G32 >0),(D32+F32)/(E32+G32),\"\")","v":""},{"$f":"IF(E32+G32>0,E32+G32,\"\")","v":""},{"$f":"IF(J32+K32>0,J32+K32,\"\")","v":""},"",{"v":0,"d":"0%"}]
[null,null,"Peak Performances"]
[]
[null,"Top Points","Player",null,"Top REB","Player",null,"Top AST","Player"]
[null,{"$f":"MAX(Q$7:Q$30)","v":0},{"$f":"IFERROR(INDEX($AA$7:$AA$30,SMALL(IF(Q$7:Q$30=$B$36,ROW(Q$7:Q$30)-6),ROW(Q7)-6)),\" \")","v":" "},null,{"$f":"MAX(W$7:W$30)","v":0},{"$f":"IFERROR(INDEX($AA$7:$AA$30,SMALL(IF(W$7:W$30=$E$36,ROW(W$7:W$30)-6),ROW(W7)-6)),\" \")","v":" "},null,{"$f":"MAX(L$7:L$30)","v":0},{"$f":"IFERROR(INDEX($AA$7:$AA$30,SMALL(IF(L$7:L$30=$H$36,ROW(L$7:L$30)-6),ROW(L7)-6)),\" \")","v":"P Watt, 24"}]
[null,null,{"$f":"IFERROR(INDEX($AA$7:$AA$30,SMALL(IF(Q$7:Q$30=$B$36,ROW(Q$7:Q$30)-6),ROW(Q8)-6)),\" \")","v":" "},null,null,{"$f":"IFERROR(INDEX($AA$7:$AA$30,SMALL(IF(W$7:W$30=$E$36,ROW(W$7:W$30)-6),ROW(W8)-6)),\" \")","v":" "},null,null,{"$f":"IFERROR(INDEX($AA$7:$AA$30,SMALL(IF(L$7:L$30=$H$36,ROW(L$7:L$30)-6),ROW(L8)-6)),\" \")","v":"D Barritt, 20"}]
[null,null,{"$f":"IFERROR(INDEX($AA$7:$AA$30,SMALL(IF(Q$7:Q$30=$B$36,ROW(Q$7:Q$30)-6),ROW(Q9)-6)),\" \")","v":" "},null,null,{"$f":"IFERROR(INDEX($AA$7:$AA$30,SMALL(IF(W$7:W$30=$E$36,ROW(W$7:W$30)-6),ROW(W9)-6)),\" \")","v":" "},null,null,{"$f":"IFERROR(INDEX($AA$7:$AA$30,SMALL(IF(L$7:L$30=$H$36,ROW(L$7:L$30)-6),ROW(L9)-6)),\" \")","v":"D Butts, 14"}]
[null,null,{"$f":"IFERROR(INDEX($AA$7:$AA$30,SMALL(IF(Q$7:Q$30=$B$36,ROW(Q$7:Q$30)-6),ROW(Q10)-6)),\" \")","v":" "},null,null,{"$f":"IFERROR(INDEX($AA$7:$AA$30,SMALL(IF(W$7:W$30=$E$36,ROW(W$7:W$30)-6),ROW(W10)-6)),\" \")","v":" "},null,null,{"$f":"IFERROR(INDEX($AA$7:$AA$30,SMALL(IF(L$7:L$30=$H$36,ROW(L$7:L$30)-6),ROW(L10)-6)),\" \")","v":"J Caylor, 12"}]
[null,null,{"$f":"IFERROR(INDEX($AA$7:$AA$30,SMALL(IF(Q$7:Q$30=$B$36,ROW(Q$7:Q$30)-6),ROW(Q11)-6)),\" \")","v":" "},null,null,{"$f":"IFERROR(INDEX($AA$7:$AA$30,SMALL(IF(W$7:W$30=$E$36,ROW(W$7:W$30)-6),ROW(W11)-6)),\" \")","v":" "},null,null,{"$f":"IFERROR(INDEX($AA$7:$AA$30,SMALL(IF(L$7:L$30=$H$36,ROW(L$7:L$30)-6),ROW(L11)-6)),\" \")","v":"C Louderback, 23"}]
[null,null,{"$f":"IFERROR(INDEX($B12:B$30,SMALL(IF(Q$7:Q$30=$B$36,ROW(Q$7:Q$30)-6),ROW(Q12)-6)),\" \")","v":" "}]
[null,null,{"$f":"TRIM(C36)","v":""},null,null,{"$f":"TRIM(F36)","v":""},null,null,{"$f":"TRIM(I36)","v":"P Watt, 24"}]
[null,null,{"$f":"TRIM(C37)","v":""},null,null,{"$f":"TRIM(F37)","v":""},null,null,{"$f":"TRIM(I37)","v":"D Barritt, 20"}]
[null,null,"",null,null,"",null,null,"D Butts, 14"]
[null,null,"",null,null,"",null,null,"J Caylor, 12"]
[null,null,"",null,null,"",null,null,"C Louderback, 23"]
[]
[]
[null,{"$f":"COUNTIF(C42:C46,\"?*\")","v":0},null,null,{"$f":"COUNTIF(F42:F46,\"?*\")","v":0},null,null,{"$f":"COUNTIF(I42:I46,\"?*\")","v":5}]

{"sheet":"game1 (38)","index":40,"n_rows":49,"n_cols":27,"rows_kept":49,"merged":[[0,6,0,11],[1,2,1,5],[1,7,1,9],[1,10,1,12],[32,2,32,17]]}
[]
[{"$f":"IF(AND(Roster!$D$1=VLOOKUP(C2,Roster!$L$5:$R$72,2,FALSE),Roster!$D$3=VLOOKUP(C2,Roster!$L$5:$R$72,4,FALSE)),\"R\",\"\")","v":{"$error":"#N/A"}},"Opponent",{"$nulls":5},"Date of Game",{"$nulls":15},{"$f":"IF(OR($H$4=1,$J$4=1),CONCATENATE($C$2,\": \",MONTH($K$2),\"/\",DAY($K$2),\"/\",YEAR($K$2)-2000, \" **\" ),CONCATENATE($C$2,\": \",MONTH($K$2),\"/\",DAY($K$2),\"/\",YEAR($K$2)-2000))","v":": 1/0/-100"},null,9]
[{"$nulls":6},"Win","Conf W","Loss","Conf L",null,"Forfeit W?",null,"Forfeit L?",{"$nulls":9},{"$f":"IF($C$4>$D$4,CONCATENATE(Roster!$B$1,\" \",$C$4,\", \",$C$2,\" \",$D$4, \" \",$E$4),CONCATENATE($C$2,\" \",$D$4,\", \",Roster!$B$1,\" \",$C$4,\" \", $E$4 ))","v":" , Upton  "}]
[null,"Score",{"$nulls":4},{"$f":"IF(OR($L$4=1,$C$4>$D$4),1,\"\")","v":""},null,{"$f":"IF(OR($N$4=1,$C$4<$D$4),1,\"\")","v":""}]
[]
["#","PLAYER","GP","3FGM","3FGA","2FGM","2FGA","FTM","FTA","OFF REB","DEF REB","AST","STL","BLK","TO","FOUL","TL PTS","3FG %","2FG %","FT %","FG%","FGA","REB","Elig FG%","Elig FT%","Name2","FI,LastName,#"]
[{"$f":"IF(Roster!A7<>\"\",Roster!A7,\"\")","v":24},{"$f":"IF(OR(Roster!A7<>\"\",Roster!B7<>\"\"),PROPER(Roster!B7),\"\")","v":"Payton Watt"},{"$nulls":14},{"$f":"IF(H7+2*F7+3*D7>0,H7+2*F7+3*D7,\"\")","v":""},{"$f":"IF(E7>0,D7/E7,\"\")","v":""},{"$f":"IF(G7>0,F7/G7,\"\")","v":""},{"$f":"IF(I7>0,H7/I7,\"\")","v":""},{"$f":"IF(OR(E7>0,G7 >0),(D7+F7)/(E7+G7),\"\")","v":""},{"$f":"IF(E7+G7>0,E7+G7,\"\")","v":""},{"$f":"IF(J7+K7>0,J7+K7,\"\")","v":""},{"$f":"IF(V7>=$Z$2,U7,0)","v":""},{"$f":"IF(I7>=$Z$2,T7,0)","v":{"v":0,"d":"0%"}},{"$f":"B7","v":"Payton Watt"},{"$f":"IFERROR(IF(FIND(\" \",$B7,1),CONCATENATE(LEFT($B7,1),\" \",RIGHT($B7,LEN($B7)-FIND(\" \",$B7,1)),\", \",$A7),CONCATENATE($B7,\", \",$A7)),\"\")","v":"P Watt, 24"}]
[{"$f":"IF(Roster!A8<>\"\",Roster!A8,\"\")","v":20},{"$f":"IF(OR(Roster!A8<>\"\",Roster!B8<>\"\"),PROPER(Roster!B8),\"\")","v":"Dillon Barritt"},{"$nulls":14},{"$f":"IF(H8+2*F8+3*D8>0,H8+2*F8+3*D8,\"\")","v":""},{"$f":"IF(E8>0,D8/E8,\"\")","v":""},{"$f":"IF(G8>0,F8/G8,\"\")","v":""},{"$f":"IF(I8>0,H8/I8,\"\")","v":""},{"$f":"IF(OR(E8>0,G8 >0),(D8+F8)/(E8+G8),\"\")","v":""},{"$f":"IF(E8+G8>0,E8+G8,\"\")","v":""},{"$f":"IF(J8+K8>0,J8+K8,\"\")","v":""},{"$f":"IF(V8>=$Z$2,U8,0)","v":""},{"$f":"IF(I8>=$Z$2,T8,0)","v":{"v":0,"d":"0%"}},{"$f":"B8","v":"Dillon Barritt"},{"$f":"IFERROR(IF(FIND(\" \",$B8,1),CONCATENATE(LEFT($B8,1),\" \",RIGHT($B8,LEN($B8)-FIND(\" \",$B8,1)),\", \",$A8),CONCATENATE($B8,\", \",$A8)),\"\")","v":"D Barritt, 20"}]
[{"$f":"IF(Roster!A9<>\"\",Roster!A9,\"\")","v":14},{"$f":"IF(OR(Roster!A9<>\"\",Roster!B9<>\"\"),PROPER(Roster!B9),\"\")","v":"Dawson Butts"},{"$nulls":14},"","","","","","","","",{"v":0,"d":"0%"},"Dawson Butts","D Butts, 14"]
[{"$f":"IF(Roster!A10<>\"\",Roster!A10,\"\")","v":12},{"$f":"IF(OR(Roster!A10<>\"\",Roster!B10<>\"\"),PROPER(Roster!B10),\"\")","v":"Jayden Caylor"},{"$nulls":14},"","","","","","","","",{"v":0,"d":"0%"},"Jayden Caylor","J Caylor, 12"]
[{"$f":"IF(Roster!A11<>\"\",Roster!A11,\"\")","v":23},{"$f":"IF(OR(Roster!A11<>\"\",Roster!B11<>\"\"),PROPER(Roster!B11),\"\")","v":"Clayton Louderback"},{"$nulls":14},"","","","","","","","",{"v":0,"d":"0%"},"Clayton Louderback","C Louderback, 23"]
[{"$f":"IF(Roster!A12<>\"\",Roster!A12,\"\")","v":10},{"$f":"IF(OR(Roster!A12<>\"\",Roster!B12<>\"\"),PROPER(Roster!B12),\"\")","v":"Jess Claycomb"},{"$nulls":14},"","","","","","","","",{"v":0,"d":"0%"},"Jess Claycomb","J Claycomb, 10"]
[{"$f":"IF(Roster!A13<>\"\",Roster!A13,\"\")","v":4},{"$f":"IF(OR(Roster!A13<>\"\",Roster!B13<>\"\"),PROPER(Roster!B13),\"\")","v":"Maxx Cowger"},{"$nulls":14},"","","","","","","","",{"v":0,"d":"0%"},"Maxx Cowger","M Cowger, 4"]
[{"$f":"IF(Roster!A14<>\"\",Roster!A14,\"\")","v":22},{"$f":"IF(OR(Roster!A14<>\"\",Roster!B14<>\"\"),PROPER(Roster!B14),\"\")","v":"Brayden Bruce"},{"$nulls":14},"","","","","","","","",{"v":0,"d":"0%"},"Brayden Bruce","B Bruce, 22"]
[{"$f":"IF(Roster!A15<>\"\",Roster!A15,\"\")","v":30},{"$f":"IF(OR(Roster!A15<>\"\",Roster!B15<>\"\"),PROPER(Roster!B15),\"\")","v":"Jo Bishop"},{"$nulls":14},"","","","","","","","",{"v":0,"d":"0%"},"Jo Bishop","J Bishop, 30"]
[{"$f":"IF(Roster!A16<>\"\",Roster!A16,\"\")","v":33},{"$f":"IF(OR(Roster!A16<>\"\",Roster!B16<>\"\"),PROPER(Roster!B16),\"\")","v":"Nolan Turner"},{"$nulls":14},"","","","","","","","",{"v":0,"d":"0%"},"Nolan Turner","N Turner, 33"]
[{"$f":"IF(Roster!A17<>\"\",Roster!A17,\"\")","v":32},{"$f":"IF(OR(Roster!A17<>\"\",Roster!B17<>\"\"),PROPER(Roster!B17),\"\")","v":"Robert Crawford"},{"$nulls":14},"","","","","","","","",{"v":0,"d":"0%"},"Robert Crawford","R Crawford, 32"]
[{"$f":"IF(Roster!A18<>\"\",Roster!A18,\"\")","v":40},{"$f":"IF(OR(Roster!A18<>\"\",Roster!B18<>\"\"),PROPER(Roster!B18),\"\")","v":"Jace Bruce"},{"$nulls":14},"","","","","","","","",{"v":0,"d":"0%"},"Jace Bruce","J Bruce, 40"]
[{"$f":"IF(Roster!A19<>\"\",Roster!A19,\"\")","v":2},{"$f":"IF(OR(Roster!A19<>\"\",Roster!B19<>\"\"),PROPER(Roster!B19),\"\")","v":"Ethan Mills"},{"$nulls":14},"","","","","","","","",{"v":0,"d":"0%"},"Ethan Mills","E Mills, 2"]
[{"$f":"IF(Roster!A20<>\"\",Roster!A20,\"\")","v":2},{"$f":"IF(OR(Roster!A20<>\"\",Roster!B20<>\"\"),PROPER(Roster!B20),\"\")","v":"Bridger Alishouse"},{"$nulls":14},"","","","","","","","",{"v":0,"d":"0%"},"Bridger Alishouse","B Alishouse, 2"]
[{"$f":"IF(Roster!A21<>\"\",Roster!A21,\"\")","v":4},{"$f":"IF(OR(Roster!A21<>\"\",Roster!B21<>\"\"),PROPER(Roster!B21),\"\")","v":"Landon Keever"},{"$nulls":14},"","","","","","","","",{"v":0,"d":"0%"},"Landon Keever","L Keever, 4"]
[{"$f":"IF(Roster!A22<>\"\",Roster!A22,\"\")","v":4},{"$f":"IF(OR(Roster!A22<>\"\",Roster!B22<>\"\"),PROPER(Roster!B22),\"\")","v":"Dj Till"},{"$nulls":14},"","","","","","","","",{"v":0,"d":"0%"},"Dj Till","D Till, 4"]
[{"$f":"IF(Roster!A23<>\"\",Roster!A23,\"\")","v":""},{"$f":"IF(OR(Roster!A23<>\"\",Roster!B23<>\"\"),PROPER(Roster!B23),\"\")","v":""},{"$nulls":14},"","","","","","","","",{"v":0,"d":"0%"},"",""]
[{"$f":"IF(Roster!A24<>\"\",Roster!A24,\"\")","v":""},{"$f":"IF(OR(Roster!A24<>\"\",Roster!B24<>\"\"),PROPER(Roster!B24),\"\")","v":""},{"$nulls":14},"","","","","","","","",{"v":0,"d":"0%"},"",""]
[{"$f":"IF(Roster!A25<>\"\",Roster!A25,\"\")","v":""},{"$f":"IF(OR(Roster!A25<>\"\",Roster!B25<>\"\"),PROPER(Roster!B25),\"\")","v":""},{"$nulls":14},"","","","","","","","",{"v":0,"d":"0%"},"",""]
[{"$f":"IF(Roster!A26<>\"\",Roster!A26,\"\")","v":""},{"$f":"IF(OR(Roster!A26<>\"\",Roster!B26<>\"\"),PROPER(Roster!B26),\"\")","v":""},{"$nulls":14},"","","","","","","","",{"v":0,"d":"0%"},"",""]
[{"$f":"IF(Roster!A27<>\"\",Roster!A27,\"\")","v":""},{"$f":"IF(OR(Roster!A27<>\"\",Roster!B27<>\"\"),PROPER(Roster!B27),\"\")","v":""},{"$nulls":14},"","","","","","","","",{"v":0,"d":"0%"},"",""]
[{"$f":"IF(Roster!A28<>\"\",Roster!A28,\"\")","v":""},{"$f":"IF(OR(Roster!A28<>\"\",Roster!B28<>\"\"),PROPER(Roster!B28),\"\")","v":""},{"$nulls":14},"","","","","","","","",{"v":0,"d":"0%"},"",""]
[{"$f":"IF(Roster!A29<>\"\",Roster!A29,\"\")","v":""},{"$f":"IF(OR(Roster!A29<>\"\",Roster!B29<>\"\"),PROPER(Roster!B29),\"\")","v":""},{"$nulls":14},"","","","","","","","",{"v":0,"d":"0%"},"",""]
[{"$f":"IF(Roster!A30<>\"\",Roster!A30,\"\")","v":""},{"$f":"IF(OR(Roster!A30<>\"\",Roster!B30<>\"\"),PROPER(Roster!B30),\"\")","v":"Team"},{"$nulls":14},"","","","","","","","",{"v":0,"d":"0%"},"Team",{"$f":"IFERROR(IF(FIND(\" \",$B30,1),CONCATENATE(LEFT($B30,1),\" \",RIGHT($B30,LEN($B30)-FIND(\" \",$B30,1)),\", \",$A30),CONCATENATE($B30,\", \",$A30)),\"\")","v":""}]
[null,"Team Totals",{"$f":"IF(COUNTA($C$7:$C$30)>0,1,\"\")","v":""},{"$f":"SUM(D7:D30)","v":0},{"$f":"SUM(E7:E30)","v":0},0,0,0,0,0,0,0,0,0,{"$f":"SUM(O7:O30)","v":0},{"$f":"SUM(P7:P30)","v":0},{"$f":"IF(H31+2*F31+3*D31>0,H31+2*F31+3*D31,IF(C4>0,C4,\"\"))","v":""},{"$f":"IF(E31>0,D31/E31,\"\")","v":""},{"$f":"IF(G31>0,F31/G31,\"\")","v":""},{"$f":"IF(I31>0,H31/I31,\"\")","v":""},{"$f":"IF(OR(E31>0,G31 >0),(D31+F31)/(E31+G31),\"\")","v":""},{"$f":"IF(E31+G31>0,E31+G31,\"\")","v":""},{"$f":"IF(J31+K31>0,J31+K31,\"\")","v":""},"",{"$f":"IF(I31>=$Z$2,T31,0)","v":{"v":0,"d":"0%"}}]
[null,"Opponent Totals",{"$f":"IF(SUM(D32:P32)>0,1,\"\")","v":""},{"$nulls":13},{"$f":"IF(H32+2*F32+3*D32>0,H32+2*F32+3*D32,IF(D4>0,D4,\"\"))","v":""},{"$f":"IF(E32>0,D32/E32,\"\")","v":""},{"$f":"IF(G32>0,F32/G32,\"\")","v":""},{"$f":"IF(I32>0,H32/I32,\"\")","v":""},{"$f":"IF(OR(E32>0,G32 >0),(D32+F32)/(E32+G32),\"\")","v":""},{"$f":"IF(E32+G32>0,E32+G32,\"\")","v":""},{"$f":"IF(J32+K32>0,J32+K32,\"\")","v":""},"",{"v":0,"d":"0%"}]
[null,null,"Peak Performances"]
[]
[null,"Top Points","Player",null,"Top REB","Player",null,"Top AST","Player"]
[null,{"$f":"MAX(Q$7:Q$30)","v":0},{"$f":"IFERROR(INDEX($AA$7:$AA$30,SMALL(IF(Q$7:Q$30=$B$36,ROW(Q$7:Q$30)-6),ROW(Q7)-6)),\" \")","v":" "},null,{"$f":"MAX(W$7:W$30)","v":0},{"$f":"IFERROR(INDEX($AA$7:$AA$30,SMALL(IF(W$7:W$30=$E$36,ROW(W$7:W$30)-6),ROW(W7)-6)),\" \")","v":" "},null,{"$f":"MAX(L$7:L$30)","v":0},{"$f":"IFERROR(INDEX($AA$7:$AA$30,SMALL(IF(L$7:L$30=$H$36,ROW(L$7:L$30)-6),ROW(L7)-6)),\" \")","v":"P Watt, 24"}]
[null,null,{"$f":"IFERROR(INDEX($AA$7:$AA$30,SMALL(IF(Q$7:Q$30=$B$36,ROW(Q$7:Q$30)-6),ROW(Q8)-6)),\" \")","v":" "},null,null,{"$f":"IFERROR(INDEX($AA$7:$AA$30,SMALL(IF(W$7:W$30=$E$36,ROW(W$7:W$30)-6),ROW(W8)-6)),\" \")","v":" "},null,null,{"$f":"IFERROR(INDEX($AA$7:$AA$30,SMALL(IF(L$7:L$30=$H$36,ROW(L$7:L$30)-6),ROW(L8)-6)),\" \")","v":"D Barritt, 20"}]
[null,null,{"$f":"IFERROR(INDEX($AA$7:$AA$30,SMALL(IF(Q$7:Q$30=$B$36,ROW(Q$7:Q$30)-6),ROW(Q9)-6)),\" \")","v":" "},null,null,{"$f":"IFERROR(INDEX($AA$7:$AA$30,SMALL(IF(W$7:W$30=$E$36,ROW(W$7:W$30)-6),ROW(W9)-6)),\" \")","v":" "},null,null,{"$f":"IFERROR(INDEX($AA$7:$AA$30,SMALL(IF(L$7:L$30=$H$36,ROW(L$7:L$30)-6),ROW(L9)-6)),\" \")","v":"D Butts, 14"}]
[null,null,{"$f":"IFERROR(INDEX($AA$7:$AA$30,SMALL(IF(Q$7:Q$30=$B$36,ROW(Q$7:Q$30)-6),ROW(Q10)-6)),\" \")","v":" "},null,null,{"$f":"IFERROR(INDEX($AA$7:$AA$30,SMALL(IF(W$7:W$30=$E$36,ROW(W$7:W$30)-6),ROW(W10)-6)),\" \")","v":" "},null,null,{"$f":"IFERROR(INDEX($AA$7:$AA$30,SMALL(IF(L$7:L$30=$H$36,ROW(L$7:L$30)-6),ROW(L10)-6)),\" \")","v":"J Caylor, 12"}]
[null,null,{"$f":"IFERROR(INDEX($AA$7:$AA$30,SMALL(IF(Q$7:Q$30=$B$36,ROW(Q$7:Q$30)-6),ROW(Q11)-6)),\" \")","v":" "},null,null,{"$f":"IFERROR(INDEX($AA$7:$AA$30,SMALL(IF(W$7:W$30=$E$36,ROW(W$7:W$30)-6),ROW(W11)-6)),\" \")","v":" "},null,null,{"$f":"IFERROR(INDEX($AA$7:$AA$30,SMALL(IF(L$7:L$30=$H$36,ROW(L$7:L$30)-6),ROW(L11)-6)),\" \")","v":"C Louderback, 23"}]
[null,null,{"$f":"IFERROR(INDEX($B12:B$30,SMALL(IF(Q$7:Q$30=$B$36,ROW(Q$7:Q$30)-6),ROW(Q12)-6)),\" \")","v":" "}]
[null,null,{"$f":"TRIM(C36)","v":""},null,null,{"$f":"TRIM(F36)","v":""},null,null,{"$f":"TRIM(I36)","v":"P Watt, 24"}]
[null,null,{"$f":"TRIM(C37)","v":""},null,null,{"$f":"TRIM(F37)","v":""},null,null,{"$f":"TRIM(I37)","v":"D Barritt, 20"}]
[null,null,"",null,null,"",null,null,"D Butts, 14"]
[null,null,"",null,null,"",null,null,"J Caylor, 12"]
[null,null,"",null,null,"",null,null,"C Louderback, 23"]
[]
[]
[null,{"$f":"COUNTIF(C42:C46,\"?*\")","v":0},null,null,{"$f":"COUNTIF(F42:F46,\"?*\")","v":0},null,null,{"$f":"COUNTIF(I42:I46,\"?*\")","v":5}]

{"sheet":"game1 (39)","index":41,"n_rows":49,"n_cols":27,"rows_kept":49,"merged":[[0,6,0,11],[1,2,1,5],[1,7,1,9],[1,10,1,12],[32,2,32,17]]}
[]
[{"$f":"IF(AND(Roster!$D$1=VLOOKUP(C2,Roster!$L$5:$R$72,2,FALSE),Roster!$D$3=VLOOKUP(C2,Roster!$L$5:$R$72,4,FALSE)),\"R\",\"\")","v":{"$error":"#N/A"}},"Opponent",{"$nulls":5},"Date of Game",{"$nulls":15},{"$f":"IF(OR($H$4=1,$J$4=1),CONCATENATE($C$2,\": \",MONTH($K$2),\"/\",DAY($K$2),\"/\",YEAR($K$2)-2000, \" **\" ),CONCATENATE($C$2,\": \",MONTH($K$2),\"/\",DAY($K$2),\"/\",YEAR($K$2)-2000))","v":": 1/0/-100"},null,9]
[{"$nulls":6},"Win","Conf W","Loss","Conf L",null,"Forfeit W?",null,"Forfeit L?",{"$nulls":9},{"$f":"IF($C$4>$D$4,CONCATENATE(Roster!$B$1,\" \",$C$4,\", \",$C$2,\" \",$D$4, \" \",$E$4),CONCATENATE($C$2,\" \",$D$4,\", \",Roster!$B$1,\" \",$C$4,\" \", $E$4 ))","v":" , Upton  "}]
[null,"Score",{"$nulls":4},{"$f":"IF(OR($L$4=1,$C$4>$D$4),1,\"\")","v":""},null,{"$f":"IF(OR($N$4=1,$C$4<$D$4),1,\"\")","v":""}]
[]
["#","PLAYER","GP","3FGM","3FGA","2FGM","2FGA","FTM","FTA","OFF REB","DEF REB","AST","STL","BLK","TO","FOUL","TL PTS","3FG %","2FG %","FT %","FG%","FGA","REB","Elig FG%","Elig FT%","Name2","FI,LastName,#"]
[{"$f":"IF(Roster!A7<>\"\",Roster!A7,\"\")","v":24},{"$f":"IF(OR(Roster!A7<>\"\",Roster!B7<>\"\"),PROPER(Roster!B7),\"\")","v":"Payton Watt"},{"$nulls":14},{"$f":"IF(H7+2*F7+3*D7>0,H7+2*F7+3*D7,\"\")","v":""},{"$f":"IF(E7>0,D7/E7,\"\")","v":""},{"$f":"IF(G7>0,F7/G7,\"\")","v":""},{"$f":"IF(I7>0,H7/I7,\"\")","v":""},{"$f":"IF(OR(E7>0,G7 >0),(D7+F7)/(E7+G7),\"\")","v":""},{"$f":"IF(E7+G7>0,E7+G7,\"\")","v":""},{"$f":"IF(J7+K7>0,J7+K7,\"\")","v":""},{"$f":"IF(V7>=$Z$2,U7,0)","v":""},{"$f":"IF(I7>=$Z$2,T7,0)","v":{"v":0,"d":"0%"}},{"$f":"B7","v":"Payton Watt"},{"$f":"IFERROR(IF(FIND(\" \",$B7,1),CONCATENATE(LEFT($B7,1),\" \",RIGHT($B7,LEN($B7)-FIND(\" \",$B7,1)),\", \",$A7),CONCATENATE($B7,\", \",$A7)),\"\")","v":"P Watt, 24"}]
[{"$f":"IF(Roster!A8<>\"\",Roster!A8,\"\")","v":20},{"$f":"IF(OR(Roster!A8<>\"\",Roster!B8<>\"\"),PROPER(Roster!B8),\"\")","v":"Dillon Barritt"},{"$nulls":14},{"$f":"IF(H8+2*F8+3*D8>0,H8+2*F8+3*D8,\"\")","v":""},{"$f":"IF(E8>0,D8/E8,\"\")","v":""},{"$f":"IF(G8>0,F8/G8,\"\")","v":""},{"$f":"IF(I8>0,H8/I8,\"\")","v":""},{"$f":"IF(OR(E8>0,G8 >0),(D8+F8)/(E8+G8),\"\")","v":""},{"$f":"IF(E8+G8>0,E8+G8,\"\")","v":""},{"$f":"IF(J8+K8>0,J8+K8,\"\")","v":""},{"$f":"IF(V8>=$Z$2,U8,0)","v":""},{"$f":"IF(I8>=$Z$2,T8,0)","v":{"v":0,"d":"0%"}},{"$f":"B8","v":"Dillon Barritt"},{"$f":"IFERROR(IF(FIND(\" \",$B8,1),CONCATENATE(LEFT($B8,1),\" \",RIGHT($B8,LEN($B8)-FIND(\" \",$B8,1)),\", \",$A8),CONCATENATE($B8,\", \",$A8)),\"\")","v":"D Barritt, 20"}]
[{"$f":"IF(Roster!A9<>\"\",Roster!A9,\"\")","v":14},{"$f":"IF(OR(Roster!A9<>\"\",Roster!B9<>\"\"),PROPER(Roster!B9),\"\")","v":"Dawson Butts"},{"$nulls":14},"","","","","","","","",{"v":0,"d":"0%"},"Dawson Butts","D Butts, 14"]
[{"$f":"IF(Roster!A10<>\"\",Roster!A10,\"\")","v":12},{"$f":"IF(OR(Roster!A10<>\"\",Roster!B10<>\"\"),PROPER(Roster!B10),\"\")","v":"Jayden Caylor"},{"$nulls":14},"","","","","","","","",{"v":0,"d":"0%"},"Jayden Caylor","J Caylor, 12"]
[{"$f":"IF(Roster!A11<>\"\",Roster!A11,\"\")","v":23},{"$f":"IF(OR(Roster!A11<>\"\",Roster!B11<>\"\"),PROPER(Roster!B11),\"\")","v":"Clayton Louderback"},{"$nulls":14},"","","","","","","","",{"v":0,"d":"0%"},"Clayton Louderback","C Louderback, 23"]
[{"$f":"IF(Roster!A12<>\"\",Roster!A12,\"\")","v":10},{"$f":"IF(OR(Roster!A12<>\"\",Roster!B12<>\"\"),PROPER(Roster!B12),\"\")","v":"Jess Claycomb"},{"$nulls":14},"","","","","","","","",{"v":0,"d":"0%"},"Jess Claycomb","J Claycomb, 10"]
[{"$f":"IF(Roster!A13<>\"\",Roster!A13,\"\")","v":4},{"$f":"IF(OR(Roster!A13<>\"\",Roster!B13<>\"\"),PROPER(Roster!B13),\"\")","v":"Maxx Cowger"},{"$nulls":14},"","","","","","","","",{"v":0,"d":"0%"},"Maxx Cowger","M Cowger, 4"]
[{"$f":"IF(Roster!A14<>\"\",Roster!A14,\"\")","v":22},{"$f":"IF(OR(Roster!A14<>\"\",Roster!B14<>\"\"),PROPER(Roster!B14),\"\")","v":"Brayden Bruce"},{"$nulls":14},"","","","","","","","",{"v":0,"d":"0%"},"Brayden Bruce","B Bruce, 22"]
[{"$f":"IF(Roster!A15<>\"\",Roster!A15,\"\")","v":30},{"$f":"IF(OR(Roster!A15<>\"\",Roster!B15<>\"\"),PROPER(Roster!B15),\"\")","v":"Jo Bishop"},{"$nulls":14},"","","","","","","","",{"v":0,"d":"0%"},"Jo Bishop","J Bishop, 30"]
[{"$f":"IF(Roster!A16<>\"\",Roster!A16,\"\")","v":33},{"$f":"IF(OR(Roster!A16<>\"\",Roster!B16<>\"\"),PROPER(Roster!B16),\"\")","v":"Nolan Turner"},{"$nulls":14},"","","","","","","","",{"v":0,"d":"0%"},"Nolan Turner","N Turner, 33"]
[{"$f":"IF(Roster!A17<>\"\",Roster!A17,\"\")","v":32},{"$f":"IF(OR(Roster!A17<>\"\",Roster!B17<>\"\"),PROPER(Roster!B17),\"\")","v":"Robert Crawford"},{"$nulls":14},"","","","","","","","",{"v":0,"d":"0%"},"Robert Crawford","R Crawford, 32"]
[{"$f":"IF(Roster!A18<>\"\",Roster!A18,\"\")","v":40},{"$f":"IF(OR(Roster!A18<>\"\",Roster!B18<>\"\"),PROPER(Roster!B18),\"\")","v":"Jace Bruce"},{"$nulls":14},"","","","","","","","",{"v":0,"d":"0%"},"Jace Bruce","J Bruce, 40"]
[{"$f":"IF(Roster!A19<>\"\",Roster!A19,\"\")","v":2},{"$f":"IF(OR(Roster!A19<>\"\",Roster!B19<>\"\"),PROPER(Roster!B19),\"\")","v":"Ethan Mills"},{"$nulls":14},"","","","","","","","",{"v":0,"d":"0%"},"Ethan Mills","E Mills, 2"]
[{"$f":"IF(Roster!A20<>\"\",Roster!A20,\"\")","v":2},{"$f":"IF(OR(Roster!A20<>\"\",Roster!B20<>\"\"),PROPER(Roster!B20),\"\")","v":"Bridger Alishouse"},{"$nulls":14},"","","","","","","","",{"v":0,"d":"0%"},"Bridger Alishouse","B Alishouse, 2"]
[{"$f":"IF(Roster!A21<>\"\",Roster!A21,\"\")","v":4},{"$f":"IF(OR(Roster!A21<>\"\",Roster!B21<>\"\"),PROPER(Roster!B21),\"\")","v":"Landon Keever"},{"$nulls":14},"","","","","","","","",{"v":0,"d":"0%"},"Landon Keever","L Keever, 4"]
[{"$f":"IF(Roster!A22<>\"\",Roster!A22,\"\")","v":4},{"$f":"IF(OR(Roster!A22<>\"\",Roster!B22<>\"\"),PROPER(Roster!B22),\"\")","v":"Dj Till"},{"$nulls":14},"","","","","","","","",{"v":0,"d":"0%"},"Dj Till","D Till, 4"]
[{"$f":"IF(Roster!A23<>\"\",Roster!A23,\"\")","v":""},{"$f":"IF(OR(Roster!A23<>\"\",Roster!B23<>\"\"),PROPER(Roster!B23),\"\")","v":""},{"$nulls":14},"","","","","","","","",{"v":0,"d":"0%"},"",""]
[{"$f":"IF(Roster!A24<>\"\",Roster!A24,\"\")","v":""},{"$f":"IF(OR(Roster!A24<>\"\",Roster!B24<>\"\"),PROPER(Roster!B24),\"\")","v":""},{"$nulls":14},"","","","","","","","",{"v":0,"d":"0%"},"",""]
[{"$f":"IF(Roster!A25<>\"\",Roster!A25,\"\")","v":""},{"$f":"IF(OR(Roster!A25<>\"\",Roster!B25<>\"\"),PROPER(Roster!B25),\"\")","v":""},{"$nulls":14},"","","","","","","","",{"v":0,"d":"0%"},"",""]
[{"$f":"IF(Roster!A26<>\"\",Roster!A26,\"\")","v":""},{"$f":"IF(OR(Roster!A26<>\"\",Roster!B26<>\"\"),PROPER(Roster!B26),\"\")","v":""},{"$nulls":14},"","","","","","","","",{"v":0,"d":"0%"},"",""]
[{"$f":"IF(Roster!A27<>\"\",Roster!A27,\"\")","v":""},{"$f":"IF(OR(Roster!A27<>\"\",Roster!B27<>\"\"),PROPER(Roster!B27),\"\")","v":""},{"$nulls":14},"","","","","","","","",{"v":0,"d":"0%"},"",""]
[{"$f":"IF(Roster!A28<>\"\",Roster!A28,\"\")","v":""},{"$f":"IF(OR(Roster!A28<>\"\",Roster!B28<>\"\"),PROPER(Roster!B28),\"\")","v":""},{"$nulls":14},"","","","","","","","",{"v":0,"d":"0%"},"",""]
[{"$f":"IF(Roster!A29<>\"\",Roster!A29,\"\")","v":""},{"$f":"IF(OR(Roster!A29<>\"\",Roster!B29<>\"\"),PROPER(Roster!B29),\"\")","v":""},{"$nulls":14},"","","","","","","","",{"v":0,"d":"0%"},"",""]
[{"$f":"IF(Roster!A30<>\"\",Roster!A30,\"\")","v":""},{"$f":"IF(OR(Roster!A30<>\"\",Roster!B30<>\"\"),PROPER(Roster!B30),\"\")","v":"Team"},{"$nulls":14},"","","","","","","","",{"v":0,"d":"0%"},"Team",{"$f":"IFERROR(IF(FIND(\" \",$B30,1),CONCATENATE(LEFT($B30,1),\" \",RIGHT($B30,LEN($B30)-FIND(\" \",$B30,1)),\", \",$A30),CONCATENATE($B30,\", \",$A30)),\"\")","v":""}]
[null,"Team Totals",{"$f":"IF(COUNTA($C$7:$C$30)>0,1,\"\")","v":""},{"$f":"SUM(D7:D30)","v":0},{"$f":"SUM(E7:E30)","v":0},0,0,0,0,0,0,0,0,0,{"$f":"SUM(O7:O30)","v":0},{"$f":"SUM(P7:P30)","v":0},{"$f":"IF(H31+2*F31+3*D31>0,H31+2*F31+3*D31,IF(C4>0,C4,\"\"))","v":""},{"$f":"IF(E31>0,D31/E31,\"\")","v":""},{"$f":"IF(G31>0,F31/G31,\"\")","v":""},{"$f":"IF(I31>0,H31/I31,\"\")","v":""},{"$f":"IF(OR(E31>0,G31 >0),(D31+F31)/(E31+G31),\"\")","v":""},{"$f":"IF(E31+G31>0,E31+G31,\"\")","v":""},{"$f":"IF(J31+K31>0,J31+K31,\"\")","v":""},"",{"$f":"IF(I31>=$Z$2,T31,0)","v":{"v":0,"d":"0%"}}]
[null,"Opponent Totals",{"$f":"IF(SUM(D32:P32)>0,1,\"\")","v":""},{"$nulls":13},{"$f":"IF(H32+2*F32+3*D32>0,H32+2*F32+3*D32,IF(D4>0,D4,\"\"))","v":""},{"$f":"IF(E32>0,D32/E32,\"\")","v":""},{"$f":"IF(G32>0,F32/G32,\"\")","v":""},{"$f":"IF(I32>0,H32/I32,\"\")","v":""},{"$f":"IF(OR(E32>0,G32 >0),(D32+F32)/(E32+G32),\"\")","v":""},{"$f":"IF(E32+G32>0,E32+G32,\"\")","v":""},{"$f":"IF(J32+K32>0,J32+K32,\"\")","v":""},"",{"v":0,"d":"0%"}]
[null,null,"Peak Performances"]
[]
[null,"Top Points","Player",null,"Top REB","Player",null,"Top AST","Player"]
[null,{"$f":"MAX(Q$7:Q$30)","v":0},{"$f":"IFERROR(INDEX($AA$7:$AA$30,SMALL(IF(Q$7:Q$30=$B$36,ROW(Q$7:Q$30)-6),ROW(Q7)-6)),\" \")","v":" "},null,{"$f":"MAX(W$7:W$30)","v":0},{"$f":"IFERROR(INDEX($AA$7:$AA$30,SMALL(IF(W$7:W$30=$E$36,ROW(W$7:W$30)-6),ROW(W7)-6)),\" \")","v":" "},null,{"$f":"MAX(L$7:L$30)","v":0},{"$f":"IFERROR(INDEX($AA$7:$AA$30,SMALL(IF(L$7:L$30=$H$36,ROW(L$7:L$30)-6),ROW(L7)-6)),\" \")","v":"P Watt, 24"}]
[null,null,{"$f":"IFERROR(INDEX($AA$7:$AA$30,SMALL(IF(Q$7:Q$30=$B$36,ROW(Q$7:Q$30)-6),ROW(Q8)-6)),\" \")","v":" "},null,null,{"$f":"IFERROR(INDEX($AA$7:$AA$30,SMALL(IF(W$7:W$30=$E$36,ROW(W$7:W$30)-6),ROW(W8)-6)),\" \")","v":" "},null,null,{"$f":"IFERROR(INDEX($AA$7:$AA$30,SMALL(IF(L$7:L$30=$H$36,ROW(L$7:L$30)-6),ROW(L8)-6)),\" \")","v":"D Barritt, 20"}]
[null,null,{"$f":"IFERROR(INDEX($AA$7:$AA$30,SMALL(IF(Q$7:Q$30=$B$36,ROW(Q$7:Q$30)-6),ROW(Q9)-6)),\" \")","v":" "},null,null,{"$f":"IFERROR(INDEX($AA$7:$AA$30,SMALL(IF(W$7:W$30=$E$36,ROW(W$7:W$30)-6),ROW(W9)-6)),\" \")","v":" "},null,null,{"$f":"IFERROR(INDEX($AA$7:$AA$30,SMALL(IF(L$7:L$30=$H$36,ROW(L$7:L$30)-6),ROW(L9)-6)),\" \")","v":"D Butts, 14"}]
[null,null,{"$f":"IFERROR(INDEX($AA$7:$AA$30,SMALL(IF(Q$7:Q$30=$B$36,ROW(Q$7:Q$30)-6),ROW(Q10)-6)),\" \")","v":" "},null,null,{"$f":"IFERROR(INDEX($AA$7:$AA$30,SMALL(IF(W$7:W$30=$E$36,ROW(W$7:W$30)-6),ROW(W10)-6)),\" \")","v":" "},null,null,{"$f":"IFERROR(INDEX($AA$7:$AA$30,SMALL(IF(L$7:L$30=$H$36,ROW(L$7:L$30)-6),ROW(L10)-6)),\" \")","v":"J Caylor, 12"}]
[null,null,{"$f":"IFERROR(INDEX($AA$7:$AA$30,SMALL(IF(Q$7:Q$30=$B$36,ROW(Q$7:Q$30)-6),ROW(Q11)-6)),\" \")","v":" "},null,null,{"$f":"IFERROR(INDEX($AA$7:$AA$30,SMALL(IF(W$7:W$30=$E$36,ROW(W$7:W$30)-6),ROW(W11)-6)),\" \")","v":" "},null,null,{"$f":"IFERROR(INDEX($AA$7:$AA$30,SMALL(IF(L$7:L$30=$H$36,ROW(L$7:L$30)-6),ROW(L11)-6)),\" \")","v":"C Louderback, 23"}]
[null,null,{"$f":"IFERROR(INDEX($B12:B$30,SMALL(IF(Q$7:Q$30=$B$36,ROW(Q$7:Q$30)-6),ROW(Q12)-6)),\" \")","v":" "}]
[null,null,{"$f":"TRIM(C36)","v":""},null,null,{"$f":"TRIM(F36)","v":""},null,null,{"$f":"TRIM(I36)","v":"P Watt, 24"}]
[null,null,{"$f":"TRIM(C37)","v":""},null,null,{"$f":"TRIM(F37)","v":""},null,null,{"$f":"TRIM(I37)","v":"D Barritt, 20"}]
[null,null,"",null,null,"",null,null,"D Butts, 14"]
[null,null,"",null,null,"",null,null,"J Caylor, 12"]
[null,null,"",null,null,"",null,null,"C Louderback, 23"]
[]
[]
[null,{"$f":"COUNTIF(C42:C46,\"?*\")","v":0},null,null,{"$f":"COUNTIF(F42:F46,\"?*\")","v":0},null,null,{"$f":"COUNTIF(I42:I46,\"?*\")","v":5}]

{"sheet":"game1 (40)","index":42,"n_rows":49,"n_cols":27,"rows_kept":49,"merged":[[0,6,0,11],[1,2,1,5],[1,7,1,9],[1,10,1,12],[32,2,32,17]]}
[]
[{"$f":"IF(AND(Roster!$D$1=VLOOKUP(C2,Roster!$L$5:$R$72,2,FALSE),Roster!$D$3=VLOOKUP(C2,Roster!$L$5:$R$72,4,FALSE)),\"R\",\"\")","v":{"$error":"#N/A"}},"Opponent",{"$nulls":5},"Date of Game",{"$nulls":15},{"$f":"IF(OR($H$4=1,$J$4=1),CONCATENATE($C$2,\": \",MONTH($K$2),\"/\",DAY($K$2),\"/\",YEAR($K$2)-2000, \" **\" ),CONCATENATE($C$2,\": \",MONTH($K$2),\"/\",DAY($K$2),\"/\",YEAR($K$2)-2000))","v":": 1/0/-100"},null,9]
[{"$nulls":6},"Win","Conf W","Loss","Conf L",null,"Forfeit W?",null,"Forfeit L?",{"$nulls":9},{"$f":"IF($C$4>$D$4,CONCATENATE(Roster!$B$1,\" \",$C$4,\", \",$C$2,\" \",$D$4, \" \",$E$4),CONCATENATE($C$2,\" \",$D$4,\", \",Roster!$B$1,\" \",$C$4,\" \", $E$4 ))","v":" , Upton  "}]
[null,"Score",{"$nulls":4},{"$f":"IF(OR($L$4=1,$C$4>$D$4),1,\"\")","v":""},null,{"$f":"IF(OR($N$4=1,$C$4<$D$4),1,\"\")","v":""}]
[]
["#","PLAYER","GP","3FGM","3FGA","2FGM","2FGA","FTM","FTA","OFF REB","DEF REB","AST","STL","BLK","TO","FOUL","TL PTS","3FG %","2FG %","FT %","FG%","FGA","REB","Elig FG%","Elig FT%","Name2","FI,LastName,#"]
[{"$f":"IF(Roster!A7<>\"\",Roster!A7,\"\")","v":24},{"$f":"IF(OR(Roster!A7<>\"\",Roster!B7<>\"\"),PROPER(Roster!B7),\"\")","v":"Payton Watt"},{"$nulls":14},{"$f":"IF(H7+2*F7+3*D7>0,H7+2*F7+3*D7,\"\")","v":""},{"$f":"IF(E7>0,D7/E7,\"\")","v":""},{"$f":"IF(G7>0,F7/G7,\"\")","v":""},{"$f":"IF(I7>0,H7/I7,\"\")","v":""},{"$f":"IF(OR(E7>0,G7 >0),(D7+F7)/(E7+G7),\"\")","v":""},{"$f":"IF(E7+G7>0,E7+G7,\"\")","v":""},{"$f":"IF(J7+K7>0,J7+K7,\"\")","v":""},{"$f":"IF(V7>=$Z$2,U7,0)","v":""},{"$f":"IF(I7>=$Z$2,T7,0)","v":{"v":0,"d":"0%"}},{"$f":"B7","v":"Payton Watt"},{"$f":"IFERROR(IF(FIND(\" \",$B7,1),CONCATENATE(LEFT($B7,1),\" \",RIGHT($B7,LEN($B7)-FIND(\" \",$B7,1)),\", \",$A7),CONCATENATE($B7,\", \",$A7)),\"\")","v":"P Watt, 24"}]
[{"$f":"IF(Roster!A8<>\"\",Roster!A8,\"\")","v":20},{"$f":"IF(OR(Roster!A8<>\"\",Roster!B8<>\"\"),PROPER(Roster!B8),\"\")","v":"Dillon Barritt"},{"$nulls":14},{"$f":"IF(H8+2*F8+3*D8>0,H8+2*F8+3*D8,\"\")","v":""},{"$f":"IF(E8>0,D8/E8,\"\")","v":""},{"$f":"IF(G8>0,F8/G8,\"\")","v":""},{"$f":"IF(I8>0,H8/I8,\"\")","v":""},{"$f":"IF(OR(E8>0,G8 >0),(D8+F8)/(E8+G8),\"\")","v":""},{"$f":"IF(E8+G8>0,E8+G8,\"\")","v":""},{"$f":"IF(J8+K8>0,J8+K8,\"\")","v":""},{"$f":"IF(V8>=$Z$2,U8,0)","v":""},{"$f":"IF(I8>=$Z$2,T8,0)","v":{"v":0,"d":"0%"}},{"$f":"B8","v":"Dillon Barritt"},{"$f":"IFERROR(IF(FIND(\" \",$B8,1),CONCATENATE(LEFT($B8,1),\" \",RIGHT($B8,LEN($B8)-FIND(\" \",$B8,1)),\", \",$A8),CONCATENATE($B8,\", \",$A8)),\"\")","v":"D Barritt, 20"}]
[{"$f":"IF(Roster!A9<>\"\",Roster!A9,\"\")","v":14},{"$f":"IF(OR(Roster!A9<>\"\",Roster!B9<>\"\"),PROPER(Roster!B9),\"\")","v":"Dawson Butts"},{"$nulls":14},"","","","","","","","",{"v":0,"d":"0%"},"Dawson Butts","D Butts, 14"]
[{"$f":"IF(Roster!A10<>\"\",Roster!A10,\"\")","v":12},{"$f":"IF(OR(Roster!A10<>\"\",Roster!B10<>\"\"),PROPER(Roster!B10),\"\")","v":"Jayden Caylor"},{"$nulls":14},"","","","","","","","",{"v":0,"d":"0%"},"Jayden Caylor","J Caylor, 12"]
[{"$f":"IF(Roster!A11<>\"\",Roster!A11,\"\")","v":23},{"$f":"IF(OR(Roster!A11<>\"\",Roster!B11<>\"\"),PROPER(Roster!B11),\"\")","v":"Clayton Louderback"},{"$nulls":14},"","","","","","","","",{"v":0,"d":"0%"},"Clayton Louderback","C Louderback, 23"]
[{"$f":"IF(Roster!A12<>\"\",Roster!A12,\"\")","v":10},{"$f":"IF(OR(Roster!A12<>\"\",Roster!B12<>\"\"),PROPER(Roster!B12),\"\")","v":"Jess Claycomb"},{"$nulls":14},"","","","","","","","",{"v":0,"d":"0%"},"Jess Claycomb","J Claycomb, 10"]
[{"$f":"IF(Roster!A13<>\"\",Roster!A13,\"\")","v":4},{"$f":"IF(OR(Roster!A13<>\"\",Roster!B13<>\"\"),PROPER(Roster!B13),\"\")","v":"Maxx Cowger"},{"$nulls":14},"","","","","","","","",{"v":0,"d":"0%"},"Maxx Cowger","M Cowger, 4"]
[{"$f":"IF(Roster!A14<>\"\",Roster!A14,\"\")","v":22},{"$f":"IF(OR(Roster!A14<>\"\",Roster!B14<>\"\"),PROPER(Roster!B14),\"\")","v":"Brayden Bruce"},{"$nulls":14},"","","","","","","","",{"v":0,"d":"0%"},"Brayden Bruce","B Bruce, 22"]
[{"$f":"IF(Roster!A15<>\"\",Roster!A15,\"\")","v":30},{"$f":"IF(OR(Roster!A15<>\"\",Roster!B15<>\"\"),PROPER(Roster!B15),\"\")","v":"Jo Bishop"},{"$nulls":14},"","","","","","","","",{"v":0,"d":"0%"},"Jo Bishop","J Bishop, 30"]
[{"$f":"IF(Roster!A16<>\"\",Roster!A16,\"\")","v":33},{"$f":"IF(OR(Roster!A16<>\"\",Roster!B16<>\"\"),PROPER(Roster!B16),\"\")","v":"Nolan Turner"},{"$nulls":14},"","","","","","","","",{"v":0,"d":"0%"},"Nolan Turner","N Turner, 33"]
[{"$f":"IF(Roster!A17<>\"\",Roster!A17,\"\")","v":32},{"$f":"IF(OR(Roster!A17<>\"\",Roster!B17<>\"\"),PROPER(Roster!B17),\"\")","v":"Robert Crawford"},{"$nulls":14},"","","","","","","","",{"v":0,"d":"0%"},"Robert Crawford","R Crawford, 32"]
[{"$f":"IF(Roster!A18<>\"\",Roster!A18,\"\")","v":40},{"$f":"IF(OR(Roster!A18<>\"\",Roster!B18<>\"\"),PROPER(Roster!B18),\"\")","v":"Jace Bruce"},{"$nulls":14},"","","","","","","","",{"v":0,"d":"0%"},"Jace Bruce","J Bruce, 40"]
[{"$f":"IF(Roster!A19<>\"\",Roster!A19,\"\")","v":2},{"$f":"IF(OR(Roster!A19<>\"\",Roster!B19<>\"\"),PROPER(Roster!B19),\"\")","v":"Ethan Mills"},{"$nulls":14},"","","","","","","","",{"v":0,"d":"0%"},"Ethan Mills","E Mills, 2"]
[{"$f":"IF(Roster!A20<>\"\",Roster!A20,\"\")","v":2},{"$f":"IF(OR(Roster!A20<>\"\",Roster!B20<>\"\"),PROPER(Roster!B20),\"\")","v":"Bridger Alishouse"},{"$nulls":14},"","","","","","","","",{"v":0,"d":"0%"},"Bridger Alishouse","B Alishouse, 2"]
[{"$f":"IF(Roster!A21<>\"\",Roster!A21,\"\")","v":4},{"$f":"IF(OR(Roster!A21<>\"\",Roster!B21<>\"\"),PROPER(Roster!B21),\"\")","v":"Landon Keever"},{"$nulls":14},"","","","","","","","",{"v":0,"d":"0%"},"Landon Keever","L Keever, 4"]
[{"$f":"IF(Roster!A22<>\"\",Roster!A22,\"\")","v":4},{"$f":"IF(OR(Roster!A22<>\"\",Roster!B22<>\"\"),PROPER(Roster!B22),\"\")","v":"Dj Till"},{"$nulls":14},"","","","","","","","",{"v":0,"d":"0%"},"Dj Till","D Till, 4"]
[{"$f":"IF(Roster!A23<>\"\",Roster!A23,\"\")","v":""},{"$f":"IF(OR(Roster!A23<>\"\",Roster!B23<>\"\"),PROPER(Roster!B23),\"\")","v":""},{"$nulls":14},"","","","","","","","",{"v":0,"d":"0%"},"",""]
[{"$f":"IF(Roster!A24<>\"\",Roster!A24,\"\")","v":""},{"$f":"IF(OR(Roster!A24<>\"\",Roster!B24<>\"\"),PROPER(Roster!B24),\"\")","v":""},{"$nulls":14},"","","","","","","","",{"v":0,"d":"0%"},"",""]
[{"$f":"IF(Roster!A25<>\"\",Roster!A25,\"\")","v":""},{"$f":"IF(OR(Roster!A25<>\"\",Roster!B25<>\"\"),PROPER(Roster!B25),\"\")","v":""},{"$nulls":14},"","","","","","","","",{"v":0,"d":"0%"},"",""]
[{"$f":"IF(Roster!A26<>\"\",Roster!A26,\"\")","v":""},{"$f":"IF(OR(Roster!A26<>\"\",Roster!B26<>\"\"),PROPER(Roster!B26),\"\")","v":""},{"$nulls":14},"","","","","","","","",{"v":0,"d":"0%"},"",""]
[{"$f":"IF(Roster!A27<>\"\",Roster!A27,\"\")","v":""},{"$f":"IF(OR(Roster!A27<>\"\",Roster!B27<>\"\"),PROPER(Roster!B27),\"\")","v":""},{"$nulls":14},"","","","","","","","",{"v":0,"d":"0%"},"",""]
[{"$f":"IF(Roster!A28<>\"\",Roster!A28,\"\")","v":""},{"$f":"IF(OR(Roster!A28<>\"\",Roster!B28<>\"\"),PROPER(Roster!B28),\"\")","v":""},{"$nulls":14},"","","","","","","","",{"v":0,"d":"0%"},"",""]
[{"$f":"IF(Roster!A29<>\"\",Roster!A29,\"\")","v":""},{"$f":"IF(OR(Roster!A29<>\"\",Roster!B29<>\"\"),PROPER(Roster!B29),\"\")","v":""},{"$nulls":14},"","","","","","","","",{"v":0,"d":"0%"},"",""]
[{"$f":"IF(Roster!A30<>\"\",Roster!A30,\"\")","v":""},{"$f":"IF(OR(Roster!A30<>\"\",Roster!B30<>\"\"),PROPER(Roster!B30),\"\")","v":"Team"},{"$nulls":14},"","","","","","","","",{"v":0,"d":"0%"},"Team",{"$f":"IFERROR(IF(FIND(\" \",$B30,1),CONCATENATE(LEFT($B30,1),\" \",RIGHT($B30,LEN($B30)-FIND(\" \",$B30,1)),\", \",$A30),CONCATENATE($B30,\", \",$A30)),\"\")","v":""}]
[null,"Team Totals",{"$f":"IF(COUNTA($C$7:$C$30)>0,1,\"\")","v":""},{"$f":"SUM(D7:D30)","v":0},{"$f":"SUM(E7:E30)","v":0},0,0,0,0,0,0,0,0,0,{"$f":"SUM(O7:O30)","v":0},{"$f":"SUM(P7:P30)","v":0},{"$f":"IF(H31+2*F31+3*D31>0,H31+2*F31+3*D31,IF(C4>0,C4,\"\"))","v":""},{"$f":"IF(E31>0,D31/E31,\"\")","v":""},{"$f":"IF(G31>0,F31/G31,\"\")","v":""},{"$f":"IF(I31>0,H31/I31,\"\")","v":""},{"$f":"IF(OR(E31>0,G31 >0),(D31+F31)/(E31+G31),\"\")","v":""},{"$f":"IF(E31+G31>0,E31+G31,\"\")","v":""},{"$f":"IF(J31+K31>0,J31+K31,\"\")","v":""},"",{"$f":"IF(I31>=$Z$2,T31,0)","v":{"v":0,"d":"0%"}}]
[null,"Opponent Totals",{"$f":"IF(SUM(D32:P32)>0,1,\"\")","v":""},{"$nulls":13},{"$f":"IF(H32+2*F32+3*D32>0,H32+2*F32+3*D32,IF(D4>0,D4,\"\"))","v":""},{"$f":"IF(E32>0,D32/E32,\"\")","v":""},{"$f":"IF(G32>0,F32/G32,\"\")","v":""},{"$f":"IF(I32>0,H32/I32,\"\")","v":""},{"$f":"IF(OR(E32>0,G32 >0),(D32+F32)/(E32+G32),\"\")","v":""},{"$f":"IF(E32+G32>0,E32+G32,\"\")","v":""},{"$f":"IF(J32+K32>0,J32+K32,\"\")","v":""},"",{"v":0,"d":"0%"}]
[null,null,"Peak Performances"]
[]
[null,"Top Points","Player",null,"Top REB","Player",null,"Top AST","Player"]
[null,{"$f":"MAX(Q$7:Q$30)","v":0},{"$f":"IFERROR(INDEX($AA$7:$AA$30,SMALL(IF(Q$7:Q$30=$B$36,ROW(Q$7:Q$30)-6),ROW(Q7)-6)),\" \")","v":" "},null,{"$f":"MAX(W$7:W$30)","v":0},{"$f":"IFERROR(INDEX($AA$7:$AA$30,SMALL(IF(W$7:W$30=$E$36,ROW(W$7:W$30)-6),ROW(W7)-6)),\" \")","v":" "},null,{"$f":"MAX(L$7:L$30)","v":0},{"$f":"IFERROR(INDEX($AA$7:$AA$30,SMALL(IF(L$7:L$30=$H$36,ROW(L$7:L$30)-6),ROW(L7)-6)),\" \")","v":"P Watt, 24"}]
[null,null,{"$f":"IFERROR(INDEX($AA$7:$AA$30,SMALL(IF(Q$7:Q$30=$B$36,ROW(Q$7:Q$30)-6),ROW(Q8)-6)),\" \")","v":" "},null,null,{"$f":"IFERROR(INDEX($AA$7:$AA$30,SMALL(IF(W$7:W$30=$E$36,ROW(W$7:W$30)-6),ROW(W8)-6)),\" \")","v":" "},null,null,{"$f":"IFERROR(INDEX($AA$7:$AA$30,SMALL(IF(L$7:L$30=$H$36,ROW(L$7:L$30)-6),ROW(L8)-6)),\" \")","v":"D Barritt, 20"}]
[null,null,{"$f":"IFERROR(INDEX($AA$7:$AA$30,SMALL(IF(Q$7:Q$30=$B$36,ROW(Q$7:Q$30)-6),ROW(Q9)-6)),\" \")","v":" "},null,null,{"$f":"IFERROR(INDEX($AA$7:$AA$30,SMALL(IF(W$7:W$30=$E$36,ROW(W$7:W$30)-6),ROW(W9)-6)),\" \")","v":" "},null,null,{"$f":"IFERROR(INDEX($AA$7:$AA$30,SMALL(IF(L$7:L$30=$H$36,ROW(L$7:L$30)-6),ROW(L9)-6)),\" \")","v":"D Butts, 14"}]
[null,null,{"$f":"IFERROR(INDEX($AA$7:$AA$30,SMALL(IF(Q$7:Q$30=$B$36,ROW(Q$7:Q$30)-6),ROW(Q10)-6)),\" \")","v":" "},null,null,{"$f":"IFERROR(INDEX($AA$7:$AA$30,SMALL(IF(W$7:W$30=$E$36,ROW(W$7:W$30)-6),ROW(W10)-6)),\" \")","v":" "},null,null,{"$f":"IFERROR(INDEX($AA$7:$AA$30,SMALL(IF(L$7:L$30=$H$36,ROW(L$7:L$30)-6),ROW(L10)-6)),\" \")","v":"J Caylor, 12"}]
[null,null,{"$f":"IFERROR(INDEX($AA$7:$AA$30,SMALL(IF(Q$7:Q$30=$B$36,ROW(Q$7:Q$30)-6),ROW(Q11)-6)),\" \")","v":" "},null,null,{"$f":"IFERROR(INDEX($AA$7:$AA$30,SMALL(IF(W$7:W$30=$E$36,ROW(W$7:W$30)-6),ROW(W11)-6)),\" \")","v":" "},null,null,{"$f":"IFERROR(INDEX($AA$7:$AA$30,SMALL(IF(L$7:L$30=$H$36,ROW(L$7:L$30)-6),ROW(L11)-6)),\" \")","v":"C Louderback, 23"}]
[null,null,{"$f":"IFERROR(INDEX($B12:B$30,SMALL(IF(Q$7:Q$30=$B$36,ROW(Q$7:Q$30)-6),ROW(Q12)-6)),\" \")","v":" "}]
[null,null,{"$f":"TRIM(C36)","v":""},null,null,{"$f":"TRIM(F36)","v":""},null,null,{"$f":"TRIM(I36)","v":"P Watt, 24"}]
[null,null,{"$f":"TRIM(C37)","v":""},null,null,{"$f":"TRIM(F37)","v":""},null,null,{"$f":"TRIM(I37)","v":"D Barritt, 20"}]
[null,null,"",null,null,"",null,null,"D Butts, 14"]
[null,null,"",null,null,"",null,null,"J Caylor, 12"]
[null,null,"",null,null,"",null,null,"C Louderback, 23"]
[]
[]
[null,{"$f":"COUNTIF(C42:C46,\"?*\")","v":0},null,null,{"$f":"COUNTIF(F42:F46,\"?*\")","v":0},null,null,{"$f":"COUNTIF(I42:I46,\"?*\")","v":5}]

{"sheet":"PlayerGameSummary","index":43,"n_rows":2043,"n_cols":147,"rows_kept":2043,"hidden":true}
[]
[null,null,"Game Attempts",5]
[null,null,"Season Attempts",10]
[]
[]
["PLAYER, #","School","Opponent","Date","GP","3FGM","3FGA","2FGM","2FGA","FTM","FTA","OFF REB","DEF REB","AST","STL","BLK","TO","FOUL","TL PTS","3 FG%*","2 FG%*","FT %*","FG%*","Game#","Player #, Opponent,Game#","Region Game \"R\"","Class"]
[{"$f":"CONCATENATE(INDIRECT(\"Roster!B\"&ROW(A$7)+MOD(ROW(A7)-7,24)),\", \",INDIRECT(\"Roster!a\"&ROW(A$7)+MOD(ROW(A7)-7,24)))","v":"Payton Watt, 24"},{"$f":"Roster!$B$1","v":"Upton"},{"$f":"INDIRECT(\"'game1 (\"&$X7&\")'!$C$2\")","v":"Hulett"},{"$f":"INDIRECT(\"'game1 (\"&$X7&\")'!$k$2\")","v":"2017-12-08"},{"$f":"INDIRECT(\"'game1 (\"&$X7&\")'!\"&ADDRESS(ROW(A$7)+MOD(ROW(A7)-7,24),COLUMN(C7)))","v":1},{"$f":"INDIRECT(\"'game1 (\"&$X7&\")'!\"&ADDRESS(ROW(B$7)+MOD(ROW(B7)-7,24),COLUMN(D7)))","v":0},{"$f":"INDIRECT(\"'game1 (\"&$X7&\")'!\"&ADDRESS(ROW(C$7)+MOD(ROW(C7)-7,24),COLUMN(E7)))","v":4},{"$f":"INDIRECT(\"'game1 (\"&$X7&\")'!\"&ADDRESS(ROW(D$7)+MOD(ROW(D7)-7,24),COLUMN(F7)))","v":8},{"$f":"INDIRECT(\"'game1 (\"&$X7&\")'!\"&ADDRESS(ROW(E$7)+MOD(ROW(E7)-7,24),COLUMN(G7)))","v":13},{"$f":"INDIRECT(\"'game1 (\"&$X7&\")'!\"&ADDRESS(ROW(F$7)+MOD(ROW(F7)-7,24),COLUMN(H7)))","v":3},{"$f":"INDIRECT(\"'game1 (\"&$X7&\")'!\"&ADDRESS(ROW(G$7)+MOD(ROW(G7)-7,24),COLUMN(I7)))","v":4},{"$f":"INDIRECT(\"'game1 (\"&$X7&\")'!\"&ADDRESS(ROW(H$7)+MOD(ROW(H7)-7,24),COLUMN(J7)))","v":0},{"$f":"INDIRECT(\"'game1 (\"&$X7&\")'!\"&ADDRESS(ROW(I$7)+MOD(ROW(I7)-7,24),COLUMN(K7)))","v":3},{"$f":"INDIRECT(\"'game1 (\"&$X7&\")'!\"&ADDRESS(ROW(J$7)+MOD(ROW(J7)-7,24),COLUMN(L7)))","v":5},{"$f":"INDIRECT(\"'game1 (\"&$X7&\")'!\"&ADDRESS(ROW(K$7)+MOD(ROW(K7)-7,24),COLUMN(M7)))","v":3},{"$f":"INDIRECT(\"'game1 (\"&$X7&\")'!\"&ADDRESS(ROW(L$7)+MOD(ROW(L7)-7,24),COLUMN(N7)))","v":0},{"$f":"INDIRECT(\"'game1 (\"&$X7&\")'!\"&ADDRESS(ROW(M$7)+MOD(ROW(M7)-7,24),COLUMN(O7)))","v":2},{"$f":"INDIRECT(\"'game1 (\"&$X7&\")'!\"&ADDRESS(ROW(N$7)+MOD(ROW(N7)-7,24),COLUMN(P7)))","v":4},{"$f":"INDIRECT(\"'game1 (\"&$X7&\")'!\"&ADDRESS(ROW(O$7)+MOD(ROW(O7)-7,24),COLUMN(Q7)))","v":19},{"$f":"IF(G7<$D$2,0,INDIRECT(\"'game1 (\"&$X7&\")'!\"&ADDRESS(ROW(M$7)+MOD(ROW(M7)-7,24),COLUMN(R7))))","v":{"v":0,"d":"0%"}},{"$f":"IF(I7<$D$2,0,INDIRECT(\"'game1 (\"&$X7&\")'!\"&ADDRESS(ROW(N$7)+MOD(ROW(N7)-7,24),COLUMN(S7))))","v":{"v":0.6153846153846154,"d":"62%"}},{"$f":"IF(K7<$D$2,0,INDIRECT(\"'game1 (\"&$X7&\")'!\"&ADDRESS(ROW(O$7)+MOD(ROW(O7)-7,24),COLUMN(T7))))","v":{"v":0,"d":"0%"}},{"$f":"IF(G7+I7<$D$2,0,INDIRECT(\"'game1 (\"&$X7&\")'!\"&ADDRESS(ROW(O$7)+MOD(ROW(O7)-7,24),COLUMN(U7))))","v":{"v":0.47058823529411764,"d":"47%"}},{"$f":"INT((ROW(A7)-7)/24)+1","v":1},{"$f":"CONCATENATE(A7,\" - \",C7,\" \",MONTH(D7),\"/\",DAY(D7),\"/\",YEAR(D7))","v":"Payton Watt, 24 - Hulett 12/8/2017"},{"$f":"IFERROR(INDIRECT(\"'game1 (\"&$X7&\")'!$a$2\"),\"\")","v":""},{"$f":"Season_Summary!$P$1","v":"2A BB"}]
[{"$f":"CONCATENATE(INDIRECT(\"Roster!B\"&ROW(A$7)+MOD(ROW(A8)-7,24)),\", \",INDIRECT(\"Roster!a\"&ROW(A$7)+MOD(ROW(A8)-7,24)))","v":"Dillon Barritt, 20"},{"$f":"Roster!$B$1","v":"Upton"},{"$f":"INDIRECT(\"'game1 (\"&$X8&\")'!$C$2\")","v":"Hulett"},{"$f":"INDIRECT(\"'game1 (\"&$X8&\")'!$k$2\")","v":"2017-12-08"},1,1,4,5,7,0,0,1,0,3,2,0,1,3,13,{"$f":"IF(G8<$D$2,0,INDIRECT(\"'game1 (\"&$X8&\")'!\"&ADDRESS(ROW(M$7)+MOD(ROW(M8)-7,24),COLUMN(R8))))","v":{"v":0,"d":"0%"}},{"$f":"IF(I8<$D$2,0,INDIRECT(\"'game1 (\"&$X8&\")'!\"&ADDRESS(ROW(N$7)+MOD(ROW(N8)-7,24),COLUMN(S8))))","v":{"v":0.7142857142857143,"d":"71%"}},{"$f":"IF(K8<$D$2,0,INDIRECT(\"'game1 (\"&$X8&\")'!\"&ADDRESS(ROW(O$7)+MOD(ROW(O8)-7,24),COLUMN(T8))))","v":{"v":0,"d":"0%"}},{"$f":"IF(G8+I8<$D$2,0,INDIRECT(\"'game1 (\"&$X8&\")'!\"&ADDRESS(ROW(O$7)+MOD(ROW(O8)-7,24),COLUMN(U8))))","v":{"v":0.5454545454545454,"d":"55%"}},1,{"$f":"CONCATENATE(A8,\" - \",C8,\" \",MONTH(D8),\"/\",DAY(D8),\"/\",YEAR(D8))","v":"Dillon Barritt, 20 - Hulett 12/8/2017"},{"$f":"IFERROR(INDIRECT(\"'game1 (\"&$X8&\")'!$a$2\"),\"\")","v":""},{"$f":"Season_Summary!$P$1","v":"2A BB"}]
["Dawson Butts, 14",{"$f":"Roster!$B$1","v":"Upton"},"Hulett","2017-12-08",1,0,0,2,6,0,2,4,3,4,4,0,0,3,4,{"v":0,"d":"0%"},{"v":0.3333333333333333,"d":"33%"},{"v":0,"d":"0%"},{"v":0.3333333333333333,"d":"33%"},1,"Dawson Butts, 14 - Hulett 12/8/2017","",{"$f":"Season_Summary!$P$1","v":"2A BB"}]
["Jayden Caylor, 12",{"$f":"Roster!$B$1","v":"Upton"},"Hulett","2017-12-08",1,0,0,6,9,0,1,5,3,4,3,0,2,4,12,{"v":0,"d":"0%"},{"v":0.6666666666666666,"d":"67%"},{"v":0,"d":"0%"},{"v":0.6666666666666666,"d":"67%"},1,"Jayden Caylor, 12 - Hulett 12/8/2017","",{"$f":"Season_Summary!$P$1","v":"2A BB"}]
["Clayton Louderback, 23",{"$f":"Roster!$B$1","v":"Upton"},"Hulett","2017-12-08",1,1,3,3,8,2,4,1,7,2,3,0,1,2,11,{"v":0,"d":"0%"},{"v":0.375,"d":"38%"},{"v":0,"d":"0%"},{"v":0.36363636363636365,"d":"36%"},1,"Clayton Louderback, 23 - Hulett 12/8/2017","",{"$f":"Season_Summary!$P$1","v":"2A BB"}]
["Jess Claycomb, 10",{"$f":"Roster!$B$1","v":"Upton"},"Hulett","2017-12-08",1,2,2,7,8,2,2,1,1,1,1,0,0,4,22,{"v":0,"d":"0%"},{"v":0.875,"d":"88%"},{"v":0,"d":"0%"},{"v":0.9,"d":"90%"},1,"Jess Claycomb, 10 - Hulett 12/8/2017","",{"$f":"Season_Summary!$P$1","v":"2A BB"}]
["Maxx Cowger, 4",{"$f":"Roster!$B$1","v":"Upton"},"Hulett","2017-12-08",1,0,0,1,2,5,6,2,1,1,1,0,3,2,7,{"v":0,"d":"0%"},{"v":0,"d":"0%"},{"v":0.8333333333333334,"d":"83%"},{"v":0,"d":"0%"},1,"Maxx Cowger, 4 - Hulett 12/8/2017","",{"$f":"Season_Summary!$P$1","v":"2A BB"}]
["Brayden Bruce, 22",{"$f":"Roster!$B$1","v":"Upton"},"Hulett","2017-12-08",1,0,1,2,2,2,2,0,5,5,1,0,1,3,6,{"v":0,"d":"0%"},{"v":0,"d":"0%"},{"v":0,"d":"0%"},{"v":0,"d":"0%"},1,"Brayden Bruce, 22 - Hulett 12/8/2017","",{"$f":"Season_Summary!$P$1","v":"2A BB"}]
["Jo Bishop, 30",{"$f":"Roster!$B$1","v":"Upton"},"Hulett","2017-12-08",1,0,0,0,0,0,0,1,1,1,0,0,0,1,0,{"v":0,"d":"0%"},{"v":0,"d":"0%"},{"v":0,"d":"0%"},{"v":0,"d":"0%"},1,"Jo Bishop, 30 - Hulett 12/8/2017","",{"$f":"Season_Summary!$P$1","v":"2A BB"}]
["Nolan Turner, 33",{"$f":"Roster!$B$1","v":"Upton"},"Hulett","2017-12-08",1,0,0,0,0,0,2,1,1,0,0,0,1,0,0,{"v":0,"d":"0%"},{"v":0,"d":"0%"},{"v":0,"d":"0%"},{"v":0,"d":"0%"},1,"Nolan Turner, 33 - Hulett 12/8/2017","",{"$f":"Season_Summary!$P$1","v":"2A BB"}]
["Robert Crawford, 32",{"$f":"Roster!$B$1","v":"Upton"},"Hulett","2017-12-08",0,0,0,0,0,0,0,0,0,0,0,0,0,0,0,{"v":0,"d":"0%"},{"v":0,"d":"0%"},{"v":0,"d":"0%"},{"v":0,"d":"0%"},1,"Robert Crawford, 32 - Hulett 12/8/2017","",{"$f":"Season_Summary!$P$1","v":"2A BB"}]
["Jace Bruce, 40",{"$f":"Roster!$B$1","v":"Upton"},"Hulett","2017-12-08",1,0,2,0,1,0,0,0,0,2,2,0,2,0,0,{"v":0,"d":"0%"},{"v":0,"d":"0%"},{"v":0,"d":"0%"},{"v":0,"d":"0%"},1,"Jace Bruce, 40 - Hulett 12/8/2017","",{"$f":"Season_Summary!$P$1","v":"2A BB"}]
["Ethan Mills, 2",{"$f":"Roster!$B$1","v":"Upton"},"Hulett","2017-12-08",0,0,0,0,0,0,0,0,0,0,0,0,0,0,0,{"v":0,"d":"0%"},{"v":0,"d":"0%"},{"v":0,"d":"0%"},{"v":0,"d":"0%"},1,"Ethan Mills, 2 - Hulett 12/8/2017","",{"$f":"Season_Summary!$P$1","v":"2A BB"}]
["Bridger Alishouse, 2",{"$f":"Roster!$B$1","v":"Upton"},"Hulett","2017-12-08",0,0,0,0,0,0,0,0,0,0,0,0,0,0,0,{"v":0,"d":"0%"},{"v":0,"d":"0%"},{"v":0,"d":"0%"},{"v":0,"d":"0%"},1,"Bridger Alishouse, 2 - Hulett 12/8/2017","",{"$f":"Season_Summary!$P$1","v":"2A BB"}]
["Landon Keever, 4",{"$f":"Roster!$B$1","v":"Upton"},"Hulett","2017-12-08",0,0,0,0,0,0,0,0,0,0,0,0,0,0,0,{"v":0,"d":"0%"},{"v":0,"d":"0%"},{"v":0,"d":"0%"},{"v":0,"d":"0%"},1,"Landon Keever, 4 - Hulett 12/8/2017","",{"$f":"Season_Summary!$P$1","v":"2A BB"}]
["DJ Till, 4",{"$f":"Roster!$B$1","v":"Upton"},"Hulett","2017-12-08",0,0,0,0,0,0,0,0,0,0,0,0,0,0,0,{"v":0,"d":"0%"},{"v":0,"d":"0%"},{"v":0,"d":"0%"},{"v":0,"d":"0%"},1,"DJ Till, 4 - Hulett 12/8/2017","",{"$f":"Season_Summary!$P$1","v":"2A BB"}]
[", ",{"$f":"Roster!$B$1","v":"Upton"},"Hulett","2017-12-08",0,0,0,0,0,0,0,0,0,0,0,0,0,0,0,{"v":0,"d":"0%"},{"v":0,"d":"0%"},{"v":0,"d":"0%"},{"v":0,"d":"0%"},1,",  - Hulett 12/8/2017","",{"$f":"Season_Summary!$P$1","v":"2A BB"}]
[", ",{"$f":"Roster!$B$1","v":"Upton"},"Hulett","2017-12-08",0,0,0,0,0,0,0,0,0,0,0,0,0,0,0,{"v":0,"d":"0%"},{"v":0,"d":"0%"},{"v":0,"d":"0%"},{"v":0,"d":"0%"},1,",  - Hulett 12/8/2017","",{"$f":"Season_Summary!$P$1","v":"2A BB"}]
[", ",{"$f":"Roster!$B$1","v":"Upton"},"Hulett","2017-12-08",0,0,0,0,0,0,0,0,0,0,0,0,0,0,0,{"v":0,"d":"0%"},{"v":0,"d":"0%"},{"v":0,"d":"0%"},{"v":0,"d":"0%"},1,",  - Hulett 12/8/2017","",{"$f":"Season_Summary!$P$1","v":"2A BB"}]
[", ",{"$f":"Roster!$B$1","v":"Upton"},"Hulett","2017-12-08",0,0,0,0,0,0,0,0,0,0,0,0,0,0,0,{"v":0,"d":"0%"},{"v":0,"d":"0%"},{"v":0,"d":"0%"},{"v":0,"d":"0%"},1,",  - Hulett 12/8/2017","",{"$f":"Season_Summary!$P$1","v":"2A BB"}]
[", ",{"$f":"Roster!$B$1","v":"Upton"},"Hulett","2017-12-08",0,0,0,0,0,0,0,0,0,0,0,0,0,0,0,{"v":0,"d":"0%"},{"v":0,"d":"0%"},{"v":0,"d":"0%"},{"v":0,"d":"0%"},1,",  - Hulett 12/8/2017","",{"$f":"Season_Summary!$P$1","v":"2A BB"}]
[", ",{"$f":"Roster!$B$1","v":"Upton"},"Hulett","2017-12-08",0,0,0,0,0,0,0,0,0,0,0,0,0,0,0,{"v":0,"d":"0%"},{"v":0,"d":"0%"},{"v":0,"d":"0%"},{"v":0,"d":"0%"},1,",  - Hulett 12/8/2017","",{"$f":"Season_Summary!$P$1","v":"2A BB"}]
[", ",{"$f":"Roster!$B$1","v":"Upton"},"Hulett","2017-12-08",0,0,0,0,0,0,0,0,0,0,0,0,0,0,0,{"v":0,"d":"0%"},{"v":0,"d":"0%"},{"v":0,"d":"0%"},{"v":0,"d":"0%"},1,",  - Hulett 12/8/2017","",{"$f":"Season_Summary!$P$1","v":"2A BB"}]
["Team, ",{"$f":"Roster!$B$1","v":"Upton"},"Hulett","2017-12-08",0,0,0,0,0,0,0,0,0,0,0,0,0,0,0,{"v":0,"d":"0%"},{"v":0,"d":"0%"},{"v":0,"d":"0%"},{"v":0,"d":"0%"},1,"Team,  - Hulett 12/8/2017","",{"$f":"Season_Summary!$P$1","v":"2A BB"}]
["Payton Watt, 24",{"$f":"Roster!$B$1","v":"Upton"},"Ten Sleep","2017-12-09",1,2,7,3,7,3,4,2,2,6,0,0,2,0,15,{"v":0.2857142857142857,"d":"29%"},{"v":0.42857142857142855,"d":"43%"},{"v":0,"d":"0%"},{"v":0.35714285714285715,"d":"36%"},2,"Payton Watt, 24 - Ten Sleep 12/9/2017","",{"$f":"Season_Summary!$P$1","v":"2A BB"}]
["Dillon Barritt, 20",{"$f":"Roster!$B$1","v":"Upton"},"Ten Sleep","2017-12-09",1,4,5,2,2,3,3,0,3,1,2,0,1,3,19,{"v":0.8,"d":"80%"},{"v":0,"d":"0%"},{"v":0,"d":"0%"},{"v":0.8571428571428571,"d":"86%"},2,"Dillon Barritt, 20 - Ten Sleep 12/9/2017","",{"$f":"Season_Summary!$P$1","v":"2A BB"}]
["Dawson Butts, 14",{"$f":"Roster!$B$1","v":"Upton"},"Ten Sleep","2017-12-09",1,0,2,3,5,1,4,2,5,4,2,0,0,2,7,{"v":0,"d":"0%"},{"v":0.6,"d":"60%"},{"v":0,"d":"0%"},{"v":0.42857142857142855,"d":"43%"},2,"Dawson Butts, 14 - Ten Sleep 12/9/2017","",{"$f":"Season_Summary!$P$1","v":"2A BB"}]
["Jayden Caylor, 12",{"$f":"Roster!$B$1","v":"Upton"},"Ten Sleep","2017-12-09",1,0,1,5,7,0,2,4,1,1,4,0,1,2,10,{"v":0,"d":"0%"},{"v":0.7142857142857143,"d":"71%"},{"v":0,"d":"0%"},{"v":0.625,"d":"63%"},2,"Jayden Caylor, 12 - Ten Sleep 12/9/2017","",{"$f":"Season_Summary!$P$1","v":"2A BB"}]
["Clayton Louderback, 23",{"$f":"Roster!$B$1","v":"Upton"},"Ten Sleep","2017-12-09",1,0,2,3,5,0,0,3,5,4,2,0,2,2,6,{"v":0,"d":"0%"},{"v":0.6,"d":"60%"},{"v":0,"d":"0%"},{"v":0.42857142857142855,"d":"43%"},2,"Clayton Louderback, 23 - Ten Sleep 12/9/2017","",{"$f":"Season_Summary!$P$1","v":"2A BB"}]
["Jess Claycomb, 10",{"$f":"Roster!$B$1","v":"Upton"},"Ten Sleep","2017-12-09",1,0,3,6,8,1,2,1,1,2,1,0,0,0,13,{"v":0,"d":"0%"},{"v":0.75,"d":"75%"},{"v":0,"d":"0%"},{"v":0.5454545454545454,"d":"55%"},2,"Jess Claycomb, 10 - Ten Sleep 12/9/2017","",{"$f":"Season_Summary!$P$1","v":"2A BB"}]
["Maxx Cowger, 4",{"$f":"Roster!$B$1","v":"Upton"},"Ten Sleep","2017-12-09",1,0,0,0,0,0,0,0,0,0,0,0,0,0,"",{"v":0,"d":"0%"},{"v":0,"d":"0%"},{"v":0,"d":"0%"},{"v":0,"d":"0%"},2,"Maxx Cowger, 4 - Ten Sleep 12/9/2017","",{"$f":"Season_Summary!$P$1","v":"2A BB"}]
["Brayden Bruce, 22",{"$f":"Roster!$B$1","v":"Upton"},"Ten Sleep","2017-12-09",1,1,1,0,2,2,2,1,1,3,0,0,1,1,5,{"v":0,"d":"0%"},{"v":0,"d":"0%"},{"v":0,"d":"0%"},{"v":0,"d":"0%"},2,"Brayden Bruce, 22 - Ten Sleep 12/9/2017","",{"$f":"Season_Summary!$P$1","v":"2A BB"}]
["Jo Bishop, 30",{"$f":"Roster!$B$1","v":"Upton"},"Ten Sleep","2017-12-09",1,0,1,0,0,0,0,1,0,0,0,0,0,1,"",{"v":0,"d":"0%"},{"v":0,"d":"0%"},{"v":0,"d":"0%"},{"v":0,"d":"0%"},2,"Jo Bishop, 30 - Ten Sleep 12/9/2017","",{"$f":"Season_Summary!$P$1","v":"2A BB"}]
["Nolan Turner, 33",{"$f":"Roster!$B$1","v":"Upton"},"Ten Sleep","2017-12-09",1,0,0,1,1,0,0,1,1,0,0,0,2,2,2,{"v":0,"d":"0%"},{"v":0,"d":"0%"},{"v":0,"d":"0%"},{"v":0,"d":"0%"},2,"Nolan Turner, 33 - Ten Sleep 12/9/2017","",{"$f":"Season_Summary!$P$1","v":"2A BB"}]
["Robert Crawford, 32",{"$f":"Roster!$B$1","v":"Upton"},"Ten Sleep","2017-12-09",0,0,0,0,0,0,0,0,0,0,0,0,0,0,"",{"v":0,"d":"0%"},{"v":0,"d":"0%"},{"v":0,"d":"0%"},{"v":0,"d":"0%"},2,"Robert Crawford, 32 - Ten Sleep 12/9/2017","",{"$f":"Season_Summary!$P$1","v":"2A BB"}]
["Jace Bruce, 40",{"$f":"Roster!$B$1","v":"Upton"},"Ten Sleep","2017-12-09",1,0,0,0,0,0,0,0,0,0,0,0,0,3,"",{"v":0,"d":"0%"},{"v":0,"d":"0%"},{"v":0,"d":"0%"},{"v":0,"d":"0%"},2,"Jace Bruce, 40 - Ten Sleep 12/9/2017","",{"$f":"Season_Summary!$P$1","v":"2A BB"}]
["Ethan Mills, 2",{"$f":"Roster!$B$1","v":"Upton"},"Ten Sleep","2017-12-09",1,0,0,0,1,0,0,0,0,0,0,0,0,0,"",{"v":0,"d":"0%"},{"v":0,"d":"0%"},{"v":0,"d":"0%"},{"v":0,"d":"0%"},2,"Ethan Mills, 2 - Ten Sleep 12/9/2017","",{"$f":"Season_Summary!$P$1","v":"2A BB"}]
["Bridger Alishouse, 2",{"$f":"Roster!$B$1","v":"Upton"},"Ten Sleep","2017-12-09",0,0,0,0,0,0,0,0,0,0,0,0,0,0,"",{"v":0,"d":"0%"},{"v":0,"d":"0%"},{"v":0,"d":"0%"},{"v":0,"d":"0%"},2,"Bridger Alishouse, 2 - Ten Sleep 12/9/2017","",{"$f":"Season_Summary!$P$1","v":"2A BB"}]
["Landon Keever, 4",{"$f":"Roster!$B$1","v":"Upton"},"Ten Sleep","2017-12-09",0,0,0,0,0,0,0,0,0,0,0,0,0,0,"",{"v":0,"d":"0%"},{"v":0,"d":"0%"},{"v":0,"d":"0%"},{"v":0,"d":"0%"},2,"Landon Keever, 4 - Ten Sleep 12/9/2017","",{"$f":"Season_Summary!$P$1","v":"2A BB"}]
["DJ Till, 4",{"$f":"Roster!$B$1","v":"Upton"},"Ten Sleep","2017-12-09",0,0,0,0,0,0,0,0,0,0,0,0,0,0,"",{"v":0,"d":"0%"},{"v":0,"d":"0%"},{"v":0,"d":"0%"},{"v":0,"d":"0%"},2,"DJ Till, 4 - Ten Sleep 12/9/2017","",{"$f":"Season_Summary!$P$1","v":"2A BB"}]
[", ",{"$f":"Roster!$B$1","v":"Upton"},"Ten Sleep","2017-12-09",0,0,0,0,0,0,0,0,0,0,0,0,0,0,"",{"v":0,"d":"0%"},{"v":0,"d":"0%"},{"v":0,"d":"0%"},{"v":0,"d":"0%"},2,",  - Ten Sleep 12/9/2017","",{"$f":"Season_Summary!$P$1","v":"2A BB"}]
[", ",{"$f":"Roster!$B$1","v":"Upton"},"Ten Sleep","2017-12-09",0,0,0,0,0,0,0,0,0,0,0,0,0,0,"",{"v":0,"d":"0%"},{"v":0,"d":"0%"},{"v":0,"d":"0%"},{"v":0,"d":"0%"},2,",  - Ten Sleep 12/9/2017","",{"$f":"Season_Summary!$P$1","v":"2A BB"}]
[", ",{"$f":"Roster!$B$1","v":"Upton"},"Ten Sleep","2017-12-09",0,0,0,0,0,0,0,0,0,0,0,0,0,0,"",{"v":0,"d":"0%"},{"v":0,"d":"0%"},{"v":0,"d":"0%"},{"v":0,"d":"0%"},2,",  - Ten Sleep 12/9/2017","",{"$f":"Season_Summary!$P$1","v":"2A BB"}]
[", ",{"$f":"Roster!$B$1","v":"Upton"},"Ten Sleep","2017-12-09",0,0,0,0,0,0,0,0,0,0,0,0,0,0,"",{"v":0,"d":"0%"},{"v":0,"d":"0%"},{"v":0,"d":"0%"},{"v":0,"d":"0%"},2,",  - Ten Sleep 12/9/2017","",{"$f":"Season_Summary!$P$1","v":"2A BB"}]
[", ",{"$f":"Roster!$B$1","v":"Upton"},"Ten Sleep","2017-12-09",0,0,0,0,0,0,0,0,0,0,0,0,0,0,"",{"v":0,"d":"0%"},{"v":0,"d":"0%"},{"v":0,"d":"0%"},{"v":0,"d":"0%"},2,",  - Ten Sleep 12/9/2017","",{"$f":"Season_Summary!$P$1","v":"2A BB"}]
[", ",{"$f":"Roster!$B$1","v":"Upton"},"Ten Sleep","2017-12-09",0,0,0,0,0,0,0,0,0,0,0,0,0,0,"",{"v":0,"d":"0%"},{"v":0,"d":"0%"},{"v":0,"d":"0%"},{"v":0,"d":"0%"},2,",  - Ten Sleep 12/9/2017","",{"$f":"Season_Summary!$P$1","v":"2A BB"}]
[", ",{"$f":"Roster!$B$1","v":"Upton"},"Ten Sleep","2017-12-09",0,0,0,0,0,0,0,0,0,0,0,0,0,0,"",{"v":0,"d":"0%"},{"v":0,"d":"0%"},{"v":0,"d":"0%"},{"v":0,"d":"0%"},2,",  - Ten Sleep 12/9/2017","",{"$f":"Season_Summary!$P$1","v":"2A BB"}]
["Team, ",{"$f":"Roster!$B$1","v":"Upton"},"Ten Sleep","2017-12-09",0,0,0,0,0,0,0,0,0,0,0,0,0,0,"",{"v":0,"d":"0%"},{"v":0,"d":"0%"},{"v":0,"d":"0%"},{"v":0,"d":"0%"},2,"Team,  - Ten Sleep 12/9/2017","",{"$f":"Season_Summary!$P$1","v":"2A BB"}]
["Payton Watt, 24",{"$f":"Roster!$B$1","v":"Upton"},"Kaycee","2017-12-09",1,4,11,4,7,1,2,3,4,4,3,0,2,2,21,{"v":0.36363636363636365,"d":"36%"},{"v":0.5714285714285714,"d":"57%"},{"v":0,"d":"0%"},{"v":0.4444444444444444,"d":"44%"},3,"Payton Watt, 24 - Kaycee 12/9/2017","",{"$f":"Season_Summary!$P$1","v":"2A BB"}]
["Dillon Barritt, 20",{"$f":"Roster!$B$1","v":"Upton"},"Kaycee","2017-12-09",1,1,4,2,6,0,0,0,0,1,2,0,2,2,7,{"v":0,"d":"0%"},{"v":0.3333333333333333,"d":"33%"},{"v":0,"d":"0%"},{"v":0.3,"d":"30%"},3,"Dillon Barritt, 20 - Kaycee 12/9/2017","",{"$f":"Season_Summary!$P$1","v":"2A BB"}]
["Dawson Butts, 14",{"$f":"Roster!$B$1","v":"Upton"},"Kaycee","2017-12-09",1,0,0,3,6,0,2,3,1,4,3,0,2,1,6,{"v":0,"d":"0%"},{"v":0.5,"d":"50%"},{"v":0,"d":"0%"},{"v":0.5,"d":"50%"},3,"Dawson Butts, 14 - Kaycee 12/9/2017","",{"$f":"Season_Summary!$P$1","v":"2A BB"}]
["Jayden Caylor, 12",{"$f":"Roster!$B$1","v":"Upton"},"Kaycee","2017-12-09",1,0,0,2,4,2,4,2,6,2,2,0,5,5,6,{"v":0,"d":"0%"},{"v":0,"d":"0%"},{"v":0,"d":"0%"},{"v":0,"d":"0%"},3,"Jayden Caylor, 12 - Kaycee 12/9/2017","",{"$f":"Season_Summary!$P$1","v":"2A BB"}]
["Clayton Louderback, 23",{"$f":"Roster!$B$1","v":"Upton"},"Kaycee","2017-12-09",1,0,0,5,8,2,2,3,7,3,1,0,4,4,12,{"v":0,"d":"0%"},{"v":0.625,"d":"63%"},{"v":0,"d":"0%"},{"v":0.625,"d":"63%"},3,"Clayton Louderback, 23 - Kaycee 12/9/2017","",{"$f":"Season_Summary!$P$1","v":"2A BB"}]
["Jess Claycomb, 10",{"$f":"Roster!$B$1","v":"Upton"},"Kaycee","2017-12-09",1,0,0,3,7,0,0,1,1,1,1,0,1,1,6,{"v":0,"d":"0%"},{"v":0.42857142857142855,"d":"43%"},{"v":0,"d":"0%"},{"v":0.42857142857142855,"d":"43%"},3,"Jess Claycomb, 10 - Kaycee 12/9/2017","",{"$f":"Season_Summary!$P$1","v":"2A BB"}]
["Maxx Cowger, 4",{"$f":"Roster!$B$1","v":"Upton"},"Kaycee","2017-12-09",0,0,0,0,0,0,0,0,0,0,0,0,0,0,"",{"v":0,"d":"0%"},{"v":0,"d":"0%"},{"v":0,"d":"0%"},{"v":0,"d":"0%"},3,"Maxx Cowger, 4 - Kaycee 12/9/2017","",{"$f":"Season_Summary!$P$1","v":"2A BB"}]
["Brayden Bruce, 22",{"$f":"Roster!$B$1","v":"Upton"},"Kaycee","2017-12-09",1,0,0,1,1,1,1,0,0,0,0,0,1,1,3,{"v":0,"d":"0%"},{"v":0,"d":"0%"},{"v":0,"d":"0%"},{"v":0,"d":"0%"},3,"Brayden Bruce, 22 - Kaycee 12/9/2017","",{"$f":"Season_Summary!$P$1","v":"2A BB"}]
["Jo Bishop, 30",{"$f":"Roster!$B$1","v":"Upton"},"Kaycee","2017-12-09",0,0,0,0,0,0,0,0,0,0,0,0,0,0,"",{"v":0,"d":"0%"},{"v":0,"d":"0%"},{"v":0,"d":"0%"},{"v":0,"d":"0%"},3,"Jo Bishop, 30 - Kaycee 12/9/2017","",{"$f":"Season_Summary!$P$1","v":"2A BB"}]
["Nolan Turner, 33",{"$f":"Roster!$B$1","v":"Upton"},"Kaycee","2017-12-09",1,0,0,0,0,0,0,0,0,0,0,0,0,0,"",{"v":0,"d":"0%"},{"v":0,"d":"0%"},{"v":0,"d":"0%"},{"v":0,"d":"0%"},3,"Nolan Turner, 33 - Kaycee 12/9/2017","",{"$f":"Season_Summary!$P$1","v":"2A BB"}]
["Robert Crawford, 32",{"$f":"Roster!$B$1","v":"Upton"},"Kaycee","2017-12-09",0,0,0,0,0,0,0,0,0,0,0,0,0,0,"",{"v":0,"d":"0%"},{"v":0,"d":"0%"},{"v":0,"d":"0%"},{"v":0,"d":"0%"},3,"Robert Crawford, 32 - Kaycee 12/9/2017","",{"$f":"Season_Summary!$P$1","v":"2A BB"}]
["Jace Bruce, 40",{"$f":"Roster!$B$1","v":"Upton"},"Kaycee","2017-12-09",0,0,0,0,0,0,0,0,0,0,0,0,0,0,"",{"v":0,"d":"0%"},{"v":0,"d":"0%"},{"v":0,"d":"0%"},{"v":0,"d":"0%"},3,"Jace Bruce, 40 - Kaycee 12/9/2017","",{"$f":"Season_Summary!$P$1","v":"2A BB"}]
["Ethan Mills, 2",{"$f":"Roster!$B$1","v":"Upton"},"Kaycee","2017-12-09",0,0,0,0,0,0,0,0,0,0,0,0,0,0,"",{"v":0,"d":"0%"},{"v":0,"d":"0%"},{"v":0,"d":"0%"},{"v":0,"d":"0%"},3,"Ethan Mills, 2 - Kaycee 12/9/2017","",{"$f":"Season_Summary!$P$1","v":"2A BB"}]
["Bridger Alishouse, 2",{"$f":"Roster!$B$1","v":"Upton"},"Kaycee","2017-12-09",0,0,0,0,0,0,0,0,0,0,0,0,0,0,"",{"v":0,"d":"0%"},{"v":0,"d":"0%"},{"v":0,"d":"0%"},{"v":0,"d":"0%"},3,"Bridger Alishouse, 2 - Kaycee 12/9/2017","",{"$f":"Season_Summary!$P$1","v":"2A BB"}]
["Landon Keever, 4",{"$f":"Roster!$B$1","v":"Upton"},"Kaycee","2017-12-09",0,0,0,0,0,0,0,0,0,0,0,0,0,0,"",{"v":0,"d":"0%"},{"v":0,"d":"0%"},{"v":0,"d":"0%"},{"v":0,"d":"0%"},3,"Landon Keever, 4 - Kaycee 12/9/2017","",{"$f":"Season_Summary!$P$1","v":"2A BB"}]
["DJ Till, 4",{"$f":"Roster!$B$1","v":"Upton"},"Kaycee","2017-12-09",0,0,0,0,0,0,0,0,0,0,0,0,0,0,"",{"v":0,"d":"0%"},{"v":0,"d":"0%"},{"v":0,"d":"0%"},{"v":0,"d":"0%"},3,"DJ Till, 4 - Kaycee 12/9/2017","",{"$f":"Season_Summary!$P$1","v":"2A BB"}]
[", ",{"$f":"Roster!$B$1","v":"Upton"},"Kaycee","2017-12-09",{"$f":"INDIRECT(\"'game1 (\"&$X71&\")'!\"&ADDRESS(ROW(A$7)+MOD(ROW(A71)-7,24),COLUMN(C71)))","v":0},{"$f":"INDIRECT(\"'game1 (\"&$X71&\")'!\"&ADDRESS(ROW(B$7)+MOD(ROW(B71)-7,24),COLUMN(D71)))","v":0},{"$f":"INDIRECT(\"'game1 (\"&$X71&\")'!\"&ADDRESS(ROW(C$7)+MOD(ROW(C71)-7,24),COLUMN(E71)))","v":0},{"$f":"INDIRECT(\"'game1 (\"&$X71&\")'!\"&ADDRESS(ROW(D$7)+MOD(ROW(D71)-7,24),COLUMN(F71)))","v":0},{"$f":"INDIRECT(\"'game1 (\"&$X71&\")'!\"&ADDRESS(ROW(E$7)+MOD(ROW(E71)-7,24),COLUMN(G71)))","v":0},{"$f":"INDIRECT(\"'game1 (\"&$X71&\")'!\"&ADDRESS(ROW(F$7)+MOD(ROW(F71)-7,24),COLUMN(H71)))","v":0},{"$f":"INDIRECT(\"'game1 (\"&$X71&\")'!\"&ADDRESS(ROW(G$7)+MOD(ROW(G71)-7,24),COLUMN(I71)))","v":0},{"$f":"INDIRECT(\"'game1 (\"&$X71&\")'!\"&ADDRESS(ROW(H$7)+MOD(ROW(H71)-7,24),COLUMN(J71)))","v":0},{"$f":"INDIRECT(\"'game1 (\"&$X71&\")'!\"&ADDRESS(ROW(I$7)+MOD(ROW(I71)-7,24),COLUMN(K71)))","v":0},{"$f":"INDIRECT(\"'game1 (\"&$X71&\")'!\"&ADDRESS(ROW(J$7)+MOD(ROW(J71)-7,24),COLUMN(L71)))","v":0},{"$f":"INDIRECT(\"'game1 (\"&$X71&\")'!\"&ADDRESS(ROW(K$7)+MOD(ROW(K71)-7,24),COLUMN(M71)))","v":0},{"$f":"INDIRECT(\"'game1 (\"&$X71&\")'!\"&ADDRESS(ROW(L$7)+MOD(ROW(L71)-7,24),COLUMN(N71)))","v":0},{"$f":"INDIRECT(\"'game1 (\"&$X71&\")'!\"&ADDRESS(ROW(M$7)+MOD(ROW(M71)-7,24),COLUMN(O71)))","v":0},{"$f":"INDIRECT(\"'game1 (\"&$X71&\")'!\"&ADDRESS(ROW(N$7)+MOD(ROW(N71)-7,24),COLUMN(P71)))","v":0},{"$f":"INDIRECT(\"'game1 (\"&$X71&\")'!\"&ADDRESS(ROW(O$7)+MOD(ROW(O71)-7,24),COLUMN(Q71)))","v":""},{"v":0,"d":"0%"},{"v":0,"d":"0%"},{"v":0,"d":"0%"},{"v":0,"d":"0%"},{"$f":"INT((ROW(A71)-7)/24)+1","v":3},",  - Kaycee 12/9/2017","",{"$f":"Season_Summary!$P$1","v":"2A BB"}]
[{"$f":"CONCATENATE(INDIRECT(\"Roster!B\"&ROW(A$7)+MOD(ROW(A72)-7,24)),\", \",INDIRECT(\"Roster!a\"&ROW(A$7)+MOD(ROW(A72)-7,24)))","v":", "},{"$f":"Roster!$B$1","v":"Upton"},{"$f":"INDIRECT(\"'game1 (\"&$X72&\")'!$C$2\")","v":"Kaycee"},{"$f":"INDIRECT(\"'game1 (\"&$X72&\")'!$k$2\")","v":"2017-12-09"},0,0,0,0,0,0,0,0,0,0,0,0,0,0,"",{"$f":"IF(G72<$D$2,0,INDIRECT(\"'game1 (\"&$X72&\")'!\"&ADDRESS(ROW(M$7)+MOD(ROW(M72)-7,24),COLUMN(R72))))","v":{"v":0,"d":"0%"}},{"$f":"IF(I72<$D$2,0,INDIRECT(\"'game1 (\"&$X72&\")'!\"&ADDRESS(ROW(N$7)+MOD(ROW(N72)-7,24),COLUMN(S72))))","v":{"v":0,"d":"0%"}},{"$f":"IF(K72<$D$2,0,INDIRECT(\"'game1 (\"&$X72&\")'!\"&ADDRESS(ROW(O$7)+MOD(ROW(O72)-7,24),COLUMN(T72))))","v":{"v":0,"d":"0%"}},{"$f":"IF(G72+I72<$D$2,0,INDIRECT(\"'game1 (\"&$X72&\")'!\"&ADDRESS(ROW(O$7)+MOD(ROW(O72)-7,24),COLUMN(U72))))","v":{"v":0,"d":"0%"}},3,{"$f":"CONCATENATE(A72,\" - \",C72,\" \",MONTH(D72),\"/\",DAY(D72),\"/\",YEAR(D72))","v":",  - Kaycee 12/9/2017"},{"$f":"IFERROR(INDIRECT(\"'game1 (\"&$X72&\")'!$a$2\"),\"\")","v":""},{"$f":"Season_Summary!$P$1","v":"2A BB"}]
[", ",{"$f":"Roster!$B$1","v":"Upton"},"Kaycee","2017-12-09",0,0,0,0,0,0,0,0,0,0,0,0,0,0,"",{"v":0,"d":"0%"},{"v":0,"d":"0%"},{"v":0,"d":"0%"},{"v":0,"d":"0%"},3,",  - Kaycee 12/9/2017","",{"$f":"Season_Summary!$P$1","v":"2A BB"}]
[", ",{"$f":"Roster!$B$1","v":"Upton"},"Kaycee","2017-12-09",0,0,0,0,0,0,0,0,0,0,0,0,0,0,"",{"v":0,"d":"0%"},{"v":0,"d":"0%"},{"v":0,"d":"0%"},{"v":0,"d":"0%"},3,",  - Kaycee 12/9/2017","",{"$f":"Season_Summary!$P$1","v":"2A BB"}]
[", ",{"$f":"Roster!$B$1","v":"Upton"},"Kaycee","2017-12-09",0,0,0,0,0,0,0,0,0,0,0,0,0,0,"",{"v":0,"d":"0%"},{"v":0,"d":"0%"},{"v":0,"d":"0%"},{"v":0,"d":"0%"},3,",  - Kaycee 12/9/2017","",{"$f":"Season_Summary!$P$1","v":"2A BB"}]
[", ",{"$f":"Roster!$B$1","v":"Upton"},"Kaycee","2017-12-09",0,0,0,0,0,0,0,0,0,0,0,0,0,0,"",{"v":0,"d":"0%"},{"v":0,"d":"0%"},{"v":0,"d":"0%"},{"v":0,"d":"0%"},3,",  - Kaycee 12/9/2017","",{"$f":"Season_Summary!$P$1","v":"2A BB"}]
[", ",{"$f":"Roster!$B$1","v":"Upton"},"Kaycee","2017-12-09",0,0,0,0,0,0,0,0,0,0,0,0,0,0,"",{"v":0,"d":"0%"},{"v":0,"d":"0%"},{"v":0,"d":"0%"},{"v":0,"d":"0%"},3,",  - Kaycee 12/9/2017","",{"$f":"Season_Summary!$P$1","v":"2A BB"}]
["Team, ",{"$f":"Roster!$B$1","v":"Upton"},"Kaycee","2017-12-09",0,0,0,0,0,0,0,0,0,0,0,0,0,0,"",{"v":0,"d":"0%"},{"v":0,"d":"0%"},{"v":0,"d":"0%"},{"v":0,"d":"0%"},3,"Team,  - Kaycee 12/9/2017","",{"$f":"Season_Summary!$P$1","v":"2A BB"}]
["Payton Watt, 24",{"$f":"Roster!$B$1","v":"Upton"},"Riverside","2017-12-15",1,2,8,4,8,0,0,3,2,4,2,0,0,0,14,{"v":0.25,"d":"25%"},{"v":0.5,"d":"50%"},{"v":0,"d":"0%"},{"v":0.375,"d":"38%"},4,"Payton Watt, 24 - Riverside 12/15/2017","",{"$f":"Season_Summary!$P$1","v":"2A BB"}]
["Dillon Barritt, 20",{"$f":"Roster!$B$1","v":"Upton"},"Riverside","2017-12-15",1,1,4,3,4,0,0,0,1,2,2,0,2,0,9,{"v":0,"d":"0%"},{"v":0,"d":"0%"},{"v":0,"d":"0%"},{"v":0.5,"d":"50%"},4,"Dillon Barritt, 20 - Riverside 12/15/2017","",{"$f":"Season_Summary!$P$1","v":"2A BB"}]
["Dawson Butts, 14",{"$f":"Roster!$B$1","v":"Upton"},"Riverside","2017-12-15",1,1,1,3,8,2,2,3,1,6,4,0,1,0,11,{"v":0,"d":"0%"},{"v":0.375,"d":"38%"},{"v":0,"d":"0%"},{"v":0.4444444444444444,"d":"44%"},4,"Dawson Butts, 14 - Riverside 12/15/2017","",{"$f":"Season_Summary!$P$1","v":"2A BB"}]
["Jayden Caylor, 12",{"$f":"Roster!$B$1","v":"Upton"},"Riverside","2017-12-15",1,2,2,1,2,0,0,3,5,7,0,0,1,0,8,{"v":0,"d":"0%"},{"v":0,"d":"0%"},{"v":0,"d":"0%"},{"v":0,"d":"0%"},4,"Jayden Caylor, 12 - Riverside 12/15/2017","",{"$f":"Season_Summary!$P$1","v":"2A BB"}]
["Clayton Louderback, 23",{"$f":"Roster!$B$1","v":"Upton"},"Riverside","2017-12-15",1,0,1,5,10,0,0,5,4,2,2,1,0,0,10,{"v":0,"d":"0%"},{"v":0.5,"d":"50%"},{"v":0,"d":"0%"},{"v":0.45454545454545453,"d":"45%"},4,"Clayton Louderback, 23 - Riverside 12/15/2017","",{"$f":"Season_Summary!$P$1","v":"2A BB"}]
["Jess Claycomb, 10",{"$f":"Roster!$B$1","v":"Upton"},"Riverside","2017-12-15",1,0,1,4,4,1,2,3,2,1,1,0,1,1,9,{"v":0,"d":"0%"},{"v":0,"d":"0%"},{"v":0,"d":"0%"},{"v":0.8,"d":"80%"},4,"Jess Claycomb, 10 - Riverside 12/15/2017","",{"$f":"Season_Summary!$P$1","v":"2A BB"}]
["Maxx Cowger, 4",{"$f":"Roster!$B$1","v":"Upton"},"Riverside","2017-12-15",1,0,0,0,0,0,0,0,0,0,0,0,0,0,"",{"v":0,"d":"0%"},{"v":0,"d":"0%"},{"v":0,"d":"0%"},{"v":0,"d":"0%"},4,"Maxx Cowger, 4 - Riverside 12/15/2017","",{"$f":"Season_Summary!$P$1","v":"2A BB"}]
["Brayden Bruce, 22",{"$f":"Roster!$B$1","v":"Upton"},"Riverside","2017-12-15",1,1,1,0,2,0,0,0,1,3,1,0,3,0,3,{"v":0,"d":"0%"},{"v":0,"d":"0%"},{"v":0,"d":"0%"},{"v":0,"d":"0%"},4,"Brayden Bruce, 22 - Riverside 12/15/2017","",{"$f":"Season_Summary!$P$1","v":"2A BB"}]
["Jo Bishop, 30",{"$f":"Roster!$B$1","v":"Upton"},"Riverside","2017-12-15",1,0,0,3,4,0,0,3,1,1,1,0,1,0,6,{"v":0,"d":"0%"},{"v":0,"d":"0%"},{"v":0,"d":"0%"},{"v":0,"d":"0%"},4,"Jo Bishop, 30 - Riverside 12/15/2017","",{"$f":"Season_Summary!$P$1","v":"2A BB"}]
["Nolan Turner, 33",{"$f":"Roster!$B$1","v":"Upton"},"Riverside","2017-12-15",1,0,0,2,3,0,0,1,2,2,0,0,0,0,4,{"v":0,"d":"0%"},{"v":0,"d":"0%"},{"v":0,"d":"0%"},{"v":0,"d":"0%"},4,"Nolan Turner, 33 - Riverside 12/15/2017","",{"$f":"Season_Summary!$P$1","v":"2A BB"}]
["Robert Crawford, 32",{"$f":"Roster!$B$1","v":"Upton"},"Riverside","2017-12-15",1,0,0,2,3,0,0,0,3,1,0,0,1,1,4,{"v":0,"d":"0%"},{"v":0,"d":"0%"},{"v":0,"d":"0%"},{"v":0,"d":"0%"},4,"Robert Crawford, 32 - Riverside 12/15/2017","",{"$f":"Season_Summary!$P$1","v":"2A BB"}]
["Jace Bruce, 40",{"$f":"Roster!$B$1","v":"Upton"},"Riverside","2017-12-15",1,0,4,0,0,0,0,1,1,1,0,0,1,1,"",{"v":0,"d":"0%"},{"v":0,"d":"0%"},{"v":0,"d":"0%"},{"v":0,"d":"0%"},4,"Jace Bruce, 40 - Riverside 12/15/2017","",{"$f":"Season_Summary!$P$1","v":"2A BB"}]
["Ethan Mills, 2",{"$f":"Roster!$B$1","v":"Upton"},"Riverside","2017-12-15",0,0,0,0,0,0,0,0,0,0,0,0,0,0,"",{"v":0,"d":"0%"},{"v":0,"d":"0%"},{"v":0,"d":"0%"},{"v":0,"d":"0%"},4,"Ethan Mills, 2 - Riverside 12/15/2017","",{"$f":"Season_Summary!$P$1","v":"2A BB"}]
["Bridger Alishouse, 2",{"$f":"Roster!$B$1","v":"Upton"},"Riverside","2017-12-15",0,0,0,0,0,0,0,0,0,0,0,0,0,0,"",{"v":0,"d":"0%"},{"v":0,"d":"0%"},{"v":0,"d":"0%"},{"v":0,"d":"0%"},4,"Bridger Alishouse, 2 - Riverside 12/15/2017","",{"$f":"Season_Summary!$P$1","v":"2A BB"}]
["Landon Keever, 4",{"$f":"Roster!$B$1","v":"Upton"},"Riverside","2017-12-15",0,0,0,0,0,0,0,0,0,0,0,0,0,0,"",{"v":0,"d":"0%"},{"v":0,"d":"0%"},{"v":0,"d":"0%"},{"v":0,"d":"0%"},4,"Landon Keever, 4 - Riverside 12/15/2017","",{"$f":"Season_Summary!$P$1","v":"2A BB"}]
["DJ Till, 4",{"$f":"Roster!$B$1","v":"Upton"},"Riverside","2017-12-15",0,0,0,0,0,0,0,0,0,0,0,0,0,0,"",{"v":0,"d":"0%"},{"v":0,"d":"0%"},{"v":0,"d":"0%"},{"v":0,"d":"0%"},4,"DJ Till, 4 - Riverside 12/15/2017","",{"$f":"Season_Summary!$P$1","v":"2A BB"}]
[", ",{"$f":"Roster!$B$1","v":"Upton"},"Riverside","2017-12-15",0,0,0,0,0,0,0,0,0,0,0,0,0,0,"",{"v":0,"d":"0%"},{"v":0,"d":"0%"},{"v":0,"d":"0%"},{"v":0,"d":"0%"},4,",  - Riverside 12/15/2017","",{"$f":"Season_Summary!$P$1","v":"2A BB"}]
[", ",{"$f":"Roster!$B$1","v":"Upton"},"Riverside","2017-12-15",0,0,0,0,0,0,0,0,0,0,0,0,0,0,"",{"v":0,"d":"0%"},{"v":0,"d":"0%"},{"v":0,"d":"0%"},{"v":0,"d":"0%"},4,",  - Riverside 12/15/2017","",{"$f":"Season_Summary!$P$1","v":"2A BB"}]
[", ",{"$f":"Roster!$B$1","v":"Upton"},"Riverside","2017-12-15",0,0,0,0,0,0,0,0,0,0,0,0,0,0,"",{"v":0,"d":"0%"},{"v":0,"d":"0%"},{"v":0,"d":"0%"},{"v":0,"d":"0%"},4,",  - Riverside 12/15/2017","",{"$f":"Season_Summary!$P$1","v":"2A BB"}]
[", ",{"$f":"Roster!$B$1","v":"Upton"},"Riverside","2017-12-15",0,0,0,0,0,0,0,0,0,0,0,0,0,0,"",{"v":0,"d":"0%"},{"v":0,"d":"0%"},{"v":0,"d":"0%"},{"v":0,"d":"0%"},4,",  - Riverside 12/15/2017","",{"$f":"Season_Summary!$P$1","v":"2A BB"}]
[", ",{"$f":"Roster!$B$1","v":"Upton"},"Riverside","2017-12-15",0,0,0,0,0,0,0,0,0,0,0,0,0,0,"",{"v":0,"d":"0%"},{"v":0,"d":"0%"},{"v":0,"d":"0%"},{"v":0,"d":"0%"},4,",  - Riverside 12/15/2017","",{"$f":"Season_Summary!$P$1","v":"2A BB"}]
[", ",{"$f":"Roster!$B$1","v":"Upton"},"Riverside","2017-12-15",0,0,0,0,0,0,0,0,0,0,0,0,0,0,"",{"v":0,"d":"0%"},{"v":0,"d":"0%"},{"v":0,"d":"0%"},{"v":0,"d":"0%"},4,",  - Riverside 12/15/2017","",{"$f":"Season_Summary!$P$1","v":"2A BB"}]
[", ",{"$f":"Roster!$B$1","v":"Upton"},"Riverside","2017-12-15",0,0,0,0,0,0,0,0,0,0,0,0,0,0,"",{"v":0,"d":"0%"},{"v":0,"d":"0%"},{"v":0,"d":"0%"},{"v":0,"d":"0%"},4,",  - Riverside 12/15/2017","",{"$f":"Season_Summary!$P$1","v":"2A BB"}]
["Team, ",{"$f":"Roster!$B$1","v":"Upton"},"Riverside","2017-12-15",0,0,0,0,0,0,0,0,0,0,0,0,0,0,"",{"v":0,"d":"0%"},{"v":0,"d":"0%"},{"v":0,"d":"0%"},{"v":0,"d":"0%"},4,"Team,  - Riverside 12/15/2017","",{"$f":"Season_Summary!$P$1","v":"2A BB"}]
["Payton Watt, 24",{"$f":"Roster!$B$1","v":"Upton"},"Cokeville","2017-12-15",1,5,10,2,6,0,0,1,4,3,1,0,1,1,19,{"v":0.5,"d":"50%"},{"v":0.3333333333333333,"d":"33%"},{"v":0,"d":"0%"},{"v":0.4375,"d":"44%"},5,"Payton Watt, 24 - Cokeville 12/15/2017","",{"$f":"Season_Summary!$P$1","v":"2A BB"}]
["Dillon Barritt, 20",{"$f":"Roster!$B$1","v":"Upton"},"Cokeville","2017-12-15",1,2,6,0,3,0,0,1,6,1,1,0,1,1,6,{"v":0.3333333333333333,"d":"33%"},{"v":0,"d":"0%"},{"v":0,"d":"0%"},{"v":0.2222222222222222,"d":"22%"},5,"Dillon Barritt, 20 - Cokeville 12/15/2017","",{"$f":"Season_Summary!$P$1","v":"2A BB"}]
["Dawson Butts, 14",{"$f":"Roster!$B$1","v":"Upton"},"Cokeville","2017-12-15",1,1,1,2,2,0,2,0,1,4,0,0,1,1,7,{"v":0,"d":"0%"},{"v":0,"d":"0%"},{"v":0,"d":"0%"},{"v":0,"d":"0%"},5,"Dawson Butts, 14 - Cokeville 12/15/2017","",{"$f":"Season_Summary!$P$1","v":"2A BB"}]
["Jayden Caylor, 12",{"$f":"Roster!$B$1","v":"Upton"},"Cokeville","2017-12-15",1,0,1,0,4,1,2,2,3,2,4,1,3,0,1,{"v":0,"d":"0%"},{"v":0,"d":"0%"},{"v":0,"d":"0%"},{"v":0,"d":"0%"},5,"Jayden Caylor, 12 - Cokeville 12/15/2017","",{"$f":"Season_Summary!$P$1","v":"2A BB"}]
["Clayton Louderback, 23",{"$f":"Roster!$B$1","v":"Upton"},"Cokeville","2017-12-15",1,1,2,6,10,1,2,1,5,2,2,0,5,4,16,{"v":0,"d":"0%"},{"v":0.6,"d":"60%"},{"v":0,"d":"0%"},{"v":0.5833333333333334,"d":"58%"},5,"Clayton Louderback, 23 - Cokeville 12/15/2017","",{"$f":"Season_Summary!$P$1","v":"2A BB"}]
["Jess Claycomb, 10",{"$f":"Roster!$B$1","v":"Upton"},"Cokeville","2017-12-15",1,1,1,3,3,0,1,1,1,4,2,0,0,1,9,{"v":0,"d":"0%"},{"v":0,"d":"0%"},{"v":0,"d":"0%"},{"v":0,"d":"0%"},5,"Jess Claycomb, 10 - Cokeville 12/15/2017","",{"$f":"Season_Summary!$P$1","v":"2A BB"}]
["Maxx Cowger, 4",{"$f":"Roster!$B$1","v":"Upton"},"Cokeville","2017-12-15",0,0,0,0,0,0,0,0,0,0,0,0,0,0,"",{"v":0,"d":"0%"},{"v":0,"d":"0%"},{"v":0,"d":"0%"},{"v":0,"d":"0%"},5,"Maxx Cowger, 4 - Cokeville 12/15/2017","",{"$f":"Season_Summary!$P$1","v":"2A BB"}]
["Brayden Bruce, 22",{"$f":"Roster!$B$1","v":"Upton"},"Cokeville","2017-12-15",1,0,2,0,0,0,0,0,2,4,0,0,1,1,"",{"v":0,"d":"0%"},{"v":0,"d":"0%"},{"v":0,"d":"0%"},{"v":0,"d":"0%"},5,"Brayden Bruce, 22 - Cokeville 12/15/2017","",{"$f":"Season_Summary!$P$1","v":"2A BB"}]
["Jo Bishop, 30",{"$f":"Roster!$B$1","v":"Upton"},"Cokeville","2017-12-15",1,0,0,0,0,0,0,0,0,0,0,0,1,0,"",{"v":0,"d":"0%"},{"v":0,"d":"0%"},{"v":0,"d":"0%"},{"v":0,"d":"0%"},5,"Jo Bishop, 30 - Cokeville 12/15/2017","",{"$f":"Season_Summary!$P$1","v":"2A BB"}]
["Nolan Turner, 33",{"$f":"Roster!$B$1","v":"Upton"},"Cokeville","2017-12-15",1,0,0,0,0,0,0,0,1,0,0,0,1,0,"",{"v":0,"d":"0%"},{"v":0,"d":"0%"},{"v":0,"d":"0%"},{"v":0,"d":"0%"},5,"Nolan Turner, 33 - Cokeville 12/15/2017","",{"$f":"Season_Summary!$P$1","v":"2A BB"}]
["Robert Crawford, 32",{"$f":"Roster!$B$1","v":"Upton"},"Cokeville","2017-12-15",1,0,0,2,2,0,0,1,0,0,0,0,0,0,4,{"v":0,"d":"0%"},{"v":0,"d":"0%"},{"v":0,"d":"0%"},{"v":0,"d":"0%"},5,"Robert Crawford, 32 - Cokeville 12/15/2017","",{"$f":"Season_Summary!$P$1","v":"2A BB"}]
["Jace Bruce, 40",{"$f":"Roster!$B$1","v":"Upton"},"Cokeville","2017-12-15",1,0,1,0,0,0,0,0,0,0,0,0,0,0,"",{"v":0,"d":"0%"},{"v":0,"d":"0%"},{"v":0,"d":"0%"},{"v":0,"d":"0%"},5,"Jace Bruce, 40 - Cokeville 12/15/2017","",{"$f":"Season_Summary!$P$1","v":"2A BB"}]
["Ethan Mills, 2",{"$f":"Roster!$B$1","v":"Upton"},"Cokeville","2017-12-15",0,0,0,0,0,0,0,0,0,0,0,0,0,0,"",{"v":0,"d":"0%"},{"v":0,"d":"0%"},{"v":0,"d":"0%"},{"v":0,"d":"0%"},5,"Ethan Mills, 2 - Cokeville 12/15/2017","",{"$f":"Season_Summary!$P$1","v":"2A BB"}]
["Bridger Alishouse, 2",{"$f":"Roster!$B$1","v":"Upton"},"Cokeville","2017-12-15",0,0,0,0,0,0,0,0,0,0,0,0,0,0,"",{"v":0,"d":"0%"},{"v":0,"d":"0%"},{"v":0,"d":"0%"},{"v":0,"d":"0%"},5,"Bridger Alishouse, 2 - Cokeville 12/15/2017","",{"$f":"Season_Summary!$P$1","v":"2A BB"}]
["Landon Keever, 4",{"$f":"Roster!$B$1","v":"Upton"},"Cokeville","2017-12-15",0,0,0,0,0,0,0,0,0,0,0,0,0,0,"",{"v":0,"d":"0%"},{"v":0,"d":"0%"},{"v":0,"d":"0%"},{"v":0,"d":"0%"},5,"Landon Keever, 4 - Cokeville 12/15/2017","",{"$f":"Season_Summary!$P$1","v":"2A BB"}]
["DJ Till, 4",{"$f":"Roster!$B$1","v":"Upton"},"Cokeville","2017-12-15",0,0,0,0,0,0,0,0,0,0,0,0,0,0,"",{"v":0,"d":"0%"},{"v":0,"d":"0%"},{"v":0,"d":"0%"},{"v":0,"d":"0%"},5,"DJ Till, 4 - Cokeville 12/15/2017","",{"$f":"Season_Summary!$P$1","v":"2A BB"}]
[", ",{"$f":"Roster!$B$1","v":"Upton"},"Cokeville","2017-12-15",0,0,0,0,0,0,0,0,0,0,0,0,0,0,"",{"v":0,"d":"0%"},{"v":0,"d":"0%"},{"v":0,"d":"0%"},{"v":0,"d":"0%"},5,",  - Cokeville 12/15/2017","",{"$f":"Season_Summary!$P$1","v":"2A BB"}]
[", ",{"$f":"Roster!$B$1","v":"Upton"},"Cokeville","2017-12-15",0,0,0,0,0,0,0,0,0,0,0,0,0,0,"",{"v":0,"d":"0%"},{"v":0,"d":"0%"},{"v":0,"d":"0%"},{"v":0,"d":"0%"},5,",  - Cokeville 12/15/2017","",{"$f":"Season_Summary!$P$1","v":"2A BB"}]
[", ",{"$f":"Roster!$B$1","v":"Upton"},"Cokeville","2017-12-15",0,0,0,0,0,0,0,0,0,0,0,0,0,0,"",{"v":0,"d":"0%"},{"v":0,"d":"0%"},{"v":0,"d":"0%"},{"v":0,"d":"0%"},5,",  - Cokeville 12/15/2017","",{"$f":"Season_Summary!$P$1","v":"2A BB"}]
[", ",{"$f":"Roster!$B$1","v":"Upton"},"Cokeville","2017-12-15",0,0,0,0,0,0,0,0,0,0,0,0,0,0,"",{"v":0,"d":"0%"},{"v":0,"d":"0%"},{"v":0,"d":"0%"},{"v":0,"d":"0%"},5,",  - Cokeville 12/15/2017","",{"$f":"Season_Summary!$P$1","v":"2A BB"}]
[", ",{"$f":"Roster!$B$1","v":"Upton"},"Cokeville","2017-12-15",0,0,0,0,0,0,0,0,0,0,0,0,0,0,"",{"v":0,"d":"0%"},{"v":0,"d":"0%"},{"v":0,"d":"0%"},{"v":0,"d":"0%"},5,",  - Cokeville 12/15/2017","",{"$f":"Season_Summary!$P$1","v":"2A BB"}]
[", ",{"$f":"Roster!$B$1","v":"Upton"},"Cokeville","2017-12-15",0,0,0,0,0,0,0,0,0,0,0,0,0,0,"",{"v":0,"d":"0%"},{"v":0,"d":"0%"},{"v":0,"d":"0%"},{"v":0,"d":"0%"},5,",  - Cokeville 12/15/2017","",{"$f":"Season_Summary!$P$1","v":"2A BB"}]
[", ",{"$f":"Roster!$B$1","v":"Upton"},"Cokeville","2017-12-15",0,0,0,0,0,0,0,0,0,0,0,0,0,0,"",{"v":0,"d":"0%"},{"v":0,"d":"0%"},{"v":0,"d":"0%"},{"v":0,"d":"0%"},5,",  - Cokeville 12/15/2017","",{"$f":"Season_Summary!$P$1","v":"2A BB"}]
["Team, ",{"$f":"Roster!$B$1","v":"Upton"},"Cokeville","2017-12-15",1,0,0,0,0,0,0,1,5,0,0,0,0,0,"",{"v":0,"d":"0%"},{"v":0,"d":"0%"},{"v":0,"d":"0%"},{"v":0,"d":"0%"},5,"Team,  - Cokeville 12/15/2017","",{"$f":"Season_Summary!$P$1","v":"2A BB"}]
["Payton Watt, 24",{"$f":"Roster!$B$1","v":"Upton"},"Shoshoni","2017-12-16",1,2,6,7,10,2,2,0,1,3,1,2,0,2,22,{"v":0.3333333333333333,"d":"33%"},{"v":0.7,"d":"70%"},{"v":0,"d":"0%"},{"v":0.5625,"d":"56%"},6,"Payton Watt, 24 - Shoshoni 12/16/2017","",{"$f":"Season_Summary!$P$1","v":"2A BB"}]
["Dillon Barritt, 20",{"$f":"Roster!$B$1","v":"Upton"},"Shoshoni","2017-12-16",1,1,1,1,4,0,0,2,3,2,3,0,1,2,5,{"v":0,"d":"0%"},{"v":0,"d":"0%"},{"v":0,"d":"0%"},{"v":0.4,"d":"40%"},6,"Dillon Barritt, 20 - Shoshoni 12/16/2017","",{"$f":"Season_Summary!$P$1","v":"2A BB"}]
["Dawson Butts, 14",{"$f":"Roster!$B$1","v":"Upton"},"Shoshoni","2017-12-16",1,0,0,3,4,0,0,0,4,5,6,0,1,1,6,{"v":0,"d":"0%"},{"v":0,"d":"0%"},{"v":0,"d":"0%"},{"v":0,"d":"0%"},6,"Dawson Butts, 14 - Shoshoni 12/16/2017","",{"$f":"Season_Summary!$P$1","v":"2A BB"}]
["Jayden Caylor, 12",{"$f":"Roster!$B$1","v":"Upton"},"Shoshoni","2017-12-16",1,0,0,2,4,2,2,2,2,2,3,0,1,3,6,{"v":0,"d":"0%"},{"v":0,"d":"0%"},{"v":0,"d":"0%"},{"v":0,"d":"0%"},6,"Jayden Caylor, 12 - Shoshoni 12/16/2017","",{"$f":"Season_Summary!$P$1","v":"2A BB"}]
["Clayton Louderback, 23",{"$f":"Roster!$B$1","v":"Upton"},"Shoshoni","2017-12-16",1,0,2,4,10,4,5,3,6,2,1,0,2,0,12,{"v":0,"d":"0%"},{"v":0.4,"d":"40%"},{"v":0.8,"d":"80%"},{"v":0.3333333333333333,"d":"33%"},6,"Clayton Louderback, 23 - Shoshoni 12/16/2017","",{"$f":"Season_Summary!$P$1","v":"2A BB"}]
["Jess Claycomb, 10",{"$f":"Roster!$B$1","v":"Upton"},"Shoshoni","2017-12-16",1,1,1,5,7,2,2,2,1,1,4,0,0,1,15,{"v":0,"d":"0%"},{"v":0.7142857142857143,"d":"71%"},{"v":0,"d":"0%"},{"v":0.75,"d":"75%"},6,"Jess Claycomb, 10 - Shoshoni 12/16/2017","",{"$f":"Season_Summary!$P$1","v":"2A BB"}]
["Maxx Cowger, 4",{"$f":"Roster!$B$1","v":"Upton"},"Shoshoni","2017-12-16",0,0,0,0,0,0,0,0,0,0,0,0,0,0,"",{"v":0,"d":"0%"},{"v":0,"d":"0%"},{"v":0,"d":"0%"},{"v":0,"d":"0%"},6,"Maxx Cowger, 4 - Shoshoni 12/16/2017","",{"$f":"Season_Summary!$P$1","v":"2A BB"}]
["Brayden Bruce, 22",{"$f":"Roster!$B$1","v":"Upton"},"Shoshoni","2017-12-16",1,1,1,1,2,0,0,0,0,3,0,0,0,1,5,{"v":0,"d":"0%"},{"v":0,"d":"0%"},{"v":0,"d":"0%"},{"v":0,"d":"0%"},6,"Brayden Bruce, 22 - Shoshoni 12/16/2017","",{"$f":"Season_Summary!$P$1","v":"2A BB"}]
["Jo Bishop, 30",{"$f":"Roster!$B$1","v":"Upton"},"Shoshoni","2017-12-16",{"$f":"INDIRECT(\"'game1 (\"&$X135&\")'!\"&ADDRESS(ROW(A$7)+MOD(ROW(A135)-7,24),COLUMN(C135)))","v":1},{"$f":"INDIRECT(\"'game1 (\"&$X135&\")'!\"&ADDRESS(ROW(B$7)+MOD(ROW(B135)-7,24),COLUMN(D135)))","v":0},{"$f":"INDIRECT(\"'game1 (\"&$X135&\")'!\"&ADDRESS(ROW(C$7)+MOD(ROW(C135)-7,24),COLUMN(E135)))","v":0},{"$f":"INDIRECT(\"'game1 (\"&$X135&\")'!\"&ADDRESS(ROW(D$7)+MOD(ROW(D135)-7,24),COLUMN(F135)))","v":1},{"$f":"INDIRECT(\"'game1 (\"&$X135&\")'!\"&ADDRESS(ROW(E$7)+MOD(ROW(E135)-7,24),COLUMN(G135)))","v":2},{"$f":"INDIRECT(\"'game1 (\"&$X135&\")'!\"&ADDRESS(ROW(F$7)+MOD(ROW(F135)-7,24),COLUMN(H135)))","v":0},{"$f":"INDIRECT(\"'game1 (\"&$X135&\")'!\"&ADDRESS(ROW(G$7)+MOD(ROW(G135)-7,24),COLUMN(I135)))","v":0},{"$f":"INDIRECT(\"'game1 (\"&$X135&\")'!\"&ADDRESS(ROW(H$7)+MOD(ROW(H135)-7,24),COLUMN(J135)))","v":1},{"$f":"INDIRECT(\"'game1 (\"&$X135&\")'!\"&ADDRESS(ROW(I$7)+MOD(ROW(I135)-7,24),COLUMN(K135)))","v":0},{"$f":"INDIRECT(\"'game1 (\"&$X135&\")'!\"&ADDRESS(ROW(J$7)+MOD(ROW(J135)-7,24),COLUMN(L135)))","v":0},{"$f":"INDIRECT(\"'game1 (\"&$X135&\")'!\"&ADDRESS(ROW(K$7)+MOD(ROW(K135)-7,24),COLUMN(M135)))","v":0},{"$f":"INDIRECT(\"'game1 (\"&$X135&\")'!\"&ADDRESS(ROW(L$7)+MOD(ROW(L135)-7,24),COLUMN(N135)))","v":0},{"$f":"INDIRECT(\"'game1 (\"&$X135&\")'!\"&ADDRESS(ROW(M$7)+MOD(ROW(M135)-7,24),COLUMN(O135)))","v":0},{"$f":"INDIRECT(\"'game1 (\"&$X135&\")'!\"&ADDRESS(ROW(N$7)+MOD(ROW(N135)-7,24),COLUMN(P135)))","v":1},{"$f":"INDIRECT(\"'game1 (\"&$X135&\")'!\"&ADDRESS(ROW(O$7)+MOD(ROW(O135)-7,24),COLUMN(Q135)))","v":2},{"v":0,"d":"0%"},{"v":0,"d":"0%"},{"v":0,"d":"0%"},{"v":0,"d":"0%"},{"$f":"INT((ROW(A135)-7)/24)+1","v":6},"Jo Bishop, 30 - Shoshoni 12/16/2017","",{"$f":"Season_Summary!$P$1","v":"2A BB"}]
[{"$f":"CONCATENATE(INDIRECT(\"Roster!B\"&ROW(A$7)+MOD(ROW(A136)-7,24)),\", \",INDIRECT(\"Roster!a\"&ROW(A$7)+MOD(ROW(A136)-7,24)))","v":"Nolan Turner, 33"},{"$f":"Roster!$B$1","v":"Upton"},{"$f":"INDIRECT(\"'game1 (\"&$X136&\")'!$C$2\")","v":"Shoshoni"},{"$f":"INDIRECT(\"'game1 (\"&$X136&\")'!$k$2\")","v":"2017-12-16"},1,0,0,0,1,0,0,0,2,0,1,0,0,3,"",{"$f":"IF(G136<$D$2,0,INDIRECT(\"'game1 (\"&$X136&\")'!\"&ADDRESS(ROW(M$7)+MOD(ROW(M136)-7,24),COLUMN(R136))))","v":{"v":0,"d":"0%"}},{"$f":"IF(I136<$D$2,0,INDIRECT(\"'game1 (\"&$X136&\")'!\"&ADDRESS(ROW(N$7)+MOD(ROW(N136)-7,24),COLUMN(S136))))","v":{"v":0,"d":"0%"}},{"$f":"IF(K136<$D$2,0,INDIRECT(\"'game1 (\"&$X136&\")'!\"&ADDRESS(ROW(O$7)+MOD(ROW(O136)-7,24),COLUMN(T136))))","v":{"v":0,"d":"0%"}},{"$f":"IF(G136+I136<$D$2,0,INDIRECT(\"'game1 (\"&$X136&\")'!\"&ADDRESS(ROW(O$7)+MOD(ROW(O136)-7,24),COLUMN(U136))))","v":{"v":0,"d":"0%"}},6,{"$f":"CONCATENATE(A136,\" - \",C136,\" \",MONTH(D136),\"/\",DAY(D136),\"/\",YEAR(D136))","v":"Nolan Turner, 33 - Shoshoni 12/16/2017"},{"$f":"IFERROR(INDIRECT(\"'game1 (\"&$X136&\")'!$a$2\"),\"\")","v":""},{"$f":"Season_Summary!$P$1","v":"2A BB"}]
["Robert Crawford, 32",{"$f":"Roster!$B$1","v":"Upton"},"Shoshoni","2017-12-16",1,0,0,0,1,0,0,1,1,1,0,0,0,2,"",{"v":0,"d":"0%"},{"v":0,"d":"0%"},{"v":0,"d":"0%"},{"v":0,"d":"0%"},6,"Robert Crawford, 32 - Shoshoni 12/16/2017","",{"$f":"Season_Summary!$P$1","v":"2A BB"}]
["Jace Bruce, 40",{"$f":"Roster!$B$1","v":"Upton"},"Shoshoni","2017-12-16",1,0,1,0,0,0,0,2,0,1,0,0,1,2,"",{"v":0,"d":"0%"},{"v":0,"d":"0%"},{"v":0,"d":"0%"},{"v":0,"d":"0%"},6,"Jace Bruce, 40 - Shoshoni 12/16/2017","",{"$f":"Season_Summary!$P$1","v":"2A BB"}]
["Ethan Mills, 2",{"$f":"Roster!$B$1","v":"Upton"},"Shoshoni","2017-12-16",0,0,0,0,0,0,0,0,0,0,0,0,0,0,"",{"v":0,"d":"0%"},{"v":0,"d":"0%"},{"v":0,"d":"0%"},{"v":0,"d":"0%"},6,"Ethan Mills, 2 - Shoshoni 12/16/2017","",{"$f":"Season_Summary!$P$1","v":"2A BB"}]
["Bridger Alishouse, 2",{"$f":"Roster!$B$1","v":"Upton"},"Shoshoni","2017-12-16",0,0,0,0,0,0,0,0,0,0,0,0,0,0,"",{"v":0,"d":"0%"},{"v":0,"d":"0%"},{"v":0,"d":"0%"},{"v":0,"d":"0%"},6,"Bridger Alishouse, 2 - Shoshoni 12/16/2017","",{"$f":"Season_Summary!$P$1","v":"2A BB"}]
["Landon Keever, 4",{"$f":"Roster!$B$1","v":"Upton"},"Shoshoni","2017-12-16",0,0,0,0,0,0,0,0,0,0,0,0,0,0,"",{"v":0,"d":"0%"},{"v":0,"d":"0%"},{"v":0,"d":"0%"},{"v":0,"d":"0%"},6,"Landon Keever, 4 - Shoshoni 12/16/2017","",{"$f":"Season_Summary!$P$1","v":"2A BB"}]
["DJ Till, 4",{"$f":"Roster!$B$1","v":"Upton"},"Shoshoni","2017-12-16",0,0,0,0,0,0,0,0,0,0,0,0,0,0,"",{"v":0,"d":"0%"},{"v":0,"d":"0%"},{"v":0,"d":"0%"},{"v":0,"d":"0%"},6,"DJ Till, 4 - Shoshoni 12/16/2017","",{"$f":"Season_Summary!$P$1","v":"2A BB"}]
[", ",{"$f":"Roster!$B$1","v":"Upton"},"Shoshoni","2017-12-16",0,0,0,0,0,0,0,0,0,0,0,0,0,0,"",{"v":0,"d":"0%"},{"v":0,"d":"0%"},{"v":0,"d":"0%"},{"v":0,"d":"0%"},6,",  - Shoshoni 12/16/2017","",{"$f":"Season_Summary!$P$1","v":"2A BB"}]
[", ",{"$f":"Roster!$B$1","v":"Upton"},"Shoshoni","2017-12-16",0,0,0,0,0,0,0,0,0,0,0,0,0,0,"",{"v":0,"d":"0%"},{"v":0,"d":"0%"},{"v":0,"d":"0%"},{"v":0,"d":"0%"},6,",  - Shoshoni 12/16/2017","",{"$f":"Season_Summary!$P$1","v":"2A BB"}]
[", ",{"$f":"Roster!$B$1","v":"Upton"},"Shoshoni","2017-12-16",0,0,0,0,0,0,0,0,0,0,0,0,0,0,"",{"v":0,"d":"0%"},{"v":0,"d":"0%"},{"v":0,"d":"0%"},{"v":0,"d":"0%"},6,",  - Shoshoni 12/16/2017","",{"$f":"Season_Summary!$P$1","v":"2A BB"}]
[", ",{"$f":"Roster!$B$1","v":"Upton"},"Shoshoni","2017-12-16",0,0,0,0,0,0,0,0,0,0,0,0,0,0,"",{"v":0,"d":"0%"},{"v":0,"d":"0%"},{"v":0,"d":"0%"},{"v":0,"d":"0%"},6,",  - Shoshoni 12/16/2017","",{"$f":"Season_Summary!$P$1","v":"2A BB"}]
[", ",{"$f":"Roster!$B$1","v":"Upton"},"Shoshoni","2017-12-16",0,0,0,0,0,0,0,0,0,0,0,0,0,0,"",{"v":0,"d":"0%"},{"v":0,"d":"0%"},{"v":0,"d":"0%"},{"v":0,"d":"0%"},6,",  - Shoshoni 12/16/2017","",{"$f":"Season_Summary!$P$1","v":"2A BB"}]
[", ",{"$f":"Roster!$B$1","v":"Upton"},"Shoshoni","2017-12-16",0,0,0,0,0,0,0,0,0,0,0,0,0,0,"",{"v":0,"d":"0%"},{"v":0,"d":"0%"},{"v":0,"d":"0%"},{"v":0,"d":"0%"},6,",  - Shoshoni 12/16/2017","",{"$f":"Season_Summary!$P$1","v":"2A BB"}]
[", ",{"$f":"Roster!$B$1","v":"Upton"},"Shoshoni","2017-12-16",0,0,0,0,0,0,0,0,0,0,0,0,0,0,"",{"v":0,"d":"0%"},{"v":0,"d":"0%"},{"v":0,"d":"0%"},{"v":0,"d":"0%"},6,",  - Shoshoni 12/16/2017","",{"$f":"Season_Summary!$P$1","v":"2A BB"}]
["Team, ",{"$f":"Roster!$B$1","v":"Upton"},"Shoshoni","2017-12-16",0,0,0,0,0,0,0,0,0,0,0,0,0,0,"",{"v":0,"d":"0%"},{"v":0,"d":"0%"},{"v":0,"d":"0%"},{"v":0,"d":"0%"},6,"Team,  - Shoshoni 12/16/2017","",{"$f":"Season_Summary!$P$1","v":"2A BB"}]
["Payton Watt, 24",{"$f":"Roster!$B$1","v":"Upton"},"Lead-Deadwood","2018-01-04",1,1,7,1,3,0,0,0,5,6,0,1,4,2,5,{"v":0.14285714285714285,"d":"14%"},{"v":0,"d":"0%"},{"v":0,"d":"0%"},{"v":0.2,"d":"20%"},7,"Payton Watt, 24 - Lead-Deadwood 1/4/2018","",{"$f":"Season_Summary!$P$1","v":"2A BB"}]
["Dillon Barritt, 20",{"$f":"Roster!$B$1","v":"Upton"},"Lead-Deadwood","2018-01-04",1,1,3,1,1,0,0,1,1,1,3,0,1,3,5,{"v":0,"d":"0%"},{"v":0,"d":"0%"},{"v":0,"d":"0%"},{"v":0,"d":"0%"},7,"Dillon Barritt, 20 - Lead-Deadwood 1/4/2018","",{"$f":"Season_Summary!$P$1","v":"2A BB"}]
["Dawson Butts, 14",{"$f":"Roster!$B$1","v":"Upton"},"Lead-Deadwood","2018-01-04",1,0,0,3,5,0,0,3,3,1,1,0,4,3,6,{"v":0,"d":"0%"},{"v":0.6,"d":"60%"},{"v":0,"d":"0%"},{"v":0.6,"d":"60%"},7,"Dawson Butts, 14 - Lead-Deadwood 1/4/2018","",{"$f":"Season_Summary!$P$1","v":"2A BB"}]
["Jayden Caylor, 12",{"$f":"Roster!$B$1","v":"Upton"},"Lead-Deadwood","2018-01-04",1,0,1,3,5,2,2,4,4,4,0,0,3,3,8,{"v":0,"d":"0%"},{"v":0.6,"d":"60%"},{"v":0,"d":"0%"},{"v":0.5,"d":"50%"},7,"Jayden Caylor, 12 - Lead-Deadwood 1/4/2018","",{"$f":"Season_Summary!$P$1","v":"2A BB"}]
["Clayton Louderback, 23",{"$f":"Roster!$B$1","v":"Upton"},"Lead-Deadwood","2018-01-04",1,3,5,7,15,1,2,4,3,3,4,0,2,4,24,{"v":0.6,"d":"60%"},{"v":0.4666666666666667,"d":"47%"},{"v":0,"d":"0%"},{"v":0.5,"d":"50%"},7,"Clayton Louderback, 23 - Lead-Deadwood 1/4/2018","",{"$f":"Season_Summary!$P$1","v":"2A BB"}]
["Jess Claycomb, 10",{"$f":"Roster!$B$1","v":"Upton"},"Lead-Deadwood","2018-01-04",1,0,0,4,4,0,0,0,1,1,1,0,3,2,8,{"v":0,"d":"0%"},{"v":0,"d":"0%"},{"v":0,"d":"0%"},{"v":0,"d":"0%"},7,"Jess Claycomb, 10 - Lead-Deadwood 1/4/2018","",{"$f":"Season_Summary!$P$1","v":"2A BB"}]
["Maxx Cowger, 4",{"$f":"Roster!$B$1","v":"Upton"},"Lead-Deadwood","2018-01-04",0,0,0,0,0,0,0,0,0,0,0,0,0,0,"",{"v":0,"d":"0%"},{"v":0,"d":"0%"},{"v":0,"d":"0%"},{"v":0,"d":"0%"},7,"Maxx Cowger, 4 - Lead-Deadwood 1/4/2018","",{"$f":"Season_Summary!$P$1","v":"2A BB"}]
["Brayden Bruce, 22",{"$f":"Roster!$B$1","v":"Upton"},"Lead-Deadwood","2018-01-04",1,1,1,0,0,0,0,0,1,1,0,0,2,0,3,{"v":0,"d":"0%"},{"v":0,"d":"0%"},{"v":0,"d":"0%"},{"v":0,"d":"0%"},7,"Brayden Bruce, 22 - Lead-Deadwood 1/4/2018","",{"$f":"Season_Summary!$P$1","v":"2A BB"}]
["Jo Bishop, 30",{"$f":"Roster!$B$1","v":"Upton"},"Lead-Deadwood","2018-01-04",1,0,0,0,0,0,0,0,0,0,0,0,2,2,"",{"v":0,"d":"0%"},{"v":0,"d":"0%"},{"v":0,"d":"0%"},{"v":0,"d":"0%"},7,"Jo Bishop, 30 - Lead-Deadwood 1/4/2018","",{"$f":"Season_Summary!$P$1","v":"2A BB"}]
["Nolan Turner, 33",{"$f":"Roster!$B$1","v":"Upton"},"Lead-Deadwood","2018-01-04",1,0,0,0,0,0,0,0,0,0,0,0,0,0,"",{"v":0,"d":"0%"},{"v":0,"d":"0%"},{"v":0,"d":"0%"},{"v":0,"d":"0%"},7,"Nolan Turner, 33 - Lead-Deadwood 1/4/2018","",{"$f":"Season_Summary!$P$1","v":"2A BB"}]
["Robert Crawford, 32",{"$f":"Roster!$B$1","v":"Upton"},"Lead-Deadwood","2018-01-04",1,0,0,0,0,0,0,0,1,0,0,0,0,0,"",{"v":0,"d":"0%"},{"v":0,"d":"0%"},{"v":0,"d":"0%"},{"v":0,"d":"0%"},7,"Robert Crawford, 32 - Lead-Deadwood 1/4/2018","",{"$f":"Season_Summary!$P$1","v":"2A BB"}]
["Jace Bruce, 40",{"$f":"Roster!$B$1","v":"Upton"},"Lead-Deadwood","2018-01-04",1,0,1,0,0,0,0,0,1,0,0,0,0,0,"",{"v":0,"d":"0%"},{"v":0,"d":"0%"},{"v":0,"d":"0%"},{"v":0,"d":"0%"},7,"Jace Bruce, 40 - Lead-Deadwood 1/4/2018","",{"$f":"Season_Summary!$P$1","v":"2A BB"}]
["Ethan Mills, 2",{"$f":"Roster!$B$1","v":"Upton"},"Lead-Deadwood","2018-01-04",0,0,0,0,0,0,0,0,0,0,0,0,0,0,"",{"v":0,"d":"0%"},{"v":0,"d":"0%"},{"v":0,"d":"0%"},{"v":0,"d":"0%"},7,"Ethan Mills, 2 - Lead-Deadwood 1/4/2018","",{"$f":"Season_Summary!$P$1","v":"2A BB"}]
["Bridger Alishouse, 2",{"$f":"Roster!$B$1","v":"Upton"},"Lead-Deadwood","2018-01-04",0,0,0,0,0,0,0,0,0,0,0,0,0,0,"",{"v":0,"d":"0%"},{"v":0,"d":"0%"},{"v":0,"d":"0%"},{"v":0,"d":"0%"},7,"Bridger Alishouse, 2 - Lead-Deadwood 1/4/2018","",{"$f":"Season_Summary!$P$1","v":"2A BB"}]
["Landon Keever, 4",{"$f":"Roster!$B$1","v":"Upton"},"Lead-Deadwood","2018-01-04",0,0,0,0,0,0,0,0,0,0,0,0,0,0,"",{"v":0,"d":"0%"},{"v":0,"d":"0%"},{"v":0,"d":"0%"},{"v":0,"d":"0%"},7,"Landon Keever, 4 - Lead-Deadwood 1/4/2018","",{"$f":"Season_Summary!$P$1","v":"2A BB"}]
["DJ Till, 4",{"$f":"Roster!$B$1","v":"Upton"},"Lead-Deadwood","2018-01-04",0,0,0,0,0,0,0,0,0,0,0,0,0,0,"",{"v":0,"d":"0%"},{"v":0,"d":"0%"},{"v":0,"d":"0%"},{"v":0,"d":"0%"},7,"DJ Till, 4 - Lead-Deadwood 1/4/2018","",{"$f":"Season_Summary!$P$1","v":"2A BB"}]
[", ",{"$f":"Roster!$B$1","v":"Upton"},"Lead-Deadwood","2018-01-04",0,0,0,0,0,0,0,0,0,0,0,0,0,0,"",{"v":0,"d":"0%"},{"v":0,"d":"0%"},{"v":0,"d":"0%"},{"v":0,"d":"0%"},7,",  - Lead-Deadwood 1/4/2018","",{"$f":"Season_Summary!$P$1","v":"2A BB"}]
[", ",{"$f":"Roster!$B$1","v":"Upton"},"Lead-Deadwood","2018-01-04",0,0,0,0,0,0,0,0,0,0,0,0,0,0,"",{"v":0,"d":"0%"},{"v":0,"d":"0%"},{"v":0,"d":"0%"},{"v":0,"d":"0%"},7,",  - Lead-Deadwood 1/4/2018","",{"$f":"Season_Summary!$P$1","v":"2A BB"}]
[", ",{"$f":"Roster!$B$1","v":"Upton"},"Lead-Deadwood","2018-01-04",0,0,0,0,0,0,0,0,0,0,0,0,0,0,"",{"v":0,"d":"0%"},{"v":0,"d":"0%"},{"v":0,"d":"0%"},{"v":0,"d":"0%"},7,",  - Lead-Deadwood 1/4/2018","",{"$f":"Season_Summary!$P$1","v":"2A BB"}]
[", ",{"$f":"Roster!$B$1","v":"Upton"},"Lead-Deadwood","2018-01-04",0,0,0,0,0,0,0,0,0,0,0,0,0,0,"",{"v":0,"d":"0%"},{"v":0,"d":"0%"},{"v":0,"d":"0%"},{"v":0,"d":"0%"},7,",  - Lead-Deadwood 1/4/2018","",{"$f":"Season_Summary!$P$1","v":"2A BB"}]
[", ",{"$f":"Roster!$B$1","v":"Upton"},"Lead-Deadwood","2018-01-04",0,0,0,0,0,0,0,0,0,0,0,0,0,0,"",{"v":0,"d":"0%"},{"v":0,"d":"0%"},{"v":0,"d":"0%"},{"v":0,"d":"0%"},7,",  - Lead-Deadwood 1/4/2018","",{"$f":"Season_Summary!$P$1","v":"2A BB"}]
[", ",{"$f":"Roster!$B$1","v":"Upton"},"Lead-Deadwood","2018-01-04",0,0,0,0,0,0,0,0,0,0,0,0,0,0,"",{"v":0,"d":"0%"},{"v":0,"d":"0%"},{"v":0,"d":"0%"},{"v":0,"d":"0%"},7,",  - Lead-Deadwood 1/4/2018","",{"$f":"Season_Summary!$P$1","v":"2A BB"}]
[", ",{"$f":"Roster!$B$1","v":"Upton"},"Lead-Deadwood","2018-01-04",0,0,0,0,0,0,0,0,0,0,0,0,0,0,"",{"v":0,"d":"0%"},{"v":0,"d":"0%"},{"v":0,"d":"0%"},{"v":0,"d":"0%"},7,",  - Lead-Deadwood 1/4/2018","",{"$f":"Season_Summary!$P$1","v":"2A BB"}]
["Team, ",{"$f":"Roster!$B$1","v":"Upton"},"Lead-Deadwood","2018-01-04",1,0,0,0,0,0,0,0,0,0,0,0,0,0,"",{"v":0,"d":"0%"},{"v":0,"d":"0%"},{"v":0,"d":"0%"},{"v":0,"d":"0%"},7,"Team,  - Lead-Deadwood 1/4/2018","",{"$f":"Season_Summary!$P$1","v":"2A BB"}]
["Payton Watt, 24",{"$f":"Roster!$B$1","v":"Upton"},"Newell","2018-01-11",1,2,6,4,8,1,1,0,7,1,5,0,2,1,15,{"v":0.3333333333333333,"d":"33%"},{"v":0.5,"d":"50%"},{"v":0,"d":"0%"},{"v":0.42857142857142855,"d":"43%"},8,"Payton Watt, 24 - Newell 1/11/2018","",{"$f":"Season_Summary!$P$1","v":"2A BB"}]
["Dillon Barritt, 20",{"$f":"Roster!$B$1","v":"Upton"},"Newell","2018-01-11",1,6,9,2,5,2,2,0,1,1,3,0,2,2,24,{"v":0.6666666666666666,"d":"67%"},{"v":0.4,"d":"40%"},{"v":0,"d":"0%"},{"v":0.5714285714285714,"d":"57%"},8,"Dillon Barritt, 20 - Newell 1/11/2018","",{"$f":"Season_Summary!$P$1","v":"2A BB"}]
["Dawson Butts, 14",{"$f":"Roster!$B$1","v":"Upton"},"Newell","2018-01-11",1,0,2,1,5,3,4,3,0,4,2,0,1,1,5,{"v":0,"d":"0%"},{"v":0.2,"d":"20%"},{"v":0,"d":"0%"},{"v":0.14285714285714285,"d":"14%"},8,"Dawson Butts, 14 - Newell 1/11/2018","",{"$f":"Season_Summary!$P$1","v":"2A BB"}]
["Jayden Caylor, 12",{"$f":"Roster!$B$1","v":"Upton"},"Newell","2018-01-11",1,0,0,1,2,1,1,0,2,4,4,0,1,5,3,{"v":0,"d":"0%"},{"v":0,"d":"0%"},{"v":0,"d":"0%"},{"v":0,"d":"0%"},8,"Jayden Caylor, 12 - Newell 1/11/2018","",{"$f":"Season_Summary!$P$1","v":"2A BB"}]
["Clayton Louderback, 23",{"$f":"Roster!$B$1","v":"Upton"},"Newell","2018-01-11",0,0,0,0,0,0,0,0,0,0,0,0,0,0,"",{"v":0,"d":"0%"},{"v":0,"d":"0%"},{"v":0,"d":"0%"},{"v":0,"d":"0%"},8,"Clayton Louderback, 23 - Newell 1/11/2018","",{"$f":"Season_Summary!$P$1","v":"2A BB"}]
["Jess Claycomb, 10",{"$f":"Roster!$B$1","v":"Upton"},"Newell","2018-01-11",1,1,1,5,6,2,4,1,1,4,0,0,1,4,15,{"v":0,"d":"0%"},{"v":0.8333333333333334,"d":"83%"},{"v":0,"d":"0%"},{"v":0.8571428571428571,"d":"86%"},8,"Jess Claycomb, 10 - Newell 1/11/2018","",{"$f":"Season_Summary!$P$1","v":"2A BB"}]
["Maxx Cowger, 4",{"$f":"Roster!$B$1","v":"Upton"},"Newell","2018-01-11",0,0,0,0,0,0,0,0,0,0,0,0,0,0,"",{"v":0,"d":"0%"},{"v":0,"d":"0%"},{"v":0,"d":"0%"},{"v":0,"d":"0%"},8,"Maxx Cowger, 4 - Newell 1/11/2018","",{"$f":"Season_Summary!$P$1","v":"2A BB"}]
["Brayden Bruce, 22",{"$f":"Roster!$B$1","v":"Upton"},"Newell","2018-01-11",1,0,2,2,4,0,1,1,2,5,0,0,2,1,4,{"v":0,"d":"0%"},{"v":0,"d":"0%"},{"v":0,"d":"0%"},{"v":0.3333333333333333,"d":"33%"},8,"Brayden Bruce, 22 - Newell 1/11/2018","",{"$f":"Season_Summary!$P$1","v":"2A BB"}]
["Jo Bishop, 30",{"$f":"Roster!$B$1","v":"Upton"},"Newell","2018-01-11",1,0,0,1,2,0,1,1,3,2,1,0,0,2,2,{"v":0,"d":"0%"},{"v":0,"d":"0%"},{"v":0,"d":"0%"},{"v":0,"d":"0%"},8,"Jo Bishop, 30 - Newell 1/11/2018","",{"$f":"Season_Summary!$P$1","v":"2A BB"}]
["Nolan Turner, 33",{"$f":"Roster!$B$1","v":"Upton"},"Newell","2018-01-11",1,0,1,0,1,0,0,1,1,0,0,0,1,3,"",{"v":0,"d":"0%"},{"v":0,"d":"0%"},{"v":0,"d":"0%"},{"v":0,"d":"0%"},8,"Nolan Turner, 33 - Newell 1/11/2018","",{"$f":"Season_Summary!$P$1","v":"2A BB"}]
["Robert Crawford, 32",{"$f":"Roster!$B$1","v":"Upton"},"Newell","2018-01-11",1,0,0,1,1,1,2,1,1,1,0,0,0,5,3,{"v":0,"d":"0%"},{"v":0,"d":"0%"},{"v":0,"d":"0%"},{"v":0,"d":"0%"},8,"Robert Crawford, 32 - Newell 1/11/2018","",{"$f":"Season_Summary!$P$1","v":"2A BB"}]
["Jace Bruce, 40",{"$f":"Roster!$B$1","v":"Upton"},"Newell","2018-01-11",1,0,0,0,0,0,0,0,0,0,0,0,0,0,"",{"v":0,"d":"0%"},{"v":0,"d":"0%"},{"v":0,"d":"0%"},{"v":0,"d":"0%"},8,"Jace Bruce, 40 - Newell 1/11/2018","",{"$f":"Season_Summary!$P$1","v":"2A BB"}]
["Ethan Mills, 2",{"$f":"Roster!$B$1","v":"Upton"},"Newell","2018-01-11",0,0,0,0,0,0,0,0,0,0,0,0,0,0,"",{"v":0,"d":"0%"},{"v":0,"d":"0%"},{"v":0,"d":"0%"},{"v":0,"d":"0%"},8,"Ethan Mills, 2 - Newell 1/11/2018","",{"$f":"Season_Summary!$P$1","v":"2A BB"}]
["Bridger Alishouse, 2",{"$f":"Roster!$B$1","v":"Upton"},"Newell","2018-01-11",0,0,0,0,0,0,0,0,0,0,0,0,0,0,"",{"v":0,"d":"0%"},{"v":0,"d":"0%"},{"v":0,"d":"0%"},{"v":0,"d":"0%"},8,"Bridger Alishouse, 2 - Newell 1/11/2018","",{"$f":"Season_Summary!$P$1","v":"2A BB"}]
["Landon Keever, 4",{"$f":"Roster!$B$1","v":"Upton"},"Newell","2018-01-11",0,0,0,0,0,0,0,0,0,0,0,0,0,0,"",{"v":0,"d":"0%"},{"v":0,"d":"0%"},{"v":0,"d":"0%"},{"v":0,"d":"0%"},8,"Landon Keever, 4 - Newell 1/11/2018","",{"$f":"Season_Summary!$P$1","v":"2A BB"}]
["DJ Till, 4",{"$f":"Roster!$B$1","v":"Upton"},"Newell","2018-01-11",0,0,0,0,0,0,0,0,0,0,0,0,0,0,"",{"v":0,"d":"0%"},{"v":0,"d":"0%"},{"v":0,"d":"0%"},{"v":0,"d":"0%"},8,"DJ Till, 4 - Newell 1/11/2018","",{"$f":"Season_Summary!$P$1","v":"2A BB"}]
[", ",{"$f":"Roster!$B$1","v":"Upton"},"Newell","2018-01-11",0,0,0,0,0,0,0,0,0,0,0,0,0,0,"",{"v":0,"d":"0%"},{"v":0,"d":"0%"},{"v":0,"d":"0%"},{"v":0,"d":"0%"},8,",  - Newell 1/11/2018","",{"$f":"Season_Summary!$P$1","v":"2A BB"}]
[", ",{"$f":"Roster!$B$1","v":"Upton"},"Newell","2018-01-11",0,0,0,0,0,0,0,0,0,0,0,0,0,0,"",{"v":0,"d":"0%"},{"v":0,"d":"0%"},{"v":0,"d":"0%"},{"v":0,"d":"0%"},8,",  - Newell 1/11/2018","",{"$f":"Season_Summary!$P$1","v":"2A BB"}]
[", ",{"$f":"Roster!$B$1","v":"Upton"},"Newell","2018-01-11",0,0,0,0,0,0,0,0,0,0,0,0,0,0,"",{"v":0,"d":"0%"},{"v":0,"d":"0%"},{"v":0,"d":"0%"},{"v":0,"d":"0%"},8,",  - Newell 1/11/2018","",{"$f":"Season_Summary!$P$1","v":"2A BB"}]
[", ",{"$f":"Roster!$B$1","v":"Upton"},"Newell","2018-01-11",0,0,0,0,0,0,0,0,0,0,0,0,0,0,"",{"v":0,"d":"0%"},{"v":0,"d":"0%"},{"v":0,"d":"0%"},{"v":0,"d":"0%"},8,",  - Newell 1/11/2018","",{"$f":"Season_Summary!$P$1","v":"2A BB"}]
[", ",{"$f":"Roster!$B$1","v":"Upton"},"Newell","2018-01-11",0,0,0,0,0,0,0,0,0,0,0,0,0,0,"",{"v":0,"d":"0%"},{"v":0,"d":"0%"},{"v":0,"d":"0%"},{"v":0,"d":"0%"},8,",  - Newell 1/11/2018","",{"$f":"Season_Summary!$P$1","v":"2A BB"}]
[", ",{"$f":"Roster!$B$1","v":"Upton"},"Newell","2018-01-11",0,0,0,0,0,0,0,0,0,0,0,0,0,0,"",{"v":0,"d":"0%"},{"v":0,"d":"0%"},{"v":0,"d":"0%"},{"v":0,"d":"0%"},8,",  - Newell 1/11/2018","",{"$f":"Season_Summary!$P$1","v":"2A BB"}]
[", ",{"$f":"Roster!$B$1","v":"Upton"},"Newell","2018-01-11",0,0,0,0,0,0,0,0,0,0,0,0,0,0,"",{"v":0,"d":"0%"},{"v":0,"d":"0%"},{"v":0,"d":"0%"},{"v":0,"d":"0%"},8,",  - Newell 1/11/2018","",{"$f":"Season_Summary!$P$1","v":"2A BB"}]
["Team, ",{"$f":"Roster!$B$1","v":"Upton"},"Newell","2018-01-11",1,0,0,0,0,0,0,3,2,0,0,0,0,0,"",{"v":0,"d":"0%"},{"v":0,"d":"0%"},{"v":0,"d":"0%"},{"v":0,"d":"0%"},8,"Team,  - Newell 1/11/2018","",{"$f":"Season_Summary!$P$1","v":"2A BB"}]
["Payton Watt, 24",{"$f":"Roster!$B$1","v":"Upton"},"Faith","2018-01-12",{"$f":"INDIRECT(\"'game1 (\"&$X199&\")'!\"&ADDRESS(ROW(A$7)+MOD(ROW(A199)-7,24),COLUMN(C199)))","v":1},{"$f":"INDIRECT(\"'game1 (\"&$X199&\")'!\"&ADDRESS(ROW(B$7)+MOD(ROW(B199)-7,24),COLUMN(D199)))","v":2},{"$f":"INDIRECT(\"'game1 (\"&$X199&\")'!\"&ADDRESS(ROW(C$7)+MOD(ROW(C199)-7,24),COLUMN(E199)))","v":6},{"$f":"INDIRECT(\"'game1 (\"&$X199&\")'!\"&ADDRESS(ROW(D$7)+MOD(ROW(D199)-7,24),COLUMN(F199)))","v":9},{"$f":"INDIRECT(\"'game1 (\"&$X199&\")'!\"&ADDRESS(ROW(E$7)+MOD(ROW(E199)-7,24),COLUMN(G199)))","v":18},{"$f":"INDIRECT(\"'game1 (\"&$X199&\")'!\"&ADDRESS(ROW(F$7)+MOD(ROW(F199)-7,24),COLUMN(H199)))","v":5},{"$f":"INDIRECT(\"'game1 (\"&$X199&\")'!\"&ADDRESS(ROW(G$7)+MOD(ROW(G199)-7,24),COLUMN(I199)))","v":7},{"$f":"INDIRECT(\"'game1 (\"&$X199&\")'!\"&ADDRESS(ROW(H$7)+MOD(ROW(H199)-7,24),COLUMN(J199)))","v":0},{"$f":"INDIRECT(\"'game1 (\"&$X199&\")'!\"&ADDRESS(ROW(I$7)+MOD(ROW(I199)-7,24),COLUMN(K199)))","v":4},{"$f":"INDIRECT(\"'game1 (\"&$X199&\")'!\"&ADDRESS(ROW(J$7)+MOD(ROW(J199)-7,24),COLUMN(L199)))","v":3},{"$f":"INDIRECT(\"'game1 (\"&$X199&\")'!\"&ADDRESS(ROW(K$7)+MOD(ROW(K199)-7,24),COLUMN(M199)))","v":1},{"$f":"INDIRECT(\"'game1 (\"&$X199&\")'!\"&ADDRESS(ROW(L$7)+MOD(ROW(L199)-7,24),COLUMN(N199)))","v":0},{"$f":"INDIRECT(\"'game1 (\"&$X199&\")'!\"&ADDRESS(ROW(M$7)+MOD(ROW(M199)-7,24),COLUMN(O199)))","v":4},{"$f":"INDIRECT(\"'game1 (\"&$X199&\")'!\"&ADDRESS(ROW(N$7)+MOD(ROW(N199)-7,24),COLUMN(P199)))","v":1},{"$f":"INDIRECT(\"'game1 (\"&$X199&\")'!\"&ADDRESS(ROW(O$7)+MOD(ROW(O199)-7,24),COLUMN(Q199)))","v":29},{"v":0.3333333333333333,"d":"33%"},{"v":0.5,"d":"50%"},{"v":0.7142857142857143,"d":"71%"},{"v":0.4583333333333333,"d":"46%"},{"$f":"INT((ROW(A199)-7)/24)+1","v":9},"Payton Watt, 24 - Faith 1/12/2018","",{"$f":"Season_Summary!$P$1","v":"2A BB"}]
[{"$f":"CONCATENATE(INDIRECT(\"Roster!B\"&ROW(A$7)+MOD(ROW(A200)-7,24)),\", \",INDIRECT(\"Roster!a\"&ROW(A$7)+MOD(ROW(A200)-7,24)))","v":"Dillon Barritt, 20"},{"$f":"Roster!$B$1","v":"Upton"},{"$f":"INDIRECT(\"'game1 (\"&$X200&\")'!$C$2\")","v":"Faith"},{"$f":"INDIRECT(\"'game1 (\"&$X200&\")'!$k$2\")","v":"2018-01-12"},1,1,3,0,0,2,2,0,5,4,2,0,0,2,5,{"$f":"IF(G200<$D$2,0,INDIRECT(\"'game1 (\"&$X200&\")'!\"&ADDRESS(ROW(M$7)+MOD(ROW(M200)-7,24),COLUMN(R200))))","v":{"v":0,"d":"0%"}},{"$f":"IF(I200<$D$2,0,INDIRECT(\"'game1 (\"&$X200&\")'!\"&ADDRESS(ROW(N$7)+MOD(ROW(N200)-7,24),COLUMN(S200))))","v":{"v":0,"d":"0%"}},{"$f":"IF(K200<$D$2,0,INDIRECT(\"'game1 (\"&$X200&\")'!\"&ADDRESS(ROW(O$7)+MOD(ROW(O200)-7,24),COLUMN(T200))))","v":{"v":0,"d":"0%"}},{"$f":"IF(G200+I200<$D$2,0,INDIRECT(\"'game1 (\"&$X200&\")'!\"&ADDRESS(ROW(O$7)+MOD(ROW(O200)-7,24),COLUMN(U200))))","v":{"v":0,"d":"0%"}},9,{"$f":"CONCATENATE(A200,\" - \",C200,\" \",MONTH(D200),\"/\",DAY(D200),\"/\",YEAR(D200))","v":"Dillon Barritt, 20 - Faith 1/12/2018"},{"$f":"IFERROR(INDIRECT(\"'game1 (\"&$X200&\")'!$a$2\"),\"\")","v":""},{"$f":"Season_Summary!$P$1","v":"2A BB"}]
["Dawson Butts, 14",{"$f":"Roster!$B$1","v":"Upton"},"Faith","2018-01-12",1,0,0,2,2,2,3,4,3,7,1,0,3,3,6,{"v":0,"d":"0%"},{"v":0,"d":"0%"},{"v":0,"d":"0%"},{"v":0,"d":"0%"},9,"Dawson Butts, 14 - Faith 1/12/2018","",{"$f":"Season_Summary!$P$1","v":"2A BB"}]
["Jayden Caylor, 12",{"$f":"Roster!$B$1","v":"Upton"},"Faith","2018-01-12",1,1,3,0,1,4,6,2,1,3,2,0,2,4,7,{"v":0,"d":"0%"},{"v":0,"d":"0%"},{"v":0.6666666666666666,"d":"67%"},{"v":0,"d":"0%"},9,"Jayden Caylor, 12 - Faith 1/12/2018","",{"$f":"Season_Summary!$P$1","v":"2A BB"}]
["Clayton Louderback, 23",{"$f":"Roster!$B$1","v":"Upton"},"Faith","2018-01-12",0,0,0,0,0,0,0,0,0,0,0,0,0,0,"",{"v":0,"d":"0%"},{"v":0,"d":"0%"},{"v":0,"d":"0%"},{"v":0,"d":"0%"},9,"Clayton Louderback, 23 - Faith 1/12/2018","",{"$f":"Season_Summary!$P$1","v":"2A BB"}]
["Jess Claycomb, 10",{"$f":"Roster!$B$1","v":"Upton"},"Faith","2018-01-12",1,3,5,4,5,4,4,1,4,3,1,0,1,2,21,{"v":0.6,"d":"60%"},{"v":0.8,"d":"80%"},{"v":0,"d":"0%"},{"v":0.7,"d":"70%"},9,"Jess Claycomb, 10 - Faith 1/12/2018","",{"$f":"Season_Summary!$P$1","v":"2A BB"}]
["Maxx Cowger, 4",{"$f":"Roster!$B$1","v":"Upton"},"Faith","2018-01-12",0,0,0,0,0,0,0,0,0,0,0,0,0,0,"",{"v":0,"d":"0%"},{"v":0,"d":"0%"},{"v":0,"d":"0%"},{"v":0,"d":"0%"},9,"Maxx Cowger, 4 - Faith 1/12/2018","",{"$f":"Season_Summary!$P$1","v":"2A BB"}]
["Brayden Bruce, 22",{"$f":"Roster!$B$1","v":"Upton"},"Faith","2018-01-12",1,1,1,3,4,0,0,1,3,3,2,0,2,2,9,{"v":0,"d":"0%"},{"v":0,"d":"0%"},{"v":0,"d":"0%"},{"v":0.8,"d":"80%"},9,"Brayden Bruce, 22 - Faith 1/12/2018","",{"$f":"Season_Summary!$P$1","v":"2A BB"}]
["Jo Bishop, 30",{"$f":"Roster!$B$1","v":"Upton"},"Faith","2018-01-12",1,0,0,0,0,0,0,0,1,0,0,0,2,0,"",{"v":0,"d":"0%"},{"v":0,"d":"0%"},{"v":0,"d":"0%"},{"v":0,"d":"0%"},9,"Jo Bishop, 30 - Faith 1/12/2018","",{"$f":"Season_Summary!$P$1","v":"2A BB"}]
["Nolan Turner, 33",{"$f":"Roster!$B$1","v":"Upton"},"Faith","2018-01-12",1,0,0,0,0,0,0,0,1,0,0,0,2,0,"",{"v":0,"d":"0%"},{"v":0,"d":"0%"},{"v":0,"d":"0%"},{"v":0,"d":"0%"},9,"Nolan Turner, 33 - Faith 1/12/2018","",{"$f":"Season_Summary!$P$1","v":"2A BB"}]
["Robert Crawford, 32",{"$f":"Roster!$B$1","v":"Upton"},"Faith","2018-01-12",1,0,0,0,0,0,0,0,0,0,0,0,1,1,"",{"v":0,"d":"0%"},{"v":0,"d":"0%"},{"v":0,"d":"0%"},{"v":0,"d":"0%"},9,"Robert Crawford, 32 - Faith 1/12/2018","",{"$f":"Season_Summary!$P$1","v":"2A BB"}]
["Jace Bruce, 40",{"$f":"Roster!$B$1","v":"Upton"},"Faith","2018-01-12",1,0,0,0,0,0,0,0,1,0,0,0,0,0,"",{"v":0,"d":"0%"},{"v":0,"d":"0%"},{"v":0,"d":"0%"},{"v":0,"d":"0%"},9,"Jace Bruce, 40 - Faith 1/12/2018","",{"$f":"Season_Summary!$P$1","v":"2A BB"}]
["Ethan Mills, 2",{"$f":"Roster!$B$1","v":"Upton"},"Faith","2018-01-12",0,0,0,0,0,0,0,0,0,0,0,0,0,0,"",{"v":0,"d":"0%"},{"v":0,"d":"0%"},{"v":0,"d":"0%"},{"v":0,"d":"0%"},9,"Ethan Mills, 2 - Faith 1/12/2018","",{"$f":"Season_Summary!$P$1","v":"2A BB"}]
["Bridger Alishouse, 2",{"$f":"Roster!$B$1","v":"Upton"},"Faith","2018-01-12",0,0,0,0,0,0,0,0,0,0,0,0,0,0,"",{"v":0,"d":"0%"},{"v":0,"d":"0%"},{"v":0,"d":"0%"},{"v":0,"d":"0%"},9,"Bridger Alishouse, 2 - Faith 1/12/2018","",{"$f":"Season_Summary!$P$1","v":"2A BB"}]
["Landon Keever, 4",{"$f":"Roster!$B$1","v":"Upton"},"Faith","2018-01-12",0,0,0,0,0,0,0,0,0,0,0,0,0,0,"",{"v":0,"d":"0%"},{"v":0,"d":"0%"},{"v":0,"d":"0%"},{"v":0,"d":"0%"},9,"Landon Keever, 4 - Faith 1/12/2018","",{"$f":"Season_Summary!$P$1","v":"2A BB"}]
["DJ Till, 4",{"$f":"Roster!$B$1","v":"Upton"},"Faith","2018-01-12",0,0,0,0,0,0,0,0,0,0,0,0,0,0,"",{"v":0,"d":"0%"},{"v":0,"d":"0%"},{"v":0,"d":"0%"},{"v":0,"d":"0%"},9,"DJ Till, 4 - Faith 1/12/2018","",{"$f":"Season_Summary!$P$1","v":"2A BB"}]
[", ",{"$f":"Roster!$B$1","v":"Upton"},"Faith","2018-01-12",0,0,0,0,0,0,0,0,0,0,0,0,0,0,"",{"v":0,"d":"0%"},{"v":0,"d":"0%"},{"v":0,"d":"0%"},{"v":0,"d":"0%"},9,",  - Faith 1/12/2018","",{"$f":"Season_Summary!$P$1","v":"2A BB"}]
[", ",{"$f":"Roster!$B$1","v":"Upton"},"Faith","2018-01-12",0,0,0,0,0,0,0,0,0,0,0,0,0,0,"",{"v":0,"d":"0%"},{"v":0,"d":"0%"},{"v":0,"d":"0%"},{"v":0,"d":"0%"},9,",  - Faith 1/12/2018","",{"$f":"Season_Summary!$P$1","v":"2A BB"}]
[", ",{"$f":"Roster!$B$1","v":"Upton"},"Faith","2018-01-12",0,0,0,0,0,0,0,0,0,0,0,0,0,0,"",{"v":0,"d":"0%"},{"v":0,"d":"0%"},{"v":0,"d":"0%"},{"v":0,"d":"0%"},9,",  - Faith 1/12/2018","",{"$f":"Season_Summary!$P$1","v":"2A BB"}]
[", ",{"$f":"Roster!$B$1","v":"Upton"},"Faith","2018-01-12",0,0,0,0,0,0,0,0,0,0,0,0,0,0,"",{"v":0,"d":"0%"},{"v":0,"d":"0%"},{"v":0,"d":"0%"},{"v":0,"d":"0%"},9,",  - Faith 1/12/2018","",{"$f":"Season_Summary!$P$1","v":"2A BB"}]
[", ",{"$f":"Roster!$B$1","v":"Upton"},"Faith","2018-01-12",0,0,0,0,0,0,0,0,0,0,0,0,0,0,"",{"v":0,"d":"0%"},{"v":0,"d":"0%"},{"v":0,"d":"0%"},{"v":0,"d":"0%"},9,",  - Faith 1/12/2018","",{"$f":"Season_Summary!$P$1","v":"2A BB"}]
[", ",{"$f":"Roster!$B$1","v":"Upton"},"Faith","2018-01-12",0,0,0,0,0,0,0,0,0,0,0,0,0,0,"",{"v":0,"d":"0%"},{"v":0,"d":"0%"},{"v":0,"d":"0%"},{"v":0,"d":"0%"},9,",  - Faith 1/12/2018","",{"$f":"Season_Summary!$P$1","v":"2A BB"}]
[", ",{"$f":"Roster!$B$1","v":"Upton"},"Faith","2018-01-12",0,0,0,0,0,0,0,0,0,0,0,0,0,0,"",{"v":0,"d":"0%"},{"v":0,"d":"0%"},{"v":0,"d":"0%"},{"v":0,"d":"0%"},9,",  - Faith 1/12/2018","",{"$f":"Season_Summary!$P$1","v":"2A BB"}]
["Team, ",{"$f":"Roster!$B$1","v":"Upton"},"Faith","2018-01-12",1,0,0,0,0,0,0,1,4,0,0,0,0,0,"",{"v":0,"d":"0%"},{"v":0,"d":"0%"},{"v":0,"d":"0%"},{"v":0,"d":"0%"},9,"Team,  - Faith 1/12/2018","",{"$f":"Season_Summary!$P$1","v":"2A BB"}]
["Payton Watt, 24",{"$f":"Roster!$B$1","v":"Upton"},"Hot Springs","2018-01-13",1,1,7,5,11,3,5,2,2,2,0,0,2,3,16,{"v":0.14285714285714285,"d":"14%"},{"v":0.45454545454545453,"d":"45%"},{"v":0.6,"d":"60%"},{"v":0.3333333333333333,"d":"33%"},10,"Payton Watt, 24 - Hot Springs 1/13/2018","",{"$f":"Season_Summary!$P$1","v":"2A BB"}]
["Dillon Barritt, 20",{"$f":"Roster!$B$1","v":"Upton"},"Hot Springs","2018-01-13",1,2,7,3,7,2,2,0,2,2,3,0,2,2,14,{"v":0.2857142857142857,"d":"29%"},{"v":0.42857142857142855,"d":"43%"},{"v":0,"d":"0%"},{"v":0.35714285714285715,"d":"36%"},10,"Dillon Barritt, 20 - Hot Springs 1/13/2018","",{"$f":"Season_Summary!$P$1","v":"2A BB"}]
["Dawson Butts, 14",{"$f":"Roster!$B$1","v":"Upton"},"Hot Springs","2018-01-13",1,0,0,2,4,0,4,4,4,2,1,0,5,4,4,{"v":0,"d":"0%"},{"v":0,"d":"0%"},{"v":0,"d":"0%"},{"v":0,"d":"0%"},10,"Dawson Butts, 14 - Hot Springs 1/13/2018","",{"$f":"Season_Summary!$P$1","v":"2A BB"}]
["Jayden Caylor, 12",{"$f":"Roster!$B$1","v":"Upton"},"Hot Springs","2018-01-13",1,0,1,0,2,3,4,1,5,3,2,0,2,2,3,{"v":0,"d":"0%"},{"v":0,"d":"0%"},{"v":0,"d":"0%"},{"v":0,"d":"0%"},10,"Jayden Caylor, 12 - Hot Springs 1/13/2018","",{"$f":"Season_Summary!$P$1","v":"2A BB"}]
["Clayton Louderback, 23",{"$f":"Roster!$B$1","v":"Upton"},"Hot Springs","2018-01-13",0,0,0,0,0,0,0,0,0,0,0,0,0,0,"",{"v":0,"d":"0%"},{"v":0,"d":"0%"},{"v":0,"d":"0%"},{"v":0,"d":"0%"},10,"Clayton Louderback, 23 - Hot Springs 1/13/2018","",{"$f":"Season_Summary!$P$1","v":"2A BB"}]
["Jess Claycomb, 10",{"$f":"Roster!$B$1","v":"Upton"},"Hot Springs","2018-01-13",1,0,2,5,6,3,8,0,2,2,0,1,2,2,13,{"v":0,"d":"0%"},{"v":0.8333333333333334,"d":"83%"},{"v":0.375,"d":"38%"},{"v":0.625,"d":"63%"},10,"Jess Claycomb, 10 - Hot Springs 1/13/2018","",{"$f":"Season_Summary!$P$1","v":"2A BB"}]
["Maxx Cowger, 4",{"$f":"Roster!$B$1","v":"Upton"},"Hot Springs","2018-01-13",0,0,0,0,0,0,0,0,0,0,0,0,0,0,"",{"v":0,"d":"0%"},{"v":0,"d":"0%"},{"v":0,"d":"0%"},{"v":0,"d":"0%"},10,"Maxx Cowger, 4 - Hot Springs 1/13/2018","",{"$f":"Season_Summary!$P$1","v":"2A BB"}]
["Brayden Bruce, 22",{"$f":"Roster!$B$1","v":"Upton"},"Hot Springs","2018-01-13",1,0,0,0,1,5,9,1,3,3,0,0,1,4,5,{"v":0,"d":"0%"},{"v":0,"d":"0%"},{"v":0.5555555555555556,"d":"56%"},{"v":0,"d":"0%"},10,"Brayden Bruce, 22 - Hot Springs 1/13/2018","",{"$f":"Season_Summary!$P$1","v":"2A BB"}]
["Jo Bishop, 30",{"$f":"Roster!$B$1","v":"Upton"},"Hot Springs","2018-01-13",0,0,0,0,0,0,0,0,0,0,0,0,0,0,"",{"v":0,"d":"0%"},{"v":0,"d":"0%"},{"v":0,"d":"0%"},{"v":0,"d":"0%"},10,"Jo Bishop, 30 - Hot Springs 1/13/2018","",{"$f":"Season_Summary!$P$1","v":"2A BB"}]
["Nolan Turner, 33",{"$f":"Roster!$B$1","v":"Upton"},"Hot Springs","2018-01-13",0,0,0,0,0,0,0,0,0,0,0,0,0,0,"",{"v":0,"d":"0%"},{"v":0,"d":"0%"},{"v":0,"d":"0%"},{"v":0,"d":"0%"},10,"Nolan Turner, 33 - Hot Springs 1/13/2018","",{"$f":"Season_Summary!$P$1","v":"2A BB"}]
["Robert Crawford, 32",{"$f":"Roster!$B$1","v":"Upton"},"Hot Springs","2018-01-13",1,0,0,0,0,0,0,0,0,0,0,0,0,0,"",{"v":0,"d":"0%"},{"v":0,"d":"0%"},{"v":0,"d":"0%"},{"v":0,"d":"0%"},10,"Robert Crawford, 32 - Hot Springs 1/13/2018","",{"$f":"Season_Summary!$P$1","v":"2A BB"}]
["Jace Bruce, 40",{"$f":"Roster!$B$1","v":"Upton"},"Hot Springs","2018-01-13",0,0,0,0,0,0,0,0,0,0,0,0,0,0,"",{"v":0,"d":"0%"},{"v":0,"d":"0%"},{"v":0,"d":"0%"},{"v":0,"d":"0%"},10,"Jace Bruce, 40 - Hot Springs 1/13/2018","",{"$f":"Season_Summary!$P$1","v":"2A BB"}]
["Ethan Mills, 2",{"$f":"Roster!$B$1","v":"Upton"},"Hot Springs","2018-01-13",0,0,0,0,0,0,0,0,0,0,0,0,0,0,"",{"v":0,"d":"0%"},{"v":0,"d":"0%"},{"v":0,"d":"0%"},{"v":0,"d":"0%"},10,"Ethan Mills, 2 - Hot Springs 1/13/2018","",{"$f":"Season_Summary!$P$1","v":"2A BB"}]
["Bridger Alishouse, 2",{"$f":"Roster!$B$1","v":"Upton"},"Hot Springs","2018-01-13",0,0,0,0,0,0,0,0,0,0,0,0,0,0,"",{"v":0,"d":"0%"},{"v":0,"d":"0%"},{"v":0,"d":"0%"},{"v":0,"d":"0%"},10,"Bridger Alishouse, 2 - Hot Springs 1/13/2018","",{"$f":"Season_Summary!$P$1","v":"2A BB"}]
["Landon Keever, 4",{"$f":"Roster!$B$1","v":"Upton"},"Hot Springs","2018-01-13",0,0,0,0,0,0,0,0,0,0,0,0,0,0,"",{"v":0,"d":"0%"},{"v":0,"d":"0%"},{"v":0,"d":"0%"},{"v":0,"d":"0%"},10,"Landon Keever, 4 - Hot Springs 1/13/2018","",{"$f":"Season_Summary!$P$1","v":"2A BB"}]
["DJ Till, 4",{"$f":"Roster!$B$1","v":"Upton"},"Hot Springs","2018-01-13",0,0,0,0,0,0,0,0,0,0,0,0,0,0,"",{"v":0,"d":"0%"},{"v":0,"d":"0%"},{"v":0,"d":"0%"},{"v":0,"d":"0%"},10,"DJ Till, 4 - Hot Springs 1/13/2018","",{"$f":"Season_Summary!$P$1","v":"2A BB"}]
[", ",{"$f":"Roster!$B$1","v":"Upton"},"Hot Springs","2018-01-13",0,0,0,0,0,0,0,0,0,0,0,0,0,0,"",{"v":0,"d":"0%"},{"v":0,"d":"0%"},{"v":0,"d":"0%"},{"v":0,"d":"0%"},10,",  - Hot Springs 1/13/2018","",{"$f":"Season_Summary!$P$1","v":"2A BB"}]
[", ",{"$f":"Roster!$B$1","v":"Upton"},"Hot Springs","2018-01-13",0,0,0,0,0,0,0,0,0,0,0,0,0,0,"",{"v":0,"d":"0%"},{"v":0,"d":"0%"},{"v":0,"d":"0%"},{"v":0,"d":"0%"},10,",  - Hot Springs 1/13/2018","",{"$f":"Season_Summary!$P$1","v":"2A BB"}]
[", ",{"$f":"Roster!$B$1","v":"Upton"},"Hot Springs","2018-01-13",0,0,0,0,0,0,0,0,0,0,0,0,0,0,"",{"v":0,"d":"0%"},{"v":0,"d":"0%"},{"v":0,"d":"0%"},{"v":0,"d":"0%"},10,",  - Hot Springs 1/13/2018","",{"$f":"Season_Summary!$P$1","v":"2A BB"}]
[", ",{"$f":"Roster!$B$1","v":"Upton"},"Hot Springs","2018-01-13",0,0,0,0,0,0,0,0,0,0,0,0,0,0,"",{"v":0,"d":"0%"},{"v":0,"d":"0%"},{"v":0,"d":"0%"},{"v":0,"d":"0%"},10,",  - Hot Springs 1/13/2018","",{"$f":"Season_Summary!$P$1","v":"2A BB"}]
[", ",{"$f":"Roster!$B$1","v":"Upton"},"Hot Springs","2018-01-13",0,0,0,0,0,0,0,0,0,0,0,0,0,0,"",{"v":0,"d":"0%"},{"v":0,"d":"0%"},{"v":0,"d":"0%"},{"v":0,"d":"0%"},10,",  - Hot Springs 1/13/2018","",{"$f":"Season_Summary!$P$1","v":"2A BB"}]
[", ",{"$f":"Roster!$B$1","v":"Upton"},"Hot Springs","2018-01-13",0,0,0,0,0,0,0,0,0,0,0,0,0,0,"",{"v":0,"d":"0%"},{"v":0,"d":"0%"},{"v":0,"d":"0%"},{"v":0,"d":"0%"},10,",  - Hot Springs 1/13/2018","",{"$f":"Season_Summary!$P$1","v":"2A BB"}]
[", ",{"$f":"Roster!$B$1","v":"Upton"},"Hot Springs","2018-01-13",0,0,0,0,0,0,0,0,0,0,0,0,0,0,"",{"v":0,"d":"0%"},{"v":0,"d":"0%"},{"v":0,"d":"0%"},{"v":0,"d":"0%"},10,",  - Hot Springs 1/13/2018","",{"$f":"Season_Summary!$P$1","v":"2A BB"}]
["Team, ",{"$f":"Roster!$B$1","v":"Upton"},"Hot Springs","2018-01-13",1,0,0,0,0,0,0,1,4,0,0,0,0,0,"",{"v":0,"d":"0%"},{"v":0,"d":"0%"},{"v":0,"d":"0%"},{"v":0,"d":"0%"},10,"Team,  - Hot Springs 1/13/2018","",{"$f":"Season_Summary!$P$1","v":"2A BB"}]
["Payton Watt, 24",{"$f":"Roster!$B$1","v":"Upton"},"Moorcroft","2018-01-18",1,1,5,6,11,1,5,1,2,2,0,0,2,0,16,{"v":0.2,"d":"20%"},{"v":0.5454545454545454,"d":"55%"},{"v":0.2,"d":"20%"},{"v":0.4375,"d":"44%"},11,"Payton Watt, 24 - Moorcroft 1/18/2018","R",{"$f":"Season_Summary!$P$1","v":"2A BB"}]
["Dillon Barritt, 20",{"$f":"Roster!$B$1","v":"Upton"},"Moorcroft","2018-01-18",1,3,7,1,3,0,0,2,4,1,2,0,0,0,11,{"v":0.42857142857142855,"d":"43%"},{"v":0,"d":"0%"},{"v":0,"d":"0%"},{"v":0.4,"d":"40%"},11,"Dillon Barritt, 20 - Moorcroft 1/18/2018","R",{"$f":"Season_Summary!$P$1","v":"2A BB"}]
["Dawson Butts, 14",{"$f":"Roster!$B$1","v":"Upton"},"Moorcroft","2018-01-18",1,0,0,2,3,0,0,0,5,5,3,0,0,0,4,{"v":0,"d":"0%"},{"v":0,"d":"0%"},{"v":0,"d":"0%"},{"v":0,"d":"0%"},11,"Dawson Butts, 14 - Moorcroft 1/18/2018","R",{"$f":"Season_Summary!$P$1","v":"2A BB"}]
["Jayden Caylor, 12",{"$f":"Roster!$B$1","v":"Upton"},"Moorcroft","2018-01-18",1,1,1,7,10,1,1,3,7,3,3,0,4,2,18,{"v":0,"d":"0%"},{"v":0.7,"d":"70%"},{"v":0,"d":"0%"},{"v":0.7272727272727273,"d":"73%"},11,"Jayden Caylor, 12 - Moorcroft 1/18/2018","R",{"$f":"Season_Summary!$P$1","v":"2A BB"}]
["Clayton Louderback, 23",{"$f":"Roster!$B$1","v":"Upton"},"Moorcroft","2018-01-18",0,0,0,0,0,0,0,0,0,0,0,0,0,0,"",{"v":0,"d":"0%"},{"v":0,"d":"0%"},{"v":0,"d":"0%"},{"v":0,"d":"0%"},11,"Clayton Louderback, 23 - Moorcroft 1/18/2018","R",{"$f":"Season_Summary!$P$1","v":"2A BB"}]
["Jess Claycomb, 10",{"$f":"Roster!$B$1","v":"Upton"},"Moorcroft","2018-01-18",1,1,2,1,5,4,4,3,2,7,2,0,3,2,9,{"v":0,"d":"0%"},{"v":0.2,"d":"20%"},{"v":0,"d":"0%"},{"v":0.2857142857142857,"d":"29%"},11,"Jess Claycomb, 10 - Moorcroft 1/18/2018","R",{"$f":"Season_Summary!$P$1","v":"2A BB"}]
["Maxx Cowger, 4",{"$f":"Roster!$B$1","v":"Upton"},"Moorcroft","2018-01-18",1,0,0,0,0,0,0,0,0,0,0,0,0,0,"",{"v":0,"d":"0%"},{"v":0,"d":"0%"},{"v":0,"d":"0%"},{"v":0,"d":"0%"},11,"Maxx Cowger, 4 - Moorcroft 1/18/2018","R",{"$f":"Season_Summary!$P$1","v":"2A BB"}]
["Brayden Bruce, 22",{"$f":"Roster!$B$1","v":"Upton"},"Moorcroft","2018-01-18",1,1,1,1,2,0,0,1,1,3,1,0,2,1,5,{"v":0,"d":"0%"},{"v":0,"d":"0%"},{"v":0,"d":"0%"},{"v":0,"d":"0%"},11,"Brayden Bruce, 22 - Moorcroft 1/18/2018","R",{"$f":"Season_Summary!$P$1","v":"2A BB"}]
["Jo Bishop, 30",{"$f":"Roster!$B$1","v":"Upton"},"Moorcroft","2018-01-18",1,0,0,1,1,0,0,0,0,0,1,0,0,2,2,{"v":0,"d":"0%"},{"v":0,"d":"0%"},{"v":0,"d":"0%"},{"v":0,"d":"0%"},11,"Jo Bishop, 30 - Moorcroft 1/18/2018","R",{"$f":"Season_Summary!$P$1","v":"2A BB"}]
["Nolan Turner, 33",{"$f":"Roster!$B$1","v":"Upton"},"Moorcroft","2018-01-18",1,0,0,0,0,0,0,1,2,0,0,0,0,3,"",{"v":0,"d":"0%"},{"v":0,"d":"0%"},{"v":0,"d":"0%"},{"v":0,"d":"0%"},11,"Nolan Turner, 33 - Moorcroft 1/18/2018","R",{"$f":"Season_Summary!$P$1","v":"2A BB"}]
["Robert Crawford, 32",{"$f":"Roster!$B$1","v":"Upton"},"Moorcroft","2018-01-18",1,0,0,2,4,0,2,0,2,1,0,0,2,0,4,{"v":0,"d":"0%"},{"v":0,"d":"0%"},{"v":0,"d":"0%"},{"v":0,"d":"0%"},11,"Robert Crawford, 32 - Moorcroft 1/18/2018","R",{"$f":"Season_Summary!$P$1","v":"2A BB"}]
["Jace Bruce, 40",{"$f":"Roster!$B$1","v":"Upton"},"Moorcroft","2018-01-18",1,0,1,1,1,0,0,0,0,1,1,0,1,1,2,{"v":0,"d":"0%"},{"v":0,"d":"0%"},{"v":0,"d":"0%"},{"v":0,"d":"0%"},11,"Jace Bruce, 40 - Moorcroft 1/18/2018","R",{"$f":"Season_Summary!$P$1","v":"2A BB"}]
["Ethan Mills, 2",{"$f":"Roster!$B$1","v":"Upton"},"Moorcroft","2018-01-18",1,0,0,0,0,0,0,0,0,0,0,0,0,0,"",{"v":0,"d":"0%"},{"v":0,"d":"0%"},{"v":0,"d":"0%"},{"v":0,"d":"0%"},11,"Ethan Mills, 2 - Moorcroft 1/18/2018","R",{"$f":"Season_Summary!$P$1","v":"2A BB"}]
["Bridger Alishouse, 2",{"$f":"Roster!$B$1","v":"Upton"},"Moorcroft","2018-01-18",1,0,0,0,1,0,0,0,1,1,0,0,0,0,"",{"v":0,"d":"0%"},{"v":0,"d":"0%"},{"v":0,"d":"0%"},{"v":0,"d":"0%"},11,"Bridger Alishouse, 2 - Moorcroft 1/18/2018","R",{"$f":"Season_Summary!$P$1","v":"2A BB"}]
["Landon Keever, 4",{"$f":"Roster!$B$1","v":"Upton"},"Moorcroft","2018-01-18",1,1,2,0,1,0,0,0,0,0,0,0,0,0,3,{"v":0,"d":"0%"},{"v":0,"d":"0%"},{"v":0,"d":"0%"},{"v":0,"d":"0%"},11,"Landon Keever, 4 - Moorcroft 1/18/2018","R",{"$f":"Season_Summary!$P$1","v":"2A BB"}]
["DJ Till, 4",{"$f":"Roster!$B$1","v":"Upton"},"Moorcroft","2018-01-18",0,0,0,0,0,0,0,0,0,0,0,0,0,0,"",{"v":0,"d":"0%"},{"v":0,"d":"0%"},{"v":0,"d":"0%"},{"v":0,"d":"0%"},11,"DJ Till, 4 - Moorcroft 1/18/2018","R",{"$f":"Season_Summary!$P$1","v":"2A BB"}]
[", ",{"$f":"Roster!$B$1","v":"Upton"},"Moorcroft","2018-01-18",{"$f":"INDIRECT(\"'game1 (\"&$X263&\")'!\"&ADDRESS(ROW(A$7)+MOD(ROW(A263)-7,24),COLUMN(C263)))","v":0},{"$f":"INDIRECT(\"'game1 (\"&$X263&\")'!\"&ADDRESS(ROW(B$7)+MOD(ROW(B263)-7,24),COLUMN(D263)))","v":0},{"$f":"INDIRECT(\"'game1 (\"&$X263&\")'!\"&ADDRESS(ROW(C$7)+MOD(ROW(C263)-7,24),COLUMN(E263)))","v":0},{"$f":"INDIRECT(\"'game1 (\"&$X263&\")'!\"&ADDRESS(ROW(D$7)+MOD(ROW(D263)-7,24),COLUMN(F263)))","v":0},{"$f":"INDIRECT(\"'game1 (\"&$X263&\")'!\"&ADDRESS(ROW(E$7)+MOD(ROW(E263)-7,24),COLUMN(G263)))","v":0},{"$f":"INDIRECT(\"'game1 (\"&$X263&\")'!\"&ADDRESS(ROW(F$7)+MOD(ROW(F263)-7,24),COLUMN(H263)))","v":0},{"$f":"INDIRECT(\"'game1 (\"&$X263&\")'!\"&ADDRESS(ROW(G$7)+MOD(ROW(G263)-7,24),COLUMN(I263)))","v":0},{"$f":"INDIRECT(\"'game1 (\"&$X263&\")'!\"&ADDRESS(ROW(H$7)+MOD(ROW(H263)-7,24),COLUMN(J263)))","v":0},{"$f":"INDIRECT(\"'game1 (\"&$X263&\")'!\"&ADDRESS(ROW(I$7)+MOD(ROW(I263)-7,24),COLUMN(K263)))","v":0},{"$f":"INDIRECT(\"'game1 (\"&$X263&\")'!\"&ADDRESS(ROW(J$7)+MOD(ROW(J263)-7,24),COLUMN(L263)))","v":0},{"$f":"INDIRECT(\"'game1 (\"&$X263&\")'!\"&ADDRESS(ROW(K$7)+MOD(ROW(K263)-7,24),COLUMN(M263)))","v":0},{"$f":"INDIRECT(\"'game1 (\"&$X263&\")'!\"&ADDRESS(ROW(L$7)+MOD(ROW(L263)-7,24),COLUMN(N263)))","v":0},{"$f":"INDIRECT(\"'game1 (\"&$X263&\")'!\"&ADDRESS(ROW(M$7)+MOD(ROW(M263)-7,24),COLUMN(O263)))","v":0},{"$f":"INDIRECT(\"'game1 (\"&$X263&\")'!\"&ADDRESS(ROW(N$7)+MOD(ROW(N263)-7,24),COLUMN(P263)))","v":0},{"$f":"INDIRECT(\"'game1 (\"&$X263&\")'!\"&ADDRESS(ROW(O$7)+MOD(ROW(O263)-7,24),COLUMN(Q263)))","v":""},{"v":0,"d":"0%"},{"v":0,"d":"0%"},{"v":0,"d":"0%"},{"v":0,"d":"0%"},{"$f":"INT((ROW(A263)-7)/24)+1","v":11},",  - Moorcroft 1/18/2018","R",{"$f":"Season_Summary!$P$1","v":"2A BB"}]
[{"$f":"CONCATENATE(INDIRECT(\"Roster!B\"&ROW(A$7)+MOD(ROW(A264)-7,24)),\", \",INDIRECT(\"Roster!a\"&ROW(A$7)+MOD(ROW(A264)-7,24)))","v":", "},{"$f":"Roster!$B$1","v":"Upton"},{"$f":"INDIRECT(\"'game1 (\"&$X264&\")'!$C$2\")","v":"Moorcroft"},{"$f":"INDIRECT(\"'game1 (\"&$X264&\")'!$k$2\")","v":"2018-01-18"},0,0,0,0,0,0,0,0,0,0,0,0,0,0,"",{"$f":"IF(G264<$D$2,0,INDIRECT(\"'game1 (\"&$X264&\")'!\"&ADDRESS(ROW(M$7)+MOD(ROW(M264)-7,24),COLUMN(R264))))","v":{"v":0,"d":"0%"}},{"$f":"IF(I264<$D$2,0,INDIRECT(\"'game1 (\"&$X264&\")'!\"&ADDRESS(ROW(N$7)+MOD(ROW(N264)-7,24),COLUMN(S264))))","v":{"v":0,"d":"0%"}},{"$f":"IF(K264<$D$2,0,INDIRECT(\"'game1 (\"&$X264&\")'!\"&ADDRESS(ROW(O$7)+MOD(ROW(O264)-7,24),COLUMN(T264))))","v":{"v":0,"d":"0%"}},{"$f":"IF(G264+I264<$D$2,0,INDIRECT(\"'game1 (\"&$X264&\")'!\"&ADDRESS(ROW(O$7)+MOD(ROW(O264)-7,24),COLUMN(U264))))","v":{"v":0,"d":"0%"}},11,{"$f":"CONCATENATE(A264,\" - \",C264,\" \",MONTH(D264),\"/\",DAY(D264),\"/\",YEAR(D264))","v":",  - Moorcroft 1/18/2018"},{"$f":"IFERROR(INDIRECT(\"'game1 (\"&$X264&\")'!$a$2\"),\"\")","v":"R"},{"$f":"Season_Summary!$P$1","v":"2A BB"}]
[", ",{"$f":"Roster!$B$1","v":"Upton"},"Moorcroft","2018-01-18",0,0,0,0,0,0,0,0,0,0,0,0,0,0,"",{"v":0,"d":"0%"},{"v":0,"d":"0%"},{"v":0,"d":"0%"},{"v":0,"d":"0%"},11,",  - Moorcroft 1/18/2018","R",{"$f":"Season_Summary!$P$1","v":"2A BB"}]
[", ",{"$f":"Roster!$B$1","v":"Upton"},"Moorcroft","2018-01-18",0,0,0,0,0,0,0,0,0,0,0,0,0,0,"",{"v":0,"d":"0%"},{"v":0,"d":"0%"},{"v":0,"d":"0%"},{"v":0,"d":"0%"},11,",  - Moorcroft 1/18/2018","R",{"$f":"Season_Summary!$P$1","v":"2A BB"}]
[", ",{"$f":"Roster!$B$1","v":"Upton"},"Moorcroft","2018-01-18",0,0,0,0,0,0,0,0,0,0,0,0,0,0,"",{"v":0,"d":"0%"},{"v":0,"d":"0%"},{"v":0,"d":"0%"},{"v":0,"d":"0%"},11,",  - Moorcroft 1/18/2018","R",{"$f":"Season_Summary!$P$1","v":"2A BB"}]
[", ",{"$f":"Roster!$B$1","v":"Upton"},"Moorcroft","2018-01-18",0,0,0,0,0,0,0,0,0,0,0,0,0,0,"",{"v":0,"d":"0%"},{"v":0,"d":"0%"},{"v":0,"d":"0%"},{"v":0,"d":"0%"},11,",  - Moorcroft 1/18/2018","R",{"$f":"Season_Summary!$P$1","v":"2A BB"}]
[", ",{"$f":"Roster!$B$1","v":"Upton"},"Moorcroft","2018-01-18",0,0,0,0,0,0,0,0,0,0,0,0,0,0,"",{"v":0,"d":"0%"},{"v":0,"d":"0%"},{"v":0,"d":"0%"},{"v":0,"d":"0%"},11,",  - Moorcroft 1/18/2018","R",{"$f":"Season_Summary!$P$1","v":"2A BB"}]
["Team, ",{"$f":"Roster!$B$1","v":"Upton"},"Moorcroft","2018-01-18",1,0,0,0,0,0,0,3,3,0,0,0,0,0,"",{"v":0,"d":"0%"},{"v":0,"d":"0%"},{"v":0,"d":"0%"},{"v":0,"d":"0%"},11,"Team,  - Moorcroft 1/18/2018","R",{"$f":"Season_Summary!$P$1","v":"2A BB"}]
["Payton Watt, 24",{"$f":"Roster!$B$1","v":"Upton"},"Wright","2018-01-20",1,0,6,2,8,8,11,3,7,2,2,0,5,4,12,{"v":0,"d":"0%"},{"v":0.25,"d":"25%"},{"v":0.7272727272727273,"d":"73%"},{"v":0.14285714285714285,"d":"14%"},12,"Payton Watt, 24 - Wright 1/20/2018","R",{"$f":"Season_Summary!$P$1","v":"2A BB"}]
["Dillon Barritt, 20",{"$f":"Roster!$B$1","v":"Upton"},"Wright","2018-01-20",1,4,11,3,6,0,0,3,2,2,3,0,3,3,18,{"v":0.36363636363636365,"d":"36%"},{"v":0.5,"d":"50%"},{"v":0,"d":"0%"},{"v":0.4117647058823529,"d":"41%"},12,"Dillon Barritt, 20 - Wright 1/20/2018","R",{"$f":"Season_Summary!$P$1","v":"2A BB"}]
["Dawson Butts, 14",{"$f":"Roster!$B$1","v":"Upton"},"Wright","2018-01-20",1,0,2,1,5,1,2,3,5,2,2,0,4,2,3,{"v":0,"d":"0%"},{"v":0.2,"d":"20%"},{"v":0,"d":"0%"},{"v":0.14285714285714285,"d":"14%"},12,"Dawson Butts, 14 - Wright 1/20/2018","R",{"$f":"Season_Summary!$P$1","v":"2A BB"}]
["Jayden Caylor, 12",{"$f":"Roster!$B$1","v":"Upton"},"Wright","2018-01-20",0,0,0,0,0,0,0,0,0,0,0,0,0,0,"",{"v":0,"d":"0%"},{"v":0,"d":"0%"},{"v":0,"d":"0%"},{"v":0,"d":"0%"},12,"Jayden Caylor, 12 - Wright 1/20/2018","R",{"$f":"Season_Summary!$P$1","v":"2A BB"}]
["Clayton Louderback, 23",{"$f":"Roster!$B$1","v":"Upton"},"Wright","2018-01-20",0,0,0,0,0,0,0,0,0,0,0,0,0,0,"",{"v":0,"d":"0%"},{"v":0,"d":"0%"},{"v":0,"d":"0%"},{"v":0,"d":"0%"},12,"Clayton Louderback, 23 - Wright 1/20/2018","R",{"$f":"Season_Summary!$P$1","v":"2A BB"}]
["Jess Claycomb, 10",{"$f":"Roster!$B$1","v":"Upton"},"Wright","2018-01-20",1,0,1,4,6,4,4,1,2,3,0,0,4,4,12,{"v":0,"d":"0%"},{"v":0.6666666666666666,"d":"67%"},{"v":0,"d":"0%"},{"v":0.5714285714285714,"d":"57%"},12,"Jess Claycomb, 10 - Wright 1/20/2018","R",{"$f":"Season_Summary!$P$1","v":"2A BB"}]
["Maxx Cowger, 4",{"$f":"Roster!$B$1","v":"Upton"},"Wright","2018-01-20",0,0,0,0,0,0,0,0,0,0,0,0,0,0,"",{"v":0,"d":"0%"},{"v":0,"d":"0%"},{"v":0,"d":"0%"},{"v":0,"d":"0%"},12,"Maxx Cowger, 4 - Wright 1/20/2018","R",{"$f":"Season_Summary!$P$1","v":"2A BB"}]
["Brayden Bruce, 22",{"$f":"Roster!$B$1","v":"Upton"},"Wright","2018-01-20",1,2,8,0,2,0,0,2,0,1,1,0,2,4,6,{"v":0.25,"d":"25%"},{"v":0,"d":"0%"},{"v":0,"d":"0%"},{"v":0.2,"d":"20%"},12,"Brayden Bruce, 22 - Wright 1/20/2018","R",{"$f":"Season_Summary!$P$1","v":"2A BB"}]
["Jo Bishop, 30",{"$f":"Roster!$B$1","v":"Upton"},"Wright","2018-01-20",1,0,0,0,0,0,0,1,0,0,0,0,1,0,"",{"v":0,"d":"0%"},{"v":0,"d":"0%"},{"v":0,"d":"0%"},{"v":0,"d":"0%"},12,"Jo Bishop, 30 - Wright 1/20/2018","R",{"$f":"Season_Summary!$P$1","v":"2A BB"}]
["Nolan Turner, 33",{"$f":"Roster!$B$1","v":"Upton"},"Wright","2018-01-20",1,0,0,0,0,0,0,0,1,2,1,1,2,3,"",{"v":0,"d":"0%"},{"v":0,"d":"0%"},{"v":0,"d":"0%"},{"v":0,"d":"0%"},12,"Nolan Turner, 33 - Wright 1/20/2018","R",{"$f":"Season_Summary!$P$1","v":"2A BB"}]
["Robert Crawford, 32",{"$f":"Roster!$B$1","v":"Upton"},"Wright","2018-01-20",0,0,0,0,0,0,0,0,0,0,0,0,0,0,"",{"v":0,"d":"0%"},{"v":0,"d":"0%"},{"v":0,"d":"0%"},{"v":0,"d":"0%"},12,"Robert Crawford, 32 - Wright 1/20/2018","R",{"$f":"Season_Summary!$P$1","v":"2A BB"}]
["Jace Bruce, 40",{"$f":"Roster!$B$1","v":"Upton"},"Wright","2018-01-20",0,0,0,0,0,0,0,0,0,0,0,0,0,0,"",{"v":0,"d":"0%"},{"v":0,"d":"0%"},{"v":0,"d":"0%"},{"v":0,"d":"0%"},12,"Jace Bruce, 40 - Wright 1/20/2018","R",{"$f":"Season_Summary!$P$1","v":"2A BB"}]
["Ethan Mills, 2",{"$f":"Roster!$B$1","v":"Upton"},"Wright","2018-01-20",0,0,0,0,0,0,0,0,0,0,0,0,0,0,"",{"v":0,"d":"0%"},{"v":0,"d":"0%"},{"v":0,"d":"0%"},{"v":0,"d":"0%"},12,"Ethan Mills, 2 - Wright 1/20/2018","R",{"$f":"Season_Summary!$P$1","v":"2A BB"}]
["Bridger Alishouse, 2",{"$f":"Roster!$B$1","v":"Upton"},"Wright","2018-01-20",0,0,0,0,0,0,0,0,0,0,0,0,0,0,"",{"v":0,"d":"0%"},{"v":0,"d":"0%"},{"v":0,"d":"0%"},{"v":0,"d":"0%"},12,"Bridger Alishouse, 2 - Wright 1/20/2018","R",{"$f":"Season_Summary!$P$1","v":"2A BB"}]
["Landon Keever, 4",{"$f":"Roster!$B$1","v":"Upton"},"Wright","2018-01-20",0,0,0,0,0,0,0,0,0,0,0,0,0,0,"",{"v":0,"d":"0%"},{"v":0,"d":"0%"},{"v":0,"d":"0%"},{"v":0,"d":"0%"},12,"Landon Keever, 4 - Wright 1/20/2018","R",{"$f":"Season_Summary!$P$1","v":"2A BB"}]
["DJ Till, 4",{"$f":"Roster!$B$1","v":"Upton"},"Wright","2018-01-20",0,0,0,0,0,0,0,0,0,0,0,0,0,0,"",{"v":0,"d":"0%"},{"v":0,"d":"0%"},{"v":0,"d":"0%"},{"v":0,"d":"0%"},12,"DJ Till, 4 - Wright 1/20/2018","R",{"$f":"Season_Summary!$P$1","v":"2A BB"}]
[", ",{"$f":"Roster!$B$1","v":"Upton"},"Wright","2018-01-20",0,0,0,0,0,0,0,0,0,0,0,0,0,0,"",{"v":0,"d":"0%"},{"v":0,"d":"0%"},{"v":0,"d":"0%"},{"v":0,"d":"0%"},12,",  - Wright 1/20/2018","R",{"$f":"Season_Summary!$P$1","v":"2A BB"}]
[", ",{"$f":"Roster!$B$1","v":"Upton"},"Wright","2018-01-20",0,0,0,0,0,0,0,0,0,0,0,0,0,0,"",{"v":0,"d":"0%"},{"v":0,"d":"0%"},{"v":0,"d":"0%"},{"v":0,"d":"0%"},12,",  - Wright 1/20/2018","R",{"$f":"Season_Summary!$P$1","v":"2A BB"}]
[", ",{"$f":"Roster!$B$1","v":"Upton"},"Wright","2018-01-20",0,0,0,0,0,0,0,0,0,0,0,0,0,0,"",{"v":0,"d":"0%"},{"v":0,"d":"0%"},{"v":0,"d":"0%"},{"v":0,"d":"0%"},12,",  - Wright 1/20/2018","R",{"$f":"Season_Summary!$P$1","v":"2A BB"}]
[", ",{"$f":"Roster!$B$1","v":"Upton"},"Wright","2018-01-20",0,0,0,0,0,0,0,0,0,0,0,0,0,0,"",{"v":0,"d":"0%"},{"v":0,"d":"0%"},{"v":0,"d":"0%"},{"v":0,"d":"0%"},12,",  - Wright 1/20/2018","R",{"$f":"Season_Summary!$P$1","v":"2A BB"}]
[", ",{"$f":"Roster!$B$1","v":"Upton"},"Wright","2018-01-20",0,0,0,0,0,0,0,0,0,0,0,0,0,0,"",{"v":0,"d":"0%"},{"v":0,"d":"0%"},{"v":0,"d":"0%"},{"v":0,"d":"0%"},12,",  - Wright 1/20/2018","R",{"$f":"Season_Summary!$P$1","v":"2A BB"}]
[", ",{"$f":"Roster!$B$1","v":"Upton"},"Wright","2018-01-20",0,0,0,0,0,0,0,0,0,0,0,0,0,0,"",{"v":0,"d":"0%"},{"v":0,"d":"0%"},{"v":0,"d":"0%"},{"v":0,"d":"0%"},12,",  - Wright 1/20/2018","R",{"$f":"Season_Summary!$P$1","v":"2A BB"}]
[", ",{"$f":"Roster!$B$1","v":"Upton"},"Wright","2018-01-20",0,0,0,0,0,0,0,0,0,0,0,0,0,0,"",{"v":0,"d":"0%"},{"v":0,"d":"0%"},{"v":0,"d":"0%"},{"v":0,"d":"0%"},12,",  - Wright 1/20/2018","R",{"$f":"Season_Summary!$P$1","v":"2A BB"}]
["Team, ",{"$f":"Roster!$B$1","v":"Upton"},"Wright","2018-01-20",1,0,0,0,0,0,0,5,0,0,0,0,0,0,"",{"v":0,"d":"0%"},{"v":0,"d":"0%"},{"v":0,"d":"0%"},{"v":0,"d":"0%"},12,"Team,  - Wright 1/20/2018","R",{"$f":"Season_Summary!$P$1","v":"2A BB"}]
["Payton Watt, 24",{"$f":"Roster!$B$1","v":"Upton"},"Sundance","2018-01-25",1,7,10,3,6,2,2,1,3,3,1,0,3,1,29,{"v":0.7,"d":"70%"},{"v":0.5,"d":"50%"},{"v":0,"d":"0%"},{"v":0.625,"d":"63%"},13,"Payton Watt, 24 - Sundance 1/25/2018","R",{"$f":"Season_Summary!$P$1","v":"2A BB"}]
["Dillon Barritt, 20",{"$f":"Roster!$B$1","v":"Upton"},"Sundance","2018-01-25",1,2,6,1,2,2,3,1,1,2,6,0,1,2,10,{"v":0.3333333333333333,"d":"33%"},{"v":0,"d":"0%"},{"v":0,"d":"0%"},{"v":0.375,"d":"38%"},13,"Dillon Barritt, 20 - Sundance 1/25/2018","R",{"$f":"Season_Summary!$P$1","v":"2A BB"}]
["Dawson Butts, 14",{"$f":"Roster!$B$1","v":"Upton"},"Sundance","2018-01-25",1,0,0,3,4,0,0,1,2,3,1,0,0,3,6,{"v":0,"d":"0%"},{"v":0,"d":"0%"},{"v":0,"d":"0%"},{"v":0,"d":"0%"},13,"Dawson Butts, 14 - Sundance 1/25/2018","R",{"$f":"Season_Summary!$P$1","v":"2A BB"}]
["Jayden Caylor, 12",{"$f":"Roster!$B$1","v":"Upton"},"Sundance","2018-01-25",0,0,0,0,0,0,0,0,0,0,0,0,0,0,"",{"v":0,"d":"0%"},{"v":0,"d":"0%"},{"v":0,"d":"0%"},{"v":0,"d":"0%"},13,"Jayden Caylor, 12 - Sundance 1/25/2018","R",{"$f":"Season_Summary!$P$1","v":"2A BB"}]
["Clayton Louderback, 23",{"$f":"Roster!$B$1","v":"Upton"},"Sundance","2018-01-25",1,1,5,4,7,6,6,1,6,5,5,0,4,3,17,{"v":0.2,"d":"20%"},{"v":0.5714285714285714,"d":"57%"},{"v":1,"d":"100%"},{"v":0.4166666666666667,"d":"42%"},13,"Clayton Louderback, 23 - Sundance 1/25/2018","R",{"$f":"Season_Summary!$P$1","v":"2A BB"}]
["Jess Claycomb, 10",{"$f":"Roster!$B$1","v":"Upton"},"Sundance","2018-01-25",1,0,1,3,4,0,0,1,2,4,0,0,0,2,6,{"v":0,"d":"0%"},{"v":0,"d":"0%"},{"v":0,"d":"0%"},{"v":0.6,"d":"60%"},13,"Jess Claycomb, 10 - Sundance 1/25/2018","R",{"$f":"Season_Summary!$P$1","v":"2A BB"}]
["Maxx Cowger, 4",{"$f":"Roster!$B$1","v":"Upton"},"Sundance","2018-01-25",0,0,0,0,0,0,0,0,0,0,0,0,0,0,"",{"v":0,"d":"0%"},{"v":0,"d":"0%"},{"v":0,"d":"0%"},{"v":0,"d":"0%"},13,"Maxx Cowger, 4 - Sundance 1/25/2018","R",{"$f":"Season_Summary!$P$1","v":"2A BB"}]
["Brayden Bruce, 22",{"$f":"Roster!$B$1","v":"Upton"},"Sundance","2018-01-25",1,0,1,2,2,0,2,0,1,1,1,0,3,3,4,{"v":0,"d":"0%"},{"v":0,"d":"0%"},{"v":0,"d":"0%"},{"v":0,"d":"0%"},13,"Brayden Bruce, 22 - Sundance 1/25/2018","R",{"$f":"Season_Summary!$P$1","v":"2A BB"}]
["Jo Bishop, 30",{"$f":"Roster!$B$1","v":"Upton"},"Sundance","2018-01-25",1,0,0,0,0,0,0,1,1,1,1,0,0,1,"",{"v":0,"d":"0%"},{"v":0,"d":"0%"},{"v":0,"d":"0%"},{"v":0,"d":"0%"},13,"Jo Bishop, 30 - Sundance 1/25/2018","R",{"$f":"Season_Summary!$P$1","v":"2A BB"}]
["Nolan Turner, 33",{"$f":"Roster!$B$1","v":"Upton"},"Sundance","2018-01-25",1,0,1,0,1,0,0,1,2,0,0,0,0,4,"",{"v":0,"d":"0%"},{"v":0,"d":"0%"},{"v":0,"d":"0%"},{"v":0,"d":"0%"},13,"Nolan Turner, 33 - Sundance 1/25/2018","R",{"$f":"Season_Summary!$P$1","v":"2A BB"}]
["Robert Crawford, 32",{"$f":"Roster!$B$1","v":"Upton"},"Sundance","2018-01-25",1,0,0,0,0,0,0,0,1,1,0,0,3,3,"",{"v":0,"d":"0%"},{"v":0,"d":"0%"},{"v":0,"d":"0%"},{"v":0,"d":"0%"},13,"Robert Crawford, 32 - Sundance 1/25/2018","R",{"$f":"Season_Summary!$P$1","v":"2A BB"}]
["Jace Bruce, 40",{"$f":"Roster!$B$1","v":"Upton"},"Sundance","2018-01-25",1,0,3,0,0,0,0,0,1,1,1,0,0,0,"",{"v":0,"d":"0%"},{"v":0,"d":"0%"},{"v":0,"d":"0%"},{"v":0,"d":"0%"},13,"Jace Bruce, 40 - Sundance 1/25/2018","R",{"$f":"Season_Summary!$P$1","v":"2A BB"}]
["Ethan Mills, 2",{"$f":"Roster!$B$1","v":"Upton"},"Sundance","2018-01-25",1,0,1,1,1,0,0,0,0,0,0,0,0,0,2,{"v":0,"d":"0%"},{"v":0,"d":"0%"},{"v":0,"d":"0%"},{"v":0,"d":"0%"},13,"Ethan Mills, 2 - Sundance 1/25/2018","R",{"$f":"Season_Summary!$P$1","v":"2A BB"}]
["Bridger Alishouse, 2",{"$f":"Roster!$B$1","v":"Upton"},"Sundance","2018-01-25",0,0,0,0,0,0,0,0,0,0,0,0,0,0,"",{"v":0,"d":"0%"},{"v":0,"d":"0%"},{"v":0,"d":"0%"},{"v":0,"d":"0%"},13,"Bridger Alishouse, 2 - Sundance 1/25/2018","R",{"$f":"Season_Summary!$P$1","v":"2A BB"}]
["Landon Keever, 4",{"$f":"Roster!$B$1","v":"Upton"},"Sundance","2018-01-25",0,0,0,0,0,0,0,0,0,0,0,0,0,0,"",{"v":0,"d":"0%"},{"v":0,"d":"0%"},{"v":0,"d":"0%"},{"v":0,"d":"0%"},13,"Landon Keever, 4 - Sundance 1/25/2018","R",{"$f":"Season_Summary!$P$1","v":"2A BB"}]
["DJ Till, 4",{"$f":"Roster!$B$1","v":"Upton"},"Sundance","2018-01-25",1,0,1,1,3,0,0,1,0,0,0,0,0,0,2,{"v":0,"d":"0%"},{"v":0,"d":"0%"},{"v":0,"d":"0%"},{"v":0,"d":"0%"},13,"DJ Till, 4 - Sundance 1/25/2018","R",{"$f":"Season_Summary!$P$1","v":"2A BB"}]
[", ",{"$f":"Roster!$B$1","v":"Upton"},"Sundance","2018-01-25",0,0,0,0,0,0,0,0,0,0,0,0,0,0,"",{"v":0,"d":"0%"},{"v":0,"d":"0%"},{"v":0,"d":"0%"},{"v":0,"d":"0%"},13,",  - Sundance 1/25/2018","R",{"$f":"Season_Summary!$P$1","v":"2A BB"}]
[", ",{"$f":"Roster!$B$1","v":"Upton"},"Sundance","2018-01-25",0,0,0,0,0,0,0,0,0,0,0,0,0,0,"",{"v":0,"d":"0%"},{"v":0,"d":"0%"},{"v":0,"d":"0%"},{"v":0,"d":"0%"},13,",  - Sundance 1/25/2018","R",{"$f":"Season_Summary!$P$1","v":"2A BB"}]
[", ",{"$f":"Roster!$B$1","v":"Upton"},"Sundance","2018-01-25",0,0,0,0,0,0,0,0,0,0,0,0,0,0,"",{"v":0,"d":"0%"},{"v":0,"d":"0%"},{"v":0,"d":"0%"},{"v":0,"d":"0%"},13,",  - Sundance 1/25/2018","R",{"$f":"Season_Summary!$P$1","v":"2A BB"}]
[", ",{"$f":"Roster!$B$1","v":"Upton"},"Sundance","2018-01-25",0,0,0,0,0,0,0,0,0,0,0,0,0,0,"",{"v":0,"d":"0%"},{"v":0,"d":"0%"},{"v":0,"d":"0%"},{"v":0,"d":"0%"},13,",  - Sundance 1/25/2018","R",{"$f":"Season_Summary!$P$1","v":"2A BB"}]
[", ",{"$f":"Roster!$B$1","v":"Upton"},"Sundance","2018-01-25",0,0,0,0,0,0,0,0,0,0,0,0,0,0,"",{"v":0,"d":"0%"},{"v":0,"d":"0%"},{"v":0,"d":"0%"},{"v":0,"d":"0%"},13,",  - Sundance 1/25/2018","R",{"$f":"Season_Summary!$P$1","v":"2A BB"}]
[", ",{"$f":"Roster!$B$1","v":"Upton"},"Sundance","2018-01-25",0,0,0,0,0,0,0,0,0,0,0,0,0,0,"",{"v":0,"d":"0%"},{"v":0,"d":"0%"},{"v":0,"d":"0%"},{"v":0,"d":"0%"},13,",  - Sundance 1/25/2018","R",{"$f":"Season_Summary!$P$1","v":"2A BB"}]
[", ",{"$f":"Roster!$B$1","v":"Upton"},"Sundance","2018-01-25",0,0,0,0,0,0,0,0,0,0,0,0,0,0,"",{"v":0,"d":"0%"},{"v":0,"d":"0%"},{"v":0,"d":"0%"},{"v":0,"d":"0%"},13,",  - Sundance 1/25/2018","R",{"$f":"Season_Summary!$P$1","v":"2A BB"}]
["Team, ",{"$f":"Roster!$B$1","v":"Upton"},"Sundance","2018-01-25",1,0,0,0,0,0,0,0,5,0,0,0,0,0,"",{"v":0,"d":"0%"},{"v":0,"d":"0%"},{"v":0,"d":"0%"},{"v":0,"d":"0%"},13,"Team,  - Sundance 1/25/2018","R",{"$f":"Season_Summary!$P$1","v":"2A BB"}]
["Payton Watt, 24",{"$f":"Roster!$B$1","v":"Upton"},"Big Horn","2018-01-27",1,6,8,1,3,1,2,1,2,2,0,2,4,0,21,{"v":0.75,"d":"75%"},{"v":0,"d":"0%"},{"v":0,"d":"0%"},{"v":0.6363636363636364,"d":"64%"},14,"Payton Watt, 24 - Big Horn 1/27/2018","R",{"$f":"Season_Summary!$P$1","v":"2A BB"}]
["Dillon Barritt, 20",{"$f":"Roster!$B$1","v":"Upton"},"Big Horn","2018-01-27",1,3,8,1,3,0,0,2,4,3,2,0,4,2,11,{"v":0.375,"d":"38%"},{"v":0,"d":"0%"},{"v":0,"d":"0%"},{"v":0.36363636363636365,"d":"36%"},14,"Dillon Barritt, 20 - Big Horn 1/27/2018","R",{"$f":"Season_Summary!$P$1","v":"2A BB"}]
["Dawson Butts, 14",{"$f":"Roster!$B$1","v":"Upton"},"Big Horn","2018-01-27",1,0,0,1,4,0,0,2,5,7,1,1,3,1,2,{"v":0,"d":"0%"},{"v":0,"d":"0%"},{"v":0,"d":"0%"},{"v":0,"d":"0%"},14,"Dawson Butts, 14 - Big Horn 1/27/2018","R",{"$f":"Season_Summary!$P$1","v":"2A BB"}]
["Jayden Caylor, 12",{"$f":"Roster!$B$1","v":"Upton"},"Big Horn","2018-01-27",0,0,0,0,0,0,0,0,0,0,0,0,0,0,"",{"v":0,"d":"0%"},{"v":0,"d":"0%"},{"v":0,"d":"0%"},{"v":0,"d":"0%"},14,"Jayden Caylor, 12 - Big Horn 1/27/2018","R",{"$f":"Season_Summary!$P$1","v":"2A BB"}]
["Clayton Louderback, 23",{"$f":"Roster!$B$1","v":"Upton"},"Big Horn","2018-01-27",1,2,4,7,18,3,8,4,9,3,3,0,4,3,23,{"v":0,"d":"0%"},{"v":0.3888888888888889,"d":"39%"},{"v":0.375,"d":"38%"},{"v":0.4090909090909091,"d":"41%"},14,"Clayton Louderback, 23 - Big Horn 1/27/2018","R",{"$f":"Season_Summary!$P$1","v":"2A BB"}]
["Jess Claycomb, 10",{"$f":"Roster!$B$1","v":"Upton"},"Big Horn","2018-01-27",1,0,2,4,7,0,0,1,2,3,1,0,2,2,8,{"v":0,"d":"0%"},{"v":0.5714285714285714,"d":"57%"},{"v":0,"d":"0%"},{"v":0.4444444444444444,"d":"44%"},14,"Jess Claycomb, 10 - Big Horn 1/27/2018","R",{"$f":"Season_Summary!$P$1","v":"2A BB"}]
["Maxx Cowger, 4",{"$f":"Roster!$B$1","v":"Upton"},"Big Horn","2018-01-27",0,0,0,0,0,0,0,0,0,0,0,0,0,0,"",{"v":0,"d":"0%"},{"v":0,"d":"0%"},{"v":0,"d":"0%"},{"v":0,"d":"0%"},14,"Maxx Cowger, 4 - Big Horn 1/27/2018","R",{"$f":"Season_Summary!$P$1","v":"2A BB"}]
["Brayden Bruce, 22",{"$f":"Roster!$B$1","v":"Upton"},"Big Horn","2018-01-27",1,0,2,0,2,0,0,1,0,2,1,0,2,1,"",{"v":0,"d":"0%"},{"v":0,"d":"0%"},{"v":0,"d":"0%"},{"v":0,"d":"0%"},14,"Brayden Bruce, 22 - Big Horn 1/27/2018","R",{"$f":"Season_Summary!$P$1","v":"2A BB"}]
["Jo Bishop, 30",{"$f":"Roster!$B$1","v":"Upton"},"Big Horn","2018-01-27",{"$f":"INDIRECT(\"'game1 (\"&$X327&\")'!\"&ADDRESS(ROW(A$7)+MOD(ROW(A327)-7,24),COLUMN(C327)))","v":0},{"$f":"INDIRECT(\"'game1 (\"&$X327&\")'!\"&ADDRESS(ROW(B$7)+MOD(ROW(B327)-7,24),COLUMN(D327)))","v":0},{"$f":"INDIRECT(\"'game1 (\"&$X327&\")'!\"&ADDRESS(ROW(C$7)+MOD(ROW(C327)-7,24),COLUMN(E327)))","v":0},{"$f":"INDIRECT(\"'game1 (\"&$X327&\")'!\"&ADDRESS(ROW(D$7)+MOD(ROW(D327)-7,24),COLUMN(F327)))","v":0},{"$f":"INDIRECT(\"'game1 (\"&$X327&\")'!\"&ADDRESS(ROW(E$7)+MOD(ROW(E327)-7,24),COLUMN(G327)))","v":0},{"$f":"INDIRECT(\"'game1 (\"&$X327&\")'!\"&ADDRESS(ROW(F$7)+MOD(ROW(F327)-7,24),COLUMN(H327)))","v":0},{"$f":"INDIRECT(\"'game1 (\"&$X327&\")'!\"&ADDRESS(ROW(G$7)+MOD(ROW(G327)-7,24),COLUMN(I327)))","v":0},{"$f":"INDIRECT(\"'game1 (\"&$X327&\")'!\"&ADDRESS(ROW(H$7)+MOD(ROW(H327)-7,24),COLUMN(J327)))","v":0},{"$f":"INDIRECT(\"'game1 (\"&$X327&\")'!\"&ADDRESS(ROW(I$7)+MOD(ROW(I327)-7,24),COLUMN(K327)))","v":0},{"$f":"INDIRECT(\"'game1 (\"&$X327&\")'!\"&ADDRESS(ROW(J$7)+MOD(ROW(J327)-7,24),COLUMN(L327)))","v":0},{"$f":"INDIRECT(\"'game1 (\"&$X327&\")'!\"&ADDRESS(ROW(K$7)+MOD(ROW(K327)-7,24),COLUMN(M327)))","v":0},{"$f":"INDIRECT(\"'game1 (\"&$X327&\")'!\"&ADDRESS(ROW(L$7)+MOD(ROW(L327)-7,24),COLUMN(N327)))","v":0},{"$f":"INDIRECT(\"'game1 (\"&$X327&\")'!\"&ADDRESS(ROW(M$7)+MOD(ROW(M327)-7,24),COLUMN(O327)))","v":0},{"$f":"INDIRECT(\"'game1 (\"&$X327&\")'!\"&ADDRESS(ROW(N$7)+MOD(ROW(N327)-7,24),COLUMN(P327)))","v":0},{"$f":"INDIRECT(\"'game1 (\"&$X327&\")'!\"&ADDRESS(ROW(O$7)+MOD(ROW(O327)-7,24),COLUMN(Q327)))","v":""},{"v":0,"d":"0%"},{"v":0,"d":"0%"},{"v":0,"d":"0%"},{"v":0,"d":"0%"},{"$f":"INT((ROW(A327)-7)/24)+1","v":14},"Jo Bishop, 30 - Big Horn 1/27/2018","R",{"$f":"Season_Summary!$P$1","v":"2A BB"}]
[{"$f":"CONCATENATE(INDIRECT(\"Roster!B\"&ROW(A$7)+MOD(ROW(A328)-7,24)),\", \",INDIRECT(\"Roster!a\"&ROW(A$7)+MOD(ROW(A328)-7,24)))","v":"Nolan Turner, 33"},{"$f":"Roster!$B$1","v":"Upton"},{"$f":"INDIRECT(\"'game1 (\"&$X328&\")'!$C$2\")","v":"Big Horn"},{"$f":"INDIRECT(\"'game1 (\"&$X328&\")'!$k$2\")","v":"2018-01-27"},0,0,0,0,0,0,0,0,0,0,0,0,0,0,"",{"$f":"IF(G328<$D$2,0,INDIRECT(\"'game1 (\"&$X328&\")'!\"&ADDRESS(ROW(M$7)+MOD(ROW(M328)-7,24),COLUMN(R328))))","v":{"v":0,"d":"0%"}},{"$f":"IF(I328<$D$2,0,INDIRECT(\"'game1 (\"&$X328&\")'!\"&ADDRESS(ROW(N$7)+MOD(ROW(N328)-7,24),COLUMN(S328))))","v":{"v":0,"d":"0%"}},{"$f":"IF(K328<$D$2,0,INDIRECT(\"'game1 (\"&$X328&\")'!\"&ADDRESS(ROW(O$7)+MOD(ROW(O328)-7,24),COLUMN(T328))))","v":{"v":0,"d":"0%"}},{"$f":"IF(G328+I328<$D$2,0,INDIRECT(\"'game1 (\"&$X328&\")'!\"&ADDRESS(ROW(O$7)+MOD(ROW(O328)-7,24),COLUMN(U328))))","v":{"v":0,"d":"0%"}},14,{"$f":"CONCATENATE(A328,\" - \",C328,\" \",MONTH(D328),\"/\",DAY(D328),\"/\",YEAR(D328))","v":"Nolan Turner, 33 - Big Horn 1/27/2018"},{"$f":"IFERROR(INDIRECT(\"'game1 (\"&$X328&\")'!$a$2\"),\"\")","v":"R"},{"$f":"Season_Summary!$P$1","v":"2A BB"}]
["Robert Crawford, 32",{"$f":"Roster!$B$1","v":"Upton"},"Big Horn","2018-01-27",0,0,0,0,0,0,0,0,0,0,0,0,0,0,"",{"v":0,"d":"0%"},{"v":0,"d":"0%"},{"v":0,"d":"0%"},{"v":0,"d":"0%"},14,"Robert Crawford, 32 - Big Horn 1/27/2018","R",{"$f":"Season_Summary!$P$1","v":"2A BB"}]
["Jace Bruce, 40",{"$f":"Roster!$B$1","v":"Upton"},"Big Horn","2018-01-27",0,0,0,0,0,0,0,0,0,0,0,0,0,0,"",{"v":0,"d":"0%"},{"v":0,"d":"0%"},{"v":0,"d":"0%"},{"v":0,"d":"0%"},14,"Jace Bruce, 40 - Big Horn 1/27/2018","R",{"$f":"Season_Summary!$P$1","v":"2A BB"}]
["Ethan Mills, 2",{"$f":"Roster!$B$1","v":"Upton"},"Big Horn","2018-01-27",0,0,0,0,0,0,0,0,0,0,0,0,0,0,"",{"v":0,"d":"0%"},{"v":0,"d":"0%"},{"v":0,"d":"0%"},{"v":0,"d":"0%"},14,"Ethan Mills, 2 - Big Horn 1/27/2018","R",{"$f":"Season_Summary!$P$1","v":"2A BB"}]
["Bridger Alishouse, 2",{"$f":"Roster!$B$1","v":"Upton"},"Big Horn","2018-01-27",0,0,0,0,0,0,0,0,0,0,0,0,0,0,"",{"v":0,"d":"0%"},{"v":0,"d":"0%"},{"v":0,"d":"0%"},{"v":0,"d":"0%"},14,"Bridger Alishouse, 2 - Big Horn 1/27/2018","R",{"$f":"Season_Summary!$P$1","v":"2A BB"}]
["Landon Keever, 4",{"$f":"Roster!$B$1","v":"Upton"},"Big Horn","2018-01-27",0,0,0,0,0,0,0,0,0,0,0,0,0,0,"",{"v":0,"d":"0%"},{"v":0,"d":"0%"},{"v":0,"d":"0%"},{"v":0,"d":"0%"},14,"Landon Keever, 4 - Big Horn 1/27/2018","R",{"$f":"Season_Summary!$P$1","v":"2A BB"}]
["DJ Till, 4",{"$f":"Roster!$B$1","v":"Upton"},"Big Horn","2018-01-27",0,0,0,0,0,0,0,0,0,0,0,0,0,0,"",{"v":0,"d":"0%"},{"v":0,"d":"0%"},{"v":0,"d":"0%"},{"v":0,"d":"0%"},14,"DJ Till, 4 - Big Horn 1/27/2018","R",{"$f":"Season_Summary!$P$1","v":"2A BB"}]
[", ",{"$f":"Roster!$B$1","v":"Upton"},"Big Horn","2018-01-27",0,0,0,0,0,0,0,0,0,0,0,0,0,0,"",{"v":0,"d":"0%"},{"v":0,"d":"0%"},{"v":0,"d":"0%"},{"v":0,"d":"0%"},14,",  - Big Horn 1/27/2018","R",{"$f":"Season_Summary!$P$1","v":"2A BB"}]
[", ",{"$f":"Roster!$B$1","v":"Upton"},"Big Horn","2018-01-27",0,0,0,0,0,0,0,0,0,0,0,0,0,0,"",{"v":0,"d":"0%"},{"v":0,"d":"0%"},{"v":0,"d":"0%"},{"v":0,"d":"0%"},14,",  - Big Horn 1/27/2018","R",{"$f":"Season_Summary!$P$1","v":"2A BB"}]
[", ",{"$f":"Roster!$B$1","v":"Upton"},"Big Horn","2018-01-27",0,0,0,0,0,0,0,0,0,0,0,0,0,0,"",{"v":0,"d":"0%"},{"v":0,"d":"0%"},{"v":0,"d":"0%"},{"v":0,"d":"0%"},14,",  - Big Horn 1/27/2018","R",{"$f":"Season_Summary!$P$1","v":"2A BB"}]
[", ",{"$f":"Roster!$B$1","v":"Upton"},"Big Horn","2018-01-27",0,0,0,0,0,0,0,0,0,0,0,0,0,0,"",{"v":0,"d":"0%"},{"v":0,"d":"0%"},{"v":0,"d":"0%"},{"v":0,"d":"0%"},14,",  - Big Horn 1/27/2018","R",{"$f":"Season_Summary!$P$1","v":"2A BB"}]
[", ",{"$f":"Roster!$B$1","v":"Upton"},"Big Horn","2018-01-27",0,0,0,0,0,0,0,0,0,0,0,0,0,0,"",{"v":0,"d":"0%"},{"v":0,"d":"0%"},{"v":0,"d":"0%"},{"v":0,"d":"0%"},14,",  - Big Horn 1/27/2018","R",{"$f":"Season_Summary!$P$1","v":"2A BB"}]
[", ",{"$f":"Roster!$B$1","v":"Upton"},"Big Horn","2018-01-27",0,0,0,0,0,0,0,0,0,0,0,0,0,0,"",{"v":0,"d":"0%"},{"v":0,"d":"0%"},{"v":0,"d":"0%"},{"v":0,"d":"0%"},14,",  - Big Horn 1/27/2018","R",{"$f":"Season_Summary!$P$1","v":"2A BB"}]
[", ",{"$f":"Roster!$B$1","v":"Upton"},"Big Horn","2018-01-27",0,0,0,0,0,0,0,0,0,0,0,0,0,0,"",{"v":0,"d":"0%"},{"v":0,"d":"0%"},{"v":0,"d":"0%"},{"v":0,"d":"0%"},14,",  - Big Horn 1/27/2018","R",{"$f":"Season_Summary!$P$1","v":"2A BB"}]
["Team, ",{"$f":"Roster!$B$1","v":"Upton"},"Big Horn","2018-01-27",1,0,0,0,0,0,0,4,4,0,0,0,0,0,"",{"v":0,"d":"0%"},{"v":0,"d":"0%"},{"v":0,"d":"0%"},{"v":0,"d":"0%"},14,"Team,  - Big Horn 1/27/2018","R",{"$f":"Season_Summary!$P$1","v":"2A BB"}]
["Payton Watt, 24",{"$f":"Roster!$B$1","v":"Upton"},"Moorcroft","2018-02-01",1,0,4,8,10,0,0,4,5,2,3,3,2,2,16,{"v":0,"d":"0%"},{"v":0.8,"d":"80%"},{"v":0,"d":"0%"},{"v":0.5714285714285714,"d":"57%"},15,"Payton Watt, 24 - Moorcroft 2/1/2018","R",{"$f":"Season_Summary!$P$1","v":"2A BB"}]
["Dillon Barritt, 20",{"$f":"Roster!$B$1","v":"Upton"},"Moorcroft","2018-02-01",1,0,6,2,4,1,2,1,3,7,3,1,3,2,5,{"v":0,"d":"0%"},{"v":0,"d":"0%"},{"v":0,"d":"0%"},{"v":0.2,"d":"20%"},15,"Dillon Barritt, 20 - Moorcroft 2/1/2018","R",{"$f":"Season_Summary!$P$1","v":"2A BB"}]
["Dawson Butts, 14",{"$f":"Roster!$B$1","v":"Upton"},"Moorcroft","2018-02-01",1,0,0,1,3,0,2,1,3,2,4,0,0,1,2,{"v":0,"d":"0%"},{"v":0,"d":"0%"},{"v":0,"d":"0%"},{"v":0,"d":"0%"},15,"Dawson Butts, 14 - Moorcroft 2/1/2018","R",{"$f":"Season_Summary!$P$1","v":"2A BB"}]
["Jayden Caylor, 12",{"$f":"Roster!$B$1","v":"Upton"},"Moorcroft","2018-02-01",0,0,0,0,0,0,0,0,0,0,0,0,0,0,"",{"v":0,"d":"0%"},{"v":0,"d":"0%"},{"v":0,"d":"0%"},{"v":0,"d":"0%"},15,"Jayden Caylor, 12 - Moorcroft 2/1/2018","R",{"$f":"Season_Summary!$P$1","v":"2A BB"}]
["Clayton Louderback, 23",{"$f":"Roster!$B$1","v":"Upton"},"Moorcroft","2018-02-01",1,1,3,11,15,2,2,4,4,0,2,1,0,0,27,{"v":0,"d":"0%"},{"v":0.7333333333333333,"d":"73%"},{"v":0,"d":"0%"},{"v":0.6666666666666666,"d":"67%"},15,"Clayton Louderback, 23 - Moorcroft 2/1/2018","R",{"$f":"Season_Summary!$P$1","v":"2A BB"}]
["Jess Claycomb, 10",{"$f":"Roster!$B$1","v":"Upton"},"Moorcroft","2018-02-01",1,0,2,3,4,2,3,1,4,3,1,0,0,2,8,{"v":0,"d":"0%"},{"v":0,"d":"0%"},{"v":0,"d":"0%"},{"v":0.5,"d":"50%"},15,"Jess Claycomb, 10 - Moorcroft 2/1/2018","R",{"$f":"Season_Summary!$P$1","v":"2A BB"}]
["Maxx Cowger, 4",{"$f":"Roster!$B$1","v":"Upton"},"Moorcroft","2018-02-01",0,0,0,0,0,0,0,0,0,0,0,0,0,0,"",{"v":0,"d":"0%"},{"v":0,"d":"0%"},{"v":0,"d":"0%"},{"v":0,"d":"0%"},15,"Maxx Cowger, 4 - Moorcroft 2/1/2018","R",{"$f":"Season_Summary!$P$1","v":"2A BB"}]
["Brayden Bruce, 22",{"$f":"Roster!$B$1","v":"Upton"},"Moorcroft","2018-02-01",1,0,1,1,3,0,0,1,1,5,0,0,4,1,2,{"v":0,"d":"0%"},{"v":0,"d":"0%"},{"v":0,"d":"0%"},{"v":0,"d":"0%"},15,"Brayden Bruce, 22 - Moorcroft 2/1/2018","R",{"$f":"Season_Summary!$P$1","v":"2A BB"}]
["Jo Bishop, 30",{"$f":"Roster!$B$1","v":"Upton"},"Moorcroft","2018-02-01",1,0,0,0,1,2,2,1,2,0,0,0,1,0,2,{"v":0,"d":"0%"},{"v":0,"d":"0%"},{"v":0,"d":"0%"},{"v":0,"d":"0%"},15,"Jo Bishop, 30 - Moorcroft 2/1/2018","R",{"$f":"Season_Summary!$P$1","v":"2A BB"}]
["Nolan Turner, 33",{"$f":"Roster!$B$1","v":"Upton"},"Moorcroft","2018-02-01",1,0,0,0,2,0,0,0,1,0,0,0,0,0,"",{"v":0,"d":"0%"},{"v":0,"d":"0%"},{"v":0,"d":"0%"},{"v":0,"d":"0%"},15,"Nolan Turner, 33 - Moorcroft 2/1/2018","R",{"$f":"Season_Summary!$P$1","v":"2A BB"}]
["Robert Crawford, 32",{"$f":"Roster!$B$1","v":"Upton"},"Moorcroft","2018-02-01",1,0,0,1,1,0,0,0,0,0,0,0,1,1,2,{"v":0,"d":"0%"},{"v":0,"d":"0%"},{"v":0,"d":"0%"},{"v":0,"d":"0%"},15,"Robert Crawford, 32 - Moorcroft 2/1/2018","R",{"$f":"Season_Summary!$P$1","v":"2A BB"}]
["Jace Bruce, 40",{"$f":"Roster!$B$1","v":"Upton"},"Moorcroft","2018-02-01",1,0,1,0,0,0,0,0,0,0,0,0,0,0,"",{"v":0,"d":"0%"},{"v":0,"d":"0%"},{"v":0,"d":"0%"},{"v":0,"d":"0%"},15,"Jace Bruce, 40 - Moorcroft 2/1/2018","R",{"$f":"Season_Summary!$P$1","v":"2A BB"}]
["Ethan Mills, 2",{"$f":"Roster!$B$1","v":"Upton"},"Moorcroft","2018-02-01",1,0,0,0,0,0,0,0,0,0,0,0,0,0,"",{"v":0,"d":"0%"},{"v":0,"d":"0%"},{"v":0,"d":"0%"},{"v":0,"d":"0%"},15,"Ethan Mills, 2 - Moorcroft 2/1/2018","R",{"$f":"Season_Summary!$P$1","v":"2A BB"}]
["Bridger Alishouse, 2",{"$f":"Roster!$B$1","v":"Upton"},"Moorcroft","2018-02-01",0,0,0,0,0,0,0,0,0,0,0,0,0,0,"",{"v":0,"d":"0%"},{"v":0,"d":"0%"},{"v":0,"d":"0%"},{"v":0,"d":"0%"},15,"Bridger Alishouse, 2 - Moorcroft 2/1/2018","R",{"$f":"Season_Summary!$P$1","v":"2A BB"}]
["Landon Keever, 4",{"$f":"Roster!$B$1","v":"Upton"},"Moorcroft","2018-02-01",0,0,0,0,0,0,0,0,0,0,0,0,0,0,"",{"v":0,"d":"0%"},{"v":0,"d":"0%"},{"v":0,"d":"0%"},{"v":0,"d":"0%"},15,"Landon Keever, 4 - Moorcroft 2/1/2018","R",{"$f":"Season_Summary!$P$1","v":"2A BB"}]
["DJ Till, 4",{"$f":"Roster!$B$1","v":"Upton"},"Moorcroft","2018-02-01",1,0,0,0,0,0,0,1,0,0,0,0,0,0,"",{"v":0,"d":"0%"},{"v":0,"d":"0%"},{"v":0,"d":"0%"},{"v":0,"d":"0%"},15,"DJ Till, 4 - Moorcroft 2/1/2018","R",{"$f":"Season_Summary!$P$1","v":"2A BB"}]
[", ",{"$f":"Roster!$B$1","v":"Upton"},"Moorcroft","2018-02-01",0,0,0,0,0,0,0,0,0,0,0,0,0,0,"",{"v":0,"d":"0%"},{"v":0,"d":"0%"},{"v":0,"d":"0%"},{"v":0,"d":"0%"},15,",  - Moorcroft 2/1/2018","R",{"$f":"Season_Summary!$P$1","v":"2A BB"}]
[", ",{"$f":"Roster!$B$1","v":"Upton"},"Moorcroft","2018-02-01",0,0,0,0,0,0,0,0,0,0,0,0,0,0,"",{"v":0,"d":"0%"},{"v":0,"d":"0%"},{"v":0,"d":"0%"},{"v":0,"d":"0%"},15,",  - Moorcroft 2/1/2018","R",{"$f":"Season_Summary!$P$1","v":"2A BB"}]
[", ",{"$f":"Roster!$B$1","v":"Upton"},"Moorcroft","2018-02-01",0,0,0,0,0,0,0,0,0,0,0,0,0,0,"",{"v":0,"d":"0%"},{"v":0,"d":"0%"},{"v":0,"d":"0%"},{"v":0,"d":"0%"},15,",  - Moorcroft 2/1/2018","R",{"$f":"Season_Summary!$P$1","v":"2A BB"}]
[", ",{"$f":"Roster!$B$1","v":"Upton"},"Moorcroft","2018-02-01",0,0,0,0,0,0,0,0,0,0,0,0,0,0,"",{"v":0,"d":"0%"},{"v":0,"d":"0%"},{"v":0,"d":"0%"},{"v":0,"d":"0%"},15,",  - Moorcroft 2/1/2018","R",{"$f":"Season_Summary!$P$1","v":"2A BB"}]
[", ",{"$f":"Roster!$B$1","v":"Upton"},"Moorcroft","2018-02-01",0,0,0,0,0,0,0,0,0,0,0,0,0,0,"",{"v":0,"d":"0%"},{"v":0,"d":"0%"},{"v":0,"d":"0%"},{"v":0,"d":"0%"},15,",  - Moorcroft 2/1/2018","R",{"$f":"Season_Summary!$P$1","v":"2A BB"}]
[", ",{"$f":"Roster!$B$1","v":"Upton"},"Moorcroft","2018-02-01",0,0,0,0,0,0,0,0,0,0,0,0,0,0,"",{"v":0,"d":"0%"},{"v":0,"d":"0%"},{"v":0,"d":"0%"},{"v":0,"d":"0%"},15,",  - Moorcroft 2/1/2018","R",{"$f":"Season_Summary!$P$1","v":"2A BB"}]
[", ",{"$f":"Roster!$B$1","v":"Upton"},"Moorcroft","2018-02-01",0,0,0,0,0,0,0,0,0,0,0,0,0,0,"",{"v":0,"d":"0%"},{"v":0,"d":"0%"},{"v":0,"d":"0%"},{"v":0,"d":"0%"},15,",  - Moorcroft 2/1/2018","R",{"$f":"Season_Summary!$P$1","v":"2A BB"}]
["Team, ",{"$f":"Roster!$B$1","v":"Upton"},"Moorcroft","2018-02-01",1,0,0,0,0,0,0,0,2,0,0,0,0,0,"",{"v":0,"d":"0%"},{"v":0,"d":"0%"},{"v":0,"d":"0%"},{"v":0,"d":"0%"},15,"Team,  - Moorcroft 2/1/2018","R",{"$f":"Season_Summary!$P$1","v":"2A BB"}]
["Payton Watt, 24",{"$f":"Roster!$B$1","v":"Upton"},"Tongue River","2018-02-02",1,4,11,4,4,1,1,2,5,2,0,0,2,2,21,{"v":0.36363636363636365,"d":"36%"},{"v":0,"d":"0%"},{"v":0,"d":"0%"},{"v":0.5333333333333333,"d":"53%"},16,"Payton Watt, 24 - Tongue River 2/2/2018","R",{"$f":"Season_Summary!$P$1","v":"2A BB"}]
["Dillon Barritt, 20",{"$f":"Roster!$B$1","v":"Upton"},"Tongue River","2018-02-02",1,0,6,4,6,0,0,1,2,4,1,0,1,2,8,{"v":0,"d":"0%"},{"v":0.6666666666666666,"d":"67%"},{"v":0,"d":"0%"},{"v":0.3333333333333333,"d":"33%"},16,"Dillon Barritt, 20 - Tongue River 2/2/2018","R",{"$f":"Season_Summary!$P$1","v":"2A BB"}]
["Dawson Butts, 14",{"$f":"Roster!$B$1","v":"Upton"},"Tongue River","2018-02-02",1,0,0,1,2,1,6,1,2,7,4,0,0,2,3,{"v":0,"d":"0%"},{"v":0,"d":"0%"},{"v":0.16666666666666666,"d":"17%"},{"v":0,"d":"0%"},16,"Dawson Butts, 14 - Tongue River 2/2/2018","R",{"$f":"Season_Summary!$P$1","v":"2A BB"}]
["Jayden Caylor, 12",{"$f":"Roster!$B$1","v":"Upton"},"Tongue River","2018-02-02",0,0,0,0,0,0,0,0,0,0,0,0,0,0,"",{"v":0,"d":"0%"},{"v":0,"d":"0%"},{"v":0,"d":"0%"},{"v":0,"d":"0%"},16,"Jayden Caylor, 12 - Tongue River 2/2/2018","R",{"$f":"Season_Summary!$P$1","v":"2A BB"}]
["Clayton Louderback, 23",{"$f":"Roster!$B$1","v":"Upton"},"Tongue River","2018-02-02",1,0,0,11,16,3,5,4,4,5,5,1,6,2,25,{"v":0,"d":"0%"},{"v":0.6875,"d":"69%"},{"v":0.6,"d":"60%"},{"v":0.6875,"d":"69%"},16,"Clayton Louderback, 23 - Tongue River 2/2/2018","R",{"$f":"Season_Summary!$P$1","v":"2A BB"}]
["Jess Claycomb, 10",{"$f":"Roster!$B$1","v":"Upton"},"Tongue River","2018-02-02",1,1,2,7,8,0,0,1,5,5,2,0,3,2,17,{"v":0,"d":"0%"},{"v":0.875,"d":"88%"},{"v":0,"d":"0%"},{"v":0.8,"d":"80%"},16,"Jess Claycomb, 10 - Tongue River 2/2/2018","R",{"$f":"Season_Summary!$P$1","v":"2A BB"}]
["Maxx Cowger, 4",{"$f":"Roster!$B$1","v":"Upton"},"Tongue River","2018-02-02",0,0,0,0,0,0,0,0,0,0,0,0,0,0,"",{"v":0,"d":"0%"},{"v":0,"d":"0%"},{"v":0,"d":"0%"},{"v":0,"d":"0%"},16,"Maxx Cowger, 4 - Tongue River 2/2/2018","R",{"$f":"Season_Summary!$P$1","v":"2A BB"}]
["Brayden Bruce, 22",{"$f":"Roster!$B$1","v":"Upton"},"Tongue River","2018-02-02",1,3,4,0,1,0,0,2,0,5,1,0,1,0,9,{"v":0,"d":"0%"},{"v":0,"d":"0%"},{"v":0,"d":"0%"},{"v":0.6,"d":"60%"},16,"Brayden Bruce, 22 - Tongue River 2/2/2018","R",{"$f":"Season_Summary!$P$1","v":"2A BB"}]
["Jo Bishop, 30",{"$f":"Roster!$B$1","v":"Upton"},"Tongue River","2018-02-02",1,0,0,0,0,0,0,0,0,0,0,0,0,0,"",{"v":0,"d":"0%"},{"v":0,"d":"0%"},{"v":0,"d":"0%"},{"v":0,"d":"0%"},16,"Jo Bishop, 30 - Tongue River 2/2/2018","R",{"$f":"Season_Summary!$P$1","v":"2A BB"}]
["Nolan Turner, 33",{"$f":"Roster!$B$1","v":"Upton"},"Tongue River","2018-02-02",1,0,0,0,1,0,0,0,0,0,0,0,0,0,"",{"v":0,"d":"0%"},{"v":0,"d":"0%"},{"v":0,"d":"0%"},{"v":0,"d":"0%"},16,"Nolan Turner, 33 - Tongue River 2/2/2018","R",{"$f":"Season_Summary!$P$1","v":"2A BB"}]
["Robert Crawford, 32",{"$f":"Roster!$B$1","v":"Upton"},"Tongue River","2018-02-02",1,0,0,0,0,0,0,0,0,0,0,0,0,0,"",{"v":0,"d":"0%"},{"v":0,"d":"0%"},{"v":0,"d":"0%"},{"v":0,"d":"0%"},16,"Robert Crawford, 32 - Tongue River 2/2/2018","R",{"$f":"Season_Summary!$P$1","v":"2A BB"}]
["Jace Bruce, 40",{"$f":"Roster!$B$1","v":"Upton"},"Tongue River","2018-02-02",0,0,0,0,0,0,0,0,0,0,0,0,0,0,"",{"v":0,"d":"0%"},{"v":0,"d":"0%"},{"v":0,"d":"0%"},{"v":0,"d":"0%"},16,"Jace Bruce, 40 - Tongue River 2/2/2018","R",{"$f":"Season_Summary!$P$1","v":"2A BB"}]
["Ethan Mills, 2",{"$f":"Roster!$B$1","v":"Upton"},"Tongue River","2018-02-02",1,0,0,0,0,0,0,1,0,0,0,0,1,0,"",{"v":0,"d":"0%"},{"v":0,"d":"0%"},{"v":0,"d":"0%"},{"v":0,"d":"0%"},16,"Ethan Mills, 2 - Tongue River 2/2/2018","R",{"$f":"Season_Summary!$P$1","v":"2A BB"}]
["Bridger Alishouse, 2",{"$f":"Roster!$B$1","v":"Upton"},"Tongue River","2018-02-02",0,0,0,0,0,0,0,0,0,0,0,0,0,0,"",{"v":0,"d":"0%"},{"v":0,"d":"0%"},{"v":0,"d":"0%"},{"v":0,"d":"0%"},16,"Bridger Alishouse, 2 - Tongue River 2/2/2018","R",{"$f":"Season_Summary!$P$1","v":"2A BB"}]
["Landon Keever, 4",{"$f":"Roster!$B$1","v":"Upton"},"Tongue River","2018-02-02",0,0,0,0,0,0,0,0,0,0,0,0,0,0,"",{"v":0,"d":"0%"},{"v":0,"d":"0%"},{"v":0,"d":"0%"},{"v":0,"d":"0%"},16,"Landon Keever, 4 - Tongue River 2/2/2018","R",{"$f":"Season_Summary!$P$1","v":"2A BB"}]
["DJ Till, 4",{"$f":"Roster!$B$1","v":"Upton"},"Tongue River","2018-02-02",1,0,1,0,0,0,0,0,0,0,0,0,0,0,"",{"v":0,"d":"0%"},{"v":0,"d":"0%"},{"v":0,"d":"0%"},{"v":0,"d":"0%"},16,"DJ Till, 4 - Tongue River 2/2/2018","R",{"$f":"Season_Summary!$P$1","v":"2A BB"}]
[", ",{"$f":"Roster!$B$1","v":"Upton"},"Tongue River","2018-02-02",0,0,0,0,0,0,0,0,0,0,0,0,0,0,"",{"v":0,"d":"0%"},{"v":0,"d":"0%"},{"v":0,"d":"0%"},{"v":0,"d":"0%"},16,",  - Tongue River 2/2/2018","R",{"$f":"Season_Summary!$P$1","v":"2A BB"}]
[", ",{"$f":"Roster!$B$1","v":"Upton"},"Tongue River","2018-02-02",0,0,0,0,0,0,0,0,0,0,0,0,0,0,"",{"v":0,"d":"0%"},{"v":0,"d":"0%"},{"v":0,"d":"0%"},{"v":0,"d":"0%"},16,",  - Tongue River 2/2/2018","R",{"$f":"Season_Summary!$P$1","v":"2A BB"}]
[", ",{"$f":"Roster!$B$1","v":"Upton"},"Tongue River","2018-02-02",0,0,0,0,0,0,0,0,0,0,0,0,0,0,"",{"v":0,"d":"0%"},{"v":0,"d":"0%"},{"v":0,"d":"0%"},{"v":0,"d":"0%"},16,",  - Tongue River 2/2/2018","R",{"$f":"Season_Summary!$P$1","v":"2A BB"}]
[", ",{"$f":"Roster!$B$1","v":"Upton"},"Tongue River","2018-02-02",0,0,0,0,0,0,0,0,0,0,0,0,0,0,"",{"v":0,"d":"0%"},{"v":0,"d":"0%"},{"v":0,"d":"0%"},{"v":0,"d":"0%"},16,",  - Tongue River 2/2/2018","R",{"$f":"Season_Summary!$P$1","v":"2A BB"}]
[", ",{"$f":"Roster!$B$1","v":"Upton"},"Tongue River","2018-02-02",0,0,0,0,0,0,0,0,0,0,0,0,0,0,"",{"v":0,"d":"0%"},{"v":0,"d":"0%"},{"v":0,"d":"0%"},{"v":0,"d":"0%"},16,",  - Tongue River 2/2/2018","R",{"$f":"Season_Summary!$P$1","v":"2A BB"}]
[", ",{"$f":"Roster!$B$1","v":"Upton"},"Tongue River","2018-02-02",0,0,0,0,0,0,0,0,0,0,0,0,0,0,"",{"v":0,"d":"0%"},{"v":0,"d":"0%"},{"v":0,"d":"0%"},{"v":0,"d":"0%"},16,",  - Tongue River 2/2/2018","R",{"$f":"Season_Summary!$P$1","v":"2A BB"}]
[", ",{"$f":"Roster!$B$1","v":"Upton"},"Tongue River","2018-02-02",0,0,0,0,0,0,0,0,0,0,0,0,0,0,"",{"v":0,"d":"0%"},{"v":0,"d":"0%"},{"v":0,"d":"0%"},{"v":0,"d":"0%"},16,",  - Tongue River 2/2/2018","R",{"$f":"Season_Summary!$P$1","v":"2A BB"}]
["Team, ",{"$f":"Roster!$B$1","v":"Upton"},"Tongue River","2018-02-02",1,0,0,0,0,0,0,0,0,0,0,0,0,0,"",{"v":0,"d":"0%"},{"v":0,"d":"0%"},{"v":0,"d":"0%"},{"v":0,"d":"0%"},16,"Team,  - Tongue River 2/2/2018","R",{"$f":"Season_Summary!$P$1","v":"2A BB"}]
["Payton Watt, 24",{"$f":"Roster!$B$1","v":"Upton"},"Sundance","2018-02-06",{"$f":"INDIRECT(\"'game1 (\"&$X391&\")'!\"&ADDRESS(ROW(A$7)+MOD(ROW(A391)-7,24),COLUMN(C391)))","v":1},{"$f":"INDIRECT(\"'game1 (\"&$X391&\")'!\"&ADDRESS(ROW(B$7)+MOD(ROW(B391)-7,24),COLUMN(D391)))","v":0},{"$f":"INDIRECT(\"'game1 (\"&$X391&\")'!\"&ADDRESS(ROW(C$7)+MOD(ROW(C391)-7,24),COLUMN(E391)))","v":4},{"$f":"INDIRECT(\"'game1 (\"&$X391&\")'!\"&ADDRESS(ROW(D$7)+MOD(ROW(D391)-7,24),COLUMN(F391)))","v":5},{"$f":"INDIRECT(\"'game1 (\"&$X391&\")'!\"&ADDRESS(ROW(E$7)+MOD(ROW(E391)-7,24),COLUMN(G391)))","v":7},{"$f":"INDIRECT(\"'game1 (\"&$X391&\")'!\"&ADDRESS(ROW(F$7)+MOD(ROW(F391)-7,24),COLUMN(H391)))","v":0},{"$f":"INDIRECT(\"'game1 (\"&$X391&\")'!\"&ADDRESS(ROW(G$7)+MOD(ROW(G391)-7,24),COLUMN(I391)))","v":2},{"$f":"INDIRECT(\"'game1 (\"&$X391&\")'!\"&ADDRESS(ROW(H$7)+MOD(ROW(H391)-7,24),COLUMN(J391)))","v":6},{"$f":"INDIRECT(\"'game1 (\"&$X391&\")'!\"&ADDRESS(ROW(I$7)+MOD(ROW(I391)-7,24),COLUMN(K391)))","v":5},{"$f":"INDIRECT(\"'game1 (\"&$X391&\")'!\"&ADDRESS(ROW(J$7)+MOD(ROW(J391)-7,24),COLUMN(L391)))","v":1},{"$f":"INDIRECT(\"'game1 (\"&$X391&\")'!\"&ADDRESS(ROW(K$7)+MOD(ROW(K391)-7,24),COLUMN(M391)))","v":1},{"$f":"INDIRECT(\"'game1 (\"&$X391&\")'!\"&ADDRESS(ROW(L$7)+MOD(ROW(L391)-7,24),COLUMN(N391)))","v":0},{"$f":"INDIRECT(\"'game1 (\"&$X391&\")'!\"&ADDRESS(ROW(M$7)+MOD(ROW(M391)-7,24),COLUMN(O391)))","v":0},{"$f":"INDIRECT(\"'game1 (\"&$X391&\")'!\"&ADDRESS(ROW(N$7)+MOD(ROW(N391)-7,24),COLUMN(P391)))","v":4},{"$f":"INDIRECT(\"'game1 (\"&$X391&\")'!\"&ADDRESS(ROW(O$7)+MOD(ROW(O391)-7,24),COLUMN(Q391)))","v":10},{"v":0,"d":"0%"},{"v":0.7142857142857143,"d":"71%"},{"v":0,"d":"0%"},{"v":0.45454545454545453,"d":"45%"},{"$f":"INT((ROW(A391)-7)/24)+1","v":17},"Payton Watt, 24 - Sundance 2/6/2018","R",{"$f":"Season_Summary!$P$1","v":"2A BB"}]
[{"$f":"CONCATENATE(INDIRECT(\"Roster!B\"&ROW(A$7)+MOD(ROW(A392)-7,24)),\", \",INDIRECT(\"Roster!a\"&ROW(A$7)+MOD(ROW(A392)-7,24)))","v":"Dillon Barritt, 20"},{"$f":"Roster!$B$1","v":"Upton"},{"$f":"INDIRECT(\"'game1 (\"&$X392&\")'!$C$2\")","v":"Sundance"},{"$f":"INDIRECT(\"'game1 (\"&$X392&\")'!$k$2\")","v":"2018-02-06"},1,5,12,0,2,0,0,0,2,1,0,0,3,0,15,{"$f":"IF(G392<$D$2,0,INDIRECT(\"'game1 (\"&$X392&\")'!\"&ADDRESS(ROW(M$7)+MOD(ROW(M392)-7,24),COLUMN(R392))))","v":{"v":0.4166666666666667,"d":"42%"}},{"$f":"IF(I392<$D$2,0,INDIRECT(\"'game1 (\"&$X392&\")'!\"&ADDRESS(ROW(N$7)+MOD(ROW(N392)-7,24),COLUMN(S392))))","v":{"v":0,"d":"0%"}},{"$f":"IF(K392<$D$2,0,INDIRECT(\"'game1 (\"&$X392&\")'!\"&ADDRESS(ROW(O$7)+MOD(ROW(O392)-7,24),COLUMN(T392))))","v":{"v":0,"d":"0%"}},{"$f":"IF(G392+I392<$D$2,0,INDIRECT(\"'game1 (\"&$X392&\")'!\"&ADDRESS(ROW(O$7)+MOD(ROW(O392)-7,24),COLUMN(U392))))","v":{"v":0.35714285714285715,"d":"36%"}},17,{"$f":"CONCATENATE(A392,\" - \",C392,\" \",MONTH(D392),\"/\",DAY(D392),\"/\",YEAR(D392))","v":"Dillon Barritt, 20 - Sundance 2/6/2018"},{"$f":"IFERROR(INDIRECT(\"'game1 (\"&$X392&\")'!$a$2\"),\"\")","v":"R"},{"$f":"Season_Summary!$P$1","v":"2A BB"}]
["Dawson Butts, 14",{"$f":"Roster!$B$1","v":"Upton"},"Sundance","2018-02-06",1,0,0,2,2,0,0,3,2,3,1,0,0,0,4,{"v":0,"d":"0%"},{"v":0,"d":"0%"},{"v":0,"d":"0%"},{"v":0,"d":"0%"},17,"Dawson Butts, 14 - Sundance 2/6/2018","R",{"$f":"Season_Summary!$P$1","v":"2A BB"}]
["Jayden Caylor, 12",{"$f":"Roster!$B$1","v":"Upton"},"Sundance","2018-02-06",1,0,1,1,2,2,2,1,4,1,1,0,1,1,4,{"v":0,"d":"0%"},{"v":0,"d":"0%"},{"v":0,"d":"0%"},{"v":0,"d":"0%"},17,"Jayden Caylor, 12 - Sundance 2/6/2018","R",{"$f":"Season_Summary!$P$1","v":"2A BB"}]
["Clayton Louderback, 23",{"$f":"Roster!$B$1","v":"Upton"},"Sundance","2018-02-06",1,1,3,8,16,2,4,5,4,5,4,0,0,3,21,{"v":0,"d":"0%"},{"v":0.5,"d":"50%"},{"v":0,"d":"0%"},{"v":0.47368421052631576,"d":"47%"},17,"Clayton Louderback, 23 - Sundance 2/6/2018","R",{"$f":"Season_Summary!$P$1","v":"2A BB"}]
["Jess Claycomb, 10",{"$f":"Roster!$B$1","v":"Upton"},"Sundance","2018-02-06",1,0,1,7,10,1,2,3,3,2,0,0,0,3,15,{"v":0,"d":"0%"},{"v":0.7,"d":"70%"},{"v":0,"d":"0%"},{"v":0.6363636363636364,"d":"64%"},17,"Jess Claycomb, 10 - Sundance 2/6/2018","R",{"$f":"Season_Summary!$P$1","v":"2A BB"}]
["Maxx Cowger, 4",{"$f":"Roster!$B$1","v":"Upton"},"Sundance","2018-02-06",0,0,0,0,0,0,0,0,0,0,0,0,0,0,"",{"v":0,"d":"0%"},{"v":0,"d":"0%"},{"v":0,"d":"0%"},{"v":0,"d":"0%"},17,"Maxx Cowger, 4 - Sundance 2/6/2018","R",{"$f":"Season_Summary!$P$1","v":"2A BB"}]
["Brayden Bruce, 22",{"$f":"Roster!$B$1","v":"Upton"},"Sundance","2018-02-06",1,0,2,0,0,0,0,1,0,3,0,0,0,2,"",{"v":0,"d":"0%"},{"v":0,"d":"0%"},{"v":0,"d":"0%"},{"v":0,"d":"0%"},17,"Brayden Bruce, 22 - Sundance 2/6/2018","R",{"$f":"Season_Summary!$P$1","v":"2A BB"}]
["Jo Bishop, 30",{"$f":"Roster!$B$1","v":"Upton"},"Sundance","2018-02-06",1,0,0,0,1,0,0,0,1,0,0,0,0,1,"",{"v":0,"d":"0%"},{"v":0,"d":"0%"},{"v":0,"d":"0%"},{"v":0,"d":"0%"},17,"Jo Bishop, 30 - Sundance 2/6/2018","R",{"$f":"Season_Summary!$P$1","v":"2A BB"}]
["Nolan Turner, 33",{"$f":"Roster!$B$1","v":"Upton"},"Sundance","2018-02-06",1,0,0,0,0,0,1,0,1,0,0,0,0,0,"",{"v":0,"d":"0%"},{"v":0,"d":"0%"},{"v":0,"d":"0%"},{"v":0,"d":"0%"},17,"Nolan Turner, 33 - Sundance 2/6/2018","R",{"$f":"Season_Summary!$P$1","v":"2A BB"}]
["Robert Crawford, 32",{"$f":"Roster!$B$1","v":"Upton"},"Sundance","2018-02-06",1,0,1,0,1,0,0,1,1,0,0,0,0,0,"",{"v":0,"d":"0%"},{"v":0,"d":"0%"},{"v":0,"d":"0%"},{"v":0,"d":"0%"},17,"Robert Crawford, 32 - Sundance 2/6/2018","R",{"$f":"Season_Summary!$P$1","v":"2A BB"}]
["Jace Bruce, 40",{"$f":"Roster!$B$1","v":"Upton"},"Sundance","2018-02-06",1,0,0,0,1,0,0,0,0,0,0,0,0,0,"",{"v":0,"d":"0%"},{"v":0,"d":"0%"},{"v":0,"d":"0%"},{"v":0,"d":"0%"},17,"Jace Bruce, 40 - Sundance 2/6/2018","R",{"$f":"Season_Summary!$P$1","v":"2A BB"}]
["Ethan Mills, 2",{"$f":"Roster!$B$1","v":"Upton"},"Sundance","2018-02-06",0,0,0,0,0,0,0,0,0,0,0,0,0,0,"",{"v":0,"d":"0%"},{"v":0,"d":"0%"},{"v":0,"d":"0%"},{"v":0,"d":"0%"},17,"Ethan Mills, 2 - Sundance 2/6/2018","R",{"$f":"Season_Summary!$P$1","v":"2A BB"}]
["Bridger Alishouse, 2",{"$f":"Roster!$B$1","v":"Upton"},"Sundance","2018-02-06",0,0,0,0,0,0,0,0,0,0,0,0,0,0,"",{"v":0,"d":"0%"},{"v":0,"d":"0%"},{"v":0,"d":"0%"},{"v":0,"d":"0%"},17,"Bridger Alishouse, 2 - Sundance 2/6/2018","R",{"$f":"Season_Summary!$P$1","v":"2A BB"}]
["Landon Keever, 4",{"$f":"Roster!$B$1","v":"Upton"},"Sundance","2018-02-06",0,0,0,0,0,0,0,0,0,0,0,0,0,0,"",{"v":0,"d":"0%"},{"v":0,"d":"0%"},{"v":0,"d":"0%"},{"v":0,"d":"0%"},17,"Landon Keever, 4 - Sundance 2/6/2018","R",{"$f":"Season_Summary!$P$1","v":"2A BB"}]
["DJ Till, 4",{"$f":"Roster!$B$1","v":"Upton"},"Sundance","2018-02-06",1,0,1,0,0,0,0,0,1,0,1,0,0,0,"",{"v":0,"d":"0%"},{"v":0,"d":"0%"},{"v":0,"d":"0%"},{"v":0,"d":"0%"},17,"DJ Till, 4 - Sundance 2/6/2018","R",{"$f":"Season_Summary!$P$1","v":"2A BB"}]
[", ",{"$f":"Roster!$B$1","v":"Upton"},"Sundance","2018-02-06",0,0,0,0,0,0,0,0,0,0,0,0,0,0,"",{"v":0,"d":"0%"},{"v":0,"d":"0%"},{"v":0,"d":"0%"},{"v":0,"d":"0%"},17,",  - Sundance 2/6/2018","R",{"$f":"Season_Summary!$P$1","v":"2A BB"}]
[", ",{"$f":"Roster!$B$1","v":"Upton"},"Sundance","2018-02-06",0,0,0,0,0,0,0,0,0,0,0,0,0,0,"",{"v":0,"d":"0%"},{"v":0,"d":"0%"},{"v":0,"d":"0%"},{"v":0,"d":"0%"},17,",  - Sundance 2/6/2018","R",{"$f":"Season_Summary!$P$1","v":"2A BB"}]
[", ",{"$f":"Roster!$B$1","v":"Upton"},"Sundance","2018-02-06",0,0,0,0,0,0,0,0,0,0,0,0,0,0,"",{"v":0,"d":"0%"},{"v":0,"d":"0%"},{"v":0,"d":"0%"},{"v":0,"d":"0%"},17,",  - Sundance 2/6/2018","R",{"$f":"Season_Summary!$P$1","v":"2A BB"}]
[", ",{"$f":"Roster!$B$1","v":"Upton"},"Sundance","2018-02-06",0,0,0,0,0,0,0,0,0,0,0,0,0,0,"",{"v":0,"d":"0%"},{"v":0,"d":"0%"},{"v":0,"d":"0%"},{"v":0,"d":"0%"},17,",  - Sundance 2/6/2018","R",{"$f":"Season_Summary!$P$1","v":"2A BB"}]
[", ",{"$f":"Roster!$B$1","v":"Upton"},"Sundance","2018-02-06",0,0,0,0,0,0,0,0,0,0,0,0,0,0,"",{"v":0,"d":"0%"},{"v":0,"d":"0%"},{"v":0,"d":"0%"},{"v":0,"d":"0%"},17,",  - Sundance 2/6/2018","R",{"$f":"Season_Summary!$P$1","v":"2A BB"}]
[", ",{"$f":"Roster!$B$1","v":"Upton"},"Sundance","2018-02-06",0,0,0,0,0,0,0,0,0,0,0,0,0,0,"",{"v":0,"d":"0%"},{"v":0,"d":"0%"},{"v":0,"d":"0%"},{"v":0,"d":"0%"},17,",  - Sundance 2/6/2018","R",{"$f":"Season_Summary!$P$1","v":"2A BB"}]
[", ",{"$f":"Roster!$B$1","v":"Upton"},"Sundance","2018-02-06",0,0,0,0,0,0,0,0,0,0,0,0,0,0,"",{"v":0,"d":"0%"},{"v":0,"d":"0%"},{"v":0,"d":"0%"},{"v":0,"d":"0%"},17,",  - Sundance 2/6/2018","R",{"$f":"Season_Summary!$P$1","v":"2A BB"}]
["Team, ",{"$f":"Roster!$B$1","v":"Upton"},"Sundance","2018-02-06",1,0,0,0,0,0,0,0,0,0,0,0,0,0,"",{"v":0,"d":"0%"},{"v":0,"d":"0%"},{"v":0,"d":"0%"},{"v":0,"d":"0%"},17,"Team,  - Sundance 2/6/2018","R",{"$f":"Season_Summary!$P$1","v":"2A BB"}]
["Payton Watt, 24",{"$f":"Roster!$B$1","v":"Upton"},"Wright","2018-02-08",1,2,7,6,12,5,6,2,9,3,2,1,2,1,23,{"v":0.2857142857142857,"d":"29%"},{"v":0.5,"d":"50%"},{"v":0.8333333333333334,"d":"83%"},{"v":0.42105263157894735,"d":"42%"},18,"Payton Watt, 24 - Wright 2/8/2018","R",{"$f":"Season_Summary!$P$1","v":"2A BB"}]
["Dillon Barritt, 20",{"$f":"Roster!$B$1","v":"Upton"},"Wright","2018-02-08",1,2,11,0,2,4,4,2,2,1,4,0,3,3,10,{"v":0.18181818181818182,"d":"18%"},{"v":0,"d":"0%"},{"v":0,"d":"0%"},{"v":0.15384615384615385,"d":"15%"},18,"Dillon Barritt, 20 - Wright 2/8/2018","R",{"$f":"Season_Summary!$P$1","v":"2A BB"}]
["Dawson Butts, 14",{"$f":"Roster!$B$1","v":"Upton"},"Wright","2018-02-08",1,0,0,3,4,4,9,4,0,2,3,1,4,3,10,{"v":0,"d":"0%"},{"v":0,"d":"0%"},{"v":0.4444444444444444,"d":"44%"},{"v":0,"d":"0%"},18,"Dawson Butts, 14 - Wright 2/8/2018","R",{"$f":"Season_Summary!$P$1","v":"2A BB"}]
["Jayden Caylor, 12",{"$f":"Roster!$B$1","v":"Upton"},"Wright","2018-02-08",1,1,1,0,0,0,0,1,0,1,1,1,2,4,3,{"v":0,"d":"0%"},{"v":0,"d":"0%"},{"v":0,"d":"0%"},{"v":0,"d":"0%"},18,"Jayden Caylor, 12 - Wright 2/8/2018","R",{"$f":"Season_Summary!$P$1","v":"2A BB"}]
["Clayton Louderback, 23",{"$f":"Roster!$B$1","v":"Upton"},"Wright","2018-02-08",1,0,1,2,13,4,4,7,3,0,1,0,8,5,8,{"v":0,"d":"0%"},{"v":0.15384615384615385,"d":"15%"},{"v":0,"d":"0%"},{"v":0.14285714285714285,"d":"14%"},18,"Clayton Louderback, 23 - Wright 2/8/2018","R",{"$f":"Season_Summary!$P$1","v":"2A BB"}]
["Jess Claycomb, 10",{"$f":"Roster!$B$1","v":"Upton"},"Wright","2018-02-08",1,1,4,0,2,3,6,1,0,0,1,0,0,4,6,{"v":0,"d":"0%"},{"v":0,"d":"0%"},{"v":0.5,"d":"50%"},{"v":0.16666666666666666,"d":"17%"},18,"Jess Claycomb, 10 - Wright 2/8/2018","R",{"$f":"Season_Summary!$P$1","v":"2A BB"}]
["Maxx Cowger, 4",{"$f":"Roster!$B$1","v":"Upton"},"Wright","2018-02-08",0,0,0,0,0,0,0,0,0,0,0,0,0,0,"",{"v":0,"d":"0%"},{"v":0,"d":"0%"},{"v":0,"d":"0%"},{"v":0,"d":"0%"},18,"Maxx Cowger, 4 - Wright 2/8/2018","R",{"$f":"Season_Summary!$P$1","v":"2A BB"}]
["Brayden Bruce, 22",{"$f":"Roster!$B$1","v":"Upton"},"Wright","2018-02-08",1,0,1,0,0,0,0,0,1,2,0,0,1,2,"",{"v":0,"d":"0%"},{"v":0,"d":"0%"},{"v":0,"d":"0%"},{"v":0,"d":"0%"},18,"Brayden Bruce, 22 - Wright 2/8/2018","R",{"$f":"Season_Summary!$P$1","v":"2A BB"}]
["Jo Bishop, 30",{"$f":"Roster!$B$1","v":"Upton"},"Wright","2018-02-08",0,0,0,0,0,0,0,0,0,0,0,0,0,0,"",{"v":0,"d":"0%"},{"v":0,"d":"0%"},{"v":0,"d":"0%"},{"v":0,"d":"0%"},18,"Jo Bishop, 30 - Wright 2/8/2018","R",{"$f":"Season_Summary!$P$1","v":"2A BB"}]
["Nolan Turner, 33",{"$f":"Roster!$B$1","v":"Upton"},"Wright","2018-02-08",0,0,0,0,0,0,0,0,0,0,0,0,0,0,"",{"v":0,"d":"0%"},{"v":0,"d":"0%"},{"v":0,"d":"0%"},{"v":0,"d":"0%"},18,"Nolan Turner, 33 - Wright 2/8/2018","R",{"$f":"Season_Summary!$P$1","v":"2A BB"}]
["Robert Crawford, 32",{"$f":"Roster!$B$1","v":"Upton"},"Wright","2018-02-08",0,0,0,0,0,0,0,0,0,0,0,0,0,0,"",{"v":0,"d":"0%"},{"v":0,"d":"0%"},{"v":0,"d":"0%"},{"v":0,"d":"0%"},18,"Robert Crawford, 32 - Wright 2/8/2018","R",{"$f":"Season_Summary!$P$1","v":"2A BB"}]
["Jace Bruce, 40",{"$f":"Roster!$B$1","v":"Upton"},"Wright","2018-02-08",0,0,0,0,0,0,0,0,0,0,0,0,0,0,"",{"v":0,"d":"0%"},{"v":0,"d":"0%"},{"v":0,"d":"0%"},{"v":0,"d":"0%"},18,"Jace Bruce, 40 - Wright 2/8/2018","R",{"$f":"Season_Summary!$P$1","v":"2A BB"}]
["Ethan Mills, 2",{"$f":"Roster!$B$1","v":"Upton"},"Wright","2018-02-08",0,0,0,0,0,0,0,0,0,0,0,0,0,0,"",{"v":0,"d":"0%"},{"v":0,"d":"0%"},{"v":0,"d":"0%"},{"v":0,"d":"0%"},18,"Ethan Mills, 2 - Wright 2/8/2018","R",{"$f":"Season_Summary!$P$1","v":"2A BB"}]
["Bridger Alishouse, 2",{"$f":"Roster!$B$1","v":"Upton"},"Wright","2018-02-08",0,0,0,0,0,0,0,0,0,0,0,0,0,0,"",{"v":0,"d":"0%"},{"v":0,"d":"0%"},{"v":0,"d":"0%"},{"v":0,"d":"0%"},18,"Bridger Alishouse, 2 - Wright 2/8/2018","R",{"$f":"Season_Summary!$P$1","v":"2A BB"}]
["Landon Keever, 4",{"$f":"Roster!$B$1","v":"Upton"},"Wright","2018-02-08",0,0,0,0,0,0,0,0,0,0,0,0,0,0,"",{"v":0,"d":"0%"},{"v":0,"d":"0%"},{"v":0,"d":"0%"},{"v":0,"d":"0%"},18,"Landon Keever, 4 - Wright 2/8/2018","R",{"$f":"Season_Summary!$P$1","v":"2A BB"}]
["DJ Till, 4",{"$f":"Roster!$B$1","v":"Upton"},"Wright","2018-02-08",0,0,0,0,0,0,0,0,0,0,0,0,0,0,"",{"v":0,"d":"0%"},{"v":0,"d":"0%"},{"v":0,"d":"0%"},{"v":0,"d":"0%"},18,"DJ Till, 4 - Wright 2/8/2018","R",{"$f":"Season_Summary!$P$1","v":"2A BB"}]
[", ",{"$f":"Roster!$B$1","v":"Upton"},"Wright","2018-02-08",0,0,0,0,0,0,0,0,0,0,0,0,0,0,"",{"v":0,"d":"0%"},{"v":0,"d":"0%"},{"v":0,"d":"0%"},{"v":0,"d":"0%"},18,",  - Wright 2/8/2018","R",{"$f":"Season_Summary!$P$1","v":"2A BB"}]
[", ",{"$f":"Roster!$B$1","v":"Upton"},"Wright","2018-02-08",0,0,0,0,0,0,0,0,0,0,0,0,0,0,"",{"v":0,"d":"0%"},{"v":0,"d":"0%"},{"v":0,"d":"0%"},{"v":0,"d":"0%"},18,",  - Wright 2/8/2018","R",{"$f":"Season_Summary!$P$1","v":"2A BB"}]
[", ",{"$f":"Roster!$B$1","v":"Upton"},"Wright","2018-02-08",0,0,0,0,0,0,0,0,0,0,0,0,0,0,"",{"v":0,"d":"0%"},{"v":0,"d":"0%"},{"v":0,"d":"0%"},{"v":0,"d":"0%"},18,",  - Wright 2/8/2018","R",{"$f":"Season_Summary!$P$1","v":"2A BB"}]
[", ",{"$f":"Roster!$B$1","v":"Upton"},"Wright","2018-02-08",0,0,0,0,0,0,0,0,0,0,0,0,0,0,"",{"v":0,"d":"0%"},{"v":0,"d":"0%"},{"v":0,"d":"0%"},{"v":0,"d":"0%"},18,",  - Wright 2/8/2018","R",{"$f":"Season_Summary!$P$1","v":"2A BB"}]
[", ",{"$f":"Roster!$B$1","v":"Upton"},"Wright","2018-02-08",0,0,0,0,0,0,0,0,0,0,0,0,0,0,"",{"v":0,"d":"0%"},{"v":0,"d":"0%"},{"v":0,"d":"0%"},{"v":0,"d":"0%"},18,",  - Wright 2/8/2018","R",{"$f":"Season_Summary!$P$1","v":"2A BB"}]
[", ",{"$f":"Roster!$B$1","v":"Upton"},"Wright","2018-02-08",0,0,0,0,0,0,0,0,0,0,0,0,0,0,"",{"v":0,"d":"0%"},{"v":0,"d":"0%"},{"v":0,"d":"0%"},{"v":0,"d":"0%"},18,",  - Wright 2/8/2018","R",{"$f":"Season_Summary!$P$1","v":"2A BB"}]
[", ",{"$f":"Roster!$B$1","v":"Upton"},"Wright","2018-02-08",0,0,0,0,0,0,0,0,0,0,0,0,0,0,"",{"v":0,"d":"0%"},{"v":0,"d":"0%"},{"v":0,"d":"0%"},{"v":0,"d":"0%"},18,",  - Wright 2/8/2018","R",{"$f":"Season_Summary!$P$1","v":"2A BB"}]
["Team, ",{"$f":"Roster!$B$1","v":"Upton"},"Wright","2018-02-08",1,0,0,0,0,0,0,3,1,0,0,0,0,0,"",{"v":0,"d":"0%"},{"v":0,"d":"0%"},{"v":0,"d":"0%"},{"v":0,"d":"0%"},18,"Team,  - Wright 2/8/2018","R",{"$f":"Season_Summary!$P$1","v":"2A BB"}]
["Payton Watt, 24",{"$f":"Roster!$B$1","v":"Upton"},"New Underwood","2018-02-10",1,4,7,4,5,2,3,2,5,2,2,0,2,2,22,{"v":0.5714285714285714,"d":"57%"},{"v":0.8,"d":"80%"},{"v":0,"d":"0%"},{"v":0.6666666666666666,"d":"67%"},19,"Payton Watt, 24 - New Underwood 2/10/2018","",{"$f":"Season_Summary!$P$1","v":"2A BB"}]
["Dillon Barritt, 20",{"$f":"Roster!$B$1","v":"Upton"},"New Underwood","2018-02-10",1,3,8,2,3,0,0,0,0,0,3,0,1,1,13,{"v":0.375,"d":"38%"},{"v":0,"d":"0%"},{"v":0,"d":"0%"},{"v":0.45454545454545453,"d":"45%"},19,"Dillon Barritt, 20 - New Underwood 2/10/2018","",{"$f":"Season_Summary!$P$1","v":"2A BB"}]
["Dawson Butts, 14",{"$f":"Roster!$B$1","v":"Upton"},"New Underwood","2018-02-10",1,0,1,0,0,0,3,0,2,6,3,0,1,0,"",{"v":0,"d":"0%"},{"v":0,"d":"0%"},{"v":0,"d":"0%"},{"v":0,"d":"0%"},19,"Dawson Butts, 14 - New Underwood 2/10/2018","",{"$f":"Season_Summary!$P$1","v":"2A BB"}]
["Jayden Caylor, 12",{"$f":"Roster!$B$1","v":"Upton"},"New Underwood","2018-02-10",1,0,1,1,2,1,2,0,2,2,4,0,2,0,3,{"v":0,"d":"0%"},{"v":0,"d":"0%"},{"v":0,"d":"0%"},{"v":0,"d":"0%"},19,"Jayden Caylor, 12 - New Underwood 2/10/2018","",{"$f":"Season_Summary!$P$1","v":"2A BB"}]
["Clayton Louderback, 23",{"$f":"Roster!$B$1","v":"Upton"},"New Underwood","2018-02-10",1,0,0,5,8,9,11,2,4,1,0,0,2,1,19,{"v":0,"d":"0%"},{"v":0.625,"d":"63%"},{"v":0.8181818181818182,"d":"82%"},{"v":0.625,"d":"63%"},19,"Clayton Louderback, 23 - New Underwood 2/10/2018","",{"$f":"Season_Summary!$P$1","v":"2A BB"}]
["Jess Claycomb, 10",{"$f":"Roster!$B$1","v":"Upton"},"New Underwood","2018-02-10",1,2,3,2,3,2,4,0,0,1,2,0,0,1,12,{"v":0,"d":"0%"},{"v":0,"d":"0%"},{"v":0,"d":"0%"},{"v":0.6666666666666666,"d":"67%"},19,"Jess Claycomb, 10 - New Underwood 2/10/2018","",{"$f":"Season_Summary!$P$1","v":"2A BB"}]
["Maxx Cowger, 4",{"$f":"Roster!$B$1","v":"Upton"},"New Underwood","2018-02-10",0,0,0,0,0,0,0,0,0,0,0,0,0,0,"",{"v":0,"d":"0%"},{"v":0,"d":"0%"},{"v":0,"d":"0%"},{"v":0,"d":"0%"},19,"Maxx Cowger, 4 - New Underwood 2/10/2018","",{"$f":"Season_Summary!$P$1","v":"2A BB"}]
["Brayden Bruce, 22",{"$f":"Roster!$B$1","v":"Upton"},"New Underwood","2018-02-10",1,0,2,0,2,2,2,3,1,1,0,0,3,1,2,{"v":0,"d":"0%"},{"v":0,"d":"0%"},{"v":0,"d":"0%"},{"v":0,"d":"0%"},19,"Brayden Bruce, 22 - New Underwood 2/10/2018","",{"$f":"Season_Summary!$P$1","v":"2A BB"}]
["Jo Bishop, 30",{"$f":"Roster!$B$1","v":"Upton"},"New Underwood","2018-02-10",1,0,0,0,1,0,0,0,1,0,0,0,1,0,"",{"v":0,"d":"0%"},{"v":0,"d":"0%"},{"v":0,"d":"0%"},{"v":0,"d":"0%"},19,"Jo Bishop, 30 - New Underwood 2/10/2018","",{"$f":"Season_Summary!$P$1","v":"2A BB"}]
["Nolan Turner, 33",{"$f":"Roster!$B$1","v":"Upton"},"New Underwood","2018-02-10",1,0,0,0,0,0,0,1,1,0,0,0,1,3,"",{"v":0,"d":"0%"},{"v":0,"d":"0%"},{"v":0,"d":"0%"},{"v":0,"d":"0%"},19,"Nolan Turner, 33 - New Underwood 2/10/2018","",{"$f":"Season_Summary!$P$1","v":"2A BB"}]
["Robert Crawford, 32",{"$f":"Roster!$B$1","v":"Upton"},"New Underwood","2018-02-10",1,0,0,2,2,0,0,1,0,0,0,0,0,1,4,{"v":0,"d":"0%"},{"v":0,"d":"0%"},{"v":0,"d":"0%"},{"v":0,"d":"0%"},19,"Robert Crawford, 32 - New Underwood 2/10/2018","",{"$f":"Season_Summary!$P$1","v":"2A BB"}]
["Jace Bruce, 40",{"$f":"Roster!$B$1","v":"Upton"},"New Underwood","2018-02-10",1,0,2,0,0,0,1,0,0,0,0,0,1,1,"",{"v":0,"d":"0%"},{"v":0,"d":"0%"},{"v":0,"d":"0%"},{"v":0,"d":"0%"},19,"Jace Bruce, 40 - New Underwood 2/10/2018","",{"$f":"Season_Summary!$P$1","v":"2A BB"}]
["Ethan Mills, 2",{"$f":"Roster!$B$1","v":"Upton"},"New Underwood","2018-02-10",1,0,1,0,0,0,0,0,0,0,0,0,1,0,"",{"v":0,"d":"0%"},{"v":0,"d":"0%"},{"v":0,"d":"0%"},{"v":0,"d":"0%"},19,"Ethan Mills, 2 - New Underwood 2/10/2018","",{"$f":"Season_Summary!$P$1","v":"2A BB"}]
["Bridger Alishouse, 2",{"$f":"Roster!$B$1","v":"Upton"},"New Underwood","2018-02-10",0,0,0,0,0,0,0,0,0,0,0,0,0,0,"",{"v":0,"d":"0%"},{"v":0,"d":"0%"},{"v":0,"d":"0%"},{"v":0,"d":"0%"},19,"Bridger Alishouse, 2 - New Underwood 2/10/2018","",{"$f":"Season_Summary!$P$1","v":"2A BB"}]
["Landon Keever, 4",{"$f":"Roster!$B$1","v":"Upton"},"New Underwood","2018-02-10",0,0,0,0,0,0,0,0,0,0,0,0,0,0,"",{"v":0,"d":"0%"},{"v":0,"d":"0%"},{"v":0,"d":"0%"},{"v":0,"d":"0%"},19,"Landon Keever, 4 - New Underwood 2/10/2018","",{"$f":"Season_Summary!$P$1","v":"2A BB"}]
["DJ Till, 4",{"$f":"Roster!$B$1","v":"Upton"},"New Underwood","2018-02-10",1,0,0,0,0,0,0,0,0,0,0,0,0,0,"",{"v":0,"d":"0%"},{"v":0,"d":"0%"},{"v":0,"d":"0%"},{"v":0,"d":"0%"},19,"DJ Till, 4 - New Underwood 2/10/2018","",{"$f":"Season_Summary!$P$1","v":"2A BB"}]
[", ",{"$f":"Roster!$B$1","v":"Upton"},"New Underwood","2018-02-10",{"$f":"INDIRECT(\"'game1 (\"&$X455&\")'!\"&ADDRESS(ROW(A$7)+MOD(ROW(A455)-7,24),COLUMN(C455)))","v":0},{"$f":"INDIRECT(\"'game1 (\"&$X455&\")'!\"&ADDRESS(ROW(B$7)+MOD(ROW(B455)-7,24),COLUMN(D455)))","v":0},{"$f":"INDIRECT(\"'game1 (\"&$X455&\")'!\"&ADDRESS(ROW(C$7)+MOD(ROW(C455)-7,24),COLUMN(E455)))","v":0},{"$f":"INDIRECT(\"'game1 (\"&$X455&\")'!\"&ADDRESS(ROW(D$7)+MOD(ROW(D455)-7,24),COLUMN(F455)))","v":0},{"$f":"INDIRECT(\"'game1 (\"&$X455&\")'!\"&ADDRESS(ROW(E$7)+MOD(ROW(E455)-7,24),COLUMN(G455)))","v":0},{"$f":"INDIRECT(\"'game1 (\"&$X455&\")'!\"&ADDRESS(ROW(F$7)+MOD(ROW(F455)-7,24),COLUMN(H455)))","v":0},{"$f":"INDIRECT(\"'game1 (\"&$X455&\")'!\"&ADDRESS(ROW(G$7)+MOD(ROW(G455)-7,24),COLUMN(I455)))","v":0},{"$f":"INDIRECT(\"'game1 (\"&$X455&\")'!\"&ADDRESS(ROW(H$7)+MOD(ROW(H455)-7,24),COLUMN(J455)))","v":0},{"$f":"INDIRECT(\"'game1 (\"&$X455&\")'!\"&ADDRESS(ROW(I$7)+MOD(ROW(I455)-7,24),COLUMN(K455)))","v":0},{"$f":"INDIRECT(\"'game1 (\"&$X455&\")'!\"&ADDRESS(ROW(J$7)+MOD(ROW(J455)-7,24),COLUMN(L455)))","v":0},{"$f":"INDIRECT(\"'game1 (\"&$X455&\")'!\"&ADDRESS(ROW(K$7)+MOD(ROW(K455)-7,24),COLUMN(M455)))","v":0},{"$f":"INDIRECT(\"'game1 (\"&$X455&\")'!\"&ADDRESS(ROW(L$7)+MOD(ROW(L455)-7,24),COLUMN(N455)))","v":0},{"$f":"INDIRECT(\"'game1 (\"&$X455&\")'!\"&ADDRESS(ROW(M$7)+MOD(ROW(M455)-7,24),COLUMN(O455)))","v":0},{"$f":"INDIRECT(\"'game1 (\"&$X455&\")'!\"&ADDRESS(ROW(N$7)+MOD(ROW(N455)-7,24),COLUMN(P455)))","v":0},{"$f":"INDIRECT(\"'game1 (\"&$X455&\")'!\"&ADDRESS(ROW(O$7)+MOD(ROW(O455)-7,24),COLUMN(Q455)))","v":""},{"v":0,"d":"0%"},{"v":0,"d":"0%"},{"v":0,"d":"0%"},{"v":0,"d":"0%"},{"$f":"INT((ROW(A455)-7)/24)+1","v":19},",  - New Underwood 2/10/2018","",{"$f":"Season_Summary!$P$1","v":"2A BB"}]
[{"$f":"CONCATENATE(INDIRECT(\"Roster!B\"&ROW(A$7)+MOD(ROW(A456)-7,24)),\", \",INDIRECT(\"Roster!a\"&ROW(A$7)+MOD(ROW(A456)-7,24)))","v":", "},{"$f":"Roster!$B$1","v":"Upton"},{"$f":"INDIRECT(\"'game1 (\"&$X456&\")'!$C$2\")","v":"New Underwood"},{"$f":"INDIRECT(\"'game1 (\"&$X456&\")'!$k$2\")","v":"2018-02-10"},0,0,0,0,0,0,0,0,0,0,0,0,0,0,"",{"$f":"IF(G456<$D$2,0,INDIRECT(\"'game1 (\"&$X456&\")'!\"&ADDRESS(ROW(M$7)+MOD(ROW(M456)-7,24),COLUMN(R456))))","v":{"v":0,"d":"0%"}},{"$f":"IF(I456<$D$2,0,INDIRECT(\"'game1 (\"&$X456&\")'!\"&ADDRESS(ROW(N$7)+MOD(ROW(N456)-7,24),COLUMN(S456))))","v":{"v":0,"d":"0%"}},{"$f":"IF(K456<$D$2,0,INDIRECT(\"'game1 (\"&$X456&\")'!\"&ADDRESS(ROW(O$7)+MOD(ROW(O456)-7,24),COLUMN(T456))))","v":{"v":0,"d":"0%"}},{"$f":"IF(G456+I456<$D$2,0,INDIRECT(\"'game1 (\"&$X456&\")'!\"&ADDRESS(ROW(O$7)+MOD(ROW(O456)-7,24),COLUMN(U456))))","v":{"v":0,"d":"0%"}},19,{"$f":"CONCATENATE(A456,\" - \",C456,\" \",MONTH(D456),\"/\",DAY(D456),\"/\",YEAR(D456))","v":",  - New Underwood 2/10/2018"},{"$f":"IFERROR(INDIRECT(\"'game1 (\"&$X456&\")'!$a$2\"),\"\")","v":""},{"$f":"Season_Summary!$P$1","v":"2A BB"}]
[", ",{"$f":"Roster!$B$1","v":"Upton"},"New Underwood","2018-02-10",0,0,0,0,0,0,0,0,0,0,0,0,0,0,"",{"v":0,"d":"0%"},{"v":0,"d":"0%"},{"v":0,"d":"0%"},{"v":0,"d":"0%"},19,",  - New Underwood 2/10/2018","",{"$f":"Season_Summary!$P$1","v":"2A BB"}]
[", ",{"$f":"Roster!$B$1","v":"Upton"},"New Underwood","2018-02-10",0,0,0,0,0,0,0,0,0,0,0,0,0,0,"",{"v":0,"d":"0%"},{"v":0,"d":"0%"},{"v":0,"d":"0%"},{"v":0,"d":"0%"},19,",  - New Underwood 2/10/2018","",{"$f":"Season_Summary!$P$1","v":"2A BB"}]
[", ",{"$f":"Roster!$B$1","v":"Upton"},"New Underwood","2018-02-10",0,0,0,0,0,0,0,0,0,0,0,0,0,0,"",{"v":0,"d":"0%"},{"v":0,"d":"0%"},{"v":0,"d":"0%"},{"v":0,"d":"0%"},19,",  - New Underwood 2/10/2018","",{"$f":"Season_Summary!$P$1","v":"2A BB"}]
[", ",{"$f":"Roster!$B$1","v":"Upton"},"New Underwood","2018-02-10",0,0,0,0,0,0,0,0,0,0,0,0,0,0,"",{"v":0,"d":"0%"},{"v":0,"d":"0%"},{"v":0,"d":"0%"},{"v":0,"d":"0%"},19,",  - New Underwood 2/10/2018","",{"$f":"Season_Summary!$P$1","v":"2A BB"}]
[", ",{"$f":"Roster!$B$1","v":"Upton"},"New Underwood","2018-02-10",0,0,0,0,0,0,0,0,0,0,0,0,0,0,"",{"v":0,"d":"0%"},{"v":0,"d":"0%"},{"v":0,"d":"0%"},{"v":0,"d":"0%"},19,",  - New Underwood 2/10/2018","",{"$f":"Season_Summary!$P$1","v":"2A BB"}]
["Team, ",{"$f":"Roster!$B$1","v":"Upton"},"New Underwood","2018-02-10",1,0,0,0,0,0,0,1,4,0,0,0,0,0,"",{"v":0,"d":"0%"},{"v":0,"d":"0%"},{"v":0,"d":"0%"},{"v":0,"d":"0%"},19,"Team,  - New Underwood 2/10/2018","",{"$f":"Season_Summary!$P$1","v":"2A BB"}]
["Payton Watt, 24",{"$f":"Roster!$B$1","v":"Upton"},"Big Horn","2018-02-16",1,0,2,6,8,1,1,3,5,2,0,0,1,2,13,{"v":0,"d":"0%"},{"v":0.75,"d":"75%"},{"v":0,"d":"0%"},{"v":0.6,"d":"60%"},20,"Payton Watt, 24 - Big Horn 2/16/2018","R",{"$f":"Season_Summary!$P$1","v":"2A BB"}]
["Dillon Barritt, 20",{"$f":"Roster!$B$1","v":"Upton"},"Big Horn","2018-02-16",1,2,5,1,2,0,0,0,1,4,0,0,1,2,8,{"v":0.4,"d":"40%"},{"v":0,"d":"0%"},{"v":0,"d":"0%"},{"v":0.42857142857142855,"d":"43%"},20,"Dillon Barritt, 20 - Big Horn 2/16/2018","R",{"$f":"Season_Summary!$P$1","v":"2A BB"}]
["Dawson Butts, 14",{"$f":"Roster!$B$1","v":"Upton"},"Big Horn","2018-02-16",1,1,1,1,3,0,2,0,3,1,0,0,2,0,5,{"v":0,"d":"0%"},{"v":0,"d":"0%"},{"v":0,"d":"0%"},{"v":0,"d":"0%"},20,"Dawson Butts, 14 - Big Horn 2/16/2018","R",{"$f":"Season_Summary!$P$1","v":"2A BB"}]
["Jayden Caylor, 12",{"$f":"Roster!$B$1","v":"Upton"},"Big Horn","2018-02-16",1,0,0,2,5,0,1,1,3,1,1,0,2,2,4,{"v":0,"d":"0%"},{"v":0.4,"d":"40%"},{"v":0,"d":"0%"},{"v":0.4,"d":"40%"},20,"Jayden Caylor, 12 - Big Horn 2/16/2018","R",{"$f":"Season_Summary!$P$1","v":"2A BB"}]
["Clayton Louderback, 23",{"$f":"Roster!$B$1","v":"Upton"},"Big Horn","2018-02-16",1,1,3,3,8,8,10,2,6,1,1,1,7,2,17,{"v":0,"d":"0%"},{"v":0.375,"d":"38%"},{"v":0.8,"d":"80%"},{"v":0.36363636363636365,"d":"36%"},20,"Clayton Louderback, 23 - Big Horn 2/16/2018","R",{"$f":"Season_Summary!$P$1","v":"2A BB"}]
["Jess Claycomb, 10",{"$f":"Roster!$B$1","v":"Upton"},"Big Horn","2018-02-16",1,0,1,1,2,2,2,2,2,0,0,0,1,1,4,{"v":0,"d":"0%"},{"v":0,"d":"0%"},{"v":0,"d":"0%"},{"v":0,"d":"0%"},20,"Jess Claycomb, 10 - Big Horn 2/16/2018","R",{"$f":"Season_Summary!$P$1","v":"2A BB"}]
["Maxx Cowger, 4",{"$f":"Roster!$B$1","v":"Upton"},"Big Horn","2018-02-16",0,0,0,0,0,0,0,0,0,0,0,0,0,0,"",{"v":0,"d":"0%"},{"v":0,"d":"0%"},{"v":0,"d":"0%"},{"v":0,"d":"0%"},20,"Maxx Cowger, 4 - Big Horn 2/16/2018","R",{"$f":"Season_Summary!$P$1","v":"2A BB"}]
["Brayden Bruce, 22",{"$f":"Roster!$B$1","v":"Upton"},"Big Horn","2018-02-16",1,0,1,1,1,2,2,0,1,4,0,0,0,0,4,{"v":0,"d":"0%"},{"v":0,"d":"0%"},{"v":0,"d":"0%"},{"v":0,"d":"0%"},20,"Brayden Bruce, 22 - Big Horn 2/16/2018","R",{"$f":"Season_Summary!$P$1","v":"2A BB"}]
["Jo Bishop, 30",{"$f":"Roster!$B$1","v":"Upton"},"Big Horn","2018-02-16",0,0,0,0,0,0,0,0,0,0,0,0,0,0,"",{"v":0,"d":"0%"},{"v":0,"d":"0%"},{"v":0,"d":"0%"},{"v":0,"d":"0%"},20,"Jo Bishop, 30 - Big Horn 2/16/2018","R",{"$f":"Season_Summary!$P$1","v":"2A BB"}]
["Nolan Turner, 33",{"$f":"Roster!$B$1","v":"Upton"},"Big Horn","2018-02-16",0,0,0,0,0,0,0,0,0,0,0,0,0,0,"",{"v":0,"d":"0%"},{"v":0,"d":"0%"},{"v":0,"d":"0%"},{"v":0,"d":"0%"},20,"Nolan Turner, 33 - Big Horn 2/16/2018","R",{"$f":"Season_Summary!$P$1","v":"2A BB"}]
["Robert Crawford, 32",{"$f":"Roster!$B$1","v":"Upton"},"Big Horn","2018-02-16",0,0,0,0,0,0,0,0,0,0,0,0,0,0,"",{"v":0,"d":"0%"},{"v":0,"d":"0%"},{"v":0,"d":"0%"},{"v":0,"d":"0%"},20,"Robert Crawford, 32 - Big Horn 2/16/2018","R",{"$f":"Season_Summary!$P$1","v":"2A BB"}]
["Jace Bruce, 40",{"$f":"Roster!$B$1","v":"Upton"},"Big Horn","2018-02-16",0,0,0,0,0,0,0,0,0,0,0,0,0,0,"",{"v":0,"d":"0%"},{"v":0,"d":"0%"},{"v":0,"d":"0%"},{"v":0,"d":"0%"},20,"Jace Bruce, 40 - Big Horn 2/16/2018","R",{"$f":"Season_Summary!$P$1","v":"2A BB"}]
["Ethan Mills, 2",{"$f":"Roster!$B$1","v":"Upton"},"Big Horn","2018-02-16",0,0,0,0,0,0,0,0,0,0,0,0,0,0,"",{"v":0,"d":"0%"},{"v":0,"d":"0%"},{"v":0,"d":"0%"},{"v":0,"d":"0%"},20,"Ethan Mills, 2 - Big Horn 2/16/2018","R",{"$f":"Season_Summary!$P$1","v":"2A BB"}]
["Bridger Alishouse, 2",{"$f":"Roster!$B$1","v":"Upton"},"Big Horn","2018-02-16",0,0,0,0,0,0,0,0,0,0,0,0,0,0,"",{"v":0,"d":"0%"},{"v":0,"d":"0%"},{"v":0,"d":"0%"},{"v":0,"d":"0%"},20,"Bridger Alishouse, 2 - Big Horn 2/16/2018","R",{"$f":"Season_Summary!$P$1","v":"2A BB"}]
["Landon Keever, 4",{"$f":"Roster!$B$1","v":"Upton"},"Big Horn","2018-02-16",0,0,0,0,0,0,0,0,0,0,0,0,0,0,"",{"v":0,"d":"0%"},{"v":0,"d":"0%"},{"v":0,"d":"0%"},{"v":0,"d":"0%"},20,"Landon Keever, 4 - Big Horn 2/16/2018","R",{"$f":"Season_Summary!$P$1","v":"2A BB"}]
["DJ Till, 4",{"$f":"Roster!$B$1","v":"Upton"},"Big Horn","2018-02-16",0,0,0,0,0,0,0,0,0,0,0,0,0,0,"",{"v":0,"d":"0%"},{"v":0,"d":"0%"},{"v":0,"d":"0%"},{"v":0,"d":"0%"},20,"DJ Till, 4 - Big Horn 2/16/2018","R",{"$f":"Season_Summary!$P$1","v":"2A BB"}]
[", ",{"$f":"Roster!$B$1","v":"Upton"},"Big Horn","2018-02-16",0,0,0,0,0,0,0,0,0,0,0,0,0,0,"",{"v":0,"d":"0%"},{"v":0,"d":"0%"},{"v":0,"d":"0%"},{"v":0,"d":"0%"},20,",  - Big Horn 2/16/2018","R",{"$f":"Season_Summary!$P$1","v":"2A BB"}]
[", ",{"$f":"Roster!$B$1","v":"Upton"},"Big Horn","2018-02-16",0,0,0,0,0,0,0,0,0,0,0,0,0,0,"",{"v":0,"d":"0%"},{"v":0,"d":"0%"},{"v":0,"d":"0%"},{"v":0,"d":"0%"},20,",  - Big Horn 2/16/2018","R",{"$f":"Season_Summary!$P$1","v":"2A BB"}]
[", ",{"$f":"Roster!$B$1","v":"Upton"},"Big Horn","2018-02-16",0,0,0,0,0,0,0,0,0,0,0,0,0,0,"",{"v":0,"d":"0%"},{"v":0,"d":"0%"},{"v":0,"d":"0%"},{"v":0,"d":"0%"},20,",  - Big Horn 2/16/2018","R",{"$f":"Season_Summary!$P$1","v":"2A BB"}]
[", ",{"$f":"Roster!$B$1","v":"Upton"},"Big Horn","2018-02-16",0,0,0,0,0,0,0,0,0,0,0,0,0,0,"",{"v":0,"d":"0%"},{"v":0,"d":"0%"},{"v":0,"d":"0%"},{"v":0,"d":"0%"},20,",  - Big Horn 2/16/2018","R",{"$f":"Season_Summary!$P$1","v":"2A BB"}]
[", ",{"$f":"Roster!$B$1","v":"Upton"},"Big Horn","2018-02-16",0,0,0,0,0,0,0,0,0,0,0,0,0,0,"",{"v":0,"d":"0%"},{"v":0,"d":"0%"},{"v":0,"d":"0%"},{"v":0,"d":"0%"},20,",  - Big Horn 2/16/2018","R",{"$f":"Season_Summary!$P$1","v":"2A BB"}]
[", ",{"$f":"Roster!$B$1","v":"Upton"},"Big Horn","2018-02-16",0,0,0,0,0,0,0,0,0,0,0,0,0,0,"",{"v":0,"d":"0%"},{"v":0,"d":"0%"},{"v":0,"d":"0%"},{"v":0,"d":"0%"},20,",  - Big Horn 2/16/2018","R",{"$f":"Season_Summary!$P$1","v":"2A BB"}]
[", ",{"$f":"Roster!$B$1","v":"Upton"},"Big Horn","2018-02-16",0,0,0,0,0,0,0,0,0,0,0,0,0,0,"",{"v":0,"d":"0%"},{"v":0,"d":"0%"},{"v":0,"d":"0%"},{"v":0,"d":"0%"},20,",  - Big Horn 2/16/2018","R",{"$f":"Season_Summary!$P$1","v":"2A BB"}]
["Team, ",{"$f":"Roster!$B$1","v":"Upton"},"Big Horn","2018-02-16",1,0,0,0,0,0,0,1,2,0,0,0,0,0,"",{"v":0,"d":"0%"},{"v":0,"d":"0%"},{"v":0,"d":"0%"},{"v":0,"d":"0%"},20,"Team,  - Big Horn 2/16/2018","R",{"$f":"Season_Summary!$P$1","v":"2A BB"}]
["Payton Watt, 24",{"$f":"Roster!$B$1","v":"Upton"},"Tongue River","2018-02-17",1,0,4,10,15,4,6,6,11,4,0,0,1,0,24,{"v":0,"d":"0%"},{"v":0.6666666666666666,"d":"67%"},{"v":0.6666666666666666,"d":"67%"},{"v":0.5263157894736842,"d":"53%"},21,"Payton Watt, 24 - Tongue River 2/17/2018","R",{"$f":"Season_Summary!$P$1","v":"2A BB"}]
["Dillon Barritt, 20",{"$f":"Roster!$B$1","v":"Upton"},"Tongue River","2018-02-17",1,5,9,2,5,0,0,1,1,0,0,0,0,4,19,{"v":0.5555555555555556,"d":"56%"},{"v":0.4,"d":"40%"},{"v":0,"d":"0%"},{"v":0.5,"d":"50%"},21,"Dillon Barritt, 20 - Tongue River 2/17/2018","R",{"$f":"Season_Summary!$P$1","v":"2A BB"}]
["Dawson Butts, 14",{"$f":"Roster!$B$1","v":"Upton"},"Tongue River","2018-02-17",1,0,2,2,6,1,2,2,5,7,1,0,3,0,5,{"v":0,"d":"0%"},{"v":0.3333333333333333,"d":"33%"},{"v":0,"d":"0%"},{"v":0.25,"d":"25%"},21,"Dawson Butts, 14 - Tongue River 2/17/2018","R",{"$f":"Season_Summary!$P$1","v":"2A BB"}]
["Jayden Caylor, 12",{"$f":"Roster!$B$1","v":"Upton"},"Tongue River","2018-02-17",1,1,1,2,2,0,0,1,2,2,2,0,0,4,7,{"v":0,"d":"0%"},{"v":0,"d":"0%"},{"v":0,"d":"0%"},{"v":0,"d":"0%"},21,"Jayden Caylor, 12 - Tongue River 2/17/2018","R",{"$f":"Season_Summary!$P$1","v":"2A BB"}]
["Clayton Louderback, 23",{"$f":"Roster!$B$1","v":"Upton"},"Tongue River","2018-02-17",1,0,1,7,10,3,7,3,5,6,3,0,1,3,17,{"v":0,"d":"0%"},{"v":0.7,"d":"70%"},{"v":0.42857142857142855,"d":"43%"},{"v":0.6363636363636364,"d":"64%"},21,"Clayton Louderback, 23 - Tongue River 2/17/2018","R",{"$f":"Season_Summary!$P$1","v":"2A BB"}]
["Jess Claycomb, 10",{"$f":"Roster!$B$1","v":"Upton"},"Tongue River","2018-02-17",1,0,3,4,6,1,1,1,2,2,1,0,0,0,9,{"v":0,"d":"0%"},{"v":0.6666666666666666,"d":"67%"},{"v":0,"d":"0%"},{"v":0.4444444444444444,"d":"44%"},21,"Jess Claycomb, 10 - Tongue River 2/17/2018","R",{"$f":"Season_Summary!$P$1","v":"2A BB"}]
["Maxx Cowger, 4",{"$f":"Roster!$B$1","v":"Upton"},"Tongue River","2018-02-17",0,0,0,0,0,0,0,0,0,0,0,0,0,0,"",{"v":0,"d":"0%"},{"v":0,"d":"0%"},{"v":0,"d":"0%"},{"v":0,"d":"0%"},21,"Maxx Cowger, 4 - Tongue River 2/17/2018","R",{"$f":"Season_Summary!$P$1","v":"2A BB"}]
["Brayden Bruce, 22",{"$f":"Roster!$B$1","v":"Upton"},"Tongue River","2018-02-17",1,0,3,0,1,0,0,0,1,3,1,0,0,2,"",{"v":0,"d":"0%"},{"v":0,"d":"0%"},{"v":0,"d":"0%"},{"v":0,"d":"0%"},21,"Brayden Bruce, 22 - Tongue River 2/17/2018","R",{"$f":"Season_Summary!$P$1","v":"2A BB"}]
["Jo Bishop, 30",{"$f":"Roster!$B$1","v":"Upton"},"Tongue River","2018-02-17",1,0,0,0,0,0,0,0,1,0,0,0,1,1,"",{"v":0,"d":"0%"},{"v":0,"d":"0%"},{"v":0,"d":"0%"},{"v":0,"d":"0%"},21,"Jo Bishop, 30 - Tongue River 2/17/2018","R",{"$f":"Season_Summary!$P$1","v":"2A BB"}]
["Nolan Turner, 33",{"$f":"Roster!$B$1","v":"Upton"},"Tongue River","2018-02-17",1,0,0,0,0,0,0,0,1,0,0,0,0,1,"",{"v":0,"d":"0%"},{"v":0,"d":"0%"},{"v":0,"d":"0%"},{"v":0,"d":"0%"},21,"Nolan Turner, 33 - Tongue River 2/17/2018","R",{"$f":"Season_Summary!$P$1","v":"2A BB"}]
["Robert Crawford, 32",{"$f":"Roster!$B$1","v":"Upton"},"Tongue River","2018-02-17",1,0,1,0,0,0,0,0,0,0,0,0,1,0,"",{"v":0,"d":"0%"},{"v":0,"d":"0%"},{"v":0,"d":"0%"},{"v":0,"d":"0%"},21,"Robert Crawford, 32 - Tongue River 2/17/2018","R",{"$f":"Season_Summary!$P$1","v":"2A BB"}]
["Jace Bruce, 40",{"$f":"Roster!$B$1","v":"Upton"},"Tongue River","2018-02-17",1,0,0,0,0,0,0,0,0,0,0,0,0,0,"",{"v":0,"d":"0%"},{"v":0,"d":"0%"},{"v":0,"d":"0%"},{"v":0,"d":"0%"},21,"Jace Bruce, 40 - Tongue River 2/17/2018","R",{"$f":"Season_Summary!$P$1","v":"2A BB"}]
["Ethan Mills, 2",{"$f":"Roster!$B$1","v":"Upton"},"Tongue River","2018-02-17",1,0,0,0,0,0,0,0,0,0,0,0,0,0,"",{"v":0,"d":"0%"},{"v":0,"d":"0%"},{"v":0,"d":"0%"},{"v":0,"d":"0%"},21,"Ethan Mills, 2 - Tongue River 2/17/2018","R",{"$f":"Season_Summary!$P$1","v":"2A BB"}]
["Bridger Alishouse, 2",{"$f":"Roster!$B$1","v":"Upton"},"Tongue River","2018-02-17",0,0,0,0,0,0,0,0,0,0,0,0,0,0,"",{"v":0,"d":"0%"},{"v":0,"d":"0%"},{"v":0,"d":"0%"},{"v":0,"d":"0%"},21,"Bridger Alishouse, 2 - Tongue River 2/17/2018","R",{"$f":"Season_Summary!$P$1","v":"2A BB"}]
["Landon Keever, 4",{"$f":"Roster!$B$1","v":"Upton"},"Tongue River","2018-02-17",0,0,0,0,0,0,0,0,0,0,0,0,0,0,"",{"v":0,"d":"0%"},{"v":0,"d":"0%"},{"v":0,"d":"0%"},{"v":0,"d":"0%"},21,"Landon Keever, 4 - Tongue River 2/17/2018","R",{"$f":"Season_Summary!$P$1","v":"2A BB"}]
["DJ Till, 4",{"$f":"Roster!$B$1","v":"Upton"},"Tongue River","2018-02-17",0,0,0,0,0,0,0,0,0,0,0,0,0,0,"",{"v":0,"d":"0%"},{"v":0,"d":"0%"},{"v":0,"d":"0%"},{"v":0,"d":"0%"},21,"DJ Till, 4 - Tongue River 2/17/2018","R",{"$f":"Season_Summary!$P$1","v":"2A BB"}]
[", ",{"$f":"Roster!$B$1","v":"Upton"},"Tongue River","2018-02-17",0,0,0,0,0,0,0,0,0,0,0,0,0,0,"",{"v":0,"d":"0%"},{"v":0,"d":"0%"},{"v":0,"d":"0%"},{"v":0,"d":"0%"},21,",  - Tongue River 2/17/2018","R",{"$f":"Season_Summary!$P$1","v":"2A BB"}]
[", ",{"$f":"Roster!$B$1","v":"Upton"},"Tongue River","2018-02-17",0,0,0,0,0,0,0,0,0,0,0,0,0,0,"",{"v":0,"d":"0%"},{"v":0,"d":"0%"},{"v":0,"d":"0%"},{"v":0,"d":"0%"},21,",  - Tongue River 2/17/2018","R",{"$f":"Season_Summary!$P$1","v":"2A BB"}]
[", ",{"$f":"Roster!$B$1","v":"Upton"},"Tongue River","2018-02-17",0,0,0,0,0,0,0,0,0,0,0,0,0,0,"",{"v":0,"d":"0%"},{"v":0,"d":"0%"},{"v":0,"d":"0%"},{"v":0,"d":"0%"},21,",  - Tongue River 2/17/2018","R",{"$f":"Season_Summary!$P$1","v":"2A BB"}]
[", ",{"$f":"Roster!$B$1","v":"Upton"},"Tongue River","2018-02-17",0,0,0,0,0,0,0,0,0,0,0,0,0,0,"",{"v":0,"d":"0%"},{"v":0,"d":"0%"},{"v":0,"d":"0%"},{"v":0,"d":"0%"},21,",  - Tongue River 2/17/2018","R",{"$f":"Season_Summary!$P$1","v":"2A BB"}]
[", ",{"$f":"Roster!$B$1","v":"Upton"},"Tongue River","2018-02-17",0,0,0,0,0,0,0,0,0,0,0,0,0,0,"",{"v":0,"d":"0%"},{"v":0,"d":"0%"},{"v":0,"d":"0%"},{"v":0,"d":"0%"},21,",  - Tongue River 2/17/2018","R",{"$f":"Season_Summary!$P$1","v":"2A BB"}]
[", ",{"$f":"Roster!$B$1","v":"Upton"},"Tongue River","2018-02-17",0,0,0,0,0,0,0,0,0,0,0,0,0,0,"",{"v":0,"d":"0%"},{"v":0,"d":"0%"},{"v":0,"d":"0%"},{"v":0,"d":"0%"},21,",  - Tongue River 2/17/2018","R",{"$f":"Season_Summary!$P$1","v":"2A BB"}]
[", ",{"$f":"Roster!$B$1","v":"Upton"},"Tongue River","2018-02-17",0,0,0,0,0,0,0,0,0,0,0,0,0,0,"",{"v":0,"d":"0%"},{"v":0,"d":"0%"},{"v":0,"d":"0%"},{"v":0,"d":"0%"},21,",  - Tongue River 2/17/2018","R",{"$f":"Season_Summary!$P$1","v":"2A BB"}]
["Team, ",{"$f":"Roster!$B$1","v":"Upton"},"Tongue River","2018-02-17",1,0,0,0,0,0,0,1,1,0,0,0,0,0,"",{"v":0,"d":"0%"},{"v":0,"d":"0%"},{"v":0,"d":"0%"},{"v":0,"d":"0%"},21,"Team,  - Tongue River 2/17/2018","R",{"$f":"Season_Summary!$P$1","v":"2A BB"}]
["Payton Watt, 24",{"$f":"Roster!$B$1","v":"Upton"},"Southeast HS","2018-02-22",1,1,6,4,9,1,1,2,3,1,1,1,1,3,12,{"v":0.16666666666666666,"d":"17%"},{"v":0.4444444444444444,"d":"44%"},{"v":0,"d":"0%"},{"v":0.3333333333333333,"d":"33%"},22,"Payton Watt, 24 - Southeast HS 2/22/2018","",{"$f":"Season_Summary!$P$1","v":"2A BB"}]
["Dillon Barritt, 20",{"$f":"Roster!$B$1","v":"Upton"},"Southeast HS","2018-02-22",1,3,9,0,3,1,2,0,0,1,3,0,2,5,10,{"v":0.3333333333333333,"d":"33%"},{"v":0,"d":"0%"},{"v":0,"d":"0%"},{"v":0.25,"d":"25%"},22,"Dillon Barritt, 20 - Southeast HS 2/22/2018","",{"$f":"Season_Summary!$P$1","v":"2A BB"}]
["Dawson Butts, 14",{"$f":"Roster!$B$1","v":"Upton"},"Southeast HS","2018-02-22",1,0,1,1,1,1,4,1,2,1,3,1,1,3,3,{"v":0,"d":"0%"},{"v":0,"d":"0%"},{"v":0,"d":"0%"},{"v":0,"d":"0%"},22,"Dawson Butts, 14 - Southeast HS 2/22/2018","",{"$f":"Season_Summary!$P$1","v":"2A BB"}]
["Jayden Caylor, 12",{"$f":"Roster!$B$1","v":"Upton"},"Southeast HS","2018-02-22",1,2,3,4,4,1,3,3,4,4,3,0,3,4,15,{"v":0,"d":"0%"},{"v":0,"d":"0%"},{"v":0,"d":"0%"},{"v":0.8571428571428571,"d":"86%"},22,"Jayden Caylor, 12 - Southeast HS 2/22/2018","",{"$f":"Season_Summary!$P$1","v":"2A BB"}]
["Clayton Louderback, 23",{"$f":"Roster!$B$1","v":"Upton"},"Southeast HS","2018-02-22",1,0,2,3,9,0,5,2,4,3,0,0,3,2,6,{"v":0,"d":"0%"},{"v":0.3333333333333333,"d":"33%"},{"v":0,"d":"0%"},{"v":0.2727272727272727,"d":"27%"},22,"Clayton Louderback, 23 - Southeast HS 2/22/2018","",{"$f":"Season_Summary!$P$1","v":"2A BB"}]
["Jess Claycomb, 10",{"$f":"Roster!$B$1","v":"Upton"},"Southeast HS","2018-02-22",1,1,3,0,2,2,2,1,1,0,0,0,2,2,5,{"v":0,"d":"0%"},{"v":0,"d":"0%"},{"v":0,"d":"0%"},{"v":0.2,"d":"20%"},22,"Jess Claycomb, 10 - Southeast HS 2/22/2018","",{"$f":"Season_Summary!$P$1","v":"2A BB"}]
["Maxx Cowger, 4",{"$f":"Roster!$B$1","v":"Upton"},"Southeast HS","2018-02-22",0,0,0,0,0,0,0,0,0,0,0,0,0,0,"",{"v":0,"d":"0%"},{"v":0,"d":"0%"},{"v":0,"d":"0%"},{"v":0,"d":"0%"},22,"Maxx Cowger, 4 - Southeast HS 2/22/2018","",{"$f":"Season_Summary!$P$1","v":"2A BB"}]
["Brayden Bruce, 22",{"$f":"Roster!$B$1","v":"Upton"},"Southeast HS","2018-02-22",1,1,2,0,0,0,0,0,1,2,0,0,2,2,3,{"v":0,"d":"0%"},{"v":0,"d":"0%"},{"v":0,"d":"0%"},{"v":0,"d":"0%"},22,"Brayden Bruce, 22 - Southeast HS 2/22/2018","",{"$f":"Season_Summary!$P$1","v":"2A BB"}]
["Jo Bishop, 30",{"$f":"Roster!$B$1","v":"Upton"},"Southeast HS","2018-02-22",{"$f":"INDIRECT(\"'game1 (\"&$X519&\")'!\"&ADDRESS(ROW(A$7)+MOD(ROW(A519)-7,24),COLUMN(C519)))","v":0},{"$f":"INDIRECT(\"'game1 (\"&$X519&\")'!\"&ADDRESS(ROW(B$7)+MOD(ROW(B519)-7,24),COLUMN(D519)))","v":0},{"$f":"INDIRECT(\"'game1 (\"&$X519&\")'!\"&ADDRESS(ROW(C$7)+MOD(ROW(C519)-7,24),COLUMN(E519)))","v":0},{"$f":"INDIRECT(\"'game1 (\"&$X519&\")'!\"&ADDRESS(ROW(D$7)+MOD(ROW(D519)-7,24),COLUMN(F519)))","v":0},{"$f":"INDIRECT(\"'game1 (\"&$X519&\")'!\"&ADDRESS(ROW(E$7)+MOD(ROW(E519)-7,24),COLUMN(G519)))","v":0},{"$f":"INDIRECT(\"'game1 (\"&$X519&\")'!\"&ADDRESS(ROW(F$7)+MOD(ROW(F519)-7,24),COLUMN(H519)))","v":0},{"$f":"INDIRECT(\"'game1 (\"&$X519&\")'!\"&ADDRESS(ROW(G$7)+MOD(ROW(G519)-7,24),COLUMN(I519)))","v":0},{"$f":"INDIRECT(\"'game1 (\"&$X519&\")'!\"&ADDRESS(ROW(H$7)+MOD(ROW(H519)-7,24),COLUMN(J519)))","v":0},{"$f":"INDIRECT(\"'game1 (\"&$X519&\")'!\"&ADDRESS(ROW(I$7)+MOD(ROW(I519)-7,24),COLUMN(K519)))","v":0},{"$f":"INDIRECT(\"'game1 (\"&$X519&\")'!\"&ADDRESS(ROW(J$7)+MOD(ROW(J519)-7,24),COLUMN(L519)))","v":0},{"$f":"INDIRECT(\"'game1 (\"&$X519&\")'!\"&ADDRESS(ROW(K$7)+MOD(ROW(K519)-7,24),COLUMN(M519)))","v":0},{"$f":"INDIRECT(\"'game1 (\"&$X519&\")'!\"&ADDRESS(ROW(L$7)+MOD(ROW(L519)-7,24),COLUMN(N519)))","v":0},{"$f":"INDIRECT(\"'game1 (\"&$X519&\")'!\"&ADDRESS(ROW(M$7)+MOD(ROW(M519)-7,24),COLUMN(O519)))","v":0},{"$f":"INDIRECT(\"'game1 (\"&$X519&\")'!\"&ADDRESS(ROW(N$7)+MOD(ROW(N519)-7,24),COLUMN(P519)))","v":0},{"$f":"INDIRECT(\"'game1 (\"&$X519&\")'!\"&ADDRESS(ROW(O$7)+MOD(ROW(O519)-7,24),COLUMN(Q519)))","v":""},{"v":0,"d":"0%"},{"v":0,"d":"0%"},{"v":0,"d":"0%"},{"v":0,"d":"0%"},{"$f":"INT((ROW(A519)-7)/24)+1","v":22},"Jo Bishop, 30 - Southeast HS 2/22/2018","",{"$f":"Season_Summary!$P$1","v":"2A BB"}]
[{"$f":"CONCATENATE(INDIRECT(\"Roster!B\"&ROW(A$7)+MOD(ROW(A520)-7,24)),\", \",INDIRECT(\"Roster!a\"&ROW(A$7)+MOD(ROW(A520)-7,24)))","v":"Nolan Turner, 33"},{"$f":"Roster!$B$1","v":"Upton"},{"$f":"INDIRECT(\"'game1 (\"&$X520&\")'!$C$2\")","v":"Southeast HS"},{"$f":"INDIRECT(\"'game1 (\"&$X520&\")'!$k$2\")","v":"2018-02-22"},0,0,0,0,0,0,0,0,0,0,0,0,0,0,"",{"$f":"IF(G520<$D$2,0,INDIRECT(\"'game1 (\"&$X520&\")'!\"&ADDRESS(ROW(M$7)+MOD(ROW(M520)-7,24),COLUMN(R520))))","v":{"v":0,"d":"0%"}},{"$f":"IF(I520<$D$2,0,INDIRECT(\"'game1 (\"&$X520&\")'!\"&ADDRESS(ROW(N$7)+MOD(ROW(N520)-7,24),COLUMN(S520))))","v":{"v":0,"d":"0%"}},{"$f":"IF(K520<$D$2,0,INDIRECT(\"'game1 (\"&$X520&\")'!\"&ADDRESS(ROW(O$7)+MOD(ROW(O520)-7,24),COLUMN(T520))))","v":{"v":0,"d":"0%"}},{"$f":"IF(G520+I520<$D$2,0,INDIRECT(\"'game1 (\"&$X520&\")'!\"&ADDRESS(ROW(O$7)+MOD(ROW(O520)-7,24),COLUMN(U520))))","v":{"v":0,"d":"0%"}},22,{"$f":"CONCATENATE(A520,\" - \",C520,\" \",MONTH(D520),\"/\",DAY(D520),\"/\",YEAR(D520))","v":"Nolan Turner, 33 - Southeast HS 2/22/2018"},{"$f":"IFERROR(INDIRECT(\"'game1 (\"&$X520&\")'!$a$2\"),\"\")","v":""},{"$f":"Season_Summary!$P$1","v":"2A BB"}]
["Robert Crawford, 32",{"$f":"Roster!$B$1","v":"Upton"},"Southeast HS","2018-02-22",0,0,0,0,0,0,0,0,0,0,0,0,0,0,"",{"v":0,"d":"0%"},{"v":0,"d":"0%"},{"v":0,"d":"0%"},{"v":0,"d":"0%"},22,"Robert Crawford, 32 - Southeast HS 2/22/2018","",{"$f":"Season_Summary!$P$1","v":"2A BB"}]
["Jace Bruce, 40",{"$f":"Roster!$B$1","v":"Upton"},"Southeast HS","2018-02-22",0,0,0,0,0,0,0,0,0,0,0,0,0,0,"",{"v":0,"d":"0%"},{"v":0,"d":"0%"},{"v":0,"d":"0%"},{"v":0,"d":"0%"},22,"Jace Bruce, 40 - Southeast HS 2/22/2018","",{"$f":"Season_Summary!$P$1","v":"2A BB"}]
["Ethan Mills, 2",{"$f":"Roster!$B$1","v":"Upton"},"Southeast HS","2018-02-22",0,0,0,0,0,0,0,0,0,0,0,0,0,0,"",{"v":0,"d":"0%"},{"v":0,"d":"0%"},{"v":0,"d":"0%"},{"v":0,"d":"0%"},22,"Ethan Mills, 2 - Southeast HS 2/22/2018","",{"$f":"Season_Summary!$P$1","v":"2A BB"}]
["Bridger Alishouse, 2",{"$f":"Roster!$B$1","v":"Upton"},"Southeast HS","2018-02-22",0,0,0,0,0,0,0,0,0,0,0,0,0,0,"",{"v":0,"d":"0%"},{"v":0,"d":"0%"},{"v":0,"d":"0%"},{"v":0,"d":"0%"},22,"Bridger Alishouse, 2 - Southeast HS 2/22/2018","",{"$f":"Season_Summary!$P$1","v":"2A BB"}]
["Landon Keever, 4",{"$f":"Roster!$B$1","v":"Upton"},"Southeast HS","2018-02-22",0,0,0,0,0,0,0,0,0,0,0,0,0,0,"",{"v":0,"d":"0%"},{"v":0,"d":"0%"},{"v":0,"d":"0%"},{"v":0,"d":"0%"},22,"Landon Keever, 4 - Southeast HS 2/22/2018","",{"$f":"Season_Summary!$P$1","v":"2A BB"}]
["DJ Till, 4",{"$f":"Roster!$B$1","v":"Upton"},"Southeast HS","2018-02-22",0,0,0,0,0,0,0,0,0,0,0,0,0,0,"",{"v":0,"d":"0%"},{"v":0,"d":"0%"},{"v":0,"d":"0%"},{"v":0,"d":"0%"},22,"DJ Till, 4 - Southeast HS 2/22/2018","",{"$f":"Season_Summary!$P$1","v":"2A BB"}]
[", ",{"$f":"Roster!$B$1","v":"Upton"},"Southeast HS","2018-02-22",0,0,0,0,0,0,0,0,0,0,0,0,0,0,"",{"v":0,"d":"0%"},{"v":0,"d":"0%"},{"v":0,"d":"0%"},{"v":0,"d":"0%"},22,",  - Southeast HS 2/22/2018","",{"$f":"Season_Summary!$P$1","v":"2A BB"}]
[", ",{"$f":"Roster!$B$1","v":"Upton"},"Southeast HS","2018-02-22",0,0,0,0,0,0,0,0,0,0,0,0,0,0,"",{"v":0,"d":"0%"},{"v":0,"d":"0%"},{"v":0,"d":"0%"},{"v":0,"d":"0%"},22,",  - Southeast HS 2/22/2018","",{"$f":"Season_Summary!$P$1","v":"2A BB"}]
[", ",{"$f":"Roster!$B$1","v":"Upton"},"Southeast HS","2018-02-22",0,0,0,0,0,0,0,0,0,0,0,0,0,0,"",{"v":0,"d":"0%"},{"v":0,"d":"0%"},{"v":0,"d":"0%"},{"v":0,"d":"0%"},22,",  - Southeast HS 2/22/2018","",{"$f":"Season_Summary!$P$1","v":"2A BB"}]
[", ",{"$f":"Roster!$B$1","v":"Upton"},"Southeast HS","2018-02-22",0,0,0,0,0,0,0,0,0,0,0,0,0,0,"",{"v":0,"d":"0%"},{"v":0,"d":"0%"},{"v":0,"d":"0%"},{"v":0,"d":"0%"},22,",  - Southeast HS 2/22/2018","",{"$f":"Season_Summary!$P$1","v":"2A BB"}]
[", ",{"$f":"Roster!$B$1","v":"Upton"},"Southeast HS","2018-02-22",0,0,0,0,0,0,0,0,0,0,0,0,0,0,"",{"v":0,"d":"0%"},{"v":0,"d":"0%"},{"v":0,"d":"0%"},{"v":0,"d":"0%"},22,",  - Southeast HS 2/22/2018","",{"$f":"Season_Summary!$P$1","v":"2A BB"}]
[", ",{"$f":"Roster!$B$1","v":"Upton"},"Southeast HS","2018-02-22",0,0,0,0,0,0,0,0,0,0,0,0,0,0,"",{"v":0,"d":"0%"},{"v":0,"d":"0%"},{"v":0,"d":"0%"},{"v":0,"d":"0%"},22,",  - Southeast HS 2/22/2018","",{"$f":"Season_Summary!$P$1","v":"2A BB"}]
[", ",{"$f":"Roster!$B$1","v":"Upton"},"Southeast HS","2018-02-22",0,0,0,0,0,0,0,0,0,0,0,0,0,0,"",{"v":0,"d":"0%"},{"v":0,"d":"0%"},{"v":0,"d":"0%"},{"v":0,"d":"0%"},22,",  - Southeast HS 2/22/2018","",{"$f":"Season_Summary!$P$1","v":"2A BB"}]
["Team, ",{"$f":"Roster!$B$1","v":"Upton"},"Southeast HS","2018-02-22",1,0,0,0,0,0,0,1,2,0,0,0,0,0,"",{"v":0,"d":"0%"},{"v":0,"d":"0%"},{"v":0,"d":"0%"},{"v":0,"d":"0%"},22,"Team,  - Southeast HS 2/22/2018","",{"$f":"Season_Summary!$P$1","v":"2A BB"}]
["Payton Watt, 24",{"$f":"Roster!$B$1","v":"Upton"},"Lusk   ","2018-02-23",1,5,9,4,5,1,2,2,4,2,1,0,1,3,24,{"v":0.5555555555555556,"d":"56%"},{"v":0.8,"d":"80%"},{"v":0,"d":"0%"},{"v":0.6428571428571429,"d":"64%"},23,"Payton Watt, 24 - Lusk    2/23/2018","",{"$f":"Season_Summary!$P$1","v":"2A BB"}]
["Dillon Barritt, 20",{"$f":"Roster!$B$1","v":"Upton"},"Lusk   ","2018-02-23",1,4,9,1,3,1,2,1,1,2,2,0,0,3,15,{"v":0.4444444444444444,"d":"44%"},{"v":0,"d":"0%"},{"v":0,"d":"0%"},{"v":0.4166666666666667,"d":"42%"},23,"Dillon Barritt, 20 - Lusk    2/23/2018","",{"$f":"Season_Summary!$P$1","v":"2A BB"}]
["Dawson Butts, 14",{"$f":"Roster!$B$1","v":"Upton"},"Lusk   ","2018-02-23",1,0,1,0,1,0,0,2,2,1,1,0,1,3,"",{"v":0,"d":"0%"},{"v":0,"d":"0%"},{"v":0,"d":"0%"},{"v":0,"d":"0%"},23,"Dawson Butts, 14 - Lusk    2/23/2018","",{"$f":"Season_Summary!$P$1","v":"2A BB"}]
["Jayden Caylor, 12",{"$f":"Roster!$B$1","v":"Upton"},"Lusk   ","2018-02-23",1,0,0,2,3,3,5,1,2,2,4,0,3,1,7,{"v":0,"d":"0%"},{"v":0,"d":"0%"},{"v":0.6,"d":"60%"},{"v":0,"d":"0%"},23,"Jayden Caylor, 12 - Lusk    2/23/2018","",{"$f":"Season_Summary!$P$1","v":"2A BB"}]
["Clayton Louderback, 23",{"$f":"Roster!$B$1","v":"Upton"},"Lusk   ","2018-02-23",1,1,1,5,10,5,6,4,9,6,2,0,1,3,18,{"v":0,"d":"0%"},{"v":0.5,"d":"50%"},{"v":0.8333333333333334,"d":"83%"},{"v":0.5454545454545454,"d":"55%"},23,"Clayton Louderback, 23 - Lusk    2/23/2018","",{"$f":"Season_Summary!$P$1","v":"2A BB"}]
["Jess Claycomb, 10",{"$f":"Roster!$B$1","v":"Upton"},"Lusk   ","2018-02-23",1,0,1,3,5,3,6,1,3,1,3,0,2,2,9,{"v":0,"d":"0%"},{"v":0.6,"d":"60%"},{"v":0.5,"d":"50%"},{"v":0.5,"d":"50%"},23,"Jess Claycomb, 10 - Lusk    2/23/2018","",{"$f":"Season_Summary!$P$1","v":"2A BB"}]
["Maxx Cowger, 4",{"$f":"Roster!$B$1","v":"Upton"},"Lusk   ","2018-02-23",0,0,0,0,0,0,0,0,0,0,0,0,0,0,"",{"v":0,"d":"0%"},{"v":0,"d":"0%"},{"v":0,"d":"0%"},{"v":0,"d":"0%"},23,"Maxx Cowger, 4 - Lusk    2/23/2018","",{"$f":"Season_Summary!$P$1","v":"2A BB"}]
["Brayden Bruce, 22",{"$f":"Roster!$B$1","v":"Upton"},"Lusk   ","2018-02-23",1,0,0,2,2,0,2,1,1,5,2,0,1,0,4,{"v":0,"d":"0%"},{"v":0,"d":"0%"},{"v":0,"d":"0%"},{"v":0,"d":"0%"},23,"Brayden Bruce, 22 - Lusk    2/23/2018","",{"$f":"Season_Summary!$P$1","v":"2A BB"}]
["Jo Bishop, 30",{"$f":"Roster!$B$1","v":"Upton"},"Lusk   ","2018-02-23",1,0,1,0,0,0,0,0,2,1,0,0,1,0,"",{"v":0,"d":"0%"},{"v":0,"d":"0%"},{"v":0,"d":"0%"},{"v":0,"d":"0%"},23,"Jo Bishop, 30 - Lusk    2/23/2018","",{"$f":"Season_Summary!$P$1","v":"2A BB"}]
["Nolan Turner, 33",{"$f":"Roster!$B$1","v":"Upton"},"Lusk   ","2018-02-23",1,0,0,3,3,0,0,0,2,0,0,0,0,1,6,{"v":0,"d":"0%"},{"v":0,"d":"0%"},{"v":0,"d":"0%"},{"v":0,"d":"0%"},23,"Nolan Turner, 33 - Lusk    2/23/2018","",{"$f":"Season_Summary!$P$1","v":"2A BB"}]
["Robert Crawford, 32",{"$f":"Roster!$B$1","v":"Upton"},"Lusk   ","2018-02-23",1,0,0,0,0,0,0,0,0,0,0,0,1,0,"",{"v":0,"d":"0%"},{"v":0,"d":"0%"},{"v":0,"d":"0%"},{"v":0,"d":"0%"},23,"Robert Crawford, 32 - Lusk    2/23/2018","",{"$f":"Season_Summary!$P$1","v":"2A BB"}]
["Jace Bruce, 40",{"$f":"Roster!$B$1","v":"Upton"},"Lusk   ","2018-02-23",1,0,0,0,0,0,0,0,0,0,0,0,0,0,"",{"v":0,"d":"0%"},{"v":0,"d":"0%"},{"v":0,"d":"0%"},{"v":0,"d":"0%"},23,"Jace Bruce, 40 - Lusk    2/23/2018","",{"$f":"Season_Summary!$P$1","v":"2A BB"}]
["Ethan Mills, 2",{"$f":"Roster!$B$1","v":"Upton"},"Lusk   ","2018-02-23",0,0,0,0,0,0,0,0,0,0,0,0,0,0,"",{"v":0,"d":"0%"},{"v":0,"d":"0%"},{"v":0,"d":"0%"},{"v":0,"d":"0%"},23,"Ethan Mills, 2 - Lusk    2/23/2018","",{"$f":"Season_Summary!$P$1","v":"2A BB"}]
["Bridger Alishouse, 2",{"$f":"Roster!$B$1","v":"Upton"},"Lusk   ","2018-02-23",0,0,0,0,0,0,0,0,0,0,0,0,0,0,"",{"v":0,"d":"0%"},{"v":0,"d":"0%"},{"v":0,"d":"0%"},{"v":0,"d":"0%"},23,"Bridger Alishouse, 2 - Lusk    2/23/2018","",{"$f":"Season_Summary!$P$1","v":"2A BB"}]
["Landon Keever, 4",{"$f":"Roster!$B$1","v":"Upton"},"Lusk   ","2018-02-23",0,0,0,0,0,0,0,0,0,0,0,0,0,0,"",{"v":0,"d":"0%"},{"v":0,"d":"0%"},{"v":0,"d":"0%"},{"v":0,"d":"0%"},23,"Landon Keever, 4 - Lusk    2/23/2018","",{"$f":"Season_Summary!$P$1","v":"2A BB"}]
["DJ Till, 4",{"$f":"Roster!$B$1","v":"Upton"},"Lusk   ","2018-02-23",0,0,0,0,0,0,0,0,0,0,0,0,0,0,"",{"v":0,"d":"0%"},{"v":0,"d":"0%"},{"v":0,"d":"0%"},{"v":0,"d":"0%"},23,"DJ Till, 4 - Lusk    2/23/2018","",{"$f":"Season_Summary!$P$1","v":"2A BB"}]
[", ",{"$f":"Roster!$B$1","v":"Upton"},"Lusk   ","2018-02-23",0,0,0,0,0,0,0,0,0,0,0,0,0,0,"",{"v":0,"d":"0%"},{"v":0,"d":"0%"},{"v":0,"d":"0%"},{"v":0,"d":"0%"},23,",  - Lusk    2/23/2018","",{"$f":"Season_Summary!$P$1","v":"2A BB"}]
[", ",{"$f":"Roster!$B$1","v":"Upton"},"Lusk   ","2018-02-23",0,0,0,0,0,0,0,0,0,0,0,0,0,0,"",{"v":0,"d":"0%"},{"v":0,"d":"0%"},{"v":0,"d":"0%"},{"v":0,"d":"0%"},23,",  - Lusk    2/23/2018","",{"$f":"Season_Summary!$P$1","v":"2A BB"}]
[", ",{"$f":"Roster!$B$1","v":"Upton"},"Lusk   ","2018-02-23",0,0,0,0,0,0,0,0,0,0,0,0,0,0,"",{"v":0,"d":"0%"},{"v":0,"d":"0%"},{"v":0,"d":"0%"},{"v":0,"d":"0%"},23,",  - Lusk    2/23/2018","",{"$f":"Season_Summary!$P$1","v":"2A BB"}]
[", ",{"$f":"Roster!$B$1","v":"Upton"},"Lusk   ","2018-02-23",0,0,0,0,0,0,0,0,0,0,0,0,0,0,"",{"v":0,"d":"0%"},{"v":0,"d":"0%"},{"v":0,"d":"0%"},{"v":0,"d":"0%"},23,",  - Lusk    2/23/2018","",{"$f":"Season_Summary!$P$1","v":"2A BB"}]
[", ",{"$f":"Roster!$B$1","v":"Upton"},"Lusk   ","2018-02-23",0,0,0,0,0,0,0,0,0,0,0,0,0,0,"",{"v":0,"d":"0%"},{"v":0,"d":"0%"},{"v":0,"d":"0%"},{"v":0,"d":"0%"},23,",  - Lusk    2/23/2018","",{"$f":"Season_Summary!$P$1","v":"2A BB"}]
[", ",{"$f":"Roster!$B$1","v":"Upton"},"Lusk   ","2018-02-23",0,0,0,0,0,0,0,0,0,0,0,0,0,0,"",{"v":0,"d":"0%"},{"v":0,"d":"0%"},{"v":0,"d":"0%"},{"v":0,"d":"0%"},23,",  - Lusk    2/23/2018","",{"$f":"Season_Summary!$P$1","v":"2A BB"}]
[", ",{"$f":"Roster!$B$1","v":"Upton"},"Lusk   ","2018-02-23",0,0,0,0,0,0,0,0,0,0,0,0,0,0,"",{"v":0,"d":"0%"},{"v":0,"d":"0%"},{"v":0,"d":"0%"},{"v":0,"d":"0%"},23,",  - Lusk    2/23/2018","",{"$f":"Season_Summary!$P$1","v":"2A BB"}]
["Team, ",{"$f":"Roster!$B$1","v":"Upton"},"Lusk   ","2018-02-23",1,0,0,0,0,0,0,2,0,0,0,0,0,0,"",{"v":0,"d":"0%"},{"v":0,"d":"0%"},{"v":0,"d":"0%"},{"v":0,"d":"0%"},23,"Team,  - Lusk    2/23/2018","",{"$f":"Season_Summary!$P$1","v":"2A BB"}]
["Payton Watt, 24",{"$f":"Roster!$B$1","v":"Upton"},"Big Horn","2018-02-24",1,0,2,9,15,2,4,5,7,4,0,0,1,3,20,{"v":0,"d":"0%"},{"v":0.6,"d":"60%"},{"v":0,"d":"0%"},{"v":0.5294117647058824,"d":"53%"},24,"Payton Watt, 24 - Big Horn 2/24/2018","",{"$f":"Season_Summary!$P$1","v":"2A BB"}]
["Dillon Barritt, 20",{"$f":"Roster!$B$1","v":"Upton"},"Big Horn","2018-02-24",1,2,5,0,1,4,4,0,1,1,1,0,2,0,10,{"v":0.4,"d":"40%"},{"v":0,"d":"0%"},{"v":0,"d":"0%"},{"v":0.3333333333333333,"d":"33%"},24,"Dillon Barritt, 20 - Big Horn 2/24/2018","",{"$f":"Season_Summary!$P$1","v":"2A BB"}]
["Dawson Butts, 14",{"$f":"Roster!$B$1","v":"Upton"},"Big Horn","2018-02-24",1,0,0,1,2,0,0,2,1,1,1,0,3,4,2,{"v":0,"d":"0%"},{"v":0,"d":"0%"},{"v":0,"d":"0%"},{"v":0,"d":"0%"},24,"Dawson Butts, 14 - Big Horn 2/24/2018","",{"$f":"Season_Summary!$P$1","v":"2A BB"}]
["Jayden Caylor, 12",{"$f":"Roster!$B$1","v":"Upton"},"Big Horn","2018-02-24",1,0,0,0,2,3,4,1,2,3,2,0,2,5,3,{"v":0,"d":"0%"},{"v":0,"d":"0%"},{"v":0,"d":"0%"},{"v":0,"d":"0%"},24,"Jayden Caylor, 12 - Big Horn 2/24/2018","",{"$f":"Season_Summary!$P$1","v":"2A BB"}]
["Clayton Louderback, 23",{"$f":"Roster!$B$1","v":"Upton"},"Big Horn","2018-02-24",1,1,4,10,17,7,12,3,6,1,3,0,3,3,30,{"v":0,"d":"0%"},{"v":0.5882352941176471,"d":"59%"},{"v":0.5833333333333334,"d":"58%"},{"v":0.5238095238095238,"d":"52%"},24,"Clayton Louderback, 23 - Big Horn 2/24/2018","",{"$f":"Season_Summary!$P$1","v":"2A BB"}]
["Jess Claycomb, 10",{"$f":"Roster!$B$1","v":"Upton"},"Big Horn","2018-02-24",1,0,0,0,3,0,2,1,4,2,1,0,3,4,"",{"v":0,"d":"0%"},{"v":0,"d":"0%"},{"v":0,"d":"0%"},{"v":0,"d":"0%"},24,"Jess Claycomb, 10 - Big Horn 2/24/2018","",{"$f":"Season_Summary!$P$1","v":"2A BB"}]
["Maxx Cowger, 4",{"$f":"Roster!$B$1","v":"Upton"},"Big Horn","2018-02-24",0,0,0,0,0,0,0,0,0,0,0,0,0,0,"",{"v":0,"d":"0%"},{"v":0,"d":"0%"},{"v":0,"d":"0%"},{"v":0,"d":"0%"},24,"Maxx Cowger, 4 - Big Horn 2/24/2018","",{"$f":"Season_Summary!$P$1","v":"2A BB"}]
["Brayden Bruce, 22",{"$f":"Roster!$B$1","v":"Upton"},"Big Horn","2018-02-24",1,0,0,1,3,6,8,2,1,1,1,0,1,2,8,{"v":0,"d":"0%"},{"v":0,"d":"0%"},{"v":0.75,"d":"75%"},{"v":0,"d":"0%"},24,"Brayden Bruce, 22 - Big Horn 2/24/2018","",{"$f":"Season_Summary!$P$1","v":"2A BB"}]
["Jo Bishop, 30",{"$f":"Roster!$B$1","v":"Upton"},"Big Horn","2018-02-24",0,0,0,0,0,0,0,0,0,0,0,0,0,0,"",{"v":0,"d":"0%"},{"v":0,"d":"0%"},{"v":0,"d":"0%"},{"v":0,"d":"0%"},24,"Jo Bishop, 30 - Big Horn 2/24/2018","",{"$f":"Season_Summary!$P$1","v":"2A BB"}]
["Nolan Turner, 33",{"$f":"Roster!$B$1","v":"Upton"},"Big Horn","2018-02-24",0,0,0,0,0,0,0,0,0,0,0,0,0,0,"",{"v":0,"d":"0%"},{"v":0,"d":"0%"},{"v":0,"d":"0%"},{"v":0,"d":"0%"},24,"Nolan Turner, 33 - Big Horn 2/24/2018","",{"$f":"Season_Summary!$P$1","v":"2A BB"}]
["Robert Crawford, 32",{"$f":"Roster!$B$1","v":"Upton"},"Big Horn","2018-02-24",0,0,0,0,0,0,0,0,0,0,0,0,0,0,"",{"v":0,"d":"0%"},{"v":0,"d":"0%"},{"v":0,"d":"0%"},{"v":0,"d":"0%"},24,"Robert Crawford, 32 - Big Horn 2/24/2018","",{"$f":"Season_Summary!$P$1","v":"2A BB"}]
["Jace Bruce, 40",{"$f":"Roster!$B$1","v":"Upton"},"Big Horn","2018-02-24",0,0,0,0,0,0,0,0,0,0,0,0,0,0,"",{"v":0,"d":"0%"},{"v":0,"d":"0%"},{"v":0,"d":"0%"},{"v":0,"d":"0%"},24,"Jace Bruce, 40 - Big Horn 2/24/2018","",{"$f":"Season_Summary!$P$1","v":"2A BB"}]
["Ethan Mills, 2",{"$f":"Roster!$B$1","v":"Upton"},"Big Horn","2018-02-24",0,0,0,0,0,0,0,0,0,0,0,0,0,0,"",{"v":0,"d":"0%"},{"v":0,"d":"0%"},{"v":0,"d":"0%"},{"v":0,"d":"0%"},24,"Ethan Mills, 2 - Big Horn 2/24/2018","",{"$f":"Season_Summary!$P$1","v":"2A BB"}]
["Bridger Alishouse, 2",{"$f":"Roster!$B$1","v":"Upton"},"Big Horn","2018-02-24",0,0,0,0,0,0,0,0,0,0,0,0,0,0,"",{"v":0,"d":"0%"},{"v":0,"d":"0%"},{"v":0,"d":"0%"},{"v":0,"d":"0%"},24,"Bridger Alishouse, 2 - Big Horn 2/24/2018","",{"$f":"Season_Summary!$P$1","v":"2A BB"}]
["Landon Keever, 4",{"$f":"Roster!$B$1","v":"Upton"},"Big Horn","2018-02-24",0,0,0,0,0,0,0,0,0,0,0,0,0,0,"",{"v":0,"d":"0%"},{"v":0,"d":"0%"},{"v":0,"d":"0%"},{"v":0,"d":"0%"},24,"Landon Keever, 4 - Big Horn 2/24/2018","",{"$f":"Season_Summary!$P$1","v":"2A BB"}]
["DJ Till, 4",{"$f":"Roster!$B$1","v":"Upton"},"Big Horn","2018-02-24",0,0,0,0,0,0,0,0,0,0,0,0,0,0,"",{"v":0,"d":"0%"},{"v":0,"d":"0%"},{"v":0,"d":"0%"},{"v":0,"d":"0%"},24,"DJ Till, 4 - Big Horn 2/24/2018","",{"$f":"Season_Summary!$P$1","v":"2A BB"}]
[", ",{"$f":"Roster!$B$1","v":"Upton"},"Big Horn","2018-02-24",0,0,0,0,0,0,0,0,0,0,0,0,0,0,"",{"v":0,"d":"0%"},{"v":0,"d":"0%"},{"v":0,"d":"0%"},{"v":0,"d":"0%"},24,",  - Big Horn 2/24/2018","",{"$f":"Season_Summary!$P$1","v":"2A BB"}]
[", ",{"$f":"Roster!$B$1","v":"Upton"},"Big Horn","2018-02-24",0,0,0,0,0,0,0,0,0,0,0,0,0,0,"",{"v":0,"d":"0%"},{"v":0,"d":"0%"},{"v":0,"d":"0%"},{"v":0,"d":"0%"},24,",  - Big Horn 2/24/2018","",{"$f":"Season_Summary!$P$1","v":"2A BB"}]
[", ",{"$f":"Roster!$B$1","v":"Upton"},"Big Horn","2018-02-24",0,0,0,0,0,0,0,0,0,0,0,0,0,0,"",{"v":0,"d":"0%"},{"v":0,"d":"0%"},{"v":0,"d":"0%"},{"v":0,"d":"0%"},24,",  - Big Horn 2/24/2018","",{"$f":"Season_Summary!$P$1","v":"2A BB"}]
[", ",{"$f":"Roster!$B$1","v":"Upton"},"Big Horn","2018-02-24",0,0,0,0,0,0,0,0,0,0,0,0,0,0,"",{"v":0,"d":"0%"},{"v":0,"d":"0%"},{"v":0,"d":"0%"},{"v":0,"d":"0%"},24,",  - Big Horn 2/24/2018","",{"$f":"Season_Summary!$P$1","v":"2A BB"}]
[", ",{"$f":"Roster!$B$1","v":"Upton"},"Big Horn","2018-02-24",0,0,0,0,0,0,0,0,0,0,0,0,0,0,"",{"v":0,"d":"0%"},{"v":0,"d":"0%"},{"v":0,"d":"0%"},{"v":0,"d":"0%"},24,",  - Big Horn 2/24/2018","",{"$f":"Season_Summary!$P$1","v":"2A BB"}]
[", ",{"$f":"Roster!$B$1","v":"Upton"},"Big Horn","2018-02-24",0,0,0,0,0,0,0,0,0,0,0,0,0,0,"",{"v":0,"d":"0%"},{"v":0,"d":"0%"},{"v":0,"d":"0%"},{"v":0,"d":"0%"},24,",  - Big Horn 2/24/2018","",{"$f":"Season_Summary!$P$1","v":"2A BB"}]
[", ",{"$f":"Roster!$B$1","v":"Upton"},"Big Horn","2018-02-24",0,0,0,0,0,0,0,0,0,0,0,0,0,0,"",{"v":0,"d":"0%"},{"v":0,"d":"0%"},{"v":0,"d":"0%"},{"v":0,"d":"0%"},24,",  - Big Horn 2/24/2018","",{"$f":"Season_Summary!$P$1","v":"2A BB"}]
["Team, ",{"$f":"Roster!$B$1","v":"Upton"},"Big Horn","2018-02-24",1,0,0,0,0,0,0,2,2,0,0,0,0,0,"",{"v":0,"d":"0%"},{"v":0,"d":"0%"},{"v":0,"d":"0%"},{"v":0,"d":"0%"},24,"Team,  - Big Horn 2/24/2018","",{"$f":"Season_Summary!$P$1","v":"2A BB"}]
["Payton Watt, 24",{"$f":"Roster!$B$1","v":"Upton"},"Wright  ","2018-02-24",{"$f":"INDIRECT(\"'game1 (\"&$X583&\")'!\"&ADDRESS(ROW(A$7)+MOD(ROW(A583)-7,24),COLUMN(C583)))","v":1},{"$f":"INDIRECT(\"'game1 (\"&$X583&\")'!\"&ADDRESS(ROW(B$7)+MOD(ROW(B583)-7,24),COLUMN(D583)))","v":6},{"$f":"INDIRECT(\"'game1 (\"&$X583&\")'!\"&ADDRESS(ROW(C$7)+MOD(ROW(C583)-7,24),COLUMN(E583)))","v":10},{"$f":"INDIRECT(\"'game1 (\"&$X583&\")'!\"&ADDRESS(ROW(D$7)+MOD(ROW(D583)-7,24),COLUMN(F583)))","v":4},{"$f":"INDIRECT(\"'game1 (\"&$X583&\")'!\"&ADDRESS(ROW(E$7)+MOD(ROW(E583)-7,24),COLUMN(G583)))","v":4},{"$f":"INDIRECT(\"'game1 (\"&$X583&\")'!\"&ADDRESS(ROW(F$7)+MOD(ROW(F583)-7,24),COLUMN(H583)))","v":4},{"$f":"INDIRECT(\"'game1 (\"&$X583&\")'!\"&ADDRESS(ROW(G$7)+MOD(ROW(G583)-7,24),COLUMN(I583)))","v":5},{"$f":"INDIRECT(\"'game1 (\"&$X583&\")'!\"&ADDRESS(ROW(H$7)+MOD(ROW(H583)-7,24),COLUMN(J583)))","v":0},{"$f":"INDIRECT(\"'game1 (\"&$X583&\")'!\"&ADDRESS(ROW(I$7)+MOD(ROW(I583)-7,24),COLUMN(K583)))","v":6},{"$f":"INDIRECT(\"'game1 (\"&$X583&\")'!\"&ADDRESS(ROW(J$7)+MOD(ROW(J583)-7,24),COLUMN(L583)))","v":2},{"$f":"INDIRECT(\"'game1 (\"&$X583&\")'!\"&ADDRESS(ROW(K$7)+MOD(ROW(K583)-7,24),COLUMN(M583)))","v":1},{"$f":"INDIRECT(\"'game1 (\"&$X583&\")'!\"&ADDRESS(ROW(L$7)+MOD(ROW(L583)-7,24),COLUMN(N583)))","v":0},{"$f":"INDIRECT(\"'game1 (\"&$X583&\")'!\"&ADDRESS(ROW(M$7)+MOD(ROW(M583)-7,24),COLUMN(O583)))","v":2},{"$f":"INDIRECT(\"'game1 (\"&$X583&\")'!\"&ADDRESS(ROW(N$7)+MOD(ROW(N583)-7,24),COLUMN(P583)))","v":2},{"$f":"INDIRECT(\"'game1 (\"&$X583&\")'!\"&ADDRESS(ROW(O$7)+MOD(ROW(O583)-7,24),COLUMN(Q583)))","v":30},{"v":0.6,"d":"60%"},{"v":0,"d":"0%"},{"v":0.8,"d":"80%"},{"v":0.7142857142857143,"d":"71%"},{"$f":"INT((ROW(A583)-7)/24)+1","v":25},"Payton Watt, 24 - Wright   2/24/2018","",{"$f":"Season_Summary!$P$1","v":"2A BB"}]
[{"$f":"CONCATENATE(INDIRECT(\"Roster!B\"&ROW(A$7)+MOD(ROW(A584)-7,24)),\", \",INDIRECT(\"Roster!a\"&ROW(A$7)+MOD(ROW(A584)-7,24)))","v":"Dillon Barritt, 20"},{"$f":"Roster!$B$1","v":"Upton"},{"$f":"INDIRECT(\"'game1 (\"&$X584&\")'!$C$2\")","v":"Wright  "},{"$f":"INDIRECT(\"'game1 (\"&$X584&\")'!$k$2\")","v":"2018-02-24"},1,1,8,1,2,2,2,2,1,3,2,0,0,3,7,{"$f":"IF(G584<$D$2,0,INDIRECT(\"'game1 (\"&$X584&\")'!\"&ADDRESS(ROW(M$7)+MOD(ROW(M584)-7,24),COLUMN(R584))))","v":{"v":0.125,"d":"13%"}},{"$f":"IF(I584<$D$2,0,INDIRECT(\"'game1 (\"&$X584&\")'!\"&ADDRESS(ROW(N$7)+MOD(ROW(N584)-7,24),COLUMN(S584))))","v":{"v":0,"d":"0%"}},{"$f":"IF(K584<$D$2,0,INDIRECT(\"'game1 (\"&$X584&\")'!\"&ADDRESS(ROW(O$7)+MOD(ROW(O584)-7,24),COLUMN(T584))))","v":{"v":0,"d":"0%"}},{"$f":"IF(G584+I584<$D$2,0,INDIRECT(\"'game1 (\"&$X584&\")'!\"&ADDRESS(ROW(O$7)+MOD(ROW(O584)-7,24),COLUMN(U584))))","v":{"v":0.2,"d":"20%"}},25,{"$f":"CONCATENATE(A584,\" - \",C584,\" \",MONTH(D584),\"/\",DAY(D584),\"/\",YEAR(D584))","v":"Dillon Barritt, 20 - Wright   2/24/2018"},{"$f":"IFERROR(INDIRECT(\"'game1 (\"&$X584&\")'!$a$2\"),\"\")","v":""},{"$f":"Season_Summary!$P$1","v":"2A BB"}]
["Dawson Butts, 14",{"$f":"Roster!$B$1","v":"Upton"},"Wright  ","2018-02-24",1,0,0,1,6,2,2,3,2,2,1,0,2,1,4,{"v":0,"d":"0%"},{"v":0.16666666666666666,"d":"17%"},{"v":0,"d":"0%"},{"v":0.16666666666666666,"d":"17%"},25,"Dawson Butts, 14 - Wright   2/24/2018","",{"$f":"Season_Summary!$P$1","v":"2A BB"}]
["Jayden Caylor, 12",{"$f":"Roster!$B$1","v":"Upton"},"Wright  ","2018-02-24",1,0,0,2,2,1,3,1,1,2,4,0,1,1,5,{"v":0,"d":"0%"},{"v":0,"d":"0%"},{"v":0,"d":"0%"},{"v":0,"d":"0%"},25,"Jayden Caylor, 12 - Wright   2/24/2018","",{"$f":"Season_Summary!$P$1","v":"2A BB"}]
["Clayton Louderback, 23",{"$f":"Roster!$B$1","v":"Upton"},"Wright  ","2018-02-24",1,0,2,8,12,2,6,4,1,8,3,0,0,3,18,{"v":0,"d":"0%"},{"v":0.6666666666666666,"d":"67%"},{"v":0.3333333333333333,"d":"33%"},{"v":0.5714285714285714,"d":"57%"},25,"Clayton Louderback, 23 - Wright   2/24/2018","",{"$f":"Season_Summary!$P$1","v":"2A BB"}]
["Jess Claycomb, 10",{"$f":"Roster!$B$1","v":"Upton"},"Wright  ","2018-02-24",1,2,6,1,5,4,4,1,4,2,2,0,0,1,12,{"v":0.3333333333333333,"d":"33%"},{"v":0.2,"d":"20%"},{"v":0,"d":"0%"},{"v":0.2727272727272727,"d":"27%"},25,"Jess Claycomb, 10 - Wright   2/24/2018","",{"$f":"Season_Summary!$P$1","v":"2A BB"}]
["Maxx Cowger, 4",{"$f":"Roster!$B$1","v":"Upton"},"Wright  ","2018-02-24",0,0,0,0,0,0,0,0,0,0,0,0,0,0,"",{"v":0,"d":"0%"},{"v":0,"d":"0%"},{"v":0,"d":"0%"},{"v":0,"d":"0%"},25,"Maxx Cowger, 4 - Wright   2/24/2018","",{"$f":"Season_Summary!$P$1","v":"2A BB"}]
["Brayden Bruce, 22",{"$f":"Roster!$B$1","v":"Upton"},"Wright  ","2018-02-24",1,0,1,1,5,4,4,5,3,4,1,0,2,1,6,{"v":0,"d":"0%"},{"v":0.2,"d":"20%"},{"v":0,"d":"0%"},{"v":0.16666666666666666,"d":"17%"},25,"Brayden Bruce, 22 - Wright   2/24/2018","",{"$f":"Season_Summary!$P$1","v":"2A BB"}]
["Jo Bishop, 30",{"$f":"Roster!$B$1","v":"Upton"},"Wright  ","2018-02-24",1,0,0,0,1,0,0,0,0,0,0,0,0,0,"",{"v":0,"d":"0%"},{"v":0,"d":"0%"},{"v":0,"d":"0%"},{"v":0,"d":"0%"},25,"Jo Bishop, 30 - Wright   2/24/2018","",{"$f":"Season_Summary!$P$1","v":"2A BB"}]
["Nolan Turner, 33",{"$f":"Roster!$B$1","v":"Upton"},"Wright  ","2018-02-24",1,0,0,0,0,0,0,1,2,0,0,0,0,0,"",{"v":0,"d":"0%"},{"v":0,"d":"0%"},{"v":0,"d":"0%"},{"v":0,"d":"0%"},25,"Nolan Turner, 33 - Wright   2/24/2018","",{"$f":"Season_Summary!$P$1","v":"2A BB"}]
["Robert Crawford, 32",{"$f":"Roster!$B$1","v":"Upton"},"Wright  ","2018-02-24",1,0,1,0,0,0,0,0,0,0,0,0,0,0,"",{"v":0,"d":"0%"},{"v":0,"d":"0%"},{"v":0,"d":"0%"},{"v":0,"d":"0%"},25,"Robert Crawford, 32 - Wright   2/24/2018","",{"$f":"Season_Summary!$P$1","v":"2A BB"}]
["Jace Bruce, 40",{"$f":"Roster!$B$1","v":"Upton"},"Wright  ","2018-02-24",1,0,1,0,1,0,0,0,0,0,0,0,0,0,"",{"v":0,"d":"0%"},{"v":0,"d":"0%"},{"v":0,"d":"0%"},{"v":0,"d":"0%"},25,"Jace Bruce, 40 - Wright   2/24/2018","",{"$f":"Season_Summary!$P$1","v":"2A BB"}]
["Ethan Mills, 2",{"$f":"Roster!$B$1","v":"Upton"},"Wright  ","2018-02-24",0,0,0,0,0,0,0,0,0,0,0,0,0,0,"",{"v":0,"d":"0%"},{"v":0,"d":"0%"},{"v":0,"d":"0%"},{"v":0,"d":"0%"},25,"Ethan Mills, 2 - Wright   2/24/2018","",{"$f":"Season_Summary!$P$1","v":"2A BB"}]
["Bridger Alishouse, 2",{"$f":"Roster!$B$1","v":"Upton"},"Wright  ","2018-02-24",0,0,0,0,0,0,0,0,0,0,0,0,0,0,"",{"v":0,"d":"0%"},{"v":0,"d":"0%"},{"v":0,"d":"0%"},{"v":0,"d":"0%"},25,"Bridger Alishouse, 2 - Wright   2/24/2018","",{"$f":"Season_Summary!$P$1","v":"2A BB"}]
["Landon Keever, 4",{"$f":"Roster!$B$1","v":"Upton"},"Wright  ","2018-02-24",0,0,0,0,0,0,0,0,0,0,0,0,0,0,"",{"v":0,"d":"0%"},{"v":0,"d":"0%"},{"v":0,"d":"0%"},{"v":0,"d":"0%"},25,"Landon Keever, 4 - Wright   2/24/2018","",{"$f":"Season_Summary!$P$1","v":"2A BB"}]
["DJ Till, 4",{"$f":"Roster!$B$1","v":"Upton"},"Wright  ","2018-02-24",0,0,0,0,0,0,0,0,0,0,0,0,0,0,"",{"v":0,"d":"0%"},{"v":0,"d":"0%"},{"v":0,"d":"0%"},{"v":0,"d":"0%"},25,"DJ Till, 4 - Wright   2/24/2018","",{"$f":"Season_Summary!$P$1","v":"2A BB"}]
[", ",{"$f":"Roster!$B$1","v":"Upton"},"Wright  ","2018-02-24",0,0,0,0,0,0,0,0,0,0,0,0,0,0,"",{"v":0,"d":"0%"},{"v":0,"d":"0%"},{"v":0,"d":"0%"},{"v":0,"d":"0%"},25,",  - Wright   2/24/2018","",{"$f":"Season_Summary!$P$1","v":"2A BB"}]
[", ",{"$f":"Roster!$B$1","v":"Upton"},"Wright  ","2018-02-24",0,0,0,0,0,0,0,0,0,0,0,0,0,0,"",{"v":0,"d":"0%"},{"v":0,"d":"0%"},{"v":0,"d":"0%"},{"v":0,"d":"0%"},25,",  - Wright   2/24/2018","",{"$f":"Season_Summary!$P$1","v":"2A BB"}]
[", ",{"$f":"Roster!$B$1","v":"Upton"},"Wright  ","2018-02-24",0,0,0,0,0,0,0,0,0,0,0,0,0,0,"",{"v":0,"d":"0%"},{"v":0,"d":"0%"},{"v":0,"d":"0%"},{"v":0,"d":"0%"},25,",  - Wright   2/24/2018","",{"$f":"Season_Summary!$P$1","v":"2A BB"}]
[", ",{"$f":"Roster!$B$1","v":"Upton"},"Wright  ","2018-02-24",0,0,0,0,0,0,0,0,0,0,0,0,0,0,"",{"v":0,"d":"0%"},{"v":0,"d":"0%"},{"v":0,"d":"0%"},{"v":0,"d":"0%"},25,",  - Wright   2/24/2018","",{"$f":"Season_Summary!$P$1","v":"2A BB"}]
[", ",{"$f":"Roster!$B$1","v":"Upton"},"Wright  ","2018-02-24",0,0,0,0,0,0,0,0,0,0,0,0,0,0,"",{"v":0,"d":"0%"},{"v":0,"d":"0%"},{"v":0,"d":"0%"},{"v":0,"d":"0%"},25,",  - Wright   2/24/2018","",{"$f":"Season_Summary!$P$1","v":"2A BB"}]
[", ",{"$f":"Roster!$B$1","v":"Upton"},"Wright  ","2018-02-24",0,0,0,0,0,0,0,0,0,0,0,0,0,0,"",{"v":0,"d":"0%"},{"v":0,"d":"0%"},{"v":0,"d":"0%"},{"v":0,"d":"0%"},25,",  - Wright   2/24/2018","",{"$f":"Season_Summary!$P$1","v":"2A BB"}]
[", ",{"$f":"Roster!$B$1","v":"Upton"},"Wright  ","2018-02-24",0,0,0,0,0,0,0,0,0,0,0,0,0,0,"",{"v":0,"d":"0%"},{"v":0,"d":"0%"},{"v":0,"d":"0%"},{"v":0,"d":"0%"},25,",  - Wright   2/24/2018","",{"$f":"Season_Summary!$P$1","v":"2A BB"}]
["Team, ",{"$f":"Roster!$B$1","v":"Upton"},"Wright  ","2018-02-24",1,0,0,0,0,0,0,1,4,0,0,0,0,0,"",{"v":0,"d":"0%"},{"v":0,"d":"0%"},{"v":0,"d":"0%"},{"v":0,"d":"0%"},25,"Team,  - Wright   2/24/2018","",{"$f":"Season_Summary!$P$1","v":"2A BB"}]
["Payton Watt, 24",{"$f":"Roster!$B$1","v":"Upton"},"Wyoming Indian","2018-03-01",1,3,9,5,9,3,4,1,5,2,1,0,3,1,22,{"v":0.3333333333333333,"d":"33%"},{"v":0.5555555555555556,"d":"56%"},{"v":0,"d":"0%"},{"v":0.4444444444444444,"d":"44%"},26,"Payton Watt, 24 - Wyoming Indian 3/1/2018","",{"$f":"Season_Summary!$P$1","v":"2A BB"}]
["Dillon Barritt, 20",{"$f":"Roster!$B$1","v":"Upton"},"Wyoming Indian","2018-03-01",1,1,5,0,3,1,4,2,6,4,0,0,3,2,4,{"v":0.2,"d":"20%"},{"v":0,"d":"0%"},{"v":0,"d":"0%"},{"v":0.125,"d":"13%"},26,"Dillon Barritt, 20 - Wyoming Indian 3/1/2018","",{"$f":"Season_Summary!$P$1","v":"2A BB"}]
["Dawson Butts, 14",{"$f":"Roster!$B$1","v":"Upton"},"Wyoming Indian","2018-03-01",1,0,0,1,1,0,3,1,2,0,3,0,1,2,2,{"v":0,"d":"0%"},{"v":0,"d":"0%"},{"v":0,"d":"0%"},{"v":0,"d":"0%"},26,"Dawson Butts, 14 - Wyoming Indian 3/1/2018","",{"$f":"Season_Summary!$P$1","v":"2A BB"}]
["Jayden Caylor, 12",{"$f":"Roster!$B$1","v":"Upton"},"Wyoming Indian","2018-03-01",1,0,0,0,2,2,2,0,2,1,1,0,0,1,2,{"v":0,"d":"0%"},{"v":0,"d":"0%"},{"v":0,"d":"0%"},{"v":0,"d":"0%"},26,"Jayden Caylor, 12 - Wyoming Indian 3/1/2018","",{"$f":"Season_Summary!$P$1","v":"2A BB"}]
["Clayton Louderback, 23",{"$f":"Roster!$B$1","v":"Upton"},"Wyoming Indian","2018-03-01",1,1,2,10,13,5,6,4,10,2,2,1,4,4,28,{"v":0,"d":"0%"},{"v":0.7692307692307693,"d":"77%"},{"v":0.8333333333333334,"d":"83%"},{"v":0.7333333333333333,"d":"73%"},26,"Clayton Louderback, 23 - Wyoming Indian 3/1/2018","",{"$f":"Season_Summary!$P$1","v":"2A BB"}]
["Jess Claycomb, 10",{"$f":"Roster!$B$1","v":"Upton"},"Wyoming Indian","2018-03-01",1,0,0,1,2,5,6,1,2,4,1,0,0,4,7,{"v":0,"d":"0%"},{"v":0,"d":"0%"},{"v":0.8333333333333334,"d":"83%"},{"v":0,"d":"0%"},26,"Jess Claycomb, 10 - Wyoming Indian 3/1/2018","",{"$f":"Season_Summary!$P$1","v":"2A BB"}]
["Maxx Cowger, 4",{"$f":"Roster!$B$1","v":"Upton"},"Wyoming Indian","2018-03-01",0,0,0,0,0,0,0,0,0,0,0,0,0,0,"",{"v":0,"d":"0%"},{"v":0,"d":"0%"},{"v":0,"d":"0%"},{"v":0,"d":"0%"},26,"Maxx Cowger, 4 - Wyoming Indian 3/1/2018","",{"$f":"Season_Summary!$P$1","v":"2A BB"}]
["Brayden Bruce, 22",{"$f":"Roster!$B$1","v":"Upton"},"Wyoming Indian","2018-03-01",1,0,0,1,1,0,0,0,1,2,1,0,1,0,2,{"v":0,"d":"0%"},{"v":0,"d":"0%"},{"v":0,"d":"0%"},{"v":0,"d":"0%"},26,"Brayden Bruce, 22 - Wyoming Indian 3/1/2018","",{"$f":"Season_Summary!$P$1","v":"2A BB"}]
["Jo Bishop, 30",{"$f":"Roster!$B$1","v":"Upton"},"Wyoming Indian","2018-03-01",0,0,0,0,0,0,0,0,0,0,0,0,0,0,"",{"v":0,"d":"0%"},{"v":0,"d":"0%"},{"v":0,"d":"0%"},{"v":0,"d":"0%"},26,"Jo Bishop, 30 - Wyoming Indian 3/1/2018","",{"$f":"Season_Summary!$P$1","v":"2A BB"}]
["Nolan Turner, 33",{"$f":"Roster!$B$1","v":"Upton"},"Wyoming Indian","2018-03-01",0,0,0,0,0,0,0,0,0,0,0,0,0,0,"",{"v":0,"d":"0%"},{"v":0,"d":"0%"},{"v":0,"d":"0%"},{"v":0,"d":"0%"},26,"Nolan Turner, 33 - Wyoming Indian 3/1/2018","",{"$f":"Season_Summary!$P$1","v":"2A BB"}]
["Robert Crawford, 32",{"$f":"Roster!$B$1","v":"Upton"},"Wyoming Indian","2018-03-01",0,0,0,0,0,0,0,0,0,0,0,0,0,0,"",{"v":0,"d":"0%"},{"v":0,"d":"0%"},{"v":0,"d":"0%"},{"v":0,"d":"0%"},26,"Robert Crawford, 32 - Wyoming Indian 3/1/2018","",{"$f":"Season_Summary!$P$1","v":"2A BB"}]
["Jace Bruce, 40",{"$f":"Roster!$B$1","v":"Upton"},"Wyoming Indian","2018-03-01",0,0,0,0,0,0,0,0,0,0,0,0,0,0,"",{"v":0,"d":"0%"},{"v":0,"d":"0%"},{"v":0,"d":"0%"},{"v":0,"d":"0%"},26,"Jace Bruce, 40 - Wyoming Indian 3/1/2018","",{"$f":"Season_Summary!$P$1","v":"2A BB"}]
["Ethan Mills, 2",{"$f":"Roster!$B$1","v":"Upton"},"Wyoming Indian","2018-03-01",0,0,0,0,0,0,0,0,0,0,0,0,0,0,"",{"v":0,"d":"0%"},{"v":0,"d":"0%"},{"v":0,"d":"0%"},{"v":0,"d":"0%"},26,"Ethan Mills, 2 - Wyoming Indian 3/1/2018","",{"$f":"Season_Summary!$P$1","v":"2A BB"}]
["Bridger Alishouse, 2",{"$f":"Roster!$B$1","v":"Upton"},"Wyoming Indian","2018-03-01",0,0,0,0,0,0,0,0,0,0,0,0,0,0,"",{"v":0,"d":"0%"},{"v":0,"d":"0%"},{"v":0,"d":"0%"},{"v":0,"d":"0%"},26,"Bridger Alishouse, 2 - Wyoming Indian 3/1/2018","",{"$f":"Season_Summary!$P$1","v":"2A BB"}]
["Landon Keever, 4",{"$f":"Roster!$B$1","v":"Upton"},"Wyoming Indian","2018-03-01",0,0,0,0,0,0,0,0,0,0,0,0,0,0,"",{"v":0,"d":"0%"},{"v":0,"d":"0%"},{"v":0,"d":"0%"},{"v":0,"d":"0%"},26,"Landon Keever, 4 - Wyoming Indian 3/1/2018","",{"$f":"Season_Summary!$P$1","v":"2A BB"}]
["DJ Till, 4",{"$f":"Roster!$B$1","v":"Upton"},"Wyoming Indian","2018-03-01",0,0,0,0,0,0,0,0,0,0,0,0,0,0,"",{"v":0,"d":"0%"},{"v":0,"d":"0%"},{"v":0,"d":"0%"},{"v":0,"d":"0%"},26,"DJ Till, 4 - Wyoming Indian 3/1/2018","",{"$f":"Season_Summary!$P$1","v":"2A BB"}]
[", ",{"$f":"Roster!$B$1","v":"Upton"},"Wyoming Indian","2018-03-01",0,0,0,0,0,0,0,0,0,0,0,0,0,0,"",{"v":0,"d":"0%"},{"v":0,"d":"0%"},{"v":0,"d":"0%"},{"v":0,"d":"0%"},26,",  - Wyoming Indian 3/1/2018","",{"$f":"Season_Summary!$P$1","v":"2A BB"}]
[", ",{"$f":"Roster!$B$1","v":"Upton"},"Wyoming Indian","2018-03-01",0,0,0,0,0,0,0,0,0,0,0,0,0,0,"",{"v":0,"d":"0%"},{"v":0,"d":"0%"},{"v":0,"d":"0%"},{"v":0,"d":"0%"},26,",  - Wyoming Indian 3/1/2018","",{"$f":"Season_Summary!$P$1","v":"2A BB"}]
[", ",{"$f":"Roster!$B$1","v":"Upton"},"Wyoming Indian","2018-03-01",0,0,0,0,0,0,0,0,0,0,0,0,0,0,"",{"v":0,"d":"0%"},{"v":0,"d":"0%"},{"v":0,"d":"0%"},{"v":0,"d":"0%"},26,",  - Wyoming Indian 3/1/2018","",{"$f":"Season_Summary!$P$1","v":"2A BB"}]
[", ",{"$f":"Roster!$B$1","v":"Upton"},"Wyoming Indian","2018-03-01",0,0,0,0,0,0,0,0,0,0,0,0,0,0,"",{"v":0,"d":"0%"},{"v":0,"d":"0%"},{"v":0,"d":"0%"},{"v":0,"d":"0%"},26,",  - Wyoming Indian 3/1/2018","",{"$f":"Season_Summary!$P$1","v":"2A BB"}]
[", ",{"$f":"Roster!$B$1","v":"Upton"},"Wyoming Indian","2018-03-01",0,0,0,0,0,0,0,0,0,0,0,0,0,0,"",{"v":0,"d":"0%"},{"v":0,"d":"0%"},{"v":0,"d":"0%"},{"v":0,"d":"0%"},26,",  - Wyoming Indian 3/1/2018","",{"$f":"Season_Summary!$P$1","v":"2A BB"}]
[", ",{"$f":"Roster!$B$1","v":"Upton"},"Wyoming Indian","2018-03-01",0,0,0,0,0,0,0,0,0,0,0,0,0,0,"",{"v":0,"d":"0%"},{"v":0,"d":"0%"},{"v":0,"d":"0%"},{"v":0,"d":"0%"},26,",  - Wyoming Indian 3/1/2018","",{"$f":"Season_Summary!$P$1","v":"2A BB"}]
[", ",{"$f":"Roster!$B$1","v":"Upton"},"Wyoming Indian","2018-03-01",0,0,0,0,0,0,0,0,0,0,0,0,0,0,"",{"v":0,"d":"0%"},{"v":0,"d":"0%"},{"v":0,"d":"0%"},{"v":0,"d":"0%"},26,",  - Wyoming Indian 3/1/2018","",{"$f":"Season_Summary!$P$1","v":"2A BB"}]
["Team, ",{"$f":"Roster!$B$1","v":"Upton"},"Wyoming Indian","2018-03-01",1,0,0,0,0,0,0,1,3,0,0,0,0,0,"",{"v":0,"d":"0%"},{"v":0,"d":"0%"},{"v":0,"d":"0%"},{"v":0,"d":"0%"},26,"Team,  - Wyoming Indian 3/1/2018","",{"$f":"Season_Summary!$P$1","v":"2A BB"}]
["Payton Watt, 24",{"$f":"Roster!$B$1","v":"Upton"},"Pine Bluffs  ","2018-03-02",1,2,4,5,10,2,2,4,4,1,1,0,4,4,18,{"v":0,"d":"0%"},{"v":0.5,"d":"50%"},{"v":0,"d":"0%"},{"v":0.5,"d":"50%"},27,"Payton Watt, 24 - Pine Bluffs   3/2/2018","",{"$f":"Season_Summary!$P$1","v":"2A BB"}]
["Dillon Barritt, 20",{"$f":"Roster!$B$1","v":"Upton"},"Pine Bluffs  ","2018-03-02",1,3,7,0,3,0,0,1,5,0,1,0,2,1,9,{"v":0.42857142857142855,"d":"43%"},{"v":0,"d":"0%"},{"v":0,"d":"0%"},{"v":0.3,"d":"30%"},27,"Dillon Barritt, 20 - Pine Bluffs   3/2/2018","",{"$f":"Season_Summary!$P$1","v":"2A BB"}]
["Dawson Butts, 14",{"$f":"Roster!$B$1","v":"Upton"},"Pine Bluffs  ","2018-03-02",1,0,0,1,2,1,1,1,1,1,0,0,1,2,3,{"v":0,"d":"0%"},{"v":0,"d":"0%"},{"v":0,"d":"0%"},{"v":0,"d":"0%"},27,"Dawson Butts, 14 - Pine Bluffs   3/2/2018","",{"$f":"Season_Summary!$P$1","v":"2A BB"}]
["Jayden Caylor, 12",{"$f":"Roster!$B$1","v":"Upton"},"Pine Bluffs  ","2018-03-02",1,0,2,1,2,0,1,0,3,2,1,0,1,4,2,{"v":0,"d":"0%"},{"v":0,"d":"0%"},{"v":0,"d":"0%"},{"v":0,"d":"0%"},27,"Jayden Caylor, 12 - Pine Bluffs   3/2/2018","",{"$f":"Season_Summary!$P$1","v":"2A BB"}]
["Clayton Louderback, 23",{"$f":"Roster!$B$1","v":"Upton"},"Pine Bluffs  ","2018-03-02",1,0,2,5,15,3,4,1,6,2,1,0,4,4,13,{"v":0,"d":"0%"},{"v":0.3333333333333333,"d":"33%"},{"v":0,"d":"0%"},{"v":0.29411764705882354,"d":"29%"},27,"Clayton Louderback, 23 - Pine Bluffs   3/2/2018","",{"$f":"Season_Summary!$P$1","v":"2A BB"}]
["Jess Claycomb, 10",{"$f":"Roster!$B$1","v":"Upton"},"Pine Bluffs  ","2018-03-02",1,0,1,2,2,0,0,0,1,1,1,0,1,3,4,{"v":0,"d":"0%"},{"v":0,"d":"0%"},{"v":0,"d":"0%"},{"v":0,"d":"0%"},27,"Jess Claycomb, 10 - Pine Bluffs   3/2/2018","",{"$f":"Season_Summary!$P$1","v":"2A BB"}]
["Maxx Cowger, 4",{"$f":"Roster!$B$1","v":"Upton"},"Pine Bluffs  ","2018-03-02",0,0,0,0,0,0,0,0,0,0,0,0,0,0,"",{"v":0,"d":"0%"},{"v":0,"d":"0%"},{"v":0,"d":"0%"},{"v":0,"d":"0%"},27,"Maxx Cowger, 4 - Pine Bluffs   3/2/2018","",{"$f":"Season_Summary!$P$1","v":"2A BB"}]
["Brayden Bruce, 22",{"$f":"Roster!$B$1","v":"Upton"},"Pine Bluffs  ","2018-03-02",1,0,0,0,2,0,0,1,1,2,0,0,2,0,"",{"v":0,"d":"0%"},{"v":0,"d":"0%"},{"v":0,"d":"0%"},{"v":0,"d":"0%"},27,"Brayden Bruce, 22 - Pine Bluffs   3/2/2018","",{"$f":"Season_Summary!$P$1","v":"2A BB"}]
["Jo Bishop, 30",{"$f":"Roster!$B$1","v":"Upton"},"Pine Bluffs  ","2018-03-02",0,0,0,0,0,0,0,0,0,0,0,0,0,0,"",{"v":0,"d":"0%"},{"v":0,"d":"0%"},{"v":0,"d":"0%"},{"v":0,"d":"0%"},27,"Jo Bishop, 30 - Pine Bluffs   3/2/2018","",{"$f":"Season_Summary!$P$1","v":"2A BB"}]
["Nolan Turner, 33",{"$f":"Roster!$B$1","v":"Upton"},"Pine Bluffs  ","2018-03-02",0,0,0,0,0,0,0,0,0,0,0,0,0,0,"",{"v":0,"d":"0%"},{"v":0,"d":"0%"},{"v":0,"d":"0%"},{"v":0,"d":"0%"},27,"Nolan Turner, 33 - Pine Bluffs   3/2/2018","",{"$f":"Season_Summary!$P$1","v":"2A BB"}]
["Robert Crawford, 32",{"$f":"Roster!$B$1","v":"Upton"},"Pine Bluffs  ","2018-03-02",0,0,0,0,0,0,0,0,0,0,0,0,0,0,"",{"v":0,"d":"0%"},{"v":0,"d":"0%"},{"v":0,"d":"0%"},{"v":0,"d":"0%"},27,"Robert Crawford, 32 - Pine Bluffs   3/2/2018","",{"$f":"Season_Summary!$P$1","v":"2A BB"}]
["Jace Bruce, 40",{"$f":"Roster!$B$1","v":"Upton"},"Pine Bluffs  ","2018-03-02",0,0,0,0,0,0,0,0,0,0,0,0,0,0,"",{"v":0,"d":"0%"},{"v":0,"d":"0%"},{"v":0,"d":"0%"},{"v":0,"d":"0%"},27,"Jace Bruce, 40 - Pine Bluffs   3/2/2018","",{"$f":"Season_Summary!$P$1","v":"2A BB"}]
["Ethan Mills, 2",{"$f":"Roster!$B$1","v":"Upton"},"Pine Bluffs  ","2018-03-02",0,0,0,0,0,0,0,0,0,0,0,0,0,0,"",{"v":0,"d":"0%"},{"v":0,"d":"0%"},{"v":0,"d":"0%"},{"v":0,"d":"0%"},27,"Ethan Mills, 2 - Pine Bluffs   3/2/2018","",{"$f":"Season_Summary!$P$1","v":"2A BB"}]
["Bridger Alishouse, 2",{"$f":"Roster!$B$1","v":"Upton"},"Pine Bluffs  ","2018-03-02",0,0,0,0,0,0,0,0,0,0,0,0,0,0,"",{"v":0,"d":"0%"},{"v":0,"d":"0%"},{"v":0,"d":"0%"},{"v":0,"d":"0%"},27,"Bridger Alishouse, 2 - Pine Bluffs   3/2/2018","",{"$f":"Season_Summary!$P$1","v":"2A BB"}]
["Landon Keever, 4",{"$f":"Roster!$B$1","v":"Upton"},"Pine Bluffs  ","2018-03-02",0,0,0,0,0,0,0,0,0,0,0,0,0,0,"",{"v":0,"d":"0%"},{"v":0,"d":"0%"},{"v":0,"d":"0%"},{"v":0,"d":"0%"},27,"Landon Keever, 4 - Pine Bluffs   3/2/2018","",{"$f":"Season_Summary!$P$1","v":"2A BB"}]
["DJ Till, 4",{"$f":"Roster!$B$1","v":"Upton"},"Pine Bluffs  ","2018-03-02",0,0,0,0,0,0,0,0,0,0,0,0,0,0,"",{"v":0,"d":"0%"},{"v":0,"d":"0%"},{"v":0,"d":"0%"},{"v":0,"d":"0%"},27,"DJ Till, 4 - Pine Bluffs   3/2/2018","",{"$f":"Season_Summary!$P$1","v":"2A BB"}]
[", ",{"$f":"Roster!$B$1","v":"Upton"},"Pine Bluffs  ","2018-03-02",{"$f":"INDIRECT(\"'game1 (\"&$X647&\")'!\"&ADDRESS(ROW(A$7)+MOD(ROW(A647)-7,24),COLUMN(C647)))","v":0},{"$f":"INDIRECT(\"'game1 (\"&$X647&\")'!\"&ADDRESS(ROW(B$7)+MOD(ROW(B647)-7,24),COLUMN(D647)))","v":0},{"$f":"INDIRECT(\"'game1 (\"&$X647&\")'!\"&ADDRESS(ROW(C$7)+MOD(ROW(C647)-7,24),COLUMN(E647)))","v":0},{"$f":"INDIRECT(\"'game1 (\"&$X647&\")'!\"&ADDRESS(ROW(D$7)+MOD(ROW(D647)-7,24),COLUMN(F647)))","v":0},{"$f":"INDIRECT(\"'game1 (\"&$X647&\")'!\"&ADDRESS(ROW(E$7)+MOD(ROW(E647)-7,24),COLUMN(G647)))","v":0},{"$f":"INDIRECT(\"'game1 (\"&$X647&\")'!\"&ADDRESS(ROW(F$7)+MOD(ROW(F647)-7,24),COLUMN(H647)))","v":0},{"$f":"INDIRECT(\"'game1 (\"&$X647&\")'!\"&ADDRESS(ROW(G$7)+MOD(ROW(G647)-7,24),COLUMN(I647)))","v":0},{"$f":"INDIRECT(\"'game1 (\"&$X647&\")'!\"&ADDRESS(ROW(H$7)+MOD(ROW(H647)-7,24),COLUMN(J647)))","v":0},{"$f":"INDIRECT(\"'game1 (\"&$X647&\")'!\"&ADDRESS(ROW(I$7)+MOD(ROW(I647)-7,24),COLUMN(K647)))","v":0},{"$f":"INDIRECT(\"'game1 (\"&$X647&\")'!\"&ADDRESS(ROW(J$7)+MOD(ROW(J647)-7,24),COLUMN(L647)))","v":0},{"$f":"INDIRECT(\"'game1 (\"&$X647&\")'!\"&ADDRESS(ROW(K$7)+MOD(ROW(K647)-7,24),COLUMN(M647)))","v":0},{"$f":"INDIRECT(\"'game1 (\"&$X647&\")'!\"&ADDRESS(ROW(L$7)+MOD(ROW(L647)-7,24),COLUMN(N647)))","v":0},{"$f":"INDIRECT(\"'game1 (\"&$X647&\")'!\"&ADDRESS(ROW(M$7)+MOD(ROW(M647)-7,24),COLUMN(O647)))","v":0},{"$f":"INDIRECT(\"'game1 (\"&$X647&\")'!\"&ADDRESS(ROW(N$7)+MOD(ROW(N647)-7,24),COLUMN(P647)))","v":0},{"$f":"INDIRECT(\"'game1 (\"&$X647&\")'!\"&ADDRESS(ROW(O$7)+MOD(ROW(O647)-7,24),COLUMN(Q647)))","v":""},{"v":0,"d":"0%"},{"v":0,"d":"0%"},{"v":0,"d":"0%"},{"v":0,"d":"0%"},{"$f":"INT((ROW(A647)-7)/24)+1","v":27},",  - Pine Bluffs   3/2/2018","",{"$f":"Season_Summary!$P$1","v":"2A BB"}]
[{"$f":"CONCATENATE(INDIRECT(\"Roster!B\"&ROW(A$7)+MOD(ROW(A648)-7,24)),\", \",INDIRECT(\"Roster!a\"&ROW(A$7)+MOD(ROW(A648)-7,24)))","v":", "},{"$f":"Roster!$B$1","v":"Upton"},{"$f":"INDIRECT(\"'game1 (\"&$X648&\")'!$C$2\")","v":"Pine Bluffs  "},{"$f":"INDIRECT(\"'game1 (\"&$X648&\")'!$k$2\")","v":"2018-03-02"},0,0,0,0,0,0,0,0,0,0,0,0,0,0,"",{"$f":"IF(G648<$D$2,0,INDIRECT(\"'game1 (\"&$X648&\")'!\"&ADDRESS(ROW(M$7)+MOD(ROW(M648)-7,24),COLUMN(R648))))","v":{"v":0,"d":"0%"}},{"$f":"IF(I648<$D$2,0,INDIRECT(\"'game1 (\"&$X648&\")'!\"&ADDRESS(ROW(N$7)+MOD(ROW(N648)-7,24),COLUMN(S648))))","v":{"v":0,"d":"0%"}},{"$f":"IF(K648<$D$2,0,INDIRECT(\"'game1 (\"&$X648&\")'!\"&ADDRESS(ROW(O$7)+MOD(ROW(O648)-7,24),COLUMN(T648))))","v":{"v":0,"d":"0%"}},{"$f":"IF(G648+I648<$D$2,0,INDIRECT(\"'game1 (\"&$X648&\")'!\"&ADDRESS(ROW(O$7)+MOD(ROW(O648)-7,24),COLUMN(U648))))","v":{"v":0,"d":"0%"}},27,{"$f":"CONCATENATE(A648,\" - \",C648,\" \",MONTH(D648),\"/\",DAY(D648),\"/\",YEAR(D648))","v":",  - Pine Bluffs   3/2/2018"},{"$f":"IFERROR(INDIRECT(\"'game1 (\"&$X648&\")'!$a$2\"),\"\")","v":""},{"$f":"Season_Summary!$P$1","v":"2A BB"}]
[", ",{"$f":"Roster!$B$1","v":"Upton"},"Pine Bluffs  ","2018-03-02",0,0,0,0,0,0,0,0,0,0,0,0,0,0,"",{"v":0,"d":"0%"},{"v":0,"d":"0%"},{"v":0,"d":"0%"},{"v":0,"d":"0%"},27,",  - Pine Bluffs   3/2/2018","",{"$f":"Season_Summary!$P$1","v":"2A BB"}]
[", ",{"$f":"Roster!$B$1","v":"Upton"},"Pine Bluffs  ","2018-03-02",0,0,0,0,0,0,0,0,0,0,0,0,0,0,"",{"v":0,"d":"0%"},{"v":0,"d":"0%"},{"v":0,"d":"0%"},{"v":0,"d":"0%"},27,",  - Pine Bluffs   3/2/2018","",{"$f":"Season_Summary!$P$1","v":"2A BB"}]
[", ",{"$f":"Roster!$B$1","v":"Upton"},"Pine Bluffs  ","2018-03-02",0,0,0,0,0,0,0,0,0,0,0,0,0,0,"",{"v":0,"d":"0%"},{"v":0,"d":"0%"},{"v":0,"d":"0%"},{"v":0,"d":"0%"},27,",  - Pine Bluffs   3/2/2018","",{"$f":"Season_Summary!$P$1","v":"2A BB"}]
[", ",{"$f":"Roster!$B$1","v":"Upton"},"Pine Bluffs  ","2018-03-02",0,0,0,0,0,0,0,0,0,0,0,0,0,0,"",{"v":0,"d":"0%"},{"v":0,"d":"0%"},{"v":0,"d":"0%"},{"v":0,"d":"0%"},27,",  - Pine Bluffs   3/2/2018","",{"$f":"Season_Summary!$P$1","v":"2A BB"}]
[", ",{"$f":"Roster!$B$1","v":"Upton"},"Pine Bluffs  ","2018-03-02",0,0,0,0,0,0,0,0,0,0,0,0,0,0,"",{"v":0,"d":"0%"},{"v":0,"d":"0%"},{"v":0,"d":"0%"},{"v":0,"d":"0%"},27,",  - Pine Bluffs   3/2/2018","",{"$f":"Season_Summary!$P$1","v":"2A BB"}]
["Team, ",{"$f":"Roster!$B$1","v":"Upton"},"Pine Bluffs  ","2018-03-02",1,0,0,0,0,0,0,0,0,0,0,0,0,0,"",{"v":0,"d":"0%"},{"v":0,"d":"0%"},{"v":0,"d":"0%"},{"v":0,"d":"0%"},27,"Team,  - Pine Bluffs   3/2/2018","",{"$f":"Season_Summary!$P$1","v":"2A BB"}]
["Payton Watt, 24",{"$f":"Roster!$B$1","v":"Upton"},"Rocky Mountain","2018-03-03",1,3,11,6,10,2,3,1,4,2,1,1,3,3,23,{"v":0.2727272727272727,"d":"27%"},{"v":0.6,"d":"60%"},{"v":0,"d":"0%"},{"v":0.42857142857142855,"d":"43%"},28,"Payton Watt, 24 - Rocky Mountain 3/3/2018","",{"$f":"Season_Summary!$P$1","v":"2A BB"}]
["Dillon Barritt, 20",{"$f":"Roster!$B$1","v":"Upton"},"Rocky Mountain","2018-03-03",1,3,10,0,0,5,6,1,1,1,3,0,4,1,14,{"v":0.3,"d":"30%"},{"v":0,"d":"0%"},{"v":0.8333333333333334,"d":"83%"},{"v":0.3,"d":"30%"},28,"Dillon Barritt, 20 - Rocky Mountain 3/3/2018","",{"$f":"Season_Summary!$P$1","v":"2A BB"}]
["Dawson Butts, 14",{"$f":"Roster!$B$1","v":"Upton"},"Rocky Mountain","2018-03-03",1,0,1,1,3,0,0,3,0,2,1,0,0,4,2,{"v":0,"d":"0%"},{"v":0,"d":"0%"},{"v":0,"d":"0%"},{"v":0,"d":"0%"},28,"Dawson Butts, 14 - Rocky Mountain 3/3/2018","",{"$f":"Season_Summary!$P$1","v":"2A BB"}]
["Jayden Caylor, 12",{"$f":"Roster!$B$1","v":"Upton"},"Rocky Mountain","2018-03-03",1,0,1,0,2,1,2,5,2,2,3,0,4,5,1,{"v":0,"d":"0%"},{"v":0,"d":"0%"},{"v":0,"d":"0%"},{"v":0,"d":"0%"},28,"Jayden Caylor, 12 - Rocky Mountain 3/3/2018","",{"$f":"Season_Summary!$P$1","v":"2A BB"}]
["Clayton Louderback, 23",{"$f":"Roster!$B$1","v":"Upton"},"Rocky Mountain","2018-03-03",1,0,4,6,13,2,8,4,6,2,3,0,5,2,14,{"v":0,"d":"0%"},{"v":0.46153846153846156,"d":"46%"},{"v":0.25,"d":"25%"},{"v":0.35294117647058826,"d":"35%"},28,"Clayton Louderback, 23 - Rocky Mountain 3/3/2018","",{"$f":"Season_Summary!$P$1","v":"2A BB"}]
["Jess Claycomb, 10",{"$f":"Roster!$B$1","v":"Upton"},"Rocky Mountain","2018-03-03",1,0,1,0,0,2,2,2,0,0,1,0,0,2,2,{"v":0,"d":"0%"},{"v":0,"d":"0%"},{"v":0,"d":"0%"},{"v":0,"d":"0%"},28,"Jess Claycomb, 10 - Rocky Mountain 3/3/2018","",{"$f":"Season_Summary!$P$1","v":"2A BB"}]
["Maxx Cowger, 4",{"$f":"Roster!$B$1","v":"Upton"},"Rocky Mountain","2018-03-03",0,0,0,0,0,0,0,0,0,0,0,0,0,0,"",{"v":0,"d":"0%"},{"v":0,"d":"0%"},{"v":0,"d":"0%"},{"v":0,"d":"0%"},28,"Maxx Cowger, 4 - Rocky Mountain 3/3/2018","",{"$f":"Season_Summary!$P$1","v":"2A BB"}]
["Brayden Bruce, 22",{"$f":"Roster!$B$1","v":"Upton"},"Rocky Mountain","2018-03-03",1,0,1,0,1,0,2,0,0,3,2,0,3,0,"",{"v":0,"d":"0%"},{"v":0,"d":"0%"},{"v":0,"d":"0%"},{"v":0,"d":"0%"},28,"Brayden Bruce, 22 - Rocky Mountain 3/3/2018","",{"$f":"Season_Summary!$P$1","v":"2A BB"}]
["Jo Bishop, 30",{"$f":"Roster!$B$1","v":"Upton"},"Rocky Mountain","2018-03-03",0,0,0,0,0,0,0,0,0,0,0,0,0,0,"",{"v":0,"d":"0%"},{"v":0,"d":"0%"},{"v":0,"d":"0%"},{"v":0,"d":"0%"},28,"Jo Bishop, 30 - Rocky Mountain 3/3/2018","",{"$f":"Season_Summary!$P$1","v":"2A BB"}]
["Nolan Turner, 33",{"$f":"Roster!$B$1","v":"Upton"},"Rocky Mountain","2018-03-03",0,0,0,0,0,0,0,0,0,0,0,0,0,0,"",{"v":0,"d":"0%"},{"v":0,"d":"0%"},{"v":0,"d":"0%"},{"v":0,"d":"0%"},28,"Nolan Turner, 33 - Rocky Mountain 3/3/2018","",{"$f":"Season_Summary!$P$1","v":"2A BB"}]
["Robert Crawford, 32",{"$f":"Roster!$B$1","v":"Upton"},"Rocky Mountain","2018-03-03",0,0,0,0,0,0,0,0,0,0,0,0,0,0,"",{"v":0,"d":"0%"},{"v":0,"d":"0%"},{"v":0,"d":"0%"},{"v":0,"d":"0%"},28,"Robert Crawford, 32 - Rocky Mountain 3/3/2018","",{"$f":"Season_Summary!$P$1","v":"2A BB"}]
["Jace Bruce, 40",{"$f":"Roster!$B$1","v":"Upton"},"Rocky Mountain","2018-03-03",0,0,0,0,0,0,0,0,0,0,0,0,0,0,"",{"v":0,"d":"0%"},{"v":0,"d":"0%"},{"v":0,"d":"0%"},{"v":0,"d":"0%"},28,"Jace Bruce, 40 - Rocky Mountain 3/3/2018","",{"$f":"Season_Summary!$P$1","v":"2A BB"}]
["Ethan Mills, 2",{"$f":"Roster!$B$1","v":"Upton"},"Rocky Mountain","2018-03-03",0,0,0,0,0,0,0,0,0,0,0,0,0,0,"",{"v":0,"d":"0%"},{"v":0,"d":"0%"},{"v":0,"d":"0%"},{"v":0,"d":"0%"},28,"Ethan Mills, 2 - Rocky Mountain 3/3/2018","",{"$f":"Season_Summary!$P$1","v":"2A BB"}]
["Bridger Alishouse, 2",{"$f":"Roster!$B$1","v":"Upton"},"Rocky Mountain","2018-03-03",0,0,0,0,0,0,0,0,0,0,0,0,0,0,"",{"v":0,"d":"0%"},{"v":0,"d":"0%"},{"v":0,"d":"0%"},{"v":0,"d":"0%"},28,"Bridger Alishouse, 2 - Rocky Mountain 3/3/2018","",{"$f":"Season_Summary!$P$1","v":"2A BB"}]
["Landon Keever, 4",{"$f":"Roster!$B$1","v":"Upton"},"Rocky Mountain","2018-03-03",0,0,0,0,0,0,0,0,0,0,0,0,0,0,"",{"v":0,"d":"0%"},{"v":0,"d":"0%"},{"v":0,"d":"0%"},{"v":0,"d":"0%"},28,"Landon Keever, 4 - Rocky Mountain 3/3/2018","",{"$f":"Season_Summary!$P$1","v":"2A BB"}]
["DJ Till, 4",{"$f":"Roster!$B$1","v":"Upton"},"Rocky Mountain","2018-03-03",0,0,0,0,0,0,0,0,0,0,0,0,0,0,"",{"v":0,"d":"0%"},{"v":0,"d":"0%"},{"v":0,"d":"0%"},{"v":0,"d":"0%"},28,"DJ Till, 4 - Rocky Mountain 3/3/2018","",{"$f":"Season_Summary!$P$1","v":"2A BB"}]
[", ",{"$f":"Roster!$B$1","v":"Upton"},"Rocky Mountain","2018-03-03",0,0,0,0,0,0,0,0,0,0,0,0,0,0,"",{"v":0,"d":"0%"},{"v":0,"d":"0%"},{"v":0,"d":"0%"},{"v":0,"d":"0%"},28,",  - Rocky Mountain 3/3/2018","",{"$f":"Season_Summary!$P$1","v":"2A BB"}]
[", ",{"$f":"Roster!$B$1","v":"Upton"},"Rocky Mountain","2018-03-03",0,0,0,0,0,0,0,0,0,0,0,0,0,0,"",{"v":0,"d":"0%"},{"v":0,"d":"0%"},{"v":0,"d":"0%"},{"v":0,"d":"0%"},28,",  - Rocky Mountain 3/3/2018","",{"$f":"Season_Summary!$P$1","v":"2A BB"}]
[", ",{"$f":"Roster!$B$1","v":"Upton"},"Rocky Mountain","2018-03-03",0,0,0,0,0,0,0,0,0,0,0,0,0,0,"",{"v":0,"d":"0%"},{"v":0,"d":"0%"},{"v":0,"d":"0%"},{"v":0,"d":"0%"},28,",  - Rocky Mountain 3/3/2018","",{"$f":"Season_Summary!$P$1","v":"2A BB"}]
[", ",{"$f":"Roster!$B$1","v":"Upton"},"Rocky Mountain","2018-03-03",0,0,0,0,0,0,0,0,0,0,0,0,0,0,"",{"v":0,"d":"0%"},{"v":0,"d":"0%"},{"v":0,"d":"0%"},{"v":0,"d":"0%"},28,",  - Rocky Mountain 3/3/2018","",{"$f":"Season_Summary!$P$1","v":"2A BB"}]
[", ",{"$f":"Roster!$B$1","v":"Upton"},"Rocky Mountain","2018-03-03",0,0,0,0,0,0,0,0,0,0,0,0,0,0,"",{"v":0,"d":"0%"},{"v":0,"d":"0%"},{"v":0,"d":"0%"},{"v":0,"d":"0%"},28,",  - Rocky Mountain 3/3/2018","",{"$f":"Season_Summary!$P$1","v":"2A BB"}]
[", ",{"$f":"Roster!$B$1","v":"Upton"},"Rocky Mountain","2018-03-03",0,0,0,0,0,0,0,0,0,0,0,0,0,0,"",{"v":0,"d":"0%"},{"v":0,"d":"0%"},{"v":0,"d":"0%"},{"v":0,"d":"0%"},28,",  - Rocky Mountain 3/3/2018","",{"$f":"Season_Summary!$P$1","v":"2A BB"}]
[", ",{"$f":"Roster!$B$1","v":"Upton"},"Rocky Mountain","2018-03-03",0,0,0,0,0,0,0,0,0,0,0,0,0,0,"",{"v":0,"d":"0%"},{"v":0,"d":"0%"},{"v":0,"d":"0%"},{"v":0,"d":"0%"},28,",  - Rocky Mountain 3/3/2018","",{"$f":"Season_Summary!$P$1","v":"2A BB"}]
["Team, ",{"$f":"Roster!$B$1","v":"Upton"},"Rocky Mountain","2018-03-03",1,0,0,0,0,0,0,0,1,0,0,0,0,0,"",{"v":0,"d":"0%"},{"v":0,"d":"0%"},{"v":0,"d":"0%"},{"v":0,"d":"0%"},28,"Team,  - Rocky Mountain 3/3/2018","",{"$f":"Season_Summary!$P$1","v":"2A BB"}]
["Payton Watt, 24",{"$f":"Roster!$B$1","v":"Upton"},0,"00:00:00",0,0,0,0,0,0,0,0,0,0,0,0,0,0,"",{"v":0,"d":"0%"},{"v":0,"d":"0%"},{"v":0,"d":"0%"},{"v":0,"d":"0%"},29,"Payton Watt, 24 - 0 1/0/1900","",{"$f":"Season_Summary!$P$1","v":"2A BB"}]
["Dillon Barritt, 20",{"$f":"Roster!$B$1","v":"Upton"},0,"00:00:00",0,0,0,0,0,0,0,0,0,0,0,0,0,0,"",{"v":0,"d":"0%"},{"v":0,"d":"0%"},{"v":0,"d":"0%"},{"v":0,"d":"0%"},29,"Dillon Barritt, 20 - 0 1/0/1900","",{"$f":"Season_Summary!$P$1","v":"2A BB"}]
["Dawson Butts, 14",{"$f":"Roster!$B$1","v":"Upton"},0,"00:00:00",0,0,0,0,0,0,0,0,0,0,0,0,0,0,"",{"v":0,"d":"0%"},{"v":0,"d":"0%"},{"v":0,"d":"0%"},{"v":0,"d":"0%"},29,"Dawson Butts, 14 - 0 1/0/1900","",{"$f":"Season_Summary!$P$1","v":"2A BB"}]
["Jayden Caylor, 12",{"$f":"Roster!$B$1","v":"Upton"},0,"00:00:00",0,0,0,0,0,0,0,0,0,0,0,0,0,0,"",{"v":0,"d":"0%"},{"v":0,"d":"0%"},{"v":0,"d":"0%"},{"v":0,"d":"0%"},29,"Jayden Caylor, 12 - 0 1/0/1900","",{"$f":"Season_Summary!$P$1","v":"2A BB"}]
["Clayton Louderback, 23",{"$f":"Roster!$B$1","v":"Upton"},0,"00:00:00",0,0,0,0,0,0,0,0,0,0,0,0,0,0,"",{"v":0,"d":"0%"},{"v":0,"d":"0%"},{"v":0,"d":"0%"},{"v":0,"d":"0%"},29,"Clayton Louderback, 23 - 0 1/0/1900","",{"$f":"Season_Summary!$P$1","v":"2A BB"}]
["Jess Claycomb, 10",{"$f":"Roster!$B$1","v":"Upton"},0,"00:00:00",0,0,0,0,0,0,0,0,0,0,0,0,0,0,"",{"v":0,"d":"0%"},{"v":0,"d":"0%"},{"v":0,"d":"0%"},{"v":0,"d":"0%"},29,"Jess Claycomb, 10 - 0 1/0/1900","",{"$f":"Season_Summary!$P$1","v":"2A BB"}]
["Maxx Cowger, 4",{"$f":"Roster!$B$1","v":"Upton"},0,"00:00:00",0,0,0,0,0,0,0,0,0,0,0,0,0,0,"",{"v":0,"d":"0%"},{"v":0,"d":"0%"},{"v":0,"d":"0%"},{"v":0,"d":"0%"},29,"Maxx Cowger, 4 - 0 1/0/1900","",{"$f":"Season_Summary!$P$1","v":"2A BB"}]
["Brayden Bruce, 22",{"$f":"Roster!$B$1","v":"Upton"},0,"00:00:00",0,0,0,0,0,0,0,0,0,0,0,0,0,0,"",{"v":0,"d":"0%"},{"v":0,"d":"0%"},{"v":0,"d":"0%"},{"v":0,"d":"0%"},29,"Brayden Bruce, 22 - 0 1/0/1900","",{"$f":"Season_Summary!$P$1","v":"2A BB"}]
["Jo Bishop, 30",{"$f":"Roster!$B$1","v":"Upton"},0,"00:00:00",0,0,0,0,0,0,0,0,0,0,0,0,0,0,"",{"v":0,"d":"0%"},{"v":0,"d":"0%"},{"v":0,"d":"0%"},{"v":0,"d":"0%"},29,"Jo Bishop, 30 - 0 1/0/1900","",{"$f":"Season_Summary!$P$1","v":"2A BB"}]
["Nolan Turner, 33",{"$f":"Roster!$B$1","v":"Upton"},0,"00:00:00",0,0,0,0,0,0,0,0,0,0,0,0,0,0,"",{"v":0,"d":"0%"},{"v":0,"d":"0%"},{"v":0,"d":"0%"},{"v":0,"d":"0%"},29,"Nolan Turner, 33 - 0 1/0/1900","",{"$f":"Season_Summary!$P$1","v":"2A BB"}]
["Robert Crawford, 32",{"$f":"Roster!$B$1","v":"Upton"},0,"00:00:00",0,0,0,0,0,0,0,0,0,0,0,0,0,0,"",{"v":0,"d":"0%"},{"v":0,"d":"0%"},{"v":0,"d":"0%"},{"v":0,"d":"0%"},29,"Robert Crawford, 32 - 0 1/0/1900","",{"$f":"Season_Summary!$P$1","v":"2A BB"}]
["Jace Bruce, 40",{"$f":"Roster!$B$1","v":"Upton"},0,"00:00:00",0,0,0,0,0,0,0,0,0,0,0,0,0,0,"",{"v":0,"d":"0%"},{"v":0,"d":"0%"},{"v":0,"d":"0%"},{"v":0,"d":"0%"},29,"Jace Bruce, 40 - 0 1/0/1900","",{"$f":"Season_Summary!$P$1","v":"2A BB"}]
["Ethan Mills, 2",{"$f":"Roster!$B$1","v":"Upton"},0,"00:00:00",0,0,0,0,0,0,0,0,0,0,0,0,0,0,"",{"v":0,"d":"0%"},{"v":0,"d":"0%"},{"v":0,"d":"0%"},{"v":0,"d":"0%"},29,"Ethan Mills, 2 - 0 1/0/1900","",{"$f":"Season_Summary!$P$1","v":"2A BB"}]
["Bridger Alishouse, 2",{"$f":"Roster!$B$1","v":"Upton"},0,"00:00:00",0,0,0,0,0,0,0,0,0,0,0,0,0,0,"",{"v":0,"d":"0%"},{"v":0,"d":"0%"},{"v":0,"d":"0%"},{"v":0,"d":"0%"},29,"Bridger Alishouse, 2 - 0 1/0/1900","",{"$f":"Season_Summary!$P$1","v":"2A BB"}]
["Landon Keever, 4",{"$f":"Roster!$B$1","v":"Upton"},0,"00:00:00",0,0,0,0,0,0,0,0,0,0,0,0,0,0,"",{"v":0,"d":"0%"},{"v":0,"d":"0%"},{"v":0,"d":"0%"},{"v":0,"d":"0%"},29,"Landon Keever, 4 - 0 1/0/1900","",{"$f":"Season_Summary!$P$1","v":"2A BB"}]
["DJ Till, 4",{"$f":"Roster!$B$1","v":"Upton"},0,"00:00:00",0,0,0,0,0,0,0,0,0,0,0,0,0,0,"",{"v":0,"d":"0%"},{"v":0,"d":"0%"},{"v":0,"d":"0%"},{"v":0,"d":"0%"},29,"DJ Till, 4 - 0 1/0/1900","",{"$f":"Season_Summary!$P$1","v":"2A BB"}]
[", ",{"$f":"Roster!$B$1","v":"Upton"},0,"00:00:00",0,0,0,0,0,0,0,0,0,0,0,0,0,0,"",{"v":0,"d":"0%"},{"v":0,"d":"0%"},{"v":0,"d":"0%"},{"v":0,"d":"0%"},29,",  - 0 1/0/1900","",{"$f":"Season_Summary!$P$1","v":"2A BB"}]
[", ",{"$f":"Roster!$B$1","v":"Upton"},0,"00:00:00",0,0,0,0,0,0,0,0,0,0,0,0,0,0,"",{"v":0,"d":"0%"},{"v":0,"d":"0%"},{"v":0,"d":"0%"},{"v":0,"d":"0%"},29,",  - 0 1/0/1900","",{"$f":"Season_Summary!$P$1","v":"2A BB"}]
[", ",{"$f":"Roster!$B$1","v":"Upton"},0,"00:00:00",0,0,0,0,0,0,0,0,0,0,0,0,0,0,"",{"v":0,"d":"0%"},{"v":0,"d":"0%"},{"v":0,"d":"0%"},{"v":0,"d":"0%"},29,",  - 0 1/0/1900","",{"$f":"Season_Summary!$P$1","v":"2A BB"}]
[", ",{"$f":"Roster!$B$1","v":"Upton"},0,"00:00:00",0,0,0,0,0,0,0,0,0,0,0,0,0,0,"",{"v":0,"d":"0%"},{"v":0,"d":"0%"},{"v":0,"d":"0%"},{"v":0,"d":"0%"},29,",  - 0 1/0/1900","",{"$f":"Season_Summary!$P$1","v":"2A BB"}]
[", ",{"$f":"Roster!$B$1","v":"Upton"},0,"00:00:00",0,0,0,0,0,0,0,0,0,0,0,0,0,0,"",{"v":0,"d":"0%"},{"v":0,"d":"0%"},{"v":0,"d":"0%"},{"v":0,"d":"0%"},29,",  - 0 1/0/1900","",{"$f":"Season_Summary!$P$1","v":"2A BB"}]
[", ",{"$f":"Roster!$B$1","v":"Upton"},0,"00:00:00",0,0,0,0,0,0,0,0,0,0,0,0,0,0,"",{"v":0,"d":"0%"},{"v":0,"d":"0%"},{"v":0,"d":"0%"},{"v":0,"d":"0%"},29,",  - 0 1/0/1900","",{"$f":"Season_Summary!$P$1","v":"2A BB"}]
[", ",{"$f":"Roster!$B$1","v":"Upton"},0,"00:00:00",0,0,0,0,0,0,0,0,0,0,0,0,0,0,"",{"v":0,"d":"0%"},{"v":0,"d":"0%"},{"v":0,"d":"0%"},{"v":0,"d":"0%"},29,",  - 0 1/0/1900","",{"$f":"Season_Summary!$P$1","v":"2A BB"}]
["Team, ",{"$f":"Roster!$B$1","v":"Upton"},0,"00:00:00",0,0,0,0,0,0,0,0,0,0,0,0,0,0,"",{"v":0,"d":"0%"},{"v":0,"d":"0%"},{"v":0,"d":"0%"},{"v":0,"d":"0%"},29,"Team,  - 0 1/0/1900","",{"$f":"Season_Summary!$P$1","v":"2A BB"}]
["Payton Watt, 24",{"$f":"Roster!$B$1","v":"Upton"},0,"00:00:00",0,0,0,0,0,0,0,0,0,0,0,0,0,0,"",{"v":0,"d":"0%"},{"v":0,"d":"0%"},{"v":0,"d":"0%"},{"v":0,"d":"0%"},30,"Payton Watt, 24 - 0 1/0/1900","",{"$f":"Season_Summary!$P$1","v":"2A BB"}]
["Dillon Barritt, 20",{"$f":"Roster!$B$1","v":"Upton"},0,"00:00:00",0,0,0,0,0,0,0,0,0,0,0,0,0,0,"",{"v":0,"d":"0%"},{"v":0,"d":"0%"},{"v":0,"d":"0%"},{"v":0,"d":"0%"},30,"Dillon Barritt, 20 - 0 1/0/1900","",{"$f":"Season_Summary!$P$1","v":"2A BB"}]
["Dawson Butts, 14",{"$f":"Roster!$B$1","v":"Upton"},0,"00:00:00",0,0,0,0,0,0,0,0,0,0,0,0,0,0,"",{"v":0,"d":"0%"},{"v":0,"d":"0%"},{"v":0,"d":"0%"},{"v":0,"d":"0%"},30,"Dawson Butts, 14 - 0 1/0/1900","",{"$f":"Season_Summary!$P$1","v":"2A BB"}]
["Jayden Caylor, 12",{"$f":"Roster!$B$1","v":"Upton"},0,"00:00:00",0,0,0,0,0,0,0,0,0,0,0,0,0,0,"",{"v":0,"d":"0%"},{"v":0,"d":"0%"},{"v":0,"d":"0%"},{"v":0,"d":"0%"},30,"Jayden Caylor, 12 - 0 1/0/1900","",{"$f":"Season_Summary!$P$1","v":"2A BB"}]
["Clayton Louderback, 23",{"$f":"Roster!$B$1","v":"Upton"},0,"00:00:00",0,0,0,0,0,0,0,0,0,0,0,0,0,0,"",{"v":0,"d":"0%"},{"v":0,"d":"0%"},{"v":0,"d":"0%"},{"v":0,"d":"0%"},30,"Clayton Louderback, 23 - 0 1/0/1900","",{"$f":"Season_Summary!$P$1","v":"2A BB"}]
["Jess Claycomb, 10",{"$f":"Roster!$B$1","v":"Upton"},0,"00:00:00",0,0,0,0,0,0,0,0,0,0,0,0,0,0,"",{"v":0,"d":"0%"},{"v":0,"d":"0%"},{"v":0,"d":"0%"},{"v":0,"d":"0%"},30,"Jess Claycomb, 10 - 0 1/0/1900","",{"$f":"Season_Summary!$P$1","v":"2A BB"}]
["Maxx Cowger, 4",{"$f":"Roster!$B$1","v":"Upton"},0,"00:00:00",0,0,0,0,0,0,0,0,0,0,0,0,0,0,"",{"v":0,"d":"0%"},{"v":0,"d":"0%"},{"v":0,"d":"0%"},{"v":0,"d":"0%"},30,"Maxx Cowger, 4 - 0 1/0/1900","",{"$f":"Season_Summary!$P$1","v":"2A BB"}]
["Brayden Bruce, 22",{"$f":"Roster!$B$1","v":"Upton"},0,"00:00:00",0,0,0,0,0,0,0,0,0,0,0,0,0,0,"",{"v":0,"d":"0%"},{"v":0,"d":"0%"},{"v":0,"d":"0%"},{"v":0,"d":"0%"},30,"Brayden Bruce, 22 - 0 1/0/1900","",{"$f":"Season_Summary!$P$1","v":"2A BB"}]
["Jo Bishop, 30",{"$f":"Roster!$B$1","v":"Upton"},0,"00:00:00",{"$f":"INDIRECT(\"'game1 (\"&$X711&\")'!\"&ADDRESS(ROW(A$7)+MOD(ROW(A711)-7,24),COLUMN(C711)))","v":0},{"$f":"INDIRECT(\"'game1 (\"&$X711&\")'!\"&ADDRESS(ROW(B$7)+MOD(ROW(B711)-7,24),COLUMN(D711)))","v":0},{"$f":"INDIRECT(\"'game1 (\"&$X711&\")'!\"&ADDRESS(ROW(C$7)+MOD(ROW(C711)-7,24),COLUMN(E711)))","v":0},{"$f":"INDIRECT(\"'game1 (\"&$X711&\")'!\"&ADDRESS(ROW(D$7)+MOD(ROW(D711)-7,24),COLUMN(F711)))","v":0},{"$f":"INDIRECT(\"'game1 (\"&$X711&\")'!\"&ADDRESS(ROW(E$7)+MOD(ROW(E711)-7,24),COLUMN(G711)))","v":0},{"$f":"INDIRECT(\"'game1 (\"&$X711&\")'!\"&ADDRESS(ROW(F$7)+MOD(ROW(F711)-7,24),COLUMN(H711)))","v":0},{"$f":"INDIRECT(\"'game1 (\"&$X711&\")'!\"&ADDRESS(ROW(G$7)+MOD(ROW(G711)-7,24),COLUMN(I711)))","v":0},{"$f":"INDIRECT(\"'game1 (\"&$X711&\")'!\"&ADDRESS(ROW(H$7)+MOD(ROW(H711)-7,24),COLUMN(J711)))","v":0},{"$f":"INDIRECT(\"'game1 (\"&$X711&\")'!\"&ADDRESS(ROW(I$7)+MOD(ROW(I711)-7,24),COLUMN(K711)))","v":0},{"$f":"INDIRECT(\"'game1 (\"&$X711&\")'!\"&ADDRESS(ROW(J$7)+MOD(ROW(J711)-7,24),COLUMN(L711)))","v":0},{"$f":"INDIRECT(\"'game1 (\"&$X711&\")'!\"&ADDRESS(ROW(K$7)+MOD(ROW(K711)-7,24),COLUMN(M711)))","v":0},{"$f":"INDIRECT(\"'game1 (\"&$X711&\")'!\"&ADDRESS(ROW(L$7)+MOD(ROW(L711)-7,24),COLUMN(N711)))","v":0},{"$f":"INDIRECT(\"'game1 (\"&$X711&\")'!\"&ADDRESS(ROW(M$7)+MOD(ROW(M711)-7,24),COLUMN(O711)))","v":0},{"$f":"INDIRECT(\"'game1 (\"&$X711&\")'!\"&ADDRESS(ROW(N$7)+MOD(ROW(N711)-7,24),COLUMN(P711)))","v":0},{"$f":"INDIRECT(\"'game1 (\"&$X711&\")'!\"&ADDRESS(ROW(O$7)+MOD(ROW(O711)-7,24),COLUMN(Q711)))","v":""},{"v":0,"d":"0%"},{"v":0,"d":"0%"},{"v":0,"d":"0%"},{"v":0,"d":"0%"},{"$f":"INT((ROW(A711)-7)/24)+1","v":30},"Jo Bishop, 30 - 0 1/0/1900","",{"$f":"Season_Summary!$P$1","v":"2A BB"}]
[{"$f":"CONCATENATE(INDIRECT(\"Roster!B\"&ROW(A$7)+MOD(ROW(A712)-7,24)),\", \",INDIRECT(\"Roster!a\"&ROW(A$7)+MOD(ROW(A712)-7,24)))","v":"Nolan Turner, 33"},{"$f":"Roster!$B$1","v":"Upton"},{"$f":"INDIRECT(\"'game1 (\"&$X712&\")'!$C$2\")","v":0},{"$f":"INDIRECT(\"'game1 (\"&$X712&\")'!$k$2\")","v":"00:00:00"},0,0,0,0,0,0,0,0,0,0,0,0,0,0,"",{"$f":"IF(G712<$D$2,0,INDIRECT(\"'game1 (\"&$X712&\")'!\"&ADDRESS(ROW(M$7)+MOD(ROW(M712)-7,24),COLUMN(R712))))","v":{"v":0,"d":"0%"}},{"$f":"IF(I712<$D$2,0,INDIRECT(\"'game1 (\"&$X712&\")'!\"&ADDRESS(ROW(N$7)+MOD(ROW(N712)-7,24),COLUMN(S712))))","v":{"v":0,"d":"0%"}},{"$f":"IF(K712<$D$2,0,INDIRECT(\"'game1 (\"&$X712&\")'!\"&ADDRESS(ROW(O$7)+MOD(ROW(O712)-7,24),COLUMN(T712))))","v":{"v":0,"d":"0%"}},{"$f":"IF(G712+I712<$D$2,0,INDIRECT(\"'game1 (\"&$X712&\")'!\"&ADDRESS(ROW(O$7)+MOD(ROW(O712)-7,24),COLUMN(U712))))","v":{"v":0,"d":"0%"}},30,{"$f":"CONCATENATE(A712,\" - \",C712,\" \",MONTH(D712),\"/\",DAY(D712),\"/\",YEAR(D712))","v":"Nolan Turner, 33 - 0 1/0/1900"},{"$f":"IFERROR(INDIRECT(\"'game1 (\"&$X712&\")'!$a$2\"),\"\")","v":""},{"$f":"Season_Summary!$P$1","v":"2A BB"}]
["Robert Crawford, 32",{"$f":"Roster!$B$1","v":"Upton"},0,"00:00:00",0,0,0,0,0,0,0,0,0,0,0,0,0,0,"",{"v":0,"d":"0%"},{"v":0,"d":"0%"},{"v":0,"d":"0%"},{"v":0,"d":"0%"},30,"Robert Crawford, 32 - 0 1/0/1900","",{"$f":"Season_Summary!$P$1","v":"2A BB"}]
["Jace Bruce, 40",{"$f":"Roster!$B$1","v":"Upton"},0,"00:00:00",0,0,0,0,0,0,0,0,0,0,0,0,0,0,"",{"v":0,"d":"0%"},{"v":0,"d":"0%"},{"v":0,"d":"0%"},{"v":0,"d":"0%"},30,"Jace Bruce, 40 - 0 1/0/1900","",{"$f":"Season_Summary!$P$1","v":"2A BB"}]
["Ethan Mills, 2",{"$f":"Roster!$B$1","v":"Upton"},0,"00:00:00",0,0,0,0,0,0,0,0,0,0,0,0,0,0,"",{"v":0,"d":"0%"},{"v":0,"d":"0%"},{"v":0,"d":"0%"},{"v":0,"d":"0%"},30,"Ethan Mills, 2 - 0 1/0/1900","",{"$f":"Season_Summary!$P$1","v":"2A BB"}]
["Bridger Alishouse, 2",{"$f":"Roster!$B$1","v":"Upton"},0,"00:00:00",0,0,0,0,0,0,0,0,0,0,0,0,0,0,"",{"v":0,"d":"0%"},{"v":0,"d":"0%"},{"v":0,"d":"0%"},{"v":0,"d":"0%"},30,"Bridger Alishouse, 2 - 0 1/0/1900","",{"$f":"Season_Summary!$P$1","v":"2A BB"}]
["Landon Keever, 4",{"$f":"Roster!$B$1","v":"Upton"},0,"00:00:00",0,0,0,0,0,0,0,0,0,0,0,0,0,0,"",{"v":0,"d":"0%"},{"v":0,"d":"0%"},{"v":0,"d":"0%"},{"v":0,"d":"0%"},30,"Landon Keever, 4 - 0 1/0/1900","",{"$f":"Season_Summary!$P$1","v":"2A BB"}]
["DJ Till, 4",{"$f":"Roster!$B$1","v":"Upton"},0,"00:00:00",0,0,0,0,0,0,0,0,0,0,0,0,0,0,"",{"v":0,"d":"0%"},{"v":0,"d":"0%"},{"v":0,"d":"0%"},{"v":0,"d":"0%"},30,"DJ Till, 4 - 0 1/0/1900","",{"$f":"Season_Summary!$P$1","v":"2A BB"}]
[", ",{"$f":"Roster!$B$1","v":"Upton"},0,"00:00:00",0,0,0,0,0,0,0,0,0,0,0,0,0,0,"",{"v":0,"d":"0%"},{"v":0,"d":"0%"},{"v":0,"d":"0%"},{"v":0,"d":"0%"},30,",  - 0 1/0/1900","",{"$f":"Season_Summary!$P$1","v":"2A BB"}]
[", ",{"$f":"Roster!$B$1","v":"Upton"},0,"00:00:00",0,0,0,0,0,0,0,0,0,0,0,0,0,0,"",{"v":0,"d":"0%"},{"v":0,"d":"0%"},{"v":0,"d":"0%"},{"v":0,"d":"0%"},30,",  - 0 1/0/1900","",{"$f":"Season_Summary!$P$1","v":"2A BB"}]
[", ",{"$f":"Roster!$B$1","v":"Upton"},0,"00:00:00",0,0,0,0,0,0,0,0,0,0,0,0,0,0,"",{"v":0,"d":"0%"},{"v":0,"d":"0%"},{"v":0,"d":"0%"},{"v":0,"d":"0%"},30,",  - 0 1/0/1900","",{"$f":"Season_Summary!$P$1","v":"2A BB"}]
[", ",{"$f":"Roster!$B$1","v":"Upton"},0,"00:00:00",0,0,0,0,0,0,0,0,0,0,0,0,0,0,"",{"v":0,"d":"0%"},{"v":0,"d":"0%"},{"v":0,"d":"0%"},{"v":0,"d":"0%"},30,",  - 0 1/0/1900","",{"$f":"Season_Summary!$P$1","v":"2A BB"}]
[", ",{"$f":"Roster!$B$1","v":"Upton"},0,"00:00:00",0,0,0,0,0,0,0,0,0,0,0,0,0,0,"",{"v":0,"d":"0%"},{"v":0,"d":"0%"},{"v":0,"d":"0%"},{"v":0,"d":"0%"},30,",  - 0 1/0/1900","",{"$f":"Season_Summary!$P$1","v":"2A BB"}]
[", ",{"$f":"Roster!$B$1","v":"Upton"},0,"00:00:00",0,0,0,0,0,0,0,0,0,0,0,0,0,0,"",{"v":0,"d":"0%"},{"v":0,"d":"0%"},{"v":0,"d":"0%"},{"v":0,"d":"0%"},30,",  - 0 1/0/1900","",{"$f":"Season_Summary!$P$1","v":"2A BB"}]
[", ",{"$f":"Roster!$B$1","v":"Upton"},0,"00:00:00",0,0,0,0,0,0,0,0,0,0,0,0,0,0,"",{"v":0,"d":"0%"},{"v":0,"d":"0%"},{"v":0,"d":"0%"},{"v":0,"d":"0%"},30,",  - 0 1/0/1900","",{"$f":"Season_Summary!$P$1","v":"2A BB"}]
["Team, ",{"$f":"Roster!$B$1","v":"Upton"},0,"00:00:00",0,0,0,0,0,0,0,0,0,0,0,0,0,0,"",{"v":0,"d":"0%"},{"v":0,"d":"0%"},{"v":0,"d":"0%"},{"v":0,"d":"0%"},30,"Team,  - 0 1/0/1900","",{"$f":"Season_Summary!$P$1","v":"2A BB"}]
["Payton Watt, 24",{"$f":"Roster!$B$1","v":"Upton"},0,"00:00:00",0,0,0,0,0,0,0,0,0,0,0,0,0,0,"",{"v":0,"d":"0%"},{"v":0,"d":"0%"},{"v":0,"d":"0%"},{"v":0,"d":"0%"},31,"Payton Watt, 24 - 0 1/0/1900","",{"$f":"Season_Summary!$P$1","v":"2A BB"}]
["Dillon Barritt, 20",{"$f":"Roster!$B$1","v":"Upton"},0,"00:00:00",0,0,0,0,0,0,0,0,0,0,0,0,0,0,"",{"v":0,"d":"0%"},{"v":0,"d":"0%"},{"v":0,"d":"0%"},{"v":0,"d":"0%"},31,"Dillon Barritt, 20 - 0 1/0/1900","",{"$f":"Season_Summary!$P$1","v":"2A BB"}]
["Dawson Butts, 14",{"$f":"Roster!$B$1","v":"Upton"},0,"00:00:00",0,0,0,0,0,0,0,0,0,0,0,0,0,0,"",{"v":0,"d":"0%"},{"v":0,"d":"0%"},{"v":0,"d":"0%"},{"v":0,"d":"0%"},31,"Dawson Butts, 14 - 0 1/0/1900","",{"$f":"Season_Summary!$P$1","v":"2A BB"}]
["Jayden Caylor, 12",{"$f":"Roster!$B$1","v":"Upton"},0,"00:00:00",0,0,0,0,0,0,0,0,0,0,0,0,0,0,"",{"v":0,"d":"0%"},{"v":0,"d":"0%"},{"v":0,"d":"0%"},{"v":0,"d":"0%"},31,"Jayden Caylor, 12 - 0 1/0/1900","",{"$f":"Season_Summary!$P$1","v":"2A BB"}]
["Clayton Louderback, 23",{"$f":"Roster!$B$1","v":"Upton"},0,"00:00:00",0,0,0,0,0,0,0,0,0,0,0,0,0,0,"",{"v":0,"d":"0%"},{"v":0,"d":"0%"},{"v":0,"d":"0%"},{"v":0,"d":"0%"},31,"Clayton Louderback, 23 - 0 1/0/1900","",{"$f":"Season_Summary!$P$1","v":"2A BB"}]
["Jess Claycomb, 10",{"$f":"Roster!$B$1","v":"Upton"},0,"00:00:00",0,0,0,0,0,0,0,0,0,0,0,0,0,0,"",{"v":0,"d":"0%"},{"v":0,"d":"0%"},{"v":0,"d":"0%"},{"v":0,"d":"0%"},31,"Jess Claycomb, 10 - 0 1/0/1900","",{"$f":"Season_Summary!$P$1","v":"2A BB"}]
["Maxx Cowger, 4",{"$f":"Roster!$B$1","v":"Upton"},0,"00:00:00",0,0,0,0,0,0,0,0,0,0,0,0,0,0,"",{"v":0,"d":"0%"},{"v":0,"d":"0%"},{"v":0,"d":"0%"},{"v":0,"d":"0%"},31,"Maxx Cowger, 4 - 0 1/0/1900","",{"$f":"Season_Summary!$P$1","v":"2A BB"}]
["Brayden Bruce, 22",{"$f":"Roster!$B$1","v":"Upton"},0,"00:00:00",0,0,0,0,0,0,0,0,0,0,0,0,0,0,"",{"v":0,"d":"0%"},{"v":0,"d":"0%"},{"v":0,"d":"0%"},{"v":0,"d":"0%"},31,"Brayden Bruce, 22 - 0 1/0/1900","",{"$f":"Season_Summary!$P$1","v":"2A BB"}]
["Jo Bishop, 30",{"$f":"Roster!$B$1","v":"Upton"},0,"00:00:00",0,0,0,0,0,0,0,0,0,0,0,0,0,0,"",{"v":0,"d":"0%"},{"v":0,"d":"0%"},{"v":0,"d":"0%"},{"v":0,"d":"0%"},31,"Jo Bishop, 30 - 0 1/0/1900","",{"$f":"Season_Summary!$P$1","v":"2A BB"}]
["Nolan Turner, 33",{"$f":"Roster!$B$1","v":"Upton"},0,"00:00:00",0,0,0,0,0,0,0,0,0,0,0,0,0,0,"",{"v":0,"d":"0%"},{"v":0,"d":"0%"},{"v":0,"d":"0%"},{"v":0,"d":"0%"},31,"Nolan Turner, 33 - 0 1/0/1900","",{"$f":"Season_Summary!$P$1","v":"2A BB"}]
["Robert Crawford, 32",{"$f":"Roster!$B$1","v":"Upton"},0,"00:00:00",0,0,0,0,0,0,0,0,0,0,0,0,0,0,"",{"v":0,"d":"0%"},{"v":0,"d":"0%"},{"v":0,"d":"0%"},{"v":0,"d":"0%"},31,"Robert Crawford, 32 - 0 1/0/1900","",{"$f":"Season_Summary!$P$1","v":"2A BB"}]
["Jace Bruce, 40",{"$f":"Roster!$B$1","v":"Upton"},0,"00:00:00",0,0,0,0,0,0,0,0,0,0,0,0,0,0,"",{"v":0,"d":"0%"},{"v":0,"d":"0%"},{"v":0,"d":"0%"},{"v":0,"d":"0%"},31,"Jace Bruce, 40 - 0 1/0/1900","",{"$f":"Season_Summary!$P$1","v":"2A BB"}]
["Ethan Mills, 2",{"$f":"Roster!$B$1","v":"Upton"},0,"00:00:00",0,0,0,0,0,0,0,0,0,0,0,0,0,0,"",{"v":0,"d":"0%"},{"v":0,"d":"0%"},{"v":0,"d":"0%"},{"v":0,"d":"0%"},31,"Ethan Mills, 2 - 0 1/0/1900","",{"$f":"Season_Summary!$P$1","v":"2A BB"}]
["Bridger Alishouse, 2",{"$f":"Roster!$B$1","v":"Upton"},0,"00:00:00",0,0,0,0,0,0,0,0,0,0,0,0,0,0,"",{"v":0,"d":"0%"},{"v":0,"d":"0%"},{"v":0,"d":"0%"},{"v":0,"d":"0%"},31,"Bridger Alishouse, 2 - 0 1/0/1900","",{"$f":"Season_Summary!$P$1","v":"2A BB"}]
["Landon Keever, 4",{"$f":"Roster!$B$1","v":"Upton"},0,"00:00:00",0,0,0,0,0,0,0,0,0,0,0,0,0,0,"",{"v":0,"d":"0%"},{"v":0,"d":"0%"},{"v":0,"d":"0%"},{"v":0,"d":"0%"},31,"Landon Keever, 4 - 0 1/0/1900","",{"$f":"Season_Summary!$P$1","v":"2A BB"}]
["DJ Till, 4",{"$f":"Roster!$B$1","v":"Upton"},0,"00:00:00",0,0,0,0,0,0,0,0,0,0,0,0,0,0,"",{"v":0,"d":"0%"},{"v":0,"d":"0%"},{"v":0,"d":"0%"},{"v":0,"d":"0%"},31,"DJ Till, 4 - 0 1/0/1900","",{"$f":"Season_Summary!$P$1","v":"2A BB"}]
[", ",{"$f":"Roster!$B$1","v":"Upton"},0,"00:00:00",0,0,0,0,0,0,0,0,0,0,0,0,0,0,"",{"v":0,"d":"0%"},{"v":0,"d":"0%"},{"v":0,"d":"0%"},{"v":0,"d":"0%"},31,",  - 0 1/0/1900","",{"$f":"Season_Summary!$P$1","v":"2A BB"}]
[", ",{"$f":"Roster!$B$1","v":"Upton"},0,"00:00:00",0,0,0,0,0,0,0,0,0,0,0,0,0,0,"",{"v":0,"d":"0%"},{"v":0,"d":"0%"},{"v":0,"d":"0%"},{"v":0,"d":"0%"},31,",  - 0 1/0/1900","",{"$f":"Season_Summary!$P$1","v":"2A BB"}]
[", ",{"$f":"Roster!$B$1","v":"Upton"},0,"00:00:00",0,0,0,0,0,0,0,0,0,0,0,0,0,0,"",{"v":0,"d":"0%"},{"v":0,"d":"0%"},{"v":0,"d":"0%"},{"v":0,"d":"0%"},31,",  - 0 1/0/1900","",{"$f":"Season_Summary!$P$1","v":"2A BB"}]
[", ",{"$f":"Roster!$B$1","v":"Upton"},0,"00:00:00",0,0,0,0,0,0,0,0,0,0,0,0,0,0,"",{"v":0,"d":"0%"},{"v":0,"d":"0%"},{"v":0,"d":"0%"},{"v":0,"d":"0%"},31,",  - 0 1/0/1900","",{"$f":"Season_Summary!$P$1","v":"2A BB"}]
[", ",{"$f":"Roster!$B$1","v":"Upton"},0,"00:00:00",0,0,0,0,0,0,0,0,0,0,0,0,0,0,"",{"v":0,"d":"0%"},{"v":0,"d":"0%"},{"v":0,"d":"0%"},{"v":0,"d":"0%"},31,",  - 0 1/0/1900","",{"$f":"Season_Summary!$P$1","v":"2A BB"}]
[", ",{"$f":"Roster!$B$1","v":"Upton"},0,"00:00:00",0,0,0,0,0,0,0,0,0,0,0,0,0,0,"",{"v":0,"d":"0%"},{"v":0,"d":"0%"},{"v":0,"d":"0%"},{"v":0,"d":"0%"},31,",  - 0 1/0/1900","",{"$f":"Season_Summary!$P$1","v":"2A BB"}]
[", ",{"$f":"Roster!$B$1","v":"Upton"},0,"00:00:00",0,0,0,0,0,0,0,0,0,0,0,0,0,0,"",{"v":0,"d":"0%"},{"v":0,"d":"0%"},{"v":0,"d":"0%"},{"v":0,"d":"0%"},31,",  - 0 1/0/1900","",{"$f":"Season_Summary!$P$1","v":"2A BB"}]
["Team, ",{"$f":"Roster!$B$1","v":"Upton"},0,"00:00:00",0,0,0,0,0,0,0,0,0,0,0,0,0,0,"",{"v":0,"d":"0%"},{"v":0,"d":"0%"},{"v":0,"d":"0%"},{"v":0,"d":"0%"},31,"Team,  - 0 1/0/1900","",{"$f":"Season_Summary!$P$1","v":"2A BB"}]
["Payton Watt, 24",{"$f":"Roster!$B$1","v":"Upton"},0,"00:00:00",0,0,0,0,0,0,0,0,0,0,0,0,0,0,"",{"v":0,"d":"0%"},{"v":0,"d":"0%"},{"v":0,"d":"0%"},{"v":0,"d":"0%"},32,"Payton Watt, 24 - 0 1/0/1900","",{"$f":"Season_Summary!$P$1","v":"2A BB"}]
["Dillon Barritt, 20",{"$f":"Roster!$B$1","v":"Upton"},0,"00:00:00",0,0,0,0,0,0,0,0,0,0,0,0,0,0,"",{"v":0,"d":"0%"},{"v":0,"d":"0%"},{"v":0,"d":"0%"},{"v":0,"d":"0%"},32,"Dillon Barritt, 20 - 0 1/0/1900","",{"$f":"Season_Summary!$P$1","v":"2A BB"}]
["Dawson Butts, 14",{"$f":"Roster!$B$1","v":"Upton"},0,"00:00:00",0,0,0,0,0,0,0,0,0,0,0,0,0,0,"",{"v":0,"d":"0%"},{"v":0,"d":"0%"},{"v":0,"d":"0%"},{"v":0,"d":"0%"},32,"Dawson Butts, 14 - 0 1/0/1900","",{"$f":"Season_Summary!$P$1","v":"2A BB"}]
["Jayden Caylor, 12",{"$f":"Roster!$B$1","v":"Upton"},0,"00:00:00",0,0,0,0,0,0,0,0,0,0,0,0,0,0,"",{"v":0,"d":"0%"},{"v":0,"d":"0%"},{"v":0,"d":"0%"},{"v":0,"d":"0%"},32,"Jayden Caylor, 12 - 0 1/0/1900","",{"$f":"Season_Summary!$P$1","v":"2A BB"}]
["Clayton Louderback, 23",{"$f":"Roster!$B$1","v":"Upton"},0,"00:00:00",0,0,0,0,0,0,0,0,0,0,0,0,0,0,"",{"v":0,"d":"0%"},{"v":0,"d":"0%"},{"v":0,"d":"0%"},{"v":0,"d":"0%"},32,"Clayton Louderback, 23 - 0 1/0/1900","",{"$f":"Season_Summary!$P$1","v":"2A BB"}]
["Jess Claycomb, 10",{"$f":"Roster!$B$1","v":"Upton"},0,"00:00:00",0,0,0,0,0,0,0,0,0,0,0,0,0,0,"",{"v":0,"d":"0%"},{"v":0,"d":"0%"},{"v":0,"d":"0%"},{"v":0,"d":"0%"},32,"Jess Claycomb, 10 - 0 1/0/1900","",{"$f":"Season_Summary!$P$1","v":"2A BB"}]
["Maxx Cowger, 4",{"$f":"Roster!$B$1","v":"Upton"},0,"00:00:00",0,0,0,0,0,0,0,0,0,0,0,0,0,0,"",{"v":0,"d":"0%"},{"v":0,"d":"0%"},{"v":0,"d":"0%"},{"v":0,"d":"0%"},32,"Maxx Cowger, 4 - 0 1/0/1900","",{"$f":"Season_Summary!$P$1","v":"2A BB"}]
["Brayden Bruce, 22",{"$f":"Roster!$B$1","v":"Upton"},0,"00:00:00",0,0,0,0,0,0,0,0,0,0,0,0,0,0,"",{"v":0,"d":"0%"},{"v":0,"d":"0%"},{"v":0,"d":"0%"},{"v":0,"d":"0%"},32,"Brayden Bruce, 22 - 0 1/0/1900","",{"$f":"Season_Summary!$P$1","v":"2A BB"}]
["Jo Bishop, 30",{"$f":"Roster!$B$1","v":"Upton"},0,"00:00:00",0,0,0,0,0,0,0,0,0,0,0,0,0,0,"",{"v":0,"d":"0%"},{"v":0,"d":"0%"},{"v":0,"d":"0%"},{"v":0,"d":"0%"},32,"Jo Bishop, 30 - 0 1/0/1900","",{"$f":"Season_Summary!$P$1","v":"2A BB"}]
["Nolan Turner, 33",{"$f":"Roster!$B$1","v":"Upton"},0,"00:00:00",0,0,0,0,0,0,0,0,0,0,0,0,0,0,"",{"v":0,"d":"0%"},{"v":0,"d":"0%"},{"v":0,"d":"0%"},{"v":0,"d":"0%"},32,"Nolan Turner, 33 - 0 1/0/1900","",{"$f":"Season_Summary!$P$1","v":"2A BB"}]
["Robert Crawford, 32",{"$f":"Roster!$B$1","v":"Upton"},0,"00:00:00",0,0,0,0,0,0,0,0,0,0,0,0,0,0,"",{"v":0,"d":"0%"},{"v":0,"d":"0%"},{"v":0,"d":"0%"},{"v":0,"d":"0%"},32,"Robert Crawford, 32 - 0 1/0/1900","",{"$f":"Season_Summary!$P$1","v":"2A BB"}]
["Jace Bruce, 40",{"$f":"Roster!$B$1","v":"Upton"},0,"00:00:00",0,0,0,0,0,0,0,0,0,0,0,0,0,0,"",{"v":0,"d":"0%"},{"v":0,"d":"0%"},{"v":0,"d":"0%"},{"v":0,"d":"0%"},32,"Jace Bruce, 40 - 0 1/0/1900","",{"$f":"Season_Summary!$P$1","v":"2A BB"}]
["Ethan Mills, 2",{"$f":"Roster!$B$1","v":"Upton"},0,"00:00:00",0,0,0,0,0,0,0,0,0,0,0,0,0,0,"",{"v":0,"d":"0%"},{"v":0,"d":"0%"},{"v":0,"d":"0%"},{"v":0,"d":"0%"},32,"Ethan Mills, 2 - 0 1/0/1900","",{"$f":"Season_Summary!$P$1","v":"2A BB"}]
["Bridger Alishouse, 2",{"$f":"Roster!$B$1","v":"Upton"},0,"00:00:00",0,0,0,0,0,0,0,0,0,0,0,0,0,0,"",{"v":0,"d":"0%"},{"v":0,"d":"0%"},{"v":0,"d":"0%"},{"v":0,"d":"0%"},32,"Bridger Alishouse, 2 - 0 1/0/1900","",{"$f":"Season_Summary!$P$1","v":"2A BB"}]
["Landon Keever, 4",{"$f":"Roster!$B$1","v":"Upton"},0,"00:00:00",0,0,0,0,0,0,0,0,0,0,0,0,0,0,"",{"v":0,"d":"0%"},{"v":0,"d":"0%"},{"v":0,"d":"0%"},{"v":0,"d":"0%"},32,"Landon Keever, 4 - 0 1/0/1900","",{"$f":"Season_Summary!$P$1","v":"2A BB"}]
["DJ Till, 4",{"$f":"Roster!$B$1","v":"Upton"},0,"00:00:00",0,0,0,0,0,0,0,0,0,0,0,0,0,0,"",{"v":0,"d":"0%"},{"v":0,"d":"0%"},{"v":0,"d":"0%"},{"v":0,"d":"0%"},32,"DJ Till, 4 - 0 1/0/1900","",{"$f":"Season_Summary!$P$1","v":"2A BB"}]
[", ",{"$f":"Roster!$B$1","v":"Upton"},0,"00:00:00",0,0,0,0,0,0,0,0,0,0,0,0,0,0,"",{"v":0,"d":"0%"},{"v":0,"d":"0%"},{"v":0,"d":"0%"},{"v":0,"d":"0%"},32,",  - 0 1/0/1900","",{"$f":"Season_Summary!$P$1","v":"2A BB"}]
[", ",{"$f":"Roster!$B$1","v":"Upton"},0,"00:00:00",0,0,0,0,0,0,0,0,0,0,0,0,0,0,"",{"v":0,"d":"0%"},{"v":0,"d":"0%"},{"v":0,"d":"0%"},{"v":0,"d":"0%"},32,",  - 0 1/0/1900","",{"$f":"Season_Summary!$P$1","v":"2A BB"}]
[", ",{"$f":"Roster!$B$1","v":"Upton"},0,"00:00:00",0,0,0,0,0,0,0,0,0,0,0,0,0,0,"",{"v":0,"d":"0%"},{"v":0,"d":"0%"},{"v":0,"d":"0%"},{"v":0,"d":"0%"},32,",  - 0 1/0/1900","",{"$f":"Season_Summary!$P$1","v":"2A BB"}]
[", ",{"$f":"Roster!$B$1","v":"Upton"},0,"00:00:00",0,0,0,0,0,0,0,0,0,0,0,0,0,0,"",{"v":0,"d":"0%"},{"v":0,"d":"0%"},{"v":0,"d":"0%"},{"v":0,"d":"0%"},32,",  - 0 1/0/1900","",{"$f":"Season_Summary!$P$1","v":"2A BB"}]
[", ",{"$f":"Roster!$B$1","v":"Upton"},0,"00:00:00",0,0,0,0,0,0,0,0,0,0,0,0,0,0,"",{"v":0,"d":"0%"},{"v":0,"d":"0%"},{"v":0,"d":"0%"},{"v":0,"d":"0%"},32,",  - 0 1/0/1900","",{"$f":"Season_Summary!$P$1","v":"2A BB"}]
[", ",{"$f":"Roster!$B$1","v":"Upton"},0,"00:00:00",0,0,0,0,0,0,0,0,0,0,0,0,0,0,"",{"v":0,"d":"0%"},{"v":0,"d":"0%"},{"v":0,"d":"0%"},{"v":0,"d":"0%"},32,",  - 0 1/0/1900","",{"$f":"Season_Summary!$P$1","v":"2A BB"}]
[", ",{"$f":"Roster!$B$1","v":"Upton"},0,"00:00:00",0,0,0,0,0,0,0,0,0,0,0,0,0,0,"",{"v":0,"d":"0%"},{"v":0,"d":"0%"},{"v":0,"d":"0%"},{"v":0,"d":"0%"},32,",  - 0 1/0/1900","",{"$f":"Season_Summary!$P$1","v":"2A BB"}]
["Team, ",{"$f":"Roster!$B$1","v":"Upton"},0,"00:00:00",0,0,0,0,0,0,0,0,0,0,0,0,0,0,"",{"v":0,"d":"0%"},{"v":0,"d":"0%"},{"v":0,"d":"0%"},{"v":0,"d":"0%"},32,"Team,  - 0 1/0/1900","",{"$f":"Season_Summary!$P$1","v":"2A BB"}]
["Payton Watt, 24",{"$f":"Roster!$B$1","v":"Upton"},0,"00:00:00",{"$f":"INDIRECT(\"'game1 (\"&$X775&\")'!\"&ADDRESS(ROW(A$7)+MOD(ROW(A775)-7,24),COLUMN(C775)))","v":0},{"$f":"INDIRECT(\"'game1 (\"&$X775&\")'!\"&ADDRESS(ROW(B$7)+MOD(ROW(B775)-7,24),COLUMN(D775)))","v":0},{"$f":"INDIRECT(\"'game1 (\"&$X775&\")'!\"&ADDRESS(ROW(C$7)+MOD(ROW(C775)-7,24),COLUMN(E775)))","v":0},{"$f":"INDIRECT(\"'game1 (\"&$X775&\")'!\"&ADDRESS(ROW(D$7)+MOD(ROW(D775)-7,24),COLUMN(F775)))","v":0},{"$f":"INDIRECT(\"'game1 (\"&$X775&\")'!\"&ADDRESS(ROW(E$7)+MOD(ROW(E775)-7,24),COLUMN(G775)))","v":0},{"$f":"INDIRECT(\"'game1 (\"&$X775&\")'!\"&ADDRESS(ROW(F$7)+MOD(ROW(F775)-7,24),COLUMN(H775)))","v":0},{"$f":"INDIRECT(\"'game1 (\"&$X775&\")'!\"&ADDRESS(ROW(G$7)+MOD(ROW(G775)-7,24),COLUMN(I775)))","v":0},{"$f":"INDIRECT(\"'game1 (\"&$X775&\")'!\"&ADDRESS(ROW(H$7)+MOD(ROW(H775)-7,24),COLUMN(J775)))","v":0},{"$f":"INDIRECT(\"'game1 (\"&$X775&\")'!\"&ADDRESS(ROW(I$7)+MOD(ROW(I775)-7,24),COLUMN(K775)))","v":0},{"$f":"INDIRECT(\"'game1 (\"&$X775&\")'!\"&ADDRESS(ROW(J$7)+MOD(ROW(J775)-7,24),COLUMN(L775)))","v":0},{"$f":"INDIRECT(\"'game1 (\"&$X775&\")'!\"&ADDRESS(ROW(K$7)+MOD(ROW(K775)-7,24),COLUMN(M775)))","v":0},{"$f":"INDIRECT(\"'game1 (\"&$X775&\")'!\"&ADDRESS(ROW(L$7)+MOD(ROW(L775)-7,24),COLUMN(N775)))","v":0},{"$f":"INDIRECT(\"'game1 (\"&$X775&\")'!\"&ADDRESS(ROW(M$7)+MOD(ROW(M775)-7,24),COLUMN(O775)))","v":0},{"$f":"INDIRECT(\"'game1 (\"&$X775&\")'!\"&ADDRESS(ROW(N$7)+MOD(ROW(N775)-7,24),COLUMN(P775)))","v":0},{"$f":"INDIRECT(\"'game1 (\"&$X775&\")'!\"&ADDRESS(ROW(O$7)+MOD(ROW(O775)-7,24),COLUMN(Q775)))","v":""},{"v":0,"d":"0%"},{"v":0,"d":"0%"},{"v":0,"d":"0%"},{"v":0,"d":"0%"},{"$f":"INT((ROW(A775)-7)/24)+1","v":33},"Payton Watt, 24 - 0 1/0/1900","",{"$f":"Season_Summary!$P$1","v":"2A BB"}]
[{"$f":"CONCATENATE(INDIRECT(\"Roster!B\"&ROW(A$7)+MOD(ROW(A776)-7,24)),\", \",INDIRECT(\"Roster!a\"&ROW(A$7)+MOD(ROW(A776)-7,24)))","v":"Dillon Barritt, 20"},{"$f":"Roster!$B$1","v":"Upton"},{"$f":"INDIRECT(\"'game1 (\"&$X776&\")'!$C$2\")","v":0},{"$f":"INDIRECT(\"'game1 (\"&$X776&\")'!$k$2\")","v":"00:00:00"},0,0,0,0,0,0,0,0,0,0,0,0,0,0,"",{"$f":"IF(G776<$D$2,0,INDIRECT(\"'game1 (\"&$X776&\")'!\"&ADDRESS(ROW(M$7)+MOD(ROW(M776)-7,24),COLUMN(R776))))","v":{"v":0,"d":"0%"}},{"$f":"IF(I776<$D$2,0,INDIRECT(\"'game1 (\"&$X776&\")'!\"&ADDRESS(ROW(N$7)+MOD(ROW(N776)-7,24),COLUMN(S776))))","v":{"v":0,"d":"0%"}},{"$f":"IF(K776<$D$2,0,INDIRECT(\"'game1 (\"&$X776&\")'!\"&ADDRESS(ROW(O$7)+MOD(ROW(O776)-7,24),COLUMN(T776))))","v":{"v":0,"d":"0%"}},{"$f":"IF(G776+I776<$D$2,0,INDIRECT(\"'game1 (\"&$X776&\")'!\"&ADDRESS(ROW(O$7)+MOD(ROW(O776)-7,24),COLUMN(U776))))","v":{"v":0,"d":"0%"}},33,{"$f":"CONCATENATE(A776,\" - \",C776,\" \",MONTH(D776),\"/\",DAY(D776),\"/\",YEAR(D776))","v":"Dillon Barritt, 20 - 0 1/0/1900"},{"$f":"IFERROR(INDIRECT(\"'game1 (\"&$X776&\")'!$a$2\"),\"\")","v":""},{"$f":"Season_Summary!$P$1","v":"2A BB"}]
["Dawson Butts, 14",{"$f":"Roster!$B$1","v":"Upton"},0,"00:00:00",0,0,0,0,0,0,0,0,0,0,0,0,0,0,"",{"v":0,"d":"0%"},{"v":0,"d":"0%"},{"v":0,"d":"0%"},{"v":0,"d":"0%"},33,"Dawson Butts, 14 - 0 1/0/1900","",{"$f":"Season_Summary!$P$1","v":"2A BB"}]
["Jayden Caylor, 12",{"$f":"Roster!$B$1","v":"Upton"},0,"00:00:00",0,0,0,0,0,0,0,0,0,0,0,0,0,0,"",{"v":0,"d":"0%"},{"v":0,"d":"0%"},{"v":0,"d":"0%"},{"v":0,"d":"0%"},33,"Jayden Caylor, 12 - 0 1/0/1900","",{"$f":"Season_Summary!$P$1","v":"2A BB"}]
["Clayton Louderback, 23",{"$f":"Roster!$B$1","v":"Upton"},0,"00:00:00",0,0,0,0,0,0,0,0,0,0,0,0,0,0,"",{"v":0,"d":"0%"},{"v":0,"d":"0%"},{"v":0,"d":"0%"},{"v":0,"d":"0%"},33,"Clayton Louderback, 23 - 0 1/0/1900","",{"$f":"Season_Summary!$P$1","v":"2A BB"}]
["Jess Claycomb, 10",{"$f":"Roster!$B$1","v":"Upton"},0,"00:00:00",0,0,0,0,0,0,0,0,0,0,0,0,0,0,"",{"v":0,"d":"0%"},{"v":0,"d":"0%"},{"v":0,"d":"0%"},{"v":0,"d":"0%"},33,"Jess Claycomb, 10 - 0 1/0/1900","",{"$f":"Season_Summary!$P$1","v":"2A BB"}]
["Maxx Cowger, 4",{"$f":"Roster!$B$1","v":"Upton"},0,"00:00:00",0,0,0,0,0,0,0,0,0,0,0,0,0,0,"",{"v":0,"d":"0%"},{"v":0,"d":"0%"},{"v":0,"d":"0%"},{"v":0,"d":"0%"},33,"Maxx Cowger, 4 - 0 1/0/1900","",{"$f":"Season_Summary!$P$1","v":"2A BB"}]
["Brayden Bruce, 22",{"$f":"Roster!$B$1","v":"Upton"},0,"00:00:00",0,0,0,0,0,0,0,0,0,0,0,0,0,0,"",{"v":0,"d":"0%"},{"v":0,"d":"0%"},{"v":0,"d":"0%"},{"v":0,"d":"0%"},33,"Brayden Bruce, 22 - 0 1/0/1900","",{"$f":"Season_Summary!$P$1","v":"2A BB"}]
["Jo Bishop, 30",{"$f":"Roster!$B$1","v":"Upton"},0,"00:00:00",0,0,0,0,0,0,0,0,0,0,0,0,0,0,"",{"v":0,"d":"0%"},{"v":0,"d":"0%"},{"v":0,"d":"0%"},{"v":0,"d":"0%"},33,"Jo Bishop, 30 - 0 1/0/1900","",{"$f":"Season_Summary!$P$1","v":"2A BB"}]
["Nolan Turner, 33",{"$f":"Roster!$B$1","v":"Upton"},0,"00:00:00",0,0,0,0,0,0,0,0,0,0,0,0,0,0,"",{"v":0,"d":"0%"},{"v":0,"d":"0%"},{"v":0,"d":"0%"},{"v":0,"d":"0%"},33,"Nolan Turner, 33 - 0 1/0/1900","",{"$f":"Season_Summary!$P$1","v":"2A BB"}]
["Robert Crawford, 32",{"$f":"Roster!$B$1","v":"Upton"},0,"00:00:00",0,0,0,0,0,0,0,0,0,0,0,0,0,0,"",{"v":0,"d":"0%"},{"v":0,"d":"0%"},{"v":0,"d":"0%"},{"v":0,"d":"0%"},33,"Robert Crawford, 32 - 0 1/0/1900","",{"$f":"Season_Summary!$P$1","v":"2A BB"}]
["Jace Bruce, 40",{"$f":"Roster!$B$1","v":"Upton"},0,"00:00:00",0,0,0,0,0,0,0,0,0,0,0,0,0,0,"",{"v":0,"d":"0%"},{"v":0,"d":"0%"},{"v":0,"d":"0%"},{"v":0,"d":"0%"},33,"Jace Bruce, 40 - 0 1/0/1900","",{"$f":"Season_Summary!$P$1","v":"2A BB"}]
["Ethan Mills, 2",{"$f":"Roster!$B$1","v":"Upton"},0,"00:00:00",0,0,0,0,0,0,0,0,0,0,0,0,0,0,"",{"v":0,"d":"0%"},{"v":0,"d":"0%"},{"v":0,"d":"0%"},{"v":0,"d":"0%"},33,"Ethan Mills, 2 - 0 1/0/1900","",{"$f":"Season_Summary!$P$1","v":"2A BB"}]
["Bridger Alishouse, 2",{"$f":"Roster!$B$1","v":"Upton"},0,"00:00:00",0,0,0,0,0,0,0,0,0,0,0,0,0,0,"",{"v":0,"d":"0%"},{"v":0,"d":"0%"},{"v":0,"d":"0%"},{"v":0,"d":"0%"},33,"Bridger Alishouse, 2 - 0 1/0/1900","",{"$f":"Season_Summary!$P$1","v":"2A BB"}]
["Landon Keever, 4",{"$f":"Roster!$B$1","v":"Upton"},0,"00:00:00",0,0,0,0,0,0,0,0,0,0,0,0,0,0,"",{"v":0,"d":"0%"},{"v":0,"d":"0%"},{"v":0,"d":"0%"},{"v":0,"d":"0%"},33,"Landon Keever, 4 - 0 1/0/1900","",{"$f":"Season_Summary!$P$1","v":"2A BB"}]
["DJ Till, 4",{"$f":"Roster!$B$1","v":"Upton"},0,"00:00:00",0,0,0,0,0,0,0,0,0,0,0,0,0,0,"",{"v":0,"d":"0%"},{"v":0,"d":"0%"},{"v":0,"d":"0%"},{"v":0,"d":"0%"},33,"DJ Till, 4 - 0 1/0/1900","",{"$f":"Season_Summary!$P$1","v":"2A BB"}]
[", ",{"$f":"Roster!$B$1","v":"Upton"},0,"00:00:00",0,0,0,0,0,0,0,0,0,0,0,0,0,0,"",{"v":0,"d":"0%"},{"v":0,"d":"0%"},{"v":0,"d":"0%"},{"v":0,"d":"0%"},33,",  - 0 1/0/1900","",{"$f":"Season_Summary!$P$1","v":"2A BB"}]
[", ",{"$f":"Roster!$B$1","v":"Upton"},0,"00:00:00",0,0,0,0,0,0,0,0,0,0,0,0,0,0,"",{"v":0,"d":"0%"},{"v":0,"d":"0%"},{"v":0,"d":"0%"},{"v":0,"d":"0%"},33,",  - 0 1/0/1900","",{"$f":"Season_Summary!$P$1","v":"2A BB"}]
[", ",{"$f":"Roster!$B$1","v":"Upton"},0,"00:00:00",0,0,0,0,0,0,0,0,0,0,0,0,0,0,"",{"v":0,"d":"0%"},{"v":0,"d":"0%"},{"v":0,"d":"0%"},{"v":0,"d":"0%"},33,",  - 0 1/0/1900","",{"$f":"Season_Summary!$P$1","v":"2A BB"}]
[", ",{"$f":"Roster!$B$1","v":"Upton"},0,"00:00:00",0,0,0,0,0,0,0,0,0,0,0,0,0,0,"",{"v":0,"d":"0%"},{"v":0,"d":"0%"},{"v":0,"d":"0%"},{"v":0,"d":"0%"},33,",  - 0 1/0/1900","",{"$f":"Season_Summary!$P$1","v":"2A BB"}]
[", ",{"$f":"Roster!$B$1","v":"Upton"},0,"00:00:00",0,0,0,0,0,0,0,0,0,0,0,0,0,0,"",{"v":0,"d":"0%"},{"v":0,"d":"0%"},{"v":0,"d":"0%"},{"v":0,"d":"0%"},33,",  - 0 1/0/1900","",{"$f":"Season_Summary!$P$1","v":"2A BB"}]
[", ",{"$f":"Roster!$B$1","v":"Upton"},0,"00:00:00",0,0,0,0,0,0,0,0,0,0,0,0,0,0,"",{"v":0,"d":"0%"},{"v":0,"d":"0%"},{"v":0,"d":"0%"},{"v":0,"d":"0%"},33,",  - 0 1/0/1900","",{"$f":"Season_Summary!$P$1","v":"2A BB"}]
[", ",{"$f":"Roster!$B$1","v":"Upton"},0,"00:00:00",0,0,0,0,0,0,0,0,0,0,0,0,0,0,"",{"v":0,"d":"0%"},{"v":0,"d":"0%"},{"v":0,"d":"0%"},{"v":0,"d":"0%"},33,",  - 0 1/0/1900","",{"$f":"Season_Summary!$P$1","v":"2A BB"}]
["Team, ",{"$f":"Roster!$B$1","v":"Upton"},0,"00:00:00",0,0,0,0,0,0,0,0,0,0,0,0,0,0,"",{"v":0,"d":"0%"},{"v":0,"d":"0%"},{"v":0,"d":"0%"},{"v":0,"d":"0%"},33,"Team,  - 0 1/0/1900","",{"$f":"Season_Summary!$P$1","v":"2A BB"}]
["Payton Watt, 24",{"$f":"Roster!$B$1","v":"Upton"},0,"00:00:00",0,0,0,0,0,0,0,0,0,0,0,0,0,0,"",{"v":0,"d":"0%"},{"v":0,"d":"0%"},{"v":0,"d":"0%"},{"v":0,"d":"0%"},34,"Payton Watt, 24 - 0 1/0/1900","",{"$f":"Season_Summary!$P$1","v":"2A BB"}]
["Dillon Barritt, 20",{"$f":"Roster!$B$1","v":"Upton"},0,"00:00:00",0,0,0,0,0,0,0,0,0,0,0,0,0,0,"",{"v":0,"d":"0%"},{"v":0,"d":"0%"},{"v":0,"d":"0%"},{"v":0,"d":"0%"},34,"Dillon Barritt, 20 - 0 1/0/1900","",{"$f":"Season_Summary!$P$1","v":"2A BB"}]
["Dawson Butts, 14",{"$f":"Roster!$B$1","v":"Upton"},0,"00:00:00",0,0,0,0,0,0,0,0,0,0,0,0,0,0,"",{"v":0,"d":"0%"},{"v":0,"d":"0%"},{"v":0,"d":"0%"},{"v":0,"d":"0%"},34,"Dawson Butts, 14 - 0 1/0/1900","",{"$f":"Season_Summary!$P$1","v":"2A BB"}]
["Jayden Caylor, 12",{"$f":"Roster!$B$1","v":"Upton"},0,"00:00:00",0,0,0,0,0,0,0,0,0,0,0,0,0,0,"",{"v":0,"d":"0%"},{"v":0,"d":"0%"},{"v":0,"d":"0%"},{"v":0,"d":"0%"},34,"Jayden Caylor, 12 - 0 1/0/1900","",{"$f":"Season_Summary!$P$1","v":"2A BB"}]
["Clayton Louderback, 23",{"$f":"Roster!$B$1","v":"Upton"},0,"00:00:00",0,0,0,0,0,0,0,0,0,0,0,0,0,0,"",{"v":0,"d":"0%"},{"v":0,"d":"0%"},{"v":0,"d":"0%"},{"v":0,"d":"0%"},34,"Clayton Louderback, 23 - 0 1/0/1900","",{"$f":"Season_Summary!$P$1","v":"2A BB"}]
["Jess Claycomb, 10",{"$f":"Roster!$B$1","v":"Upton"},0,"00:00:00",0,0,0,0,0,0,0,0,0,0,0,0,0,0,"",{"v":0,"d":"0%"},{"v":0,"d":"0%"},{"v":0,"d":"0%"},{"v":0,"d":"0%"},34,"Jess Claycomb, 10 - 0 1/0/1900","",{"$f":"Season_Summary!$P$1","v":"2A BB"}]
["Maxx Cowger, 4",{"$f":"Roster!$B$1","v":"Upton"},0,"00:00:00",0,0,0,0,0,0,0,0,0,0,0,0,0,0,"",{"v":0,"d":"0%"},{"v":0,"d":"0%"},{"v":0,"d":"0%"},{"v":0,"d":"0%"},34,"Maxx Cowger, 4 - 0 1/0/1900","",{"$f":"Season_Summary!$P$1","v":"2A BB"}]
["Brayden Bruce, 22",{"$f":"Roster!$B$1","v":"Upton"},0,"00:00:00",0,0,0,0,0,0,0,0,0,0,0,0,0,0,"",{"v":0,"d":"0%"},{"v":0,"d":"0%"},{"v":0,"d":"0%"},{"v":0,"d":"0%"},34,"Brayden Bruce, 22 - 0 1/0/1900","",{"$f":"Season_Summary!$P$1","v":"2A BB"}]
["Jo Bishop, 30",{"$f":"Roster!$B$1","v":"Upton"},0,"00:00:00",0,0,0,0,0,0,0,0,0,0,0,0,0,0,"",{"v":0,"d":"0%"},{"v":0,"d":"0%"},{"v":0,"d":"0%"},{"v":0,"d":"0%"},34,"Jo Bishop, 30 - 0 1/0/1900","",{"$f":"Season_Summary!$P$1","v":"2A BB"}]
["Nolan Turner, 33",{"$f":"Roster!$B$1","v":"Upton"},0,"00:00:00",0,0,0,0,0,0,0,0,0,0,0,0,0,0,"",{"v":0,"d":"0%"},{"v":0,"d":"0%"},{"v":0,"d":"0%"},{"v":0,"d":"0%"},34,"Nolan Turner, 33 - 0 1/0/1900","",{"$f":"Season_Summary!$P$1","v":"2A BB"}]
["Robert Crawford, 32",{"$f":"Roster!$B$1","v":"Upton"},0,"00:00:00",0,0,0,0,0,0,0,0,0,0,0,0,0,0,"",{"v":0,"d":"0%"},{"v":0,"d":"0%"},{"v":0,"d":"0%"},{"v":0,"d":"0%"},34,"Robert Crawford, 32 - 0 1/0/1900","",{"$f":"Season_Summary!$P$1","v":"2A BB"}]
["Jace Bruce, 40",{"$f":"Roster!$B$1","v":"Upton"},0,"00:00:00",0,0,0,0,0,0,0,0,0,0,0,0,0,0,"",{"v":0,"d":"0%"},{"v":0,"d":"0%"},{"v":0,"d":"0%"},{"v":0,"d":"0%"},34,"Jace Bruce, 40 - 0 1/0/1900","",{"$f":"Season_Summary!$P$1","v":"2A BB"}]
["Ethan Mills, 2",{"$f":"Roster!$B$1","v":"Upton"},0,"00:00:00",0,0,0,0,0,0,0,0,0,0,0,0,0,0,"",{"v":0,"d":"0%"},{"v":0,"d":"0%"},{"v":0,"d":"0%"},{"v":0,"d":"0%"},34,"Ethan Mills, 2 - 0 1/0/1900","",{"$f":"Season_Summary!$P$1","v":"2A BB"}]
["Bridger Alishouse, 2",{"$f":"Roster!$B$1","v":"Upton"},0,"00:00:00",0,0,0,0,0,0,0,0,0,0,0,0,0,0,"",{"v":0,"d":"0%"},{"v":0,"d":"0%"},{"v":0,"d":"0%"},{"v":0,"d":"0%"},34,"Bridger Alishouse, 2 - 0 1/0/1900","",{"$f":"Season_Summary!$P$1","v":"2A BB"}]
["Landon Keever, 4",{"$f":"Roster!$B$1","v":"Upton"},0,"00:00:00",0,0,0,0,0,0,0,0,0,0,0,0,0,0,"",{"v":0,"d":"0%"},{"v":0,"d":"0%"},{"v":0,"d":"0%"},{"v":0,"d":"0%"},34,"Landon Keever, 4 - 0 1/0/1900","",{"$f":"Season_Summary!$P$1","v":"2A BB"}]
["DJ Till, 4",{"$f":"Roster!$B$1","v":"Upton"},0,"00:00:00",0,0,0,0,0,0,0,0,0,0,0,0,0,0,"",{"v":0,"d":"0%"},{"v":0,"d":"0%"},{"v":0,"d":"0%"},{"v":0,"d":"0%"},34,"DJ Till, 4 - 0 1/0/1900","",{"$f":"Season_Summary!$P$1","v":"2A BB"}]
[", ",{"$f":"Roster!$B$1","v":"Upton"},0,"00:00:00",0,0,0,0,0,0,0,0,0,0,0,0,0,0,"",{"v":0,"d":"0%"},{"v":0,"d":"0%"},{"v":0,"d":"0%"},{"v":0,"d":"0%"},34,",  - 0 1/0/1900","",{"$f":"Season_Summary!$P$1","v":"2A BB"}]
[", ",{"$f":"Roster!$B$1","v":"Upton"},0,"00:00:00",0,0,0,0,0,0,0,0,0,0,0,0,0,0,"",{"v":0,"d":"0%"},{"v":0,"d":"0%"},{"v":0,"d":"0%"},{"v":0,"d":"0%"},34,",  - 0 1/0/1900","",{"$f":"Season_Summary!$P$1","v":"2A BB"}]
[", ",{"$f":"Roster!$B$1","v":"Upton"},0,"00:00:00",0,0,0,0,0,0,0,0,0,0,0,0,0,0,"",{"v":0,"d":"0%"},{"v":0,"d":"0%"},{"v":0,"d":"0%"},{"v":0,"d":"0%"},34,",  - 0 1/0/1900","",{"$f":"Season_Summary!$P$1","v":"2A BB"}]
[", ",{"$f":"Roster!$B$1","v":"Upton"},0,"00:00:00",0,0,0,0,0,0,0,0,0,0,0,0,0,0,"",{"v":0,"d":"0%"},{"v":0,"d":"0%"},{"v":0,"d":"0%"},{"v":0,"d":"0%"},34,",  - 0 1/0/1900","",{"$f":"Season_Summary!$P$1","v":"2A BB"}]
[", ",{"$f":"Roster!$B$1","v":"Upton"},0,"00:00:00",0,0,0,0,0,0,0,0,0,0,0,0,0,0,"",{"v":0,"d":"0%"},{"v":0,"d":"0%"},{"v":0,"d":"0%"},{"v":0,"d":"0%"},34,",  - 0 1/0/1900","",{"$f":"Season_Summary!$P$1","v":"2A BB"}]
[", ",{"$f":"Roster!$B$1","v":"Upton"},0,"00:00:00",0,0,0,0,0,0,0,0,0,0,0,0,0,0,"",{"v":0,"d":"0%"},{"v":0,"d":"0%"},{"v":0,"d":"0%"},{"v":0,"d":"0%"},34,",  - 0 1/0/1900","",{"$f":"Season_Summary!$P$1","v":"2A BB"}]
[", ",{"$f":"Roster!$B$1","v":"Upton"},0,"00:00:00",0,0,0,0,0,0,0,0,0,0,0,0,0,0,"",{"v":0,"d":"0%"},{"v":0,"d":"0%"},{"v":0,"d":"0%"},{"v":0,"d":"0%"},34,",  - 0 1/0/1900","",{"$f":"Season_Summary!$P$1","v":"2A BB"}]
["Team, ",{"$f":"Roster!$B$1","v":"Upton"},0,"00:00:00",0,0,0,0,0,0,0,0,0,0,0,0,0,0,"",{"v":0,"d":"0%"},{"v":0,"d":"0%"},{"v":0,"d":"0%"},{"v":0,"d":"0%"},34,"Team,  - 0 1/0/1900","",{"$f":"Season_Summary!$P$1","v":"2A BB"}]
["Payton Watt, 24",{"$f":"Roster!$B$1","v":"Upton"},0,"00:00:00",0,0,0,0,0,0,0,0,0,0,0,0,0,0,"",{"v":0,"d":"0%"},{"v":0,"d":"0%"},{"v":0,"d":"0%"},{"v":0,"d":"0%"},35,"Payton Watt, 24 - 0 1/0/1900","",{"$f":"Season_Summary!$P$1","v":"2A BB"}]
["Dillon Barritt, 20",{"$f":"Roster!$B$1","v":"Upton"},0,"00:00:00",0,0,0,0,0,0,0,0,0,0,0,0,0,0,"",{"v":0,"d":"0%"},{"v":0,"d":"0%"},{"v":0,"d":"0%"},{"v":0,"d":"0%"},35,"Dillon Barritt, 20 - 0 1/0/1900","",{"$f":"Season_Summary!$P$1","v":"2A BB"}]
["Dawson Butts, 14",{"$f":"Roster!$B$1","v":"Upton"},0,"00:00:00",0,0,0,0,0,0,0,0,0,0,0,0,0,0,"",{"v":0,"d":"0%"},{"v":0,"d":"0%"},{"v":0,"d":"0%"},{"v":0,"d":"0%"},35,"Dawson Butts, 14 - 0 1/0/1900","",{"$f":"Season_Summary!$P$1","v":"2A BB"}]
["Jayden Caylor, 12",{"$f":"Roster!$B$1","v":"Upton"},0,"00:00:00",0,0,0,0,0,0,0,0,0,0,0,0,0,0,"",{"v":0,"d":"0%"},{"v":0,"d":"0%"},{"v":0,"d":"0%"},{"v":0,"d":"0%"},35,"Jayden Caylor, 12 - 0 1/0/1900","",{"$f":"Season_Summary!$P$1","v":"2A BB"}]
["Clayton Louderback, 23",{"$f":"Roster!$B$1","v":"Upton"},0,"00:00:00",0,0,0,0,0,0,0,0,0,0,0,0,0,0,"",{"v":0,"d":"0%"},{"v":0,"d":"0%"},{"v":0,"d":"0%"},{"v":0,"d":"0%"},35,"Clayton Louderback, 23 - 0 1/0/1900","",{"$f":"Season_Summary!$P$1","v":"2A BB"}]
["Jess Claycomb, 10",{"$f":"Roster!$B$1","v":"Upton"},0,"00:00:00",0,0,0,0,0,0,0,0,0,0,0,0,0,0,"",{"v":0,"d":"0%"},{"v":0,"d":"0%"},{"v":0,"d":"0%"},{"v":0,"d":"0%"},35,"Jess Claycomb, 10 - 0 1/0/1900","",{"$f":"Season_Summary!$P$1","v":"2A BB"}]
["Maxx Cowger, 4",{"$f":"Roster!$B$1","v":"Upton"},0,"00:00:00",0,0,0,0,0,0,0,0,0,0,0,0,0,0,"",{"v":0,"d":"0%"},{"v":0,"d":"0%"},{"v":0,"d":"0%"},{"v":0,"d":"0%"},35,"Maxx Cowger, 4 - 0 1/0/1900","",{"$f":"Season_Summary!$P$1","v":"2A BB"}]
["Brayden Bruce, 22",{"$f":"Roster!$B$1","v":"Upton"},0,"00:00:00",0,0,0,0,0,0,0,0,0,0,0,0,0,0,"",{"v":0,"d":"0%"},{"v":0,"d":"0%"},{"v":0,"d":"0%"},{"v":0,"d":"0%"},35,"Brayden Bruce, 22 - 0 1/0/1900","",{"$f":"Season_Summary!$P$1","v":"2A BB"}]
["Jo Bishop, 30",{"$f":"Roster!$B$1","v":"Upton"},0,"00:00:00",0,0,0,0,0,0,0,0,0,0,0,0,0,0,"",{"v":0,"d":"0%"},{"v":0,"d":"0%"},{"v":0,"d":"0%"},{"v":0,"d":"0%"},35,"Jo Bishop, 30 - 0 1/0/1900","",{"$f":"Season_Summary!$P$1","v":"2A BB"}]
["Nolan Turner, 33",{"$f":"Roster!$B$1","v":"Upton"},0,"00:00:00",0,0,0,0,0,0,0,0,0,0,0,0,0,0,"",{"v":0,"d":"0%"},{"v":0,"d":"0%"},{"v":0,"d":"0%"},{"v":0,"d":"0%"},35,"Nolan Turner, 33 - 0 1/0/1900","",{"$f":"Season_Summary!$P$1","v":"2A BB"}]
["Robert Crawford, 32",{"$f":"Roster!$B$1","v":"Upton"},0,"00:00:00",0,0,0,0,0,0,0,0,0,0,0,0,0,0,"",{"v":0,"d":"0%"},{"v":0,"d":"0%"},{"v":0,"d":"0%"},{"v":0,"d":"0%"},35,"Robert Crawford, 32 - 0 1/0/1900","",{"$f":"Season_Summary!$P$1","v":"2A BB"}]
["Jace Bruce, 40",{"$f":"Roster!$B$1","v":"Upton"},0,"00:00:00",0,0,0,0,0,0,0,0,0,0,0,0,0,0,"",{"v":0,"d":"0%"},{"v":0,"d":"0%"},{"v":0,"d":"0%"},{"v":0,"d":"0%"},35,"Jace Bruce, 40 - 0 1/0/1900","",{"$f":"Season_Summary!$P$1","v":"2A BB"}]
["Ethan Mills, 2",{"$f":"Roster!$B$1","v":"Upton"},0,"00:00:00",0,0,0,0,0,0,0,0,0,0,0,0,0,0,"",{"v":0,"d":"0%"},{"v":0,"d":"0%"},{"v":0,"d":"0%"},{"v":0,"d":"0%"},35,"Ethan Mills, 2 - 0 1/0/1900","",{"$f":"Season_Summary!$P$1","v":"2A BB"}]
["Bridger Alishouse, 2",{"$f":"Roster!$B$1","v":"Upton"},0,"00:00:00",0,0,0,0,0,0,0,0,0,0,0,0,0,0,"",{"v":0,"d":"0%"},{"v":0,"d":"0%"},{"v":0,"d":"0%"},{"v":0,"d":"0%"},35,"Bridger Alishouse, 2 - 0 1/0/1900","",{"$f":"Season_Summary!$P$1","v":"2A BB"}]
["Landon Keever, 4",{"$f":"Roster!$B$1","v":"Upton"},0,"00:00:00",0,0,0,0,0,0,0,0,0,0,0,0,0,0,"",{"v":0,"d":"0%"},{"v":0,"d":"0%"},{"v":0,"d":"0%"},{"v":0,"d":"0%"},35,"Landon Keever, 4 - 0 1/0/1900","",{"$f":"Season_Summary!$P$1","v":"2A BB"}]
["DJ Till, 4",{"$f":"Roster!$B$1","v":"Upton"},0,"00:00:00",0,0,0,0,0,0,0,0,0,0,0,0,0,0,"",{"v":0,"d":"0%"},{"v":0,"d":"0%"},{"v":0,"d":"0%"},{"v":0,"d":"0%"},35,"DJ Till, 4 - 0 1/0/1900","",{"$f":"Season_Summary!$P$1","v":"2A BB"}]
[", ",{"$f":"Roster!$B$1","v":"Upton"},0,"00:00:00",{"$f":"INDIRECT(\"'game1 (\"&$X839&\")'!\"&ADDRESS(ROW(A$7)+MOD(ROW(A839)-7,24),COLUMN(C839)))","v":0},{"$f":"INDIRECT(\"'game1 (\"&$X839&\")'!\"&ADDRESS(ROW(B$7)+MOD(ROW(B839)-7,24),COLUMN(D839)))","v":0},{"$f":"INDIRECT(\"'game1 (\"&$X839&\")'!\"&ADDRESS(ROW(C$7)+MOD(ROW(C839)-7,24),COLUMN(E839)))","v":0},{"$f":"INDIRECT(\"'game1 (\"&$X839&\")'!\"&ADDRESS(ROW(D$7)+MOD(ROW(D839)-7,24),COLUMN(F839)))","v":0},{"$f":"INDIRECT(\"'game1 (\"&$X839&\")'!\"&ADDRESS(ROW(E$7)+MOD(ROW(E839)-7,24),COLUMN(G839)))","v":0},{"$f":"INDIRECT(\"'game1 (\"&$X839&\")'!\"&ADDRESS(ROW(F$7)+MOD(ROW(F839)-7,24),COLUMN(H839)))","v":0},{"$f":"INDIRECT(\"'game1 (\"&$X839&\")'!\"&ADDRESS(ROW(G$7)+MOD(ROW(G839)-7,24),COLUMN(I839)))","v":0},{"$f":"INDIRECT(\"'game1 (\"&$X839&\")'!\"&ADDRESS(ROW(H$7)+MOD(ROW(H839)-7,24),COLUMN(J839)))","v":0},{"$f":"INDIRECT(\"'game1 (\"&$X839&\")'!\"&ADDRESS(ROW(I$7)+MOD(ROW(I839)-7,24),COLUMN(K839)))","v":0},{"$f":"INDIRECT(\"'game1 (\"&$X839&\")'!\"&ADDRESS(ROW(J$7)+MOD(ROW(J839)-7,24),COLUMN(L839)))","v":0},{"$f":"INDIRECT(\"'game1 (\"&$X839&\")'!\"&ADDRESS(ROW(K$7)+MOD(ROW(K839)-7,24),COLUMN(M839)))","v":0},{"$f":"INDIRECT(\"'game1 (\"&$X839&\")'!\"&ADDRESS(ROW(L$7)+MOD(ROW(L839)-7,24),COLUMN(N839)))","v":0},{"$f":"INDIRECT(\"'game1 (\"&$X839&\")'!\"&ADDRESS(ROW(M$7)+MOD(ROW(M839)-7,24),COLUMN(O839)))","v":0},{"$f":"INDIRECT(\"'game1 (\"&$X839&\")'!\"&ADDRESS(ROW(N$7)+MOD(ROW(N839)-7,24),COLUMN(P839)))","v":0},{"$f":"INDIRECT(\"'game1 (\"&$X839&\")'!\"&ADDRESS(ROW(O$7)+MOD(ROW(O839)-7,24),COLUMN(Q839)))","v":""},{"v":0,"d":"0%"},{"v":0,"d":"0%"},{"v":0,"d":"0%"},{"v":0,"d":"0%"},{"$f":"INT((ROW(A839)-7)/24)+1","v":35},",  - 0 1/0/1900","",{"$f":"Season_Summary!$P$1","v":"2A BB"}]
[{"$f":"CONCATENATE(INDIRECT(\"Roster!B\"&ROW(A$7)+MOD(ROW(A840)-7,24)),\", \",INDIRECT(\"Roster!a\"&ROW(A$7)+MOD(ROW(A840)-7,24)))","v":", "},{"$f":"Roster!$B$1","v":"Upton"},{"$f":"INDIRECT(\"'game1 (\"&$X840&\")'!$C$2\")","v":0},{"$f":"INDIRECT(\"'game1 (\"&$X840&\")'!$k$2\")","v":"00:00:00"},0,0,0,0,0,0,0,0,0,0,0,0,0,0,"",{"$f":"IF(G840<$D$2,0,INDIRECT(\"'game1 (\"&$X840&\")'!\"&ADDRESS(ROW(M$7)+MOD(ROW(M840)-7,24),COLUMN(R840))))","v":{"v":0,"d":"0%"}},{"$f":"IF(I840<$D$2,0,INDIRECT(\"'game1 (\"&$X840&\")'!\"&ADDRESS(ROW(N$7)+MOD(ROW(N840)-7,24),COLUMN(S840))))","v":{"v":0,"d":"0%"}},{"$f":"IF(K840<$D$2,0,INDIRECT(\"'game1 (\"&$X840&\")'!\"&ADDRESS(ROW(O$7)+MOD(ROW(O840)-7,24),COLUMN(T840))))","v":{"v":0,"d":"0%"}},{"$f":"IF(G840+I840<$D$2,0,INDIRECT(\"'game1 (\"&$X840&\")'!\"&ADDRESS(ROW(O$7)+MOD(ROW(O840)-7,24),COLUMN(U840))))","v":{"v":0,"d":"0%"}},35,{"$f":"CONCATENATE(A840,\" - \",C840,\" \",MONTH(D840),\"/\",DAY(D840),\"/\",YEAR(D840))","v":",  - 0 1/0/1900"},{"$f":"IFERROR(INDIRECT(\"'game1 (\"&$X840&\")'!$a$2\"),\"\")","v":""},{"$f":"Season_Summary!$P$1","v":"2A BB"}]
[", ",{"$f":"Roster!$B$1","v":"Upton"},0,"00:00:00",0,0,0,0,0,0,0,0,0,0,0,0,0,0,"",{"v":0,"d":"0%"},{"v":0,"d":"0%"},{"v":0,"d":"0%"},{"v":0,"d":"0%"},35,",  - 0 1/0/1900","",{"$f":"Season_Summary!$P$1","v":"2A BB"}]
[", ",{"$f":"Roster!$B$1","v":"Upton"},0,"00:00:00",0,0,0,0,0,0,0,0,0,0,0,0,0,0,"",{"v":0,"d":"0%"},{"v":0,"d":"0%"},{"v":0,"d":"0%"},{"v":0,"d":"0%"},35,",  - 0 1/0/1900","",{"$f":"Season_Summary!$P$1","v":"2A BB"}]
[", ",{"$f":"Roster!$B$1","v":"Upton"},0,"00:00:00",0,0,0,0,0,0,0,0,0,0,0,0,0,0,"",{"v":0,"d":"0%"},{"v":0,"d":"0%"},{"v":0,"d":"0%"},{"v":0,"d":"0%"},35,",  - 0 1/0/1900","",{"$f":"Season_Summary!$P$1","v":"2A BB"}]
[", ",{"$f":"Roster!$B$1","v":"Upton"},0,"00:00:00",0,0,0,0,0,0,0,0,0,0,0,0,0,0,"",{"v":0,"d":"0%"},{"v":0,"d":"0%"},{"v":0,"d":"0%"},{"v":0,"d":"0%"},35,",  - 0 1/0/1900","",{"$f":"Season_Summary!$P$1","v":"2A BB"}]
[", ",{"$f":"Roster!$B$1","v":"Upton"},0,"00:00:00",0,0,0,0,0,0,0,0,0,0,0,0,0,0,"",{"v":0,"d":"0%"},{"v":0,"d":"0%"},{"v":0,"d":"0%"},{"v":0,"d":"0%"},35,",  - 0 1/0/1900","",{"$f":"Season_Summary!$P$1","v":"2A BB"}]
["Team, ",{"$f":"Roster!$B$1","v":"Upton"},0,"00:00:00",0,0,0,0,0,0,0,0,0,0,0,0,0,0,"",{"v":0,"d":"0%"},{"v":0,"d":"0%"},{"v":0,"d":"0%"},{"v":0,"d":"0%"},35,"Team,  - 0 1/0/1900","",{"$f":"Season_Summary!$P$1","v":"2A BB"}]
["Payton Watt, 24",{"$f":"Roster!$B$1","v":"Upton"},0,"00:00:00",0,0,0,0,0,0,0,0,0,0,0,0,0,0,"",{"v":0,"d":"0%"},{"v":0,"d":"0%"},{"v":0,"d":"0%"},{"v":0,"d":"0%"},36,"Payton Watt, 24 - 0 1/0/1900","",{"$f":"Season_Summary!$P$1","v":"2A BB"}]
["Dillon Barritt, 20",{"$f":"Roster!$B$1","v":"Upton"},0,"00:00:00",0,0,0,0,0,0,0,0,0,0,0,0,0,0,"",{"v":0,"d":"0%"},{"v":0,"d":"0%"},{"v":0,"d":"0%"},{"v":0,"d":"0%"},36,"Dillon Barritt, 20 - 0 1/0/1900","",{"$f":"Season_Summary!$P$1","v":"2A BB"}]
["Dawson Butts, 14",{"$f":"Roster!$B$1","v":"Upton"},0,"00:00:00",0,0,0,0,0,0,0,0,0,0,0,0,0,0,"",{"v":0,"d":"0%"},{"v":0,"d":"0%"},{"v":0,"d":"0%"},{"v":0,"d":"0%"},36,"Dawson Butts, 14 - 0 1/0/1900","",{"$f":"Season_Summary!$P$1","v":"2A BB"}]
["Jayden Caylor, 12",{"$f":"Roster!$B$1","v":"Upton"},0,"00:00:00",0,0,0,0,0,0,0,0,0,0,0,0,0,0,"",{"v":0,"d":"0%"},{"v":0,"d":"0%"},{"v":0,"d":"0%"},{"v":0,"d":"0%"},36,"Jayden Caylor, 12 - 0 1/0/1900","",{"$f":"Season_Summary!$P$1","v":"2A BB"}]
["Clayton Louderback, 23",{"$f":"Roster!$B$1","v":"Upton"},0,"00:00:00",0,0,0,0,0,0,0,0,0,0,0,0,0,0,"",{"v":0,"d":"0%"},{"v":0,"d":"0%"},{"v":0,"d":"0%"},{"v":0,"d":"0%"},36,"Clayton Louderback, 23 - 0 1/0/1900","",{"$f":"Season_Summary!$P$1","v":"2A BB"}]
["Jess Claycomb, 10",{"$f":"Roster!$B$1","v":"Upton"},0,"00:00:00",0,0,0,0,0,0,0,0,0,0,0,0,0,0,"",{"v":0,"d":"0%"},{"v":0,"d":"0%"},{"v":0,"d":"0%"},{"v":0,"d":"0%"},36,"Jess Claycomb, 10 - 0 1/0/1900","",{"$f":"Season_Summary!$P$1","v":"2A BB"}]
["Maxx Cowger, 4",{"$f":"Roster!$B$1","v":"Upton"},0,"00:00:00",0,0,0,0,0,0,0,0,0,0,0,0,0,0,"",{"v":0,"d":"0%"},{"v":0,"d":"0%"},{"v":0,"d":"0%"},{"v":0,"d":"0%"},36,"Maxx Cowger, 4 - 0 1/0/1900","",{"$f":"Season_Summary!$P$1","v":"2A BB"}]
["Brayden Bruce, 22",{"$f":"Roster!$B$1","v":"Upton"},0,"00:00:00",0,0,0,0,0,0,0,0,0,0,0,0,0,0,"",{"v":0,"d":"0%"},{"v":0,"d":"0%"},{"v":0,"d":"0%"},{"v":0,"d":"0%"},36,"Brayden Bruce, 22 - 0 1/0/1900","",{"$f":"Season_Summary!$P$1","v":"2A BB"}]
["Jo Bishop, 30",{"$f":"Roster!$B$1","v":"Upton"},0,"00:00:00",0,0,0,0,0,0,0,0,0,0,0,0,0,0,"",{"v":0,"d":"0%"},{"v":0,"d":"0%"},{"v":0,"d":"0%"},{"v":0,"d":"0%"},36,"Jo Bishop, 30 - 0 1/0/1900","",{"$f":"Season_Summary!$P$1","v":"2A BB"}]
["Nolan Turner, 33",{"$f":"Roster!$B$1","v":"Upton"},0,"00:00:00",0,0,0,0,0,0,0,0,0,0,0,0,0,0,"",{"v":0,"d":"0%"},{"v":0,"d":"0%"},{"v":0,"d":"0%"},{"v":0,"d":"0%"},36,"Nolan Turner, 33 - 0 1/0/1900","",{"$f":"Season_Summary!$P$1","v":"2A BB"}]
["Robert Crawford, 32",{"$f":"Roster!$B$1","v":"Upton"},0,"00:00:00",0,0,0,0,0,0,0,0,0,0,0,0,0,0,"",{"v":0,"d":"0%"},{"v":0,"d":"0%"},{"v":0,"d":"0%"},{"v":0,"d":"0%"},36,"Robert Crawford, 32 - 0 1/0/1900","",{"$f":"Season_Summary!$P$1","v":"2A BB"}]
["Jace Bruce, 40",{"$f":"Roster!$B$1","v":"Upton"},0,"00:00:00",0,0,0,0,0,0,0,0,0,0,0,0,0,0,"",{"v":0,"d":"0%"},{"v":0,"d":"0%"},{"v":0,"d":"0%"},{"v":0,"d":"0%"},36,"Jace Bruce, 40 - 0 1/0/1900","",{"$f":"Season_Summary!$P$1","v":"2A BB"}]
["Ethan Mills, 2",{"$f":"Roster!$B$1","v":"Upton"},0,"00:00:00",0,0,0,0,0,0,0,0,0,0,0,0,0,0,"",{"v":0,"d":"0%"},{"v":0,"d":"0%"},{"v":0,"d":"0%"},{"v":0,"d":"0%"},36,"Ethan Mills, 2 - 0 1/0/1900","",{"$f":"Season_Summary!$P$1","v":"2A BB"}]
["Bridger Alishouse, 2",{"$f":"Roster!$B$1","v":"Upton"},0,"00:00:00",0,0,0,0,0,0,0,0,0,0,0,0,0,0,"",{"v":0,"d":"0%"},{"v":0,"d":"0%"},{"v":0,"d":"0%"},{"v":0,"d":"0%"},36,"Bridger Alishouse, 2 - 0 1/0/1900","",{"$f":"Season_Summary!$P$1","v":"2A BB"}]
["Landon Keever, 4",{"$f":"Roster!$B$1","v":"Upton"},0,"00:00:00",0,0,0,0,0,0,0,0,0,0,0,0,0,0,"",{"v":0,"d":"0%"},{"v":0,"d":"0%"},{"v":0,"d":"0%"},{"v":0,"d":"0%"},36,"Landon Keever, 4 - 0 1/0/1900","",{"$f":"Season_Summary!$P$1","v":"2A BB"}]
["DJ Till, 4",{"$f":"Roster!$B$1","v":"Upton"},0,"00:00:00",0,0,0,0,0,0,0,0,0,0,0,0,0,0,"",{"v":0,"d":"0%"},{"v":0,"d":"0%"},{"v":0,"d":"0%"},{"v":0,"d":"0%"},36,"DJ Till, 4 - 0 1/0/1900","",{"$f":"Season_Summary!$P$1","v":"2A BB"}]
[", ",{"$f":"Roster!$B$1","v":"Upton"},0,"00:00:00",0,0,0,0,0,0,0,0,0,0,0,0,0,0,"",{"v":0,"d":"0%"},{"v":0,"d":"0%"},{"v":0,"d":"0%"},{"v":0,"d":"0%"},36,",  - 0 1/0/1900","",{"$f":"Season_Summary!$P$1","v":"2A BB"}]
[", ",{"$f":"Roster!$B$1","v":"Upton"},0,"00:00:00",0,0,0,0,0,0,0,0,0,0,0,0,0,0,"",{"v":0,"d":"0%"},{"v":0,"d":"0%"},{"v":0,"d":"0%"},{"v":0,"d":"0%"},36,",  - 0 1/0/1900","",{"$f":"Season_Summary!$P$1","v":"2A BB"}]
[", ",{"$f":"Roster!$B$1","v":"Upton"},0,"00:00:00",0,0,0,0,0,0,0,0,0,0,0,0,0,0,"",{"v":0,"d":"0%"},{"v":0,"d":"0%"},{"v":0,"d":"0%"},{"v":0,"d":"0%"},36,",  - 0 1/0/1900","",{"$f":"Season_Summary!$P$1","v":"2A BB"}]
[", ",{"$f":"Roster!$B$1","v":"Upton"},0,"00:00:00",0,0,0,0,0,0,0,0,0,0,0,0,0,0,"",{"v":0,"d":"0%"},{"v":0,"d":"0%"},{"v":0,"d":"0%"},{"v":0,"d":"0%"},36,",  - 0 1/0/1900","",{"$f":"Season_Summary!$P$1","v":"2A BB"}]
[", ",{"$f":"Roster!$B$1","v":"Upton"},0,"00:00:00",0,0,0,0,0,0,0,0,0,0,0,0,0,0,"",{"v":0,"d":"0%"},{"v":0,"d":"0%"},{"v":0,"d":"0%"},{"v":0,"d":"0%"},36,",  - 0 1/0/1900","",{"$f":"Season_Summary!$P$1","v":"2A BB"}]
[", ",{"$f":"Roster!$B$1","v":"Upton"},0,"00:00:00",0,0,0,0,0,0,0,0,0,0,0,0,0,0,"",{"v":0,"d":"0%"},{"v":0,"d":"0%"},{"v":0,"d":"0%"},{"v":0,"d":"0%"},36,",  - 0 1/0/1900","",{"$f":"Season_Summary!$P$1","v":"2A BB"}]
[", ",{"$f":"Roster!$B$1","v":"Upton"},0,"00:00:00",0,0,0,0,0,0,0,0,0,0,0,0,0,0,"",{"v":0,"d":"0%"},{"v":0,"d":"0%"},{"v":0,"d":"0%"},{"v":0,"d":"0%"},36,",  - 0 1/0/1900","",{"$f":"Season_Summary!$P$1","v":"2A BB"}]
["Team, ",{"$f":"Roster!$B$1","v":"Upton"},0,"00:00:00",0,0,0,0,0,0,0,0,0,0,0,0,0,0,"",{"v":0,"d":"0%"},{"v":0,"d":"0%"},{"v":0,"d":"0%"},{"v":0,"d":"0%"},36,"Team,  - 0 1/0/1900","",{"$f":"Season_Summary!$P$1","v":"2A BB"}]
["Payton Watt, 24",{"$f":"Roster!$B$1","v":"Upton"},0,"00:00:00",0,0,0,0,0,0,0,0,0,0,0,0,0,0,"",{"v":0,"d":"0%"},{"v":0,"d":"0%"},{"v":0,"d":"0%"},{"v":0,"d":"0%"},37,"Payton Watt, 24 - 0 1/0/1900","",{"$f":"Season_Summary!$P$1","v":"2A BB"}]
["Dillon Barritt, 20",{"$f":"Roster!$B$1","v":"Upton"},0,"00:00:00",0,0,0,0,0,0,0,0,0,0,0,0,0,0,"",{"v":0,"d":"0%"},{"v":0,"d":"0%"},{"v":0,"d":"0%"},{"v":0,"d":"0%"},37,"Dillon Barritt, 20 - 0 1/0/1900","",{"$f":"Season_Summary!$P$1","v":"2A BB"}]
["Dawson Butts, 14",{"$f":"Roster!$B$1","v":"Upton"},0,"00:00:00",0,0,0,0,0,0,0,0,0,0,0,0,0,0,"",{"v":0,"d":"0%"},{"v":0,"d":"0%"},{"v":0,"d":"0%"},{"v":0,"d":"0%"},37,"Dawson Butts, 14 - 0 1/0/1900","",{"$f":"Season_Summary!$P$1","v":"2A BB"}]
["Jayden Caylor, 12",{"$f":"Roster!$B$1","v":"Upton"},0,"00:00:00",0,0,0,0,0,0,0,0,0,0,0,0,0,0,"",{"v":0,"d":"0%"},{"v":0,"d":"0%"},{"v":0,"d":"0%"},{"v":0,"d":"0%"},37,"Jayden Caylor, 12 - 0 1/0/1900","",{"$f":"Season_Summary!$P$1","v":"2A BB"}]
["Clayton Louderback, 23",{"$f":"Roster!$B$1","v":"Upton"},0,"00:00:00",0,0,0,0,0,0,0,0,0,0,0,0,0,0,"",{"v":0,"d":"0%"},{"v":0,"d":"0%"},{"v":0,"d":"0%"},{"v":0,"d":"0%"},37,"Clayton Louderback, 23 - 0 1/0/1900","",{"$f":"Season_Summary!$P$1","v":"2A BB"}]
["Jess Claycomb, 10",{"$f":"Roster!$B$1","v":"Upton"},0,"00:00:00",0,0,0,0,0,0,0,0,0,0,0,0,0,0,"",{"v":0,"d":"0%"},{"v":0,"d":"0%"},{"v":0,"d":"0%"},{"v":0,"d":"0%"},37,"Jess Claycomb, 10 - 0 1/0/1900","",{"$f":"Season_Summary!$P$1","v":"2A BB"}]
["Maxx Cowger, 4",{"$f":"Roster!$B$1","v":"Upton"},0,"00:00:00",0,0,0,0,0,0,0,0,0,0,0,0,0,0,"",{"v":0,"d":"0%"},{"v":0,"d":"0%"},{"v":0,"d":"0%"},{"v":0,"d":"0%"},37,"Maxx Cowger, 4 - 0 1/0/1900","",{"$f":"Season_Summary!$P$1","v":"2A BB"}]
["Brayden Bruce, 22",{"$f":"Roster!$B$1","v":"Upton"},0,"00:00:00",0,0,0,0,0,0,0,0,0,0,0,0,0,0,"",{"v":0,"d":"0%"},{"v":0,"d":"0%"},{"v":0,"d":"0%"},{"v":0,"d":"0%"},37,"Brayden Bruce, 22 - 0 1/0/1900","",{"$f":"Season_Summary!$P$1","v":"2A BB"}]
["Jo Bishop, 30",{"$f":"Roster!$B$1","v":"Upton"},0,"00:00:00",0,0,0,0,0,0,0,0,0,0,0,0,0,0,"",{"v":0,"d":"0%"},{"v":0,"d":"0%"},{"v":0,"d":"0%"},{"v":0,"d":"0%"},37,"Jo Bishop, 30 - 0 1/0/1900","",{"$f":"Season_Summary!$P$1","v":"2A BB"}]
["Nolan Turner, 33",{"$f":"Roster!$B$1","v":"Upton"},0,"00:00:00",0,0,0,0,0,0,0,0,0,0,0,0,0,0,"",{"v":0,"d":"0%"},{"v":0,"d":"0%"},{"v":0,"d":"0%"},{"v":0,"d":"0%"},37,"Nolan Turner, 33 - 0 1/0/1900","",{"$f":"Season_Summary!$P$1","v":"2A BB"}]
["Robert Crawford, 32",{"$f":"Roster!$B$1","v":"Upton"},0,"00:00:00",0,0,0,0,0,0,0,0,0,0,0,0,0,0,"",{"v":0,"d":"0%"},{"v":0,"d":"0%"},{"v":0,"d":"0%"},{"v":0,"d":"0%"},37,"Robert Crawford, 32 - 0 1/0/1900","",{"$f":"Season_Summary!$P$1","v":"2A BB"}]
["Jace Bruce, 40",{"$f":"Roster!$B$1","v":"Upton"},0,"00:00:00",0,0,0,0,0,0,0,0,0,0,0,0,0,0,"",{"v":0,"d":"0%"},{"v":0,"d":"0%"},{"v":0,"d":"0%"},{"v":0,"d":"0%"},37,"Jace Bruce, 40 - 0 1/0/1900","",{"$f":"Season_Summary!$P$1","v":"2A BB"}]
["Ethan Mills, 2",{"$f":"Roster!$B$1","v":"Upton"},0,"00:00:00",0,0,0,0,0,0,0,0,0,0,0,0,0,0,"",{"v":0,"d":"0%"},{"v":0,"d":"0%"},{"v":0,"d":"0%"},{"v":0,"d":"0%"},37,"Ethan Mills, 2 - 0 1/0/1900","",{"$f":"Season_Summary!$P$1","v":"2A BB"}]
["Bridger Alishouse, 2",{"$f":"Roster!$B$1","v":"Upton"},0,"00:00:00",0,0,0,0,0,0,0,0,0,0,0,0,0,0,"",{"v":0,"d":"0%"},{"v":0,"d":"0%"},{"v":0,"d":"0%"},{"v":0,"d":"0%"},37,"Bridger Alishouse, 2 - 0 1/0/1900","",{"$f":"Season_Summary!$P$1","v":"2A BB"}]
["Landon Keever, 4",{"$f":"Roster!$B$1","v":"Upton"},0,"00:00:00",0,0,0,0,0,0,0,0,0,0,0,0,0,0,"",{"v":0,"d":"0%"},{"v":0,"d":"0%"},{"v":0,"d":"0%"},{"v":0,"d":"0%"},37,"Landon Keever, 4 - 0 1/0/1900","",{"$f":"Season_Summary!$P$1","v":"2A BB"}]
["DJ Till, 4",{"$f":"Roster!$B$1","v":"Upton"},0,"00:00:00",0,0,0,0,0,0,0,0,0,0,0,0,0,0,"",{"v":0,"d":"0%"},{"v":0,"d":"0%"},{"v":0,"d":"0%"},{"v":0,"d":"0%"},37,"DJ Till, 4 - 0 1/0/1900","",{"$f":"Season_Summary!$P$1","v":"2A BB"}]
[", ",{"$f":"Roster!$B$1","v":"Upton"},0,"00:00:00",0,0,0,0,0,0,0,0,0,0,0,0,0,0,"",{"v":0,"d":"0%"},{"v":0,"d":"0%"},{"v":0,"d":"0%"},{"v":0,"d":"0%"},37,",  - 0 1/0/1900","",{"$f":"Season_Summary!$P$1","v":"2A BB"}]
[", ",{"$f":"Roster!$B$1","v":"Upton"},0,"00:00:00",0,0,0,0,0,0,0,0,0,0,0,0,0,0,"",{"v":0,"d":"0%"},{"v":0,"d":"0%"},{"v":0,"d":"0%"},{"v":0,"d":"0%"},37,",  - 0 1/0/1900","",{"$f":"Season_Summary!$P$1","v":"2A BB"}]
[", ",{"$f":"Roster!$B$1","v":"Upton"},0,"00:00:00",0,0,0,0,0,0,0,0,0,0,0,0,0,0,"",{"v":0,"d":"0%"},{"v":0,"d":"0%"},{"v":0,"d":"0%"},{"v":0,"d":"0%"},37,",  - 0 1/0/1900","",{"$f":"Season_Summary!$P$1","v":"2A BB"}]
[", ",{"$f":"Roster!$B$1","v":"Upton"},0,"00:00:00",0,0,0,0,0,0,0,0,0,0,0,0,0,0,"",{"v":0,"d":"0%"},{"v":0,"d":"0%"},{"v":0,"d":"0%"},{"v":0,"d":"0%"},37,",  - 0 1/0/1900","",{"$f":"Season_Summary!$P$1","v":"2A BB"}]
[", ",{"$f":"Roster!$B$1","v":"Upton"},0,"00:00:00",0,0,0,0,0,0,0,0,0,0,0,0,0,0,"",{"v":0,"d":"0%"},{"v":0,"d":"0%"},{"v":0,"d":"0%"},{"v":0,"d":"0%"},37,",  - 0 1/0/1900","",{"$f":"Season_Summary!$P$1","v":"2A BB"}]
[", ",{"$f":"Roster!$B$1","v":"Upton"},0,"00:00:00",0,0,0,0,0,0,0,0,0,0,0,0,0,0,"",{"v":0,"d":"0%"},{"v":0,"d":"0%"},{"v":0,"d":"0%"},{"v":0,"d":"0%"},37,",  - 0 1/0/1900","",{"$f":"Season_Summary!$P$1","v":"2A BB"}]
[", ",{"$f":"Roster!$B$1","v":"Upton"},0,"00:00:00",0,0,0,0,0,0,0,0,0,0,0,0,0,0,"",{"v":0,"d":"0%"},{"v":0,"d":"0%"},{"v":0,"d":"0%"},{"v":0,"d":"0%"},37,",  - 0 1/0/1900","",{"$f":"Season_Summary!$P$1","v":"2A BB"}]
["Team, ",{"$f":"Roster!$B$1","v":"Upton"},0,"00:00:00",0,0,0,0,0,0,0,0,0,0,0,0,0,0,"",{"v":0,"d":"0%"},{"v":0,"d":"0%"},{"v":0,"d":"0%"},{"v":0,"d":"0%"},37,"Team,  - 0 1/0/1900","",{"$f":"Season_Summary!$P$1","v":"2A BB"}]
["Payton Watt, 24",{"$f":"Roster!$B$1","v":"Upton"},0,"00:00:00",0,0,0,0,0,0,0,0,0,0,0,0,0,0,"",{"v":0,"d":"0%"},{"v":0,"d":"0%"},{"v":0,"d":"0%"},{"v":0,"d":"0%"},38,"Payton Watt, 24 - 0 1/0/1900","",{"$f":"Season_Summary!$P$1","v":"2A BB"}]
["Dillon Barritt, 20",{"$f":"Roster!$B$1","v":"Upton"},0,"00:00:00",0,0,0,0,0,0,0,0,0,0,0,0,0,0,"",{"v":0,"d":"0%"},{"v":0,"d":"0%"},{"v":0,"d":"0%"},{"v":0,"d":"0%"},38,"Dillon Barritt, 20 - 0 1/0/1900","",{"$f":"Season_Summary!$P$1","v":"2A BB"}]
["Dawson Butts, 14",{"$f":"Roster!$B$1","v":"Upton"},0,"00:00:00",0,0,0,0,0,0,0,0,0,0,0,0,0,0,"",{"v":0,"d":"0%"},{"v":0,"d":"0%"},{"v":0,"d":"0%"},{"v":0,"d":"0%"},38,"Dawson Butts, 14 - 0 1/0/1900","",{"$f":"Season_Summary!$P$1","v":"2A BB"}]
["Jayden Caylor, 12",{"$f":"Roster!$B$1","v":"Upton"},0,"00:00:00",0,0,0,0,0,0,0,0,0,0,0,0,0,0,"",{"v":0,"d":"0%"},{"v":0,"d":"0%"},{"v":0,"d":"0%"},{"v":0,"d":"0%"},38,"Jayden Caylor, 12 - 0 1/0/1900","",{"$f":"Season_Summary!$P$1","v":"2A BB"}]
["Clayton Louderback, 23",{"$f":"Roster!$B$1","v":"Upton"},0,"00:00:00",0,0,0,0,0,0,0,0,0,0,0,0,0,0,"",{"v":0,"d":"0%"},{"v":0,"d":"0%"},{"v":0,"d":"0%"},{"v":0,"d":"0%"},38,"Clayton Louderback, 23 - 0 1/0/1900","",{"$f":"Season_Summary!$P$1","v":"2A BB"}]
["Jess Claycomb, 10",{"$f":"Roster!$B$1","v":"Upton"},0,"00:00:00",0,0,0,0,0,0,0,0,0,0,0,0,0,0,"",{"v":0,"d":"0%"},{"v":0,"d":"0%"},{"v":0,"d":"0%"},{"v":0,"d":"0%"},38,"Jess Claycomb, 10 - 0 1/0/1900","",{"$f":"Season_Summary!$P$1","v":"2A BB"}]
["Maxx Cowger, 4",{"$f":"Roster!$B$1","v":"Upton"},0,"00:00:00",0,0,0,0,0,0,0,0,0,0,0,0,0,0,"",{"v":0,"d":"0%"},{"v":0,"d":"0%"},{"v":0,"d":"0%"},{"v":0,"d":"0%"},38,"Maxx Cowger, 4 - 0 1/0/1900","",{"$f":"Season_Summary!$P$1","v":"2A BB"}]
["Brayden Bruce, 22",{"$f":"Roster!$B$1","v":"Upton"},0,"00:00:00",0,0,0,0,0,0,0,0,0,0,0,0,0,0,"",{"v":0,"d":"0%"},{"v":0,"d":"0%"},{"v":0,"d":"0%"},{"v":0,"d":"0%"},38,"Brayden Bruce, 22 - 0 1/0/1900","",{"$f":"Season_Summary!$P$1","v":"2A BB"}]
["Jo Bishop, 30",{"$f":"Roster!$B$1","v":"Upton"},0,"00:00:00",{"$f":"INDIRECT(\"'game1 (\"&$X903&\")'!\"&ADDRESS(ROW(A$7)+MOD(ROW(A903)-7,24),COLUMN(C903)))","v":0},{"$f":"INDIRECT(\"'game1 (\"&$X903&\")'!\"&ADDRESS(ROW(B$7)+MOD(ROW(B903)-7,24),COLUMN(D903)))","v":0},{"$f":"INDIRECT(\"'game1 (\"&$X903&\")'!\"&ADDRESS(ROW(C$7)+MOD(ROW(C903)-7,24),COLUMN(E903)))","v":0},{"$f":"INDIRECT(\"'game1 (\"&$X903&\")'!\"&ADDRESS(ROW(D$7)+MOD(ROW(D903)-7,24),COLUMN(F903)))","v":0},{"$f":"INDIRECT(\"'game1 (\"&$X903&\")'!\"&ADDRESS(ROW(E$7)+MOD(ROW(E903)-7,24),COLUMN(G903)))","v":0},{"$f":"INDIRECT(\"'game1 (\"&$X903&\")'!\"&ADDRESS(ROW(F$7)+MOD(ROW(F903)-7,24),COLUMN(H903)))","v":0},{"$f":"INDIRECT(\"'game1 (\"&$X903&\")'!\"&ADDRESS(ROW(G$7)+MOD(ROW(G903)-7,24),COLUMN(I903)))","v":0},{"$f":"INDIRECT(\"'game1 (\"&$X903&\")'!\"&ADDRESS(ROW(H$7)+MOD(ROW(H903)-7,24),COLUMN(J903)))","v":0},{"$f":"INDIRECT(\"'game1 (\"&$X903&\")'!\"&ADDRESS(ROW(I$7)+MOD(ROW(I903)-7,24),COLUMN(K903)))","v":0},{"$f":"INDIRECT(\"'game1 (\"&$X903&\")'!\"&ADDRESS(ROW(J$7)+MOD(ROW(J903)-7,24),COLUMN(L903)))","v":0},{"$f":"INDIRECT(\"'game1 (\"&$X903&\")'!\"&ADDRESS(ROW(K$7)+MOD(ROW(K903)-7,24),COLUMN(M903)))","v":0},{"$f":"INDIRECT(\"'game1 (\"&$X903&\")'!\"&ADDRESS(ROW(L$7)+MOD(ROW(L903)-7,24),COLUMN(N903)))","v":0},{"$f":"INDIRECT(\"'game1 (\"&$X903&\")'!\"&ADDRESS(ROW(M$7)+MOD(ROW(M903)-7,24),COLUMN(O903)))","v":0},{"$f":"INDIRECT(\"'game1 (\"&$X903&\")'!\"&ADDRESS(ROW(N$7)+MOD(ROW(N903)-7,24),COLUMN(P903)))","v":0},{"$f":"INDIRECT(\"'game1 (\"&$X903&\")'!\"&ADDRESS(ROW(O$7)+MOD(ROW(O903)-7,24),COLUMN(Q903)))","v":""},{"v":0,"d":"0%"},{"v":0,"d":"0%"},{"v":0,"d":"0%"},{"v":0,"d":"0%"},38,"Jo Bishop, 30 - 0 1/0/1900","",{"$f":"Season_Summary!$P$1","v":"2A BB"}]
[{"$f":"CONCATENATE(INDIRECT(\"Roster!B\"&ROW(A$7)+MOD(ROW(A904)-7,24)),\", \",INDIRECT(\"Roster!a\"&ROW(A$7)+MOD(ROW(A904)-7,24)))","v":"Nolan Turner, 33"},{"$f":"Roster!$B$1","v":"Upton"},{"$f":"INDIRECT(\"'game1 (\"&$X904&\")'!$C$2\")","v":0},{"$f":"INDIRECT(\"'game1 (\"&$X904&\")'!$k$2\")","v":"00:00:00"},0,0,0,0,0,0,0,0,0,0,0,0,0,0,"",{"$f":"IF(G904<$D$2,0,INDIRECT(\"'game1 (\"&$X904&\")'!\"&ADDRESS(ROW(M$7)+MOD(ROW(M904)-7,24),COLUMN(R904))))","v":{"v":0,"d":"0%"}},{"$f":"IF(I904<$D$2,0,INDIRECT(\"'game1 (\"&$X904&\")'!\"&ADDRESS(ROW(N$7)+MOD(ROW(N904)-7,24),COLUMN(S904))))","v":{"v":0,"d":"0%"}},{"$f":"IF(K904<$D$2,0,INDIRECT(\"'game1 (\"&$X904&\")'!\"&ADDRESS(ROW(O$7)+MOD(ROW(O904)-7,24),COLUMN(T904))))","v":{"v":0,"d":"0%"}},{"$f":"IF(G904+I904<$D$2,0,INDIRECT(\"'game1 (\"&$X904&\")'!\"&ADDRESS(ROW(O$7)+MOD(ROW(O904)-7,24),COLUMN(U904))))","v":{"v":0,"d":"0%"}},{"$f":"INT((ROW(A904)-7)/24)+1","v":38},{"$f":"CONCATENATE(A904,\" - \",C904,\" \",MONTH(D904),\"/\",DAY(D904),\"/\",YEAR(D904))","v":"Nolan Turner, 33 - 0 1/0/1900"},{"$f":"IFERROR(INDIRECT(\"'game1 (\"&$X904&\")'!$a$2\"),\"\")","v":""},{"$f":"Season_Summary!$P$1","v":"2A BB"}]
["Robert Crawford, 32",{"$f":"Roster!$B$1","v":"Upton"},0,"00:00:00",0,0,0,0,0,0,0,0,0,0,0,0,0,0,"",{"v":0,"d":"0%"},{"v":0,"d":"0%"},{"v":0,"d":"0%"},{"v":0,"d":"0%"},38,"Robert Crawford, 32 - 0 1/0/1900","",{"$f":"Season_Summary!$P$1","v":"2A BB"}]
["Jace Bruce, 40",{"$f":"Roster!$B$1","v":"Upton"},0,"00:00:00",0,0,0,0,0,0,0,0,0,0,0,0,0,0,"",{"v":0,"d":"0%"},{"v":0,"d":"0%"},{"v":0,"d":"0%"},{"v":0,"d":"0%"},38,"Jace Bruce, 40 - 0 1/0/1900","",{"$f":"Season_Summary!$P$1","v":"2A BB"}]
["Ethan Mills, 2",{"$f":"Roster!$B$1","v":"Upton"},0,"00:00:00",0,0,0,0,0,0,0,0,0,0,0,0,0,0,"",{"v":0,"d":"0%"},{"v":0,"d":"0%"},{"v":0,"d":"0%"},{"v":0,"d":"0%"},38,"Ethan Mills, 2 - 0 1/0/1900","",{"$f":"Season_Summary!$P$1","v":"2A BB"}]
["Bridger Alishouse, 2",{"$f":"Roster!$B$1","v":"Upton"},0,"00:00:00",0,0,0,0,0,0,0,0,0,0,0,0,0,0,"",{"v":0,"d":"0%"},{"v":0,"d":"0%"},{"v":0,"d":"0%"},{"v":0,"d":"0%"},38,"Bridger Alishouse, 2 - 0 1/0/1900","",{"$f":"Season_Summary!$P$1","v":"2A BB"}]
["Landon Keever, 4",{"$f":"Roster!$B$1","v":"Upton"},0,"00:00:00",0,0,0,0,0,0,0,0,0,0,0,0,0,0,"",{"v":0,"d":"0%"},{"v":0,"d":"0%"},{"v":0,"d":"0%"},{"v":0,"d":"0%"},38,"Landon Keever, 4 - 0 1/0/1900","",{"$f":"Season_Summary!$P$1","v":"2A BB"}]
["DJ Till, 4",{"$f":"Roster!$B$1","v":"Upton"},0,"00:00:00",0,0,0,0,0,0,0,0,0,0,0,0,0,0,"",{"v":0,"d":"0%"},{"v":0,"d":"0%"},{"v":0,"d":"0%"},{"v":0,"d":"0%"},38,"DJ Till, 4 - 0 1/0/1900","",{"$f":"Season_Summary!$P$1","v":"2A BB"}]
[", ",{"$f":"Roster!$B$1","v":"Upton"},0,"00:00:00",0,0,0,0,0,0,0,0,0,0,0,0,0,0,"",{"v":0,"d":"0%"},{"v":0,"d":"0%"},{"v":0,"d":"0%"},{"v":0,"d":"0%"},38,",  - 0 1/0/1900","",{"$f":"Season_Summary!$P$1","v":"2A BB"}]
[", ",{"$f":"Roster!$B$1","v":"Upton"},0,"00:00:00",0,0,0,0,0,0,0,0,0,0,0,0,0,0,"",{"v":0,"d":"0%"},{"v":0,"d":"0%"},{"v":0,"d":"0%"},{"v":0,"d":"0%"},38,",  - 0 1/0/1900","",{"$f":"Season_Summary!$P$1","v":"2A BB"}]
[", ",{"$f":"Roster!$B$1","v":"Upton"},0,"00:00:00",0,0,0,0,0,0,0,0,0,0,0,0,0,0,"",{"v":0,"d":"0%"},{"v":0,"d":"0%"},{"v":0,"d":"0%"},{"v":0,"d":"0%"},38,",  - 0 1/0/1900","",{"$f":"Season_Summary!$P$1","v":"2A BB"}]
[", ",{"$f":"Roster!$B$1","v":"Upton"},0,"00:00:00",0,0,0,0,0,0,0,0,0,0,0,0,0,0,"",{"v":0,"d":"0%"},{"v":0,"d":"0%"},{"v":0,"d":"0%"},{"v":0,"d":"0%"},38,",  - 0 1/0/1900","",{"$f":"Season_Summary!$P$1","v":"2A BB"}]
[", ",{"$f":"Roster!$B$1","v":"Upton"},0,"00:00:00",0,0,0,0,0,0,0,0,0,0,0,0,0,0,"",{"v":0,"d":"0%"},{"v":0,"d":"0%"},{"v":0,"d":"0%"},{"v":0,"d":"0%"},38,",  - 0 1/0/1900","",{"$f":"Season_Summary!$P$1","v":"2A BB"}]
[", ",{"$f":"Roster!$B$1","v":"Upton"},0,"00:00:00",0,0,0,0,0,0,0,0,0,0,0,0,0,0,"",{"v":0,"d":"0%"},{"v":0,"d":"0%"},{"v":0,"d":"0%"},{"v":0,"d":"0%"},38,",  - 0 1/0/1900","",{"$f":"Season_Summary!$P$1","v":"2A BB"}]
[", ",{"$f":"Roster!$B$1","v":"Upton"},0,"00:00:00",0,0,0,0,0,0,0,0,0,0,0,0,0,0,"",{"v":0,"d":"0%"},{"v":0,"d":"0%"},{"v":0,"d":"0%"},{"v":0,"d":"0%"},38,",  - 0 1/0/1900","",{"$f":"Season_Summary!$P$1","v":"2A BB"}]
["Team, ",{"$f":"Roster!$B$1","v":"Upton"},0,"00:00:00",0,0,0,0,0,0,0,0,0,0,0,0,0,0,"",{"v":0,"d":"0%"},{"v":0,"d":"0%"},{"v":0,"d":"0%"},{"v":0,"d":"0%"},38,"Team,  - 0 1/0/1900","",{"$f":"Season_Summary!$P$1","v":"2A BB"}]
["Payton Watt, 24",{"$f":"Roster!$B$1","v":"Upton"},0,"00:00:00",0,0,0,0,0,0,0,0,0,0,0,0,0,0,"",{"v":0,"d":"0%"},{"v":0,"d":"0%"},{"v":0,"d":"0%"},{"v":0,"d":"0%"},39,"Payton Watt, 24 - 0 1/0/1900","",{"$f":"Season_Summary!$P$1","v":"2A BB"}]
["Dillon Barritt, 20",{"$f":"Roster!$B$1","v":"Upton"},0,"00:00:00",0,0,0,0,0,0,0,0,0,0,0,0,0,0,"",{"v":0,"d":"0%"},{"v":0,"d":"0%"},{"v":0,"d":"0%"},{"v":0,"d":"0%"},39,"Dillon Barritt, 20 - 0 1/0/1900","",{"$f":"Season_Summary!$P$1","v":"2A BB"}]
["Dawson Butts, 14",{"$f":"Roster!$B$1","v":"Upton"},0,"00:00:00",0,0,0,0,0,0,0,0,0,0,0,0,0,0,"",{"v":0,"d":"0%"},{"v":0,"d":"0%"},{"v":0,"d":"0%"},{"v":0,"d":"0%"},39,"Dawson Butts, 14 - 0 1/0/1900","",{"$f":"Season_Summary!$P$1","v":"2A BB"}]
["Jayden Caylor, 12",{"$f":"Roster!$B$1","v":"Upton"},0,"00:00:00",0,0,0,0,0,0,0,0,0,0,0,0,0,0,"",{"v":0,"d":"0%"},{"v":0,"d":"0%"},{"v":0,"d":"0%"},{"v":0,"d":"0%"},39,"Jayden Caylor, 12 - 0 1/0/1900","",{"$f":"Season_Summary!$P$1","v":"2A BB"}]
["Clayton Louderback, 23",{"$f":"Roster!$B$1","v":"Upton"},0,"00:00:00",0,0,0,0,0,0,0,0,0,0,0,0,0,0,"",{"v":0,"d":"0%"},{"v":0,"d":"0%"},{"v":0,"d":"0%"},{"v":0,"d":"0%"},39,"Clayton Louderback, 23 - 0 1/0/1900","",{"$f":"Season_Summary!$P$1","v":"2A BB"}]
["Jess Claycomb, 10",{"$f":"Roster!$B$1","v":"Upton"},0,"00:00:00",0,0,0,0,0,0,0,0,0,0,0,0,0,0,"",{"v":0,"d":"0%"},{"v":0,"d":"0%"},{"v":0,"d":"0%"},{"v":0,"d":"0%"},39,"Jess Claycomb, 10 - 0 1/0/1900","",{"$f":"Season_Summary!$P$1","v":"2A BB"}]
["Maxx Cowger, 4",{"$f":"Roster!$B$1","v":"Upton"},0,"00:00:00",0,0,0,0,0,0,0,0,0,0,0,0,0,0,"",{"v":0,"d":"0%"},{"v":0,"d":"0%"},{"v":0,"d":"0%"},{"v":0,"d":"0%"},39,"Maxx Cowger, 4 - 0 1/0/1900","",{"$f":"Season_Summary!$P$1","v":"2A BB"}]
["Brayden Bruce, 22",{"$f":"Roster!$B$1","v":"Upton"},0,"00:00:00",0,0,0,0,0,0,0,0,0,0,0,0,0,0,"",{"v":0,"d":"0%"},{"v":0,"d":"0%"},{"v":0,"d":"0%"},{"v":0,"d":"0%"},39,"Brayden Bruce, 22 - 0 1/0/1900","",{"$f":"Season_Summary!$P$1","v":"2A BB"}]
["Jo Bishop, 30",{"$f":"Roster!$B$1","v":"Upton"},0,"00:00:00",0,0,0,0,0,0,0,0,0,0,0,0,0,0,"",{"v":0,"d":"0%"},{"v":0,"d":"0%"},{"v":0,"d":"0%"},{"v":0,"d":"0%"},39,"Jo Bishop, 30 - 0 1/0/1900","",{"$f":"Season_Summary!$P$1","v":"2A BB"}]
["Nolan Turner, 33",{"$f":"Roster!$B$1","v":"Upton"},0,"00:00:00",0,0,0,0,0,0,0,0,0,0,0,0,0,0,"",{"v":0,"d":"0%"},{"v":0,"d":"0%"},{"v":0,"d":"0%"},{"v":0,"d":"0%"},39,"Nolan Turner, 33 - 0 1/0/1900","",{"$f":"Season_Summary!$P$1","v":"2A BB"}]
["Robert Crawford, 32",{"$f":"Roster!$B$1","v":"Upton"},0,"00:00:00",0,0,0,0,0,0,0,0,0,0,0,0,0,0,"",{"v":0,"d":"0%"},{"v":0,"d":"0%"},{"v":0,"d":"0%"},{"v":0,"d":"0%"},39,"Robert Crawford, 32 - 0 1/0/1900","",{"$f":"Season_Summary!$P$1","v":"2A BB"}]
["Jace Bruce, 40",{"$f":"Roster!$B$1","v":"Upton"},0,"00:00:00",0,0,0,0,0,0,0,0,0,0,0,0,0,0,"",{"v":0,"d":"0%"},{"v":0,"d":"0%"},{"v":0,"d":"0%"},{"v":0,"d":"0%"},39,"Jace Bruce, 40 - 0 1/0/1900","",{"$f":"Season_Summary!$P$1","v":"2A BB"}]
["Ethan Mills, 2",{"$f":"Roster!$B$1","v":"Upton"},0,"00:00:00",0,0,0,0,0,0,0,0,0,0,0,0,0,0,"",{"v":0,"d":"0%"},{"v":0,"d":"0%"},{"v":0,"d":"0%"},{"v":0,"d":"0%"},39,"Ethan Mills, 2 - 0 1/0/1900","",{"$f":"Season_Summary!$P$1","v":"2A BB"}]
["Bridger Alishouse, 2",{"$f":"Roster!$B$1","v":"Upton"},0,"00:00:00",0,0,0,0,0,0,0,0,0,0,0,0,0,0,"",{"v":0,"d":"0%"},{"v":0,"d":"0%"},{"v":0,"d":"0%"},{"v":0,"d":"0%"},39,"Bridger Alishouse, 2 - 0 1/0/1900","",{"$f":"Season_Summary!$P$1","v":"2A BB"}]
["Landon Keever, 4",{"$f":"Roster!$B$1","v":"Upton"},0,"00:00:00",0,0,0,0,0,0,0,0,0,0,0,0,0,0,"",{"v":0,"d":"0%"},{"v":0,"d":"0%"},{"v":0,"d":"0%"},{"v":0,"d":"0%"},39,"Landon Keever, 4 - 0 1/0/1900","",{"$f":"Season_Summary!$P$1","v":"2A BB"}]
["DJ Till, 4",{"$f":"Roster!$B$1","v":"Upton"},0,"00:00:00",0,0,0,0,0,0,0,0,0,0,0,0,0,0,"",{"v":0,"d":"0%"},{"v":0,"d":"0%"},{"v":0,"d":"0%"},{"v":0,"d":"0%"},39,"DJ Till, 4 - 0 1/0/1900","",{"$f":"Season_Summary!$P$1","v":"2A BB"}]
[", ",{"$f":"Roster!$B$1","v":"Upton"},0,"00:00:00",0,0,0,0,0,0,0,0,0,0,0,0,0,0,"",{"v":0,"d":"0%"},{"v":0,"d":"0%"},{"v":0,"d":"0%"},{"v":0,"d":"0%"},39,",  - 0 1/0/1900","",{"$f":"Season_Summary!$P$1","v":"2A BB"}]
[", ",{"$f":"Roster!$B$1","v":"Upton"},0,"00:00:00",0,0,0,0,0,0,0,0,0,0,0,0,0,0,"",{"v":0,"d":"0%"},{"v":0,"d":"0%"},{"v":0,"d":"0%"},{"v":0,"d":"0%"},39,",  - 0 1/0/1900","",{"$f":"Season_Summary!$P$1","v":"2A BB"}]
[", ",{"$f":"Roster!$B$1","v":"Upton"},0,"00:00:00",0,0,0,0,0,0,0,0,0,0,0,0,0,0,"",{"v":0,"d":"0%"},{"v":0,"d":"0%"},{"v":0,"d":"0%"},{"v":0,"d":"0%"},39,",  - 0 1/0/1900","",{"$f":"Season_Summary!$P$1","v":"2A BB"}]
[", ",{"$f":"Roster!$B$1","v":"Upton"},0,"00:00:00",0,0,0,0,0,0,0,0,0,0,0,0,0,0,"",{"v":0,"d":"0%"},{"v":0,"d":"0%"},{"v":0,"d":"0%"},{"v":0,"d":"0%"},39,",  - 0 1/0/1900","",{"$f":"Season_Summary!$P$1","v":"2A BB"}]
[", ",{"$f":"Roster!$B$1","v":"Upton"},0,"00:00:00",0,0,0,0,0,0,0,0,0,0,0,0,0,0,"",{"v":0,"d":"0%"},{"v":0,"d":"0%"},{"v":0,"d":"0%"},{"v":0,"d":"0%"},39,",  - 0 1/0/1900","",{"$f":"Season_Summary!$P$1","v":"2A BB"}]
[", ",{"$f":"Roster!$B$1","v":"Upton"},0,"00:00:00",0,0,0,0,0,0,0,0,0,0,0,0,0,0,"",{"v":0,"d":"0%"},{"v":0,"d":"0%"},{"v":0,"d":"0%"},{"v":0,"d":"0%"},39,",  - 0 1/0/1900","",{"$f":"Season_Summary!$P$1","v":"2A BB"}]
[", ",{"$f":"Roster!$B$1","v":"Upton"},0,"00:00:00",0,0,0,0,0,0,0,0,0,0,0,0,0,0,"",{"v":0,"d":"0%"},{"v":0,"d":"0%"},{"v":0,"d":"0%"},{"v":0,"d":"0%"},39,",  - 0 1/0/1900","",{"$f":"Season_Summary!$P$1","v":"2A BB"}]
["Team, ",{"$f":"Roster!$B$1","v":"Upton"},0,"00:00:00",0,0,0,0,0,0,0,0,0,0,0,0,0,0,"",{"v":0,"d":"0%"},{"v":0,"d":"0%"},{"v":0,"d":"0%"},{"v":0,"d":"0%"},39,"Team,  - 0 1/0/1900","",{"$f":"Season_Summary!$P$1","v":"2A BB"}]
["Payton Watt, 24",{"$f":"Roster!$B$1","v":"Upton"},0,"00:00:00",0,0,0,0,0,0,0,0,0,0,0,0,0,0,"",{"v":0,"d":"0%"},{"v":0,"d":"0%"},{"v":0,"d":"0%"},{"v":0,"d":"0%"},40,"Payton Watt, 24 - 0 1/0/1900","",{"$f":"Season_Summary!$P$1","v":"2A BB"}]
["Dillon Barritt, 20",{"$f":"Roster!$B$1","v":"Upton"},0,"00:00:00",{"$f":"INDIRECT(\"'game1 (\"&$X944&\")'!\"&ADDRESS(ROW(A$7)+MOD(ROW(A944)-7,24),COLUMN(C944)))","v":0},{"$f":"INDIRECT(\"'game1 (\"&$X944&\")'!\"&ADDRESS(ROW(B$7)+MOD(ROW(B944)-7,24),COLUMN(D944)))","v":0},{"$f":"INDIRECT(\"'game1 (\"&$X944&\")'!\"&ADDRESS(ROW(C$7)+MOD(ROW(C944)-7,24),COLUMN(E944)))","v":0},{"$f":"INDIRECT(\"'game1 (\"&$X944&\")'!\"&ADDRESS(ROW(D$7)+MOD(ROW(D944)-7,24),COLUMN(F944)))","v":0},{"$f":"INDIRECT(\"'game1 (\"&$X944&\")'!\"&ADDRESS(ROW(E$7)+MOD(ROW(E944)-7,24),COLUMN(G944)))","v":0},{"$f":"INDIRECT(\"'game1 (\"&$X944&\")'!\"&ADDRESS(ROW(F$7)+MOD(ROW(F944)-7,24),COLUMN(H944)))","v":0},{"$f":"INDIRECT(\"'game1 (\"&$X944&\")'!\"&ADDRESS(ROW(G$7)+MOD(ROW(G944)-7,24),COLUMN(I944)))","v":0},{"$f":"INDIRECT(\"'game1 (\"&$X944&\")'!\"&ADDRESS(ROW(H$7)+MOD(ROW(H944)-7,24),COLUMN(J944)))","v":0},{"$f":"INDIRECT(\"'game1 (\"&$X944&\")'!\"&ADDRESS(ROW(I$7)+MOD(ROW(I944)-7,24),COLUMN(K944)))","v":0},{"$f":"INDIRECT(\"'game1 (\"&$X944&\")'!\"&ADDRESS(ROW(J$7)+MOD(ROW(J944)-7,24),COLUMN(L944)))","v":0},{"$f":"INDIRECT(\"'game1 (\"&$X944&\")'!\"&ADDRESS(ROW(K$7)+MOD(ROW(K944)-7,24),COLUMN(M944)))","v":0},{"$f":"INDIRECT(\"'game1 (\"&$X944&\")'!\"&ADDRESS(ROW(L$7)+MOD(ROW(L944)-7,24),COLUMN(N944)))","v":0},{"$f":"INDIRECT(\"'game1 (\"&$X944&\")'!\"&ADDRESS(ROW(M$7)+MOD(ROW(M944)-7,24),COLUMN(O944)))","v":0},{"$f":"INDIRECT(\"'game1 (\"&$X944&\")'!\"&ADDRESS(ROW(N$7)+MOD(ROW(N944)-7,24),COLUMN(P944)))","v":0},{"$f":"INDIRECT(\"'game1 (\"&$X944&\")'!\"&ADDRESS(ROW(O$7)+MOD(ROW(O944)-7,24),COLUMN(Q944)))","v":""},{"$f":"IF(G944<$D$2,0,INDIRECT(\"'game1 (\"&$X944&\")'!\"&ADDRESS(ROW(M$7)+MOD(ROW(M944)-7,24),COLUMN(R944))))","v":{"v":0,"d":"0%"}},{"$f":"IF(I944<$D$2,0,INDIRECT(\"'game1 (\"&$X944&\")'!\"&ADDRESS(ROW(N$7)+MOD(ROW(N944)-7,24),COLUMN(S944))))","v":{"v":0,"d":"0%"}},{"$f":"IF(K944<$D$2,0,INDIRECT(\"'game1 (\"&$X944&\")'!\"&ADDRESS(ROW(O$7)+MOD(ROW(O944)-7,24),COLUMN(T944))))","v":{"v":0,"d":"0%"}},{"$f":"IF(G944+I944<$D$2,0,INDIRECT(\"'game1 (\"&$X944&\")'!\"&ADDRESS(ROW(O$7)+MOD(ROW(O944)-7,24),COLUMN(U944))))","v":{"v":0,"d":"0%"}},{"$f":"INT((ROW(A944)-7)/24)+1","v":40},{"$f":"CONCATENATE(A944,\" - \",C944,\" \",MONTH(D944),\"/\",DAY(D944),\"/\",YEAR(D944))","v":"Dillon Barritt, 20 - 0 1/0/1900"},"",{"$f":"Season_Summary!$P$1","v":"2A BB"}]
["Dawson Butts, 14",{"$f":"Roster!$B$1","v":"Upton"},0,"00:00:00",0,0,0,0,0,0,0,0,0,0,0,0,0,0,"",{"v":0,"d":"0%"},{"v":0,"d":"0%"},{"v":0,"d":"0%"},{"v":0,"d":"0%"},40,"Dawson Butts, 14 - 0 1/0/1900","",{"$f":"Season_Summary!$P$1","v":"2A BB"}]
["Jayden Caylor, 12",{"$f":"Roster!$B$1","v":"Upton"},0,"00:00:00",0,0,0,0,0,0,0,0,0,0,0,0,0,0,"",{"v":0,"d":"0%"},{"v":0,"d":"0%"},{"v":0,"d":"0%"},{"v":0,"d":"0%"},40,"Jayden Caylor, 12 - 0 1/0/1900","",{"$f":"Season_Summary!$P$1","v":"2A BB"}]
["Clayton Louderback, 23",{"$f":"Roster!$B$1","v":"Upton"},0,"00:00:00",0,0,0,0,0,0,0,0,0,0,0,0,0,0,"",{"v":0,"d":"0%"},{"v":0,"d":"0%"},{"v":0,"d":"0%"},{"v":0,"d":"0%"},40,"Clayton Louderback, 23 - 0 1/0/1900","",{"$f":"Season_Summary!$P$1","v":"2A BB"}]
["Jess Claycomb, 10",{"$f":"Roster!$B$1","v":"Upton"},0,"00:00:00",0,0,0,0,0,0,0,0,0,0,0,0,0,0,"",{"v":0,"d":"0%"},{"v":0,"d":"0%"},{"v":0,"d":"0%"},{"v":0,"d":"0%"},40,"Jess Claycomb, 10 - 0 1/0/1900","",{"$f":"Season_Summary!$P$1","v":"2A BB"}]
["Maxx Cowger, 4",{"$f":"Roster!$B$1","v":"Upton"},0,"00:00:00",0,0,0,0,0,0,0,0,0,0,0,0,0,0,"",{"v":0,"d":"0%"},{"v":0,"d":"0%"},{"v":0,"d":"0%"},{"v":0,"d":"0%"},40,"Maxx Cowger, 4 - 0 1/0/1900","",{"$f":"Season_Summary!$P$1","v":"2A BB"}]
["Brayden Bruce, 22",{"$f":"Roster!$B$1","v":"Upton"},0,"00:00:00",0,0,0,0,0,0,0,0,0,0,0,0,0,0,"",{"v":0,"d":"0%"},{"v":0,"d":"0%"},{"v":0,"d":"0%"},{"v":0,"d":"0%"},40,"Brayden Bruce, 22 - 0 1/0/1900","",{"$f":"Season_Summary!$P$1","v":"2A BB"}]
["Jo Bishop, 30",{"$f":"Roster!$B$1","v":"Upton"},0,"00:00:00",0,0,0,0,0,0,0,0,0,0,0,0,0,0,"",{"v":0,"d":"0%"},{"v":0,"d":"0%"},{"v":0,"d":"0%"},{"v":0,"d":"0%"},40,"Jo Bishop, 30 - 0 1/0/1900","",{"$f":"Season_Summary!$P$1","v":"2A BB"}]
["Nolan Turner, 33",{"$f":"Roster!$B$1","v":"Upton"},0,"00:00:00",0,0,0,0,0,0,0,0,0,0,0,0,0,0,"",{"v":0,"d":"0%"},{"v":0,"d":"0%"},{"v":0,"d":"0%"},{"v":0,"d":"0%"},40,"Nolan Turner, 33 - 0 1/0/1900","",{"$f":"Season_Summary!$P$1","v":"2A BB"}]
["Robert Crawford, 32",{"$f":"Roster!$B$1","v":"Upton"},0,"00:00:00",0,0,0,0,0,0,0,0,0,0,0,0,0,0,"",{"v":0,"d":"0%"},{"v":0,"d":"0%"},{"v":0,"d":"0%"},{"v":0,"d":"0%"},40,"Robert Crawford, 32 - 0 1/0/1900","",{"$f":"Season_Summary!$P$1","v":"2A BB"}]
["Jace Bruce, 40",{"$f":"Roster!$B$1","v":"Upton"},0,"00:00:00",0,0,0,0,0,0,0,0,0,0,0,0,0,0,"",{"v":0,"d":"0%"},{"v":0,"d":"0%"},{"v":0,"d":"0%"},{"v":0,"d":"0%"},40,"Jace Bruce, 40 - 0 1/0/1900","",{"$f":"Season_Summary!$P$1","v":"2A BB"}]
["Ethan Mills, 2",{"$f":"Roster!$B$1","v":"Upton"},0,"00:00:00",0,0,0,0,0,0,0,0,0,0,0,0,0,0,"",{"v":0,"d":"0%"},{"v":0,"d":"0%"},{"v":0,"d":"0%"},{"v":0,"d":"0%"},40,"Ethan Mills, 2 - 0 1/0/1900","",{"$f":"Season_Summary!$P$1","v":"2A BB"}]
["Bridger Alishouse, 2",{"$f":"Roster!$B$1","v":"Upton"},0,"00:00:00",0,0,0,0,0,0,0,0,0,0,0,0,0,0,"",{"v":0,"d":"0%"},{"v":0,"d":"0%"},{"v":0,"d":"0%"},{"v":0,"d":"0%"},40,"Bridger Alishouse, 2 - 0 1/0/1900","",{"$f":"Season_Summary!$P$1","v":"2A BB"}]
["Landon Keever, 4",{"$f":"Roster!$B$1","v":"Upton"},0,"00:00:00",0,0,0,0,0,0,0,0,0,0,0,0,0,0,"",{"v":0,"d":"0%"},{"v":0,"d":"0%"},{"v":0,"d":"0%"},{"v":0,"d":"0%"},40,"Landon Keever, 4 - 0 1/0/1900","",{"$f":"Season_Summary!$P$1","v":"2A BB"}]
["DJ Till, 4",{"$f":"Roster!$B$1","v":"Upton"},0,"00:00:00",0,0,0,0,0,0,0,0,0,0,0,0,0,0,"",{"v":0,"d":"0%"},{"v":0,"d":"0%"},{"v":0,"d":"0%"},{"v":0,"d":"0%"},40,"DJ Till, 4 - 0 1/0/1900","",{"$f":"Season_Summary!$P$1","v":"2A BB"}]
[", ",{"$f":"Roster!$B$1","v":"Upton"},0,"00:00:00",0,0,0,0,0,0,0,0,0,0,0,0,0,0,"",{"v":0,"d":"0%"},{"v":0,"d":"0%"},{"v":0,"d":"0%"},{"v":0,"d":"0%"},40,",  - 0 1/0/1900","",{"$f":"Season_Summary!$P$1","v":"2A BB"}]
[", ",{"$f":"Roster!$B$1","v":"Upton"},0,"00:00:00",0,0,0,0,0,0,0,0,0,0,0,0,0,0,"",{"v":0,"d":"0%"},{"v":0,"d":"0%"},{"v":0,"d":"0%"},{"v":0,"d":"0%"},40,",  - 0 1/0/1900","",{"$f":"Season_Summary!$P$1","v":"2A BB"}]
[", ",{"$f":"Roster!$B$1","v":"Upton"},0,"00:00:00",0,0,0,0,0,0,0,0,0,0,0,0,0,0,"",{"v":0,"d":"0%"},{"v":0,"d":"0%"},{"v":0,"d":"0%"},{"v":0,"d":"0%"},40,",  - 0 1/0/1900","",{"$f":"Season_Summary!$P$1","v":"2A BB"}]
[", ",{"$f":"Roster!$B$1","v":"Upton"},0,"00:00:00",0,0,0,0,0,0,0,0,0,0,0,0,0,0,"",{"v":0,"d":"0%"},{"v":0,"d":"0%"},{"v":0,"d":"0%"},{"v":0,"d":"0%"},40,",  - 0 1/0/1900","",{"$f":"Season_Summary!$P$1","v":"2A BB"}]
[", ",{"$f":"Roster!$B$1","v":"Upton"},0,"00:00:00",0,0,0,0,0,0,0,0,0,0,0,0,0,0,"",{"v":0,"d":"0%"},{"v":0,"d":"0%"},{"v":0,"d":"0%"},{"v":0,"d":"0%"},40,",  - 0 1/0/1900","",{"$f":"Season_Summary!$P$1","v":"2A BB"}]
[", ",{"$f":"Roster!$B$1","v":"Upton"},0,"00:00:00",0,0,0,0,0,0,0,0,0,0,0,0,0,0,"",{"v":0,"d":"0%"},{"v":0,"d":"0%"},{"v":0,"d":"0%"},{"v":0,"d":"0%"},40,",  - 0 1/0/1900","",{"$f":"Season_Summary!$P$1","v":"2A BB"}]
[", ",{"$f":"Roster!$B$1","v":"Upton"},0,"00:00:00",0,0,0,0,0,0,0,0,0,0,0,0,0,0,"",{"v":0,"d":"0%"},{"v":0,"d":"0%"},{"v":0,"d":"0%"},{"v":0,"d":"0%"},40,",  - 0 1/0/1900","",{"$f":"Season_Summary!$P$1","v":"2A BB"}]
["Team, ",{"$f":"Roster!$B$1","v":"Upton"},0,"00:00:00",0,0,0,0,0,0,0,0,0,0,0,0,0,0,"",{"v":0,"d":"0%"},{"v":0,"d":"0%"},{"v":0,"d":"0%"},{"v":0,"d":"0%"},40,"Team,  - 0 1/0/1900","",{"$f":"Season_Summary!$P$1","v":"2A BB"}]
{"$rows_empty":33}
["Player #, Opponent,Game#","PLAYER, #","School","Opponent","Date","Max of TL PTS",null,"Player #, Opponent,Game#","PLAYER, #","School","Opponent","Date","Sum of TotalREB",null,"Player #, Opponent,Game#","PLAYER, #","School","Opponent","Date","Sum of OFF REB",null,"Player #, Opponent,Game#","PLAYER, #","School","Opponent","Date","Sum of AST",null,"Player #, Opponent,Game#","PLAYER, #","School","Opponent","Date","Sum of STL",null,"Player #, Opponent,Game#","PLAYER, #","School","Opponent","Date","Sum of BLK",null,"Player #, Opponent,Game#","PLAYER, #","School","Opponent","Date","Sum of TO",null,"Player #, Opponent,Game#","PLAYER, #","School","Opponent","Date","Sum of FOUL",null,"Player #, Opponent,Game#","PLAYER, #","School","Opponent","Date","Sum of TotalFGM",null,"Player #, Opponent,Game#","PLAYER, #","School","Opponent","Date","Max of FG%*","Sum of TotalFGA",null,"Player #, Opponent,Game#","PLAYER, #","School","Opponent","Date","Sum of TotalFGA","Max of FG%*",null,"Player #, Opponent,Game#","PLAYER, #","School","Opponent","Date","Sum of FTM",null,"Player #, Opponent,Game#","PLAYER, #","School","Opponent","Date","Max of FT %*","Sum of FTA",null,"Player #, Opponent,Game#","PLAYER, #","School","Opponent","Date","Sum of FTA","Sum of FT %*",null,"Player #, Opponent,Game#","PLAYER, #","School","Opponent","Date","Sum of 3FGM",null,"Player #, Opponent,Game#","PLAYER, #","School","Opponent","Date","Sum of 3 FG%*","Sum of 3FGA",null,"Player #, Opponent,Game#","PLAYER, #","School","Opponent","Date","Sum of 3FGA","Sum of 3 FG%*",null,"Player #, Opponent,Game#","PLAYER, #","School","Opponent","Date","Sum of 2FGM",null,"Player #, Opponent,Game#","PLAYER, #","School","Opponent","Date","Sum of 2 FG%*","Sum of 2FGA",null,"Player #, Opponent,Game#","PLAYER, #","School","Opponent","Date","Sum of 2FGA","Sum of 2 FG%*"]
["Clayton Louderback, 23 - Big Horn 2/24/2018","Clayton Louderback, 23","Upton","Big Horn","2018-02-24",30,null,"Payton Watt, 24 - Tongue River 2/17/2018","Payton Watt, 24","Upton","Tongue River","2018-02-17",17,null,"Clayton Louderback, 23 - Wright 2/8/2018","Clayton Louderback, 23","Upton","Wright","2018-02-08",7,null,"Clayton Louderback, 23 - Wright   2/24/2018","Clayton Louderback, 23","Upton","Wright  ","2018-02-24",8,null,"Dawson Butts, 14 - Shoshoni 12/16/2017","Dawson Butts, 14","Upton","Shoshoni","2017-12-16",6,null,"Payton Watt, 24 - Moorcroft 2/1/2018","Payton Watt, 24","Upton","Moorcroft","2018-02-01",3,null,"Clayton Louderback, 23 - Wright 2/8/2018","Clayton Louderback, 23","Upton","Wright","2018-02-08",8,null,"Robert Crawford, 32 - Newell 1/11/2018","Robert Crawford, 32","Upton","Newell","2018-01-11",5,null,"Clayton Louderback, 23 - Moorcroft 2/1/2018","Clayton Louderback, 23","Upton","Moorcroft","2018-02-01",12,null,"Jess Claycomb, 10 - Hulett 12/8/2017","Jess Claycomb, 10","Upton","Hulett","2017-12-08",{"v":0.9,"d":"90%"},10,null,"Payton Watt, 24 - Faith 1/12/2018","Payton Watt, 24","Upton","Faith","2018-01-12",24,{"v":0.4583333333333333,"d":"46%"},null,"Clayton Louderback, 23 - New Underwood 2/10/2018","Clayton Louderback, 23","Upton","New Underwood","2018-02-10",9,null,"Clayton Louderback, 23 - Sundance 1/25/2018","Clayton Louderback, 23","Upton","Sundance","2018-01-25",{"v":1,"d":"100%"},6,null,"Clayton Louderback, 23 - Big Horn 2/24/2018","Clayton Louderback, 23","Upton","Big Horn","2018-02-24",12,{"v":0.5833333333333334,"d":"58%"},null,"Payton Watt, 24 - Sundance 1/25/2018","Payton Watt, 24","Upton","Sundance","2018-01-25",7,null,"Dillon Barritt, 20 - Ten Sleep 12/9/2017","Dillon Barritt, 20","Upton","Ten Sleep","2017-12-09",{"v":0.8,"d":"80%"},5,null,"Dillon Barritt, 20 - Sundance 2/6/2018","Dillon Barritt, 20","Upton","Sundance","2018-02-06",12,{"v":0.4166666666666667,"d":"42%"},null,"Clayton Louderback, 23 - Moorcroft 2/1/2018","Clayton Louderback, 23","Upton","Moorcroft","2018-02-01",11,null,"Jess Claycomb, 10 - Tongue River 2/2/2018","Jess Claycomb, 10","Upton","Tongue River","2018-02-02",{"v":0.875,"d":"88%"},8,null,"Clayton Louderback, 23 - Big Horn 1/27/2018","Clayton Louderback, 23","Upton","Big Horn","2018-01-27",18,{"v":0.3888888888888889,"d":"39%"}]
["Payton Watt, 24 - Wright   2/24/2018","Payton Watt, 24","Upton","Wright  ","2018-02-24",30,null,"Clayton Louderback, 23 - Wyoming Indian 3/1/2018","Clayton Louderback, 23","Upton","Wyoming Indian","2018-03-01",14,null,"Payton Watt, 24 - Tongue River 2/17/2018","Payton Watt, 24","Upton","Tongue River","2018-02-17",6,null,"Dawson Butts, 14 - Tongue River 2/2/2018","Dawson Butts, 14","Upton","Tongue River","2018-02-02",7,null,"Dillon Barritt, 20 - Sundance 1/25/2018","Dillon Barritt, 20","Upton","Sundance","2018-01-25",6,null,"Payton Watt, 24 - Shoshoni 12/16/2017","Payton Watt, 24","Upton","Shoshoni","2017-12-16",2,null,"Clayton Louderback, 23 - Big Horn 2/16/2018","Clayton Louderback, 23","Upton","Big Horn","2018-02-16",7,null,"Dillon Barritt, 20 - Southeast HS 2/22/2018","Dillon Barritt, 20","Upton","Southeast HS","2018-02-22",5,null,"Clayton Louderback, 23 - Big Horn 2/24/2018","Clayton Louderback, 23","Upton","Big Horn","2018-02-24",11,null,"Jess Claycomb, 10 - Newell 1/11/2018","Jess Claycomb, 10","Upton","Newell","2018-01-11",{"v":0.8571428571428571,"d":"86%"},7,null,"Clayton Louderback, 23 - Big Horn 1/27/2018","Clayton Louderback, 23","Upton","Big Horn","2018-01-27",22,{"v":0.4090909090909091,"d":"41%"},null,"Payton Watt, 24 - Wright 1/20/2018","Payton Watt, 24","Upton","Wright","2018-01-20",8,null,"Jess Claycomb, 10 - Wyoming Indian 3/1/2018","Jess Claycomb, 10","Upton","Wyoming Indian","2018-03-01",{"v":0.8333333333333334,"d":"83%"},6,null,"Clayton Louderback, 23 - New Underwood 2/10/2018","Clayton Louderback, 23","Upton","New Underwood","2018-02-10",11,{"v":0.8181818181818182,"d":"82%"},null,"Payton Watt, 24 - Wright   2/24/2018","Payton Watt, 24","Upton","Wright  ","2018-02-24",6,null,"Payton Watt, 24 - Big Horn 1/27/2018","Payton Watt, 24","Upton","Big Horn","2018-01-27",{"v":0.75,"d":"75%"},8,null,"Payton Watt, 24 - Rocky Mountain 3/3/2018","Payton Watt, 24","Upton","Rocky Mountain","2018-03-03",11,{"v":0.2727272727272727,"d":"27%"},null,"Clayton Louderback, 23 - Tongue River 2/2/2018","Clayton Louderback, 23","Upton","Tongue River","2018-02-02",11,null,"Jess Claycomb, 10 - Hulett 12/8/2017","Jess Claycomb, 10","Upton","Hulett","2017-12-08",{"v":0.875,"d":"88%"},8,null,"Payton Watt, 24 - Faith 1/12/2018","Payton Watt, 24","Upton","Faith","2018-01-12",18,{"v":0.5,"d":"50%"}]
["Payton Watt, 24 - Faith 1/12/2018","Payton Watt, 24","Upton","Faith","2018-01-12",29,null,"Clayton Louderback, 23 - Big Horn 1/27/2018","Clayton Louderback, 23","Upton","Big Horn","2018-01-27",13,null,"Payton Watt, 24 - Sundance 2/6/2018","Payton Watt, 24","Upton","Sundance","2018-02-06",6,null,"Dillon Barritt, 20 - Moorcroft 2/1/2018","Dillon Barritt, 20","Upton","Moorcroft","2018-02-01",7,null,"Payton Watt, 24 - Newell 1/11/2018","Payton Watt, 24","Upton","Newell","2018-01-11",5,null,"Payton Watt, 24 - Big Horn 1/27/2018","Payton Watt, 24","Upton","Big Horn","2018-01-27",2,null,"Clayton Louderback, 23 - Tongue River 2/2/2018","Clayton Louderback, 23","Upton","Tongue River","2018-02-02",6,null,"Clayton Louderback, 23 - Wright 2/8/2018","Clayton Louderback, 23","Upton","Wright","2018-02-08",5,null,"Clayton Louderback, 23 - Wyoming Indian 3/1/2018","Clayton Louderback, 23","Upton","Wyoming Indian","2018-03-01",11,null,"Jayden Caylor, 12 - Southeast HS 2/22/2018","Jayden Caylor, 12","Upton","Southeast HS","2018-02-22",{"v":0.8571428571428571,"d":"86%"},7,null,"Clayton Louderback, 23 - Big Horn 2/24/2018","Clayton Louderback, 23","Upton","Big Horn","2018-02-24",21,{"v":0.5238095238095238,"d":"52%"},null,"Clayton Louderback, 23 - Big Horn 2/16/2018","Clayton Louderback, 23","Upton","Big Horn","2018-02-16",8,null,"Clayton Louderback, 23 - Wyoming Indian 3/1/2018","Clayton Louderback, 23","Upton","Wyoming Indian","2018-03-01",{"v":0.8333333333333334,"d":"83%"},6,null,"Payton Watt, 24 - Wright 1/20/2018","Payton Watt, 24","Upton","Wright","2018-01-20",11,{"v":0.7272727272727273,"d":"73%"},null,"Dillon Barritt, 20 - Newell 1/11/2018","Dillon Barritt, 20","Upton","Newell","2018-01-11",6,null,"Payton Watt, 24 - Sundance 1/25/2018","Payton Watt, 24","Upton","Sundance","2018-01-25",{"v":0.7,"d":"70%"},10,null,"Dillon Barritt, 20 - Wright 2/8/2018","Dillon Barritt, 20","Upton","Wright","2018-02-08",11,{"v":0.18181818181818182,"d":"18%"},null,"Clayton Louderback, 23 - Wyoming Indian 3/1/2018","Clayton Louderback, 23","Upton","Wyoming Indian","2018-03-01",10,null,"Jess Claycomb, 10 - Newell 1/11/2018","Jess Claycomb, 10","Upton","Newell","2018-01-11",{"v":0.8333333333333334,"d":"83%"},6,null,"Clayton Louderback, 23 - Big Horn 2/24/2018","Clayton Louderback, 23","Upton","Big Horn","2018-02-24",17,{"v":0.5882352941176471,"d":"59%"}]
["Payton Watt, 24 - Sundance 1/25/2018","Payton Watt, 24","Upton","Sundance","2018-01-25",29,null,"Clayton Louderback, 23 - Lusk    2/23/2018","Clayton Louderback, 23","Upton","Lusk   ","2018-02-23",13,null,"Team,  - Wright 1/20/2018","Team, ","Upton","Wright","2018-01-20",5,null,"Jayden Caylor, 12 - Riverside 12/14/2017","Jayden Caylor, 12","Upton","Riverside","2017-12-14",7,null,"Clayton Louderback, 23 - Tongue River 2/2/2018","Clayton Louderback, 23","Upton","Tongue River","2018-02-02",5,null,"Clayton Louderback, 23 - Moorcroft 2/1/2018","Clayton Louderback, 23","Upton","Moorcroft","2018-02-01",1,null,"Clayton Louderback, 23 - Rocky Mountain 3/3/2018","Clayton Louderback, 23","Upton","Rocky Mountain","2018-03-03",5,null,"Jayden Caylor, 12 - Kaycee 12/9/2017","Jayden Caylor, 12","Upton","Kaycee","2017-12-09",5,null,"Payton Watt, 24 - Faith 1/12/2018","Payton Watt, 24","Upton","Faith","2018-01-12",11,null,"Dillon Barritt, 20 - Ten Sleep 12/9/2017","Dillon Barritt, 20","Upton","Ten Sleep","2017-12-09",{"v":0.8571428571428571,"d":"86%"},7,null,"Payton Watt, 24 - Rocky Mountain 3/3/2018","Payton Watt, 24","Upton","Rocky Mountain","2018-03-03",21,{"v":0.42857142857142855,"d":"43%"},null,"Clayton Louderback, 23 - Big Horn 2/24/2018","Clayton Louderback, 23","Upton","Big Horn","2018-02-24",7,null,"Dillon Barritt, 20 - Rocky Mountain 3/3/2018","Dillon Barritt, 20","Upton","Rocky Mountain","2018-03-03",{"v":0.8333333333333334,"d":"83%"},6,null,"Clayton Louderback, 23 - Big Horn 2/16/2018","Clayton Louderback, 23","Upton","Big Horn","2018-02-16",10,{"v":0.8,"d":"80%"},null,"Payton Watt, 24 - Big Horn 1/27/2018","Payton Watt, 24","Upton","Big Horn","2018-01-27",6,null,"Dillon Barritt, 20 - Newell 1/11/2018","Dillon Barritt, 20","Upton","Newell","2018-01-11",{"v":0.6666666666666666,"d":"67%"},9,null,"Dillon Barritt, 20 - Wright 1/20/2018","Dillon Barritt, 20","Upton","Wright","2018-01-20",11,{"v":0.36363636363636365,"d":"36%"},null,"Payton Watt, 24 - Tongue River 2/17/2018","Payton Watt, 24","Upton","Tongue River","2018-02-17",10,null,"Jess Claycomb, 10 - Hot Springs 1/13/2018","Jess Claycomb, 10","Upton","Hot Springs","2018-01-13",{"v":0.8333333333333334,"d":"83%"},6,null,"Clayton Louderback, 23 - Sundance 2/6/2018","Clayton Louderback, 23","Upton","Sundance","2018-02-06",16,{"v":0.5,"d":"50%"}]
["Clayton Louderback, 23 - Wyoming Indian 3/1/2018","Clayton Louderback, 23","Upton","Wyoming Indian","2018-03-01",28,null,"Payton Watt, 24 - Big Horn 2/24/2018","Payton Watt, 24","Upton","Big Horn","2018-02-24",12,null,"Jayden Caylor, 12 - Rocky Mountain 3/3/2018","Jayden Caylor, 12","Upton","Rocky Mountain","2018-03-03",5,null,"Dawson Butts, 14 - Tongue River 2/17/2018","Dawson Butts, 14","Upton","Tongue River","2018-02-17",7,null,"Clayton Louderback, 23 - Sundance 1/25/2018","Clayton Louderback, 23","Upton","Sundance","2018-01-25",5,null,"Payton Watt, 24 - Southeast HS 2/22/2018","Payton Watt, 24","Upton","Southeast HS","2018-02-22",1,null,"Clayton Louderback, 23 - Cokeville 12/15/2017","Clayton Louderback, 23","Upton","Cokeville","2017-12-15",5,null,"Jayden Caylor, 12 - Big Horn 2/24/2018","Jayden Caylor, 12","Upton","Big Horn","2018-02-24",5,null,"Clayton Louderback, 23 - Tongue River 2/2/2018","Clayton Louderback, 23","Upton","Tongue River","2018-02-02",11,null,"Jess Claycomb, 10 - Riverside 12/14/2017","Jess Claycomb, 10","Upton","Riverside","2017-12-14",{"v":0.8,"d":"80%"},5,null,"Clayton Louderback, 23 - Lead-Deadwood 1/4/2018","Clayton Louderback, 23","Upton","Lead-Deadwood","2018-01-04",20,{"v":0.5,"d":"50%"},null,"Brayden Bruce, 22 - Big Horn 2/24/2018","Brayden Bruce, 22","Upton","Big Horn","2018-02-24",6,null,"Clayton Louderback, 23 - Lusk    2/23/2018","Clayton Louderback, 23","Upton","Lusk   ","2018-02-23",{"v":0.8333333333333334,"d":"83%"},6,null,"Brayden Bruce, 22 - Hot Springs 1/13/2018","Brayden Bruce, 22","Upton","Hot Springs","2018-01-13",9,{"v":0.5555555555555556,"d":"56%"},null,"Payton Watt, 24 - Lusk    2/23/2018","Payton Watt, 24","Upton","Lusk   ","2018-02-23",5,null,"Payton Watt, 24 - Wright   2/24/2018","Payton Watt, 24","Upton","Wright  ","2018-02-24",{"v":0.6,"d":"60%"},10,null,"Payton Watt, 24 - Kaycee 12/9/2017","Payton Watt, 24","Upton","Kaycee","2017-12-09",11,{"v":0.36363636363636365,"d":"36%"},null,"Clayton Louderback, 23 - Big Horn 2/24/2018","Clayton Louderback, 23","Upton","Big Horn","2018-02-24",10,null,"Jess Claycomb, 10 - Faith 1/12/2018","Jess Claycomb, 10","Upton","Faith","2018-01-12",{"v":0.8,"d":"80%"},5,null,"Clayton Louderback, 23 - Tongue River 2/2/2018","Clayton Louderback, 23","Upton","Tongue River","2018-02-02",16,{"v":0.6875,"d":"69%"}]
["Clayton Louderback, 23 - Moorcroft 2/1/2018","Clayton Louderback, 23","Upton","Moorcroft","2018-02-01",27,null,"Payton Watt, 24 - Sundance 2/6/2018","Payton Watt, 24","Upton","Sundance","2018-02-06",11,null,"Payton Watt, 24 - Big Horn 2/24/2018","Payton Watt, 24","Upton","Big Horn","2018-02-24",5,null,"Dawson Butts, 14 - Faith 1/12/2018","Dawson Butts, 14","Upton","Faith","2018-01-12",7,null,"Dawson Butts, 14 - Tongue River 2/2/2018","Dawson Butts, 14","Upton","Tongue River","2018-02-02",4,null,"Payton Watt, 24 - Wright 2/8/2018","Payton Watt, 24","Upton","Wright","2018-02-08",1,null,"Dawson Butts, 14 - Hot Springs 1/13/2018","Dawson Butts, 14","Upton","Hot Springs","2018-01-13",5,null,"Jayden Caylor, 12 - Newell 1/11/2018","Jayden Caylor, 12","Upton","Newell","2018-01-11",5,null,"Payton Watt, 24 - Sundance 1/25/2018","Payton Watt, 24","Upton","Sundance","2018-01-25",10,null,"Jess Claycomb, 10 - Tongue River 2/2/2018","Jess Claycomb, 10","Upton","Tongue River","2018-02-02",{"v":0.8,"d":"80%"},10,null,"Payton Watt, 24 - Wright 2/8/2018","Payton Watt, 24","Upton","Wright","2018-02-08",19,{"v":0.42105263157894735,"d":"42%"},null,"Clayton Louderback, 23 - Sundance 1/25/2018","Clayton Louderback, 23","Upton","Sundance","2018-01-25",6,null,"Payton Watt, 24 - Wright 2/8/2018","Payton Watt, 24","Upton","Wright","2018-02-08",{"v":0.8333333333333334,"d":"83%"},6,null,"Dawson Butts, 14 - Wright 2/8/2018","Dawson Butts, 14","Upton","Wright","2018-02-08",9,{"v":0.4444444444444444,"d":"44%"},null,"Dillon Barritt, 20 - Tongue River 2/17/2018","Dillon Barritt, 20","Upton","Tongue River","2018-02-17",5,null,"Clayton Louderback, 23 - Lead-Deadwood 1/4/2018","Clayton Louderback, 23","Upton","Lead-Deadwood","2018-01-04",{"v":0.6,"d":"60%"},5,null,"Payton Watt, 24 - Tongue River 2/2/2018","Payton Watt, 24","Upton","Tongue River","2018-02-02",11,{"v":0.36363636363636365,"d":"36%"},null,"Payton Watt, 24 - Big Horn 2/24/2018","Payton Watt, 24","Upton","Big Horn","2018-02-24",9,null,"Payton Watt, 24 - New Underwood 2/10/2018","Payton Watt, 24","Upton","New Underwood","2018-02-10",{"v":0.8,"d":"80%"},5,null,"Clayton Louderback, 23 - Lead-Deadwood 1/4/2018","Clayton Louderback, 23","Upton","Lead-Deadwood","2018-01-04",15,{"v":0.4666666666666667,"d":"47%"}]
["Clayton Louderback, 23 - Tongue River 2/2/2018","Clayton Louderback, 23","Upton","Tongue River","2018-02-02",25,null,"Payton Watt, 24 - Wright 2/8/2018","Payton Watt, 24","Upton","Wright","2018-02-08",11,null,"Brayden Bruce, 22 - Wright   2/24/2018","Brayden Bruce, 22","Upton","Wright  ","2018-02-24",5,null,"Jess Claycomb, 10 - Moorcroft 1/18/2018","Jess Claycomb, 10","Upton","Moorcroft","2018-01-18",7,null,"Jayden Caylor, 12 - New Underwood 2/10/2018","Jayden Caylor, 12","Upton","New Underwood","2018-02-10",4,null,"Jess Claycomb, 10 - Hot Springs 1/13/2018","Jess Claycomb, 10","Upton","Hot Springs","2018-01-13",1,null,"Payton Watt, 24 - Wright 1/20/2018","Payton Watt, 24","Upton","Wright","2018-01-20",5,null,"Jayden Caylor, 12 - Rocky Mountain 3/3/2018","Jayden Caylor, 12","Upton","Rocky Mountain","2018-03-03",5,null,"Payton Watt, 24 - Wright   2/24/2018","Payton Watt, 24","Upton","Wright  ","2018-02-24",10,null,"Brayden Bruce, 22 - Faith 1/12/2018","Brayden Bruce, 22","Upton","Faith","2018-01-12",{"v":0.8,"d":"80%"},5,null,"Payton Watt, 24 - Tongue River 2/17/2018","Payton Watt, 24","Upton","Tongue River","2018-02-17",19,{"v":0.5263157894736842,"d":"53%"},null,"Maxx Cowger, 4 - Hulett 12/8/2017","Maxx Cowger, 4","Upton","Hulett","2017-12-08",5,null,"Maxx Cowger, 4 - Hulett 12/8/2017","Maxx Cowger, 4","Upton","Hulett","2017-12-08",{"v":0.8333333333333334,"d":"83%"},6,null,"Clayton Louderback, 23 - Rocky Mountain 3/3/2018","Clayton Louderback, 23","Upton","Rocky Mountain","2018-03-03",8,{"v":0.25,"d":"25%"},null,"Payton Watt, 24 - Cokeville 12/15/2017","Payton Watt, 24","Upton","Cokeville","2017-12-15",5,null,"Jess Claycomb, 10 - Faith 1/12/2018","Jess Claycomb, 10","Upton","Faith","2018-01-12",{"v":0.6,"d":"60%"},5,null,"Payton Watt, 24 - Wright   2/24/2018","Payton Watt, 24","Upton","Wright  ","2018-02-24",10,{"v":0.6,"d":"60%"},null,"Payton Watt, 24 - Faith 1/12/2018","Payton Watt, 24","Upton","Faith","2018-01-12",9,null,"Payton Watt, 24 - Lusk    2/23/2018","Payton Watt, 24","Upton","Lusk   ","2018-02-23",{"v":0.8,"d":"80%"},5,null,"Clayton Louderback, 23 - Moorcroft 2/1/2018","Clayton Louderback, 23","Upton","Moorcroft","2018-02-01",15,{"v":0.7333333333333333,"d":"73%"}]
["Payton Watt, 24 - Tongue River 2/17/2018","Payton Watt, 24","Upton","Tongue River","2018-02-17",24,null,"Clayton Louderback, 23 - Rocky Mountain 3/3/2018","Clayton Louderback, 23","Upton","Rocky Mountain","2018-03-03",10,null,"Clayton Louderback, 23 - Riverside 12/14/2017","Clayton Louderback, 23","Upton","Riverside","2017-12-14",5,null,"Dawson Butts, 14 - Big Horn 1/27/2018","Dawson Butts, 14","Upton","Big Horn","2018-01-27",7,null,"Clayton Louderback, 23 - Sundance 2/6/2018","Clayton Louderback, 23","Upton","Sundance","2018-02-06",4,null,"Jayden Caylor, 12 - Cokeville 12/15/2017","Jayden Caylor, 12","Upton","Cokeville","2017-12-15",1,null,"Jayden Caylor, 12 - Kaycee 12/9/2017","Jayden Caylor, 12","Upton","Kaycee","2017-12-09",5,null,"Jayden Caylor, 12 - Tongue River 2/17/2018","Jayden Caylor, 12","Upton","Tongue River","2018-02-17",4,null,"Clayton Louderback, 23 - Lead-Deadwood 1/4/2018","Clayton Louderback, 23","Upton","Lead-Deadwood","2018-01-04",10,null,"Jess Claycomb, 10 - Shoshoni 12/16/2017","Jess Claycomb, 10","Upton","Shoshoni","2017-12-16",{"v":0.75,"d":"75%"},8,null,"Clayton Louderback, 23 - Sundance 2/6/2018","Clayton Louderback, 23","Upton","Sundance","2018-02-06",19,{"v":0.47368421052631576,"d":"47%"},null,"Jess Claycomb, 10 - Wyoming Indian 3/1/2018","Jess Claycomb, 10","Upton","Wyoming Indian","2018-03-01",5,null,"Clayton Louderback, 23 - New Underwood 2/10/2018","Clayton Louderback, 23","Upton","New Underwood","2018-02-10",{"v":0.8181818181818182,"d":"82%"},11,null,"Brayden Bruce, 22 - Big Horn 2/24/2018","Brayden Bruce, 22","Upton","Big Horn","2018-02-24",8,{"v":0.75,"d":"75%"},null,"Dillon Barritt, 20 - Sundance 2/6/2018","Dillon Barritt, 20","Upton","Sundance","2018-02-06",5,null,"Payton Watt, 24 - New Underwood 2/10/2018","Payton Watt, 24","Upton","New Underwood","2018-02-10",{"v":0.5714285714285714,"d":"57%"},7,null,"Dillon Barritt, 20 - Rocky Mountain 3/3/2018","Dillon Barritt, 20","Upton","Rocky Mountain","2018-03-03",10,{"v":0.3,"d":"30%"},null,"Clayton Louderback, 23 - Wright   2/24/2018","Clayton Louderback, 23","Upton","Wright  ","2018-02-24",8,null,"Payton Watt, 24 - Moorcroft 2/1/2018","Payton Watt, 24","Upton","Moorcroft","2018-02-01",{"v":0.8,"d":"80%"},10,null,"Clayton Louderback, 23 - Pine Bluffs   3/2/2018","Clayton Louderback, 23","Upton","Pine Bluffs  ","2018-03-02",15,{"v":0.3333333333333333,"d":"33%"}]
["Payton Watt, 24 - Lusk    2/23/2018","Payton Watt, 24","Upton","Lusk   ","2018-02-23",24,null,"Jayden Caylor, 12 - Moorcroft 1/18/2018","Jayden Caylor, 12","Upton","Moorcroft","2018-01-18",10,null,"Jayden Caylor, 12 - Hulett 12/8/2017","Jayden Caylor, 12","Upton","Hulett","2017-12-08",5,null,"Clayton Louderback, 23 - Tongue River 2/17/2018","Clayton Louderback, 23","Upton","Tongue River","2018-02-17",6,null,"Clayton Louderback, 23 - Lead-Deadwood 1/4/2018","Clayton Louderback, 23","Upton","Lead-Deadwood","2018-01-04",4,null,"Nolan Turner, 33 - Wright 1/20/2018","Nolan Turner, 33","Upton","Wright","2018-01-20",1,null,"Dillon Barritt, 20 - Rocky Mountain 3/3/2018","Dillon Barritt, 20","Upton","Rocky Mountain","2018-03-03",4,null,"Payton Watt, 24 - Pine Bluffs   3/2/2018","Payton Watt, 24","Upton","Pine Bluffs  ","2018-03-02",4,null,"Payton Watt, 24 - Tongue River 2/17/2018","Payton Watt, 24","Upton","Tongue River","2018-02-17",10,null,"Clayton Louderback, 23 - Wyoming Indian 3/1/2018","Clayton Louderback, 23","Upton","Wyoming Indian","2018-03-01",{"v":0.7333333333333333,"d":"73%"},15,null,"Payton Watt, 24 - Hot Springs 1/13/2018","Payton Watt, 24","Upton","Hot Springs","2018-01-13",18,{"v":0.3333333333333333,"d":"33%"},null,"Clayton Louderback, 23 - Wyoming Indian 3/1/2018","Clayton Louderback, 23","Upton","Wyoming Indian","2018-03-01",5,null,"Clayton Louderback, 23 - Shoshoni 12/16/2017","Clayton Louderback, 23","Upton","Shoshoni","2017-12-16",{"v":0.8,"d":"80%"},5,null,"Jess Claycomb, 10 - Hot Springs 1/13/2018","Jess Claycomb, 10","Upton","Hot Springs","2018-01-13",8,{"v":0.375,"d":"38%"},null,"Payton Watt, 24 - Tongue River 2/2/2018","Payton Watt, 24","Upton","Tongue River","2018-02-02",4,null,"Dillon Barritt, 20 - Tongue River 2/17/2018","Dillon Barritt, 20","Upton","Tongue River","2018-02-17",{"v":0.5555555555555556,"d":"56%"},9,null,"Payton Watt, 24 - Cokeville 12/15/2017","Payton Watt, 24","Upton","Cokeville","2017-12-15",10,{"v":0.5,"d":"50%"},null,"Payton Watt, 24 - Moorcroft 2/1/2018","Payton Watt, 24","Upton","Moorcroft","2018-02-01",8,null,"Clayton Louderback, 23 - Wyoming Indian 3/1/2018","Clayton Louderback, 23","Upton","Wyoming Indian","2018-03-01",{"v":0.7692307692307693,"d":"77%"},13,null,"Payton Watt, 24 - Tongue River 2/17/2018","Payton Watt, 24","Upton","Tongue River","2018-02-17",15,{"v":0.6666666666666666,"d":"67%"}]
["Dillon Barritt, 20 - Newell 1/11/2018","Dillon Barritt, 20","Upton","Newell","2018-01-11",24,null,"Clayton Louderback, 23 - Wright 2/8/2018","Clayton Louderback, 23","Upton","Wright","2018-02-08",10,null,"Clayton Louderback, 23 - Sundance 2/6/2018","Clayton Louderback, 23","Upton","Sundance","2018-02-06",5,null,"Dawson Butts, 14 - Riverside 12/14/2017","Dawson Butts, 14","Upton","Riverside","2017-12-14",6,null,"Jayden Caylor, 12 - Wright   2/24/2018","Jayden Caylor, 12","Upton","Wright  ","2018-02-24",4,null,"Clayton Louderback, 23 - Tongue River 2/2/2018","Clayton Louderback, 23","Upton","Tongue River","2018-02-02",1,null,"Jayden Caylor, 12 - Moorcroft 1/18/2018","Jayden Caylor, 12","Upton","Moorcroft","2018-01-18",4,null,"Clayton Louderback, 23 - Lead-Deadwood 1/4/2018","Clayton Louderback, 23","Upton","Lead-Deadwood","2018-01-04",4,null,"Clayton Louderback, 23 - Sundance 2/6/2018","Clayton Louderback, 23","Upton","Sundance","2018-02-06",9,null,"Jayden Caylor, 12 - Moorcroft 1/18/2018","Jayden Caylor, 12","Upton","Moorcroft","2018-01-18",{"v":0.7272727272727273,"d":"73%"},11,null,"Payton Watt, 24 - Wyoming Indian 3/1/2018","Payton Watt, 24","Upton","Wyoming Indian","2018-03-01",18,{"v":0.4444444444444444,"d":"44%"},null,"Payton Watt, 24 - Faith 1/12/2018","Payton Watt, 24","Upton","Faith","2018-01-12",5,null,"Payton Watt, 24 - Wright   2/24/2018","Payton Watt, 24","Upton","Wright  ","2018-02-24",{"v":0.8,"d":"80%"},5,null,"Clayton Louderback, 23 - Big Horn 1/27/2018","Clayton Louderback, 23","Upton","Big Horn","2018-01-27",8,{"v":0.375,"d":"38%"},null,"Payton Watt, 24 - Kaycee 12/9/2017","Payton Watt, 24","Upton","Kaycee","2017-12-09",4,null,"Payton Watt, 24 - Lusk    2/23/2018","Payton Watt, 24","Upton","Lusk   ","2018-02-23",{"v":0.5555555555555556,"d":"56%"},9,null,"Payton Watt, 24 - Sundance 1/25/2018","Payton Watt, 24","Upton","Sundance","2018-01-25",10,{"v":0.7,"d":"70%"},null,"Payton Watt, 24 - Hulett 12/8/2017","Payton Watt, 24","Upton","Hulett","2017-12-08",8,null,"Jess Claycomb, 10 - Ten Sleep 12/9/2017","Jess Claycomb, 10","Upton","Ten Sleep","2017-12-09",{"v":0.75,"d":"75%"},8,null,"Payton Watt, 24 - Big Horn 2/24/2018","Payton Watt, 24","Upton","Big Horn","2018-02-24",15,{"v":0.6,"d":"60%"}]
["Clayton Louderback, 23 - Lead-Deadwood 1/4/2018","Clayton Louderback, 23","Upton","Lead-Deadwood","2018-01-04",24,null,"Payton Watt, 24 - Wright 1/20/2018","Payton Watt, 24","Upton","Wright","2018-01-20",10,{"$nulls":8},"Clayton Louderback, 23 - Lusk    2/23/2018","Clayton Louderback, 23","Upton","Lusk   ","2018-02-23",6,null,"Jayden Caylor, 12 - Cokeville 12/15/2017","Jayden Caylor, 12","Upton","Cokeville","2017-12-15",4,null,"Dawson Butts, 14 - Wright 2/8/2018","Dawson Butts, 14","Upton","Wright","2018-02-08",1,null,"Dawson Butts, 14 - Wright 2/8/2018","Dawson Butts, 14","Upton","Wright","2018-02-08",4,null,"Jess Claycomb, 10 - Newell 1/11/2018","Jess Claycomb, 10","Upton","Newell","2018-01-11",4,null,"Payton Watt, 24 - Lusk    2/23/2018","Payton Watt, 24","Upton","Lusk   ","2018-02-23",9,null,"Payton Watt, 24 - Wright   2/24/2018","Payton Watt, 24","Upton","Wright  ","2018-02-24",{"v":0.7142857142857143,"d":"71%"},14,null,"Payton Watt, 24 - Kaycee 12/9/2017","Payton Watt, 24","Upton","Kaycee","2017-12-09",18,{"v":0.4444444444444444,"d":"44%"},null,"Dillon Barritt, 20 - Rocky Mountain 3/3/2018","Dillon Barritt, 20","Upton","Rocky Mountain","2018-03-03",5,null,"Clayton Louderback, 23 - Big Horn 2/16/2018","Clayton Louderback, 23","Upton","Big Horn","2018-02-16",{"v":0.8,"d":"80%"},10,{"$nulls":9},"Dillon Barritt, 20 - Lusk    2/23/2018","Dillon Barritt, 20","Upton","Lusk   ","2018-02-23",4,null,"Payton Watt, 24 - Cokeville 12/15/2017","Payton Watt, 24","Upton","Cokeville","2017-12-15",{"v":0.5,"d":"50%"},10,{"$nulls":9},"Clayton Louderback, 23 - Sundance 2/6/2018","Clayton Louderback, 23","Upton","Sundance","2018-02-06",8,null,"Payton Watt, 24 - Big Horn 2/16/2018","Payton Watt, 24","Upton","Big Horn","2018-02-16",{"v":0.75,"d":"75%"},8]
[{"$nulls":7},"Clayton Louderback, 23 - Kaycee 12/9/2017","Clayton Louderback, 23","Upton","Kaycee","2017-12-09",10,{"$nulls":8},"Dawson Butts, 14 - New Underwood 2/10/2018","Dawson Butts, 14","Upton","New Underwood","2018-02-10",6,null,"Jayden Caylor, 12 - Ten Sleep 12/9/2017","Jayden Caylor, 12","Upton","Ten Sleep","2017-12-09",4,null,"Payton Watt, 24 - Lead-Deadwood 1/4/2018","Payton Watt, 24","Upton","Lead-Deadwood","2018-01-04",1,null,"Dawson Butts, 14 - Wright 1/20/2018","Dawson Butts, 14","Upton","Wright","2018-01-20",4,null,"Jess Claycomb, 10 - Wright 2/8/2018","Jess Claycomb, 10","Upton","Wright","2018-02-08",4,null,"Payton Watt, 24 - Rocky Mountain 3/3/2018","Payton Watt, 24","Upton","Rocky Mountain","2018-03-03",9,null,"Jess Claycomb, 10 - Faith 1/12/2018","Jess Claycomb, 10","Upton","Faith","2018-01-12",{"v":0.7,"d":"70%"},10,null,"Clayton Louderback, 23 - Moorcroft 2/1/2018","Clayton Louderback, 23","Upton","Moorcroft","2018-02-01",18,{"v":0.6666666666666666,"d":"67%"},null,"Clayton Louderback, 23 - Lusk    2/23/2018","Clayton Louderback, 23","Upton","Lusk   ","2018-02-23",5,null,"Brayden Bruce, 22 - Big Horn 2/24/2018","Brayden Bruce, 22","Upton","Big Horn","2018-02-24",{"v":0.75,"d":"75%"},8,{"$nulls":9},"Payton Watt, 24 - New Underwood 2/10/2018","Payton Watt, 24","Upton","New Underwood","2018-02-10",4,null,"Dillon Barritt, 20 - Lusk    2/23/2018","Dillon Barritt, 20","Upton","Lusk   ","2018-02-23",{"v":0.4444444444444444,"d":"44%"},9]
[{"$nulls":21},"Payton Watt, 24 - Lead-Deadwood 1/4/2018","Payton Watt, 24","Upton","Lead-Deadwood","2018-01-04",6,null,"Jayden Caylor, 12 - Newell 1/11/2018","Jayden Caylor, 12","Upton","Newell","2018-01-11",4,null,"Jayden Caylor, 12 - Wright 2/8/2018","Jayden Caylor, 12","Upton","Wright","2018-02-08",1,null,"Payton Watt, 24 - Pine Bluffs   3/2/2018","Payton Watt, 24","Upton","Pine Bluffs  ","2018-03-02",4,null,"Jayden Caylor, 12 - Hulett 12/8/2017","Jayden Caylor, 12","Upton","Hulett","2017-12-08",4,null,"Clayton Louderback, 23 - Big Horn 1/27/2018","Clayton Louderback, 23","Upton","Big Horn","2018-01-27",9,null,"Clayton Louderback, 23 - Tongue River 2/2/2018","Clayton Louderback, 23","Upton","Tongue River","2018-02-02",{"v":0.6875,"d":"69%"},16,{"$nulls":9},"Payton Watt, 24 - Wright 2/8/2018","Payton Watt, 24","Upton","Wright","2018-02-08",5,null,"Payton Watt, 24 - Wright 1/20/2018","Payton Watt, 24","Upton","Wright","2018-01-20",{"v":0.7272727272727273,"d":"73%"},11,{"$nulls":9},"Dillon Barritt, 20 - Wright 1/20/2018","Dillon Barritt, 20","Upton","Wright","2018-01-20",4,null,"Dillon Barritt, 20 - Pine Bluffs   3/2/2018","Dillon Barritt, 20","Upton","Pine Bluffs  ","2018-03-02",{"v":0.42857142857142855,"d":"43%"},7]
[{"$nulls":21},"Payton Watt, 24 - Ten Sleep 12/9/2017","Payton Watt, 24","Upton","Ten Sleep","2017-12-09",6,null,"Dillon Barritt, 20 - Wright 2/8/2018","Dillon Barritt, 20","Upton","Wright","2018-02-08",4,null,"Clayton Louderback, 23 - Big Horn 2/16/2018","Clayton Louderback, 23","Upton","Big Horn","2018-02-16",1,null,"Jess Claycomb, 10 - Wright 1/20/2018","Jess Claycomb, 10","Upton","Wright","2018-01-20",4,null,"Jayden Caylor, 12 - Southeast HS 2/22/2018","Jayden Caylor, 12","Upton","Southeast HS","2018-02-22",4,null,"Jess Claycomb, 10 - Hulett 12/8/2017","Jess Claycomb, 10","Upton","Hulett","2017-12-08",9,null,"Jess Claycomb, 10 - New Underwood 2/10/2018","Jess Claycomb, 10","Upton","New Underwood","2018-02-10",{"v":0.6666666666666666,"d":"67%"},6,{"$nulls":9},"Brayden Bruce, 22 - Hot Springs 1/13/2018","Brayden Bruce, 22","Upton","Hot Springs","2018-01-13",5,null,"Payton Watt, 24 - Faith 1/12/2018","Payton Watt, 24","Upton","Faith","2018-01-12",{"v":0.7142857142857143,"d":"71%"},7,{"$nulls":9},"Dillon Barritt, 20 - Ten Sleep 12/9/2017","Dillon Barritt, 20","Upton","Ten Sleep","2017-12-09",4,null,"Dillon Barritt, 20 - Moorcroft 1/18/2018","Dillon Barritt, 20","Upton","Moorcroft","2018-01-18",{"v":0.42857142857142855,"d":"43%"},7]
[{"$nulls":28},"Dawson Butts, 14 - Hulett 12/8/2017","Dawson Butts, 14","Upton","Hulett","2017-12-08",4,null,"Dawson Butts, 14 - Big Horn 1/27/2018","Dawson Butts, 14","Upton","Big Horn","2018-01-27",1,null,"Payton Watt, 24 - Lead-Deadwood 1/4/2018","Payton Watt, 24","Upton","Lead-Deadwood","2018-01-04",4,null,"Jayden Caylor, 12 - Faith 1/12/2018","Jayden Caylor, 12","Upton","Faith","2018-01-12",4,null,"Payton Watt, 24 - Shoshoni 12/16/2017","Payton Watt, 24","Upton","Shoshoni","2017-12-16",9,null,"Payton Watt, 24 - New Underwood 2/10/2018","Payton Watt, 24","Upton","New Underwood","2018-02-10",{"v":0.6666666666666666,"d":"67%"},12,{"$nulls":16},"Jayden Caylor, 12 - Faith 1/12/2018","Jayden Caylor, 12","Upton","Faith","2018-01-12",{"v":0.6666666666666666,"d":"67%"},6,{"$nulls":16},"Dillon Barritt, 20 - Sundance 2/6/2018","Dillon Barritt, 20","Upton","Sundance","2018-02-06",{"v":0.4166666666666667,"d":"42%"},12]
[{"$nulls":28},"Jayden Caylor, 12 - Lusk    2/23/2018","Jayden Caylor, 12","Upton","Lusk   ","2018-02-23",4,null,"Dawson Butts, 14 - Southeast HS 2/22/2018","Dawson Butts, 14","Upton","Southeast HS","2018-02-22",1,null,"Clayton Louderback, 23 - Sundance 1/25/2018","Clayton Louderback, 23","Upton","Sundance","2018-01-25",4,null,"Clayton Louderback, 23 - Wyoming Indian 3/1/2018","Clayton Louderback, 23","Upton","Wyoming Indian","2018-03-01",4,null,"Payton Watt, 24 - Big Horn 2/24/2018","Payton Watt, 24","Upton","Big Horn","2018-02-24",9,null,"Clayton Louderback, 23 - Moorcroft 2/1/2018","Clayton Louderback, 23","Upton","Moorcroft","2018-02-01",{"v":0.6666666666666666,"d":"67%"},18,{"$nulls":16},"Payton Watt, 24 - Tongue River 2/17/2018","Payton Watt, 24","Upton","Tongue River","2018-02-17",{"v":0.6666666666666666,"d":"67%"},6,{"$nulls":16},"Dillon Barritt, 20 - Big Horn 2/16/2018","Dillon Barritt, 20","Upton","Big Horn","2018-02-16",{"v":0.4,"d":"40%"},5]
[{"$nulls":28},"Dawson Butts, 14 - Riverside 12/14/2017","Dawson Butts, 14","Upton","Riverside","2017-12-14",4,null,"Clayton Louderback, 23 - Wyoming Indian 3/1/2018","Clayton Louderback, 23","Upton","Wyoming Indian","2018-03-01",1,null,"Clayton Louderback, 23 - Kaycee 12/9/2017","Clayton Louderback, 23","Upton","Kaycee","2017-12-09",4,null,"Dawson Butts, 14 - Hot Springs 1/13/2018","Dawson Butts, 14","Upton","Hot Springs","2018-01-13",4,{"$nulls":8},"Jayden Caylor, 12 - Hulett 12/8/2017","Jayden Caylor, 12","Upton","Hulett","2017-12-08",{"v":0.6666666666666666,"d":"67%"},9,{"$nulls":16},"Payton Watt, 24 - Hot Springs 1/13/2018","Payton Watt, 24","Upton","Hot Springs","2018-01-13",{"v":0.6,"d":"60%"},5,{"$nulls":16},"Dillon Barritt, 20 - Big Horn 2/24/2018","Dillon Barritt, 20","Upton","Big Horn","2018-02-24",{"v":0.4,"d":"40%"},5]
[{"$nulls":28},"Jess Claycomb, 10 - Shoshoni 12/16/2017","Jess Claycomb, 10","Upton","Shoshoni","2017-12-16",4,null,"Payton Watt, 24 - Rocky Mountain 3/3/2018","Payton Watt, 24","Upton","Rocky Mountain","2018-03-03",1,null,"Dawson Butts, 14 - Lead-Deadwood 1/4/2018","Dawson Butts, 14","Upton","Lead-Deadwood","2018-01-04",4,null,"Clayton Louderback, 23 - Pine Bluffs   3/2/2018","Clayton Louderback, 23","Upton","Pine Bluffs  ","2018-03-02",4,{"$nulls":8},"Payton Watt, 24 - Lusk    2/23/2018","Payton Watt, 24","Upton","Lusk   ","2018-02-23",{"v":0.6428571428571429,"d":"64%"},14,{"$nulls":16},"Jayden Caylor, 12 - Lusk    2/23/2018","Jayden Caylor, 12","Upton","Lusk   ","2018-02-23",{"v":0.6,"d":"60%"},5,{"$nulls":16},"Dillon Barritt, 20 - New Underwood 2/10/2018","Dillon Barritt, 20","Upton","New Underwood","2018-02-10",{"v":0.375,"d":"38%"},8]
[{"$nulls":28},"Dawson Butts, 14 - Moorcroft 2/1/2018","Dawson Butts, 14","Upton","Moorcroft","2018-02-01",4,null,"Clayton Louderback, 23 - Riverside 12/14/2017","Clayton Louderback, 23","Upton","Riverside","2017-12-14",1,null,"Clayton Louderback, 23 - Wyoming Indian 3/1/2018","Clayton Louderback, 23","Upton","Wyoming Indian","2018-03-01",4,null,"Brayden Bruce, 22 - Hot Springs 1/13/2018","Brayden Bruce, 22","Upton","Hot Springs","2018-01-13",4,{"$nulls":8},"Jess Claycomb, 10 - Sundance 2/6/2018","Jess Claycomb, 10","Upton","Sundance","2018-02-06",{"v":0.6363636363636364,"d":"64%"},11,{"$nulls":16},"Clayton Louderback, 23 - Tongue River 2/2/2018","Clayton Louderback, 23","Upton","Tongue River","2018-02-02",{"v":0.6,"d":"60%"},5,{"$nulls":16},"Dillon Barritt, 20 - Big Horn 1/27/2018","Dillon Barritt, 20","Upton","Big Horn","2018-01-27",{"v":0.375,"d":"38%"},8]
[{"$nulls":35},"Dillon Barritt, 20 - Moorcroft 2/1/2018","Dillon Barritt, 20","Upton","Moorcroft","2018-02-01",1,null,"Dillon Barritt, 20 - Big Horn 1/27/2018","Dillon Barritt, 20","Upton","Big Horn","2018-01-27",4,null,"Dillon Barritt, 20 - Tongue River 2/17/2018","Dillon Barritt, 20","Upton","Tongue River","2018-02-17",4,{"$nulls":8},"Clayton Louderback, 23 - Tongue River 2/17/2018","Clayton Louderback, 23","Upton","Tongue River","2018-02-17",{"v":0.6363636363636364,"d":"64%"},11,{"$nulls":16},"Clayton Louderback, 23 - Big Horn 2/24/2018","Clayton Louderback, 23","Upton","Big Horn","2018-02-24",{"v":0.5833333333333334,"d":"58%"},12,{"$nulls":16},"Payton Watt, 24 - Kaycee 12/9/2017","Payton Watt, 24","Upton","Kaycee","2017-12-09",{"v":0.36363636363636365,"d":"36%"},11]
[{"$nulls":42},"Clayton Louderback, 23 - Pine Bluffs   3/2/2018","Clayton Louderback, 23","Upton","Pine Bluffs  ","2018-03-02",4,null,"Payton Watt, 24 - Wright 1/20/2018","Payton Watt, 24","Upton","Wright","2018-01-20",4,{"$nulls":8},"Payton Watt, 24 - Big Horn 1/27/2018","Payton Watt, 24","Upton","Big Horn","2018-01-27",{"v":0.6363636363636364,"d":"64%"},11,{"$nulls":16},"Brayden Bruce, 22 - Hot Springs 1/13/2018","Brayden Bruce, 22","Upton","Hot Springs","2018-01-13",{"v":0.5555555555555556,"d":"56%"},9,{"$nulls":16},"Payton Watt, 24 - Tongue River 2/2/2018","Payton Watt, 24","Upton","Tongue River","2018-02-02",{"v":0.36363636363636365,"d":"36%"},11]
[{"$nulls":42},"Clayton Louderback, 23 - Big Horn 1/27/2018","Clayton Louderback, 23","Upton","Big Horn","2018-01-27",4,null,"Clayton Louderback, 23 - Cokeville 12/15/2017","Clayton Louderback, 23","Upton","Cokeville","2017-12-15",4,{"$nulls":8},"Payton Watt, 24 - Sundance 1/25/2018","Payton Watt, 24","Upton","Sundance","2018-01-25",{"v":0.625,"d":"63%"},16,{"$nulls":16},"Jess Claycomb, 10 - Lusk    2/23/2018","Jess Claycomb, 10","Upton","Lusk   ","2018-02-23",{"v":0.5,"d":"50%"},6,{"$nulls":16},"Dillon Barritt, 20 - Wright 1/20/2018","Dillon Barritt, 20","Upton","Wright","2018-01-20",{"v":0.36363636363636365,"d":"36%"},11]
[{"$nulls":42},"Jayden Caylor, 12 - Rocky Mountain 3/3/2018","Jayden Caylor, 12","Upton","Rocky Mountain","2018-03-03",4,null,"Jess Claycomb, 10 - Wright 1/20/2018","Jess Claycomb, 10","Upton","Wright","2018-01-20",4,{"$nulls":8},"Clayton Louderback, 23 - New Underwood 2/10/2018","Clayton Louderback, 23","Upton","New Underwood","2018-02-10",{"v":0.625,"d":"63%"},8,{"$nulls":16},"Jess Claycomb, 10 - Wright 2/8/2018","Jess Claycomb, 10","Upton","Wright","2018-02-08",{"v":0.5,"d":"50%"},6,{"$nulls":16},"Payton Watt, 24 - Faith 1/12/2018","Payton Watt, 24","Upton","Faith","2018-01-12",{"v":0.3333333333333333,"d":"33%"},6]
[{"$nulls":42},"Brayden Bruce, 22 - Moorcroft 2/1/2018","Brayden Bruce, 22","Upton","Moorcroft","2018-02-01",4,null,"Dawson Butts, 14 - Big Horn 2/24/2018","Dawson Butts, 14","Upton","Big Horn","2018-02-24",4,{"$nulls":8},"Clayton Louderback, 23 - Kaycee 12/9/2017","Clayton Louderback, 23","Upton","Kaycee","2017-12-09",{"v":0.625,"d":"63%"},8,{"$nulls":16},"Dawson Butts, 14 - Wright 2/8/2018","Dawson Butts, 14","Upton","Wright","2018-02-08",{"v":0.4444444444444444,"d":"44%"},9,{"$nulls":16},"Dillon Barritt, 20 - Southeast HS 2/22/2018","Dillon Barritt, 20","Upton","Southeast HS","2018-02-22",{"v":0.3333333333333333,"d":"33%"},9]
[{"$nulls":42},"Payton Watt, 24 - Faith 1/12/2018","Payton Watt, 24","Upton","Faith","2018-01-12",4,null,"Brayden Bruce, 22 - Wright 1/20/2018","Brayden Bruce, 22","Upton","Wright","2018-01-20",4,{"$nulls":8},"Jess Claycomb, 10 - Hot Springs 1/13/2018","Jess Claycomb, 10","Upton","Hot Springs","2018-01-13",{"v":0.625,"d":"63%"},8,{"$nulls":16},"Clayton Louderback, 23 - Tongue River 2/17/2018","Clayton Louderback, 23","Upton","Tongue River","2018-02-17",{"v":0.42857142857142855,"d":"43%"},7,{"$nulls":16},"Jess Claycomb, 10 - Wright   2/24/2018","Jess Claycomb, 10","Upton","Wright  ","2018-02-24",{"v":0.3333333333333333,"d":"33%"},6]
[{"$nulls":42},"Payton Watt, 24 - Big Horn 1/27/2018","Payton Watt, 24","Upton","Big Horn","2018-01-27",4,null,"Jess Claycomb, 10 - Big Horn 2/24/2018","Jess Claycomb, 10","Upton","Big Horn","2018-02-24",4,{"$nulls":8},"Jayden Caylor, 12 - Ten Sleep 12/9/2017","Jayden Caylor, 12","Upton","Ten Sleep","2017-12-09",{"v":0.625,"d":"63%"},8,{"$nulls":16},"Clayton Louderback, 23 - Big Horn 1/27/2018","Clayton Louderback, 23","Upton","Big Horn","2018-01-27",{"v":0.375,"d":"38%"},8,{"$nulls":16},"Payton Watt, 24 - Wyoming Indian 3/1/2018","Payton Watt, 24","Upton","Wyoming Indian","2018-03-01",{"v":0.3333333333333333,"d":"33%"},9]
[{"$nulls":49},"Dawson Butts, 14 - Rocky Mountain 3/3/2018","Dawson Butts, 14","Upton","Rocky Mountain","2018-03-03",4,{"$nulls":8},"Jess Claycomb, 10 - Sundance 1/25/2018","Jess Claycomb, 10","Upton","Sundance","2018-01-25",{"v":0.6,"d":"60%"},5,{"$nulls":16},"Jess Claycomb, 10 - Hot Springs 1/13/2018","Jess Claycomb, 10","Upton","Hot Springs","2018-01-13",{"v":0.375,"d":"38%"},8,{"$nulls":16},"Dillon Barritt, 20 - Sundance 1/25/2018","Dillon Barritt, 20","Upton","Sundance","2018-01-25",{"v":0.3333333333333333,"d":"33%"},6]
[{"$nulls":49},"Jess Claycomb, 10 - Wyoming Indian 3/1/2018","Jess Claycomb, 10","Upton","Wyoming Indian","2018-03-01",4,{"$nulls":8},"Dawson Butts, 14 - Lead-Deadwood 1/4/2018","Dawson Butts, 14","Upton","Lead-Deadwood","2018-01-04",{"v":0.6,"d":"60%"},5,{"$nulls":16},"Clayton Louderback, 23 - Wright   2/24/2018","Clayton Louderback, 23","Upton","Wright  ","2018-02-24",{"v":0.3333333333333333,"d":"33%"},6,{"$nulls":16},"Dillon Barritt, 20 - Cokeville 12/15/2017","Dillon Barritt, 20","Upton","Cokeville","2017-12-15",{"v":0.3333333333333333,"d":"33%"},6]
[{"$nulls":49},"Payton Watt, 24 - Hulett 12/8/2017","Payton Watt, 24","Upton","Hulett","2017-12-08",4,{"$nulls":8},"Payton Watt, 24 - Big Horn 2/16/2018","Payton Watt, 24","Upton","Big Horn","2018-02-16",{"v":0.6,"d":"60%"},10,{"$nulls":16},"Clayton Louderback, 23 - Rocky Mountain 3/3/2018","Clayton Louderback, 23","Upton","Rocky Mountain","2018-03-03",{"v":0.25,"d":"25%"},8,{"$nulls":16},"Payton Watt, 24 - Newell 1/11/2018","Payton Watt, 24","Upton","Newell","2018-01-11",{"v":0.3333333333333333,"d":"33%"},6]
[{"$nulls":49},"Jayden Caylor, 12 - Pine Bluffs   3/2/2018","Jayden Caylor, 12","Upton","Pine Bluffs  ","2018-03-02",4,{"$nulls":8},"Brayden Bruce, 22 - Tongue River 2/2/2018","Brayden Bruce, 22","Upton","Tongue River","2018-02-02",{"v":0.6,"d":"60%"},5,{"$nulls":16},"Payton Watt, 24 - Moorcroft 1/18/2018","Payton Watt, 24","Upton","Moorcroft","2018-01-18",{"v":0.2,"d":"20%"},5,{"$nulls":16},"Payton Watt, 24 - Shoshoni 12/16/2017","Payton Watt, 24","Upton","Shoshoni","2017-12-16",{"v":0.3333333333333333,"d":"33%"},6]
[{"$nulls":49},"Jayden Caylor, 12 - Wright 2/8/2018","Jayden Caylor, 12","Upton","Wright","2018-02-08",4,{"$nulls":8},"Clayton Louderback, 23 - Cokeville 12/15/2017","Clayton Louderback, 23","Upton","Cokeville","2017-12-15",{"v":0.5833333333333334,"d":"58%"},12,{"$nulls":16},"Dawson Butts, 14 - Tongue River 2/2/2018","Dawson Butts, 14","Upton","Tongue River","2018-02-02",{"v":0.16666666666666666,"d":"17%"},6,{"$nulls":16},"Dillon Barritt, 20 - Rocky Mountain 3/3/2018","Dillon Barritt, 20","Upton","Rocky Mountain","2018-03-03",{"v":0.3,"d":"30%"},10]
[{"$nulls":49},"Jess Claycomb, 10 - Hulett 12/8/2017","Jess Claycomb, 10","Upton","Hulett","2017-12-08",4,{"$nulls":8},"Dillon Barritt, 20 - Newell 1/11/2018","Dillon Barritt, 20","Upton","Newell","2018-01-11",{"v":0.5714285714285714,"d":"57%"},14,{"$nulls":39},"Payton Watt, 24 - Ten Sleep 12/9/2017","Payton Watt, 24","Upton","Ten Sleep","2017-12-09",{"v":0.2857142857142857,"d":"29%"},7]
[{"$nulls":49},"Clayton Louderback, 23 - Kaycee 12/9/2017","Clayton Louderback, 23","Upton","Kaycee","2017-12-09",4,{"$nulls":8},"Payton Watt, 24 - Moorcroft 2/1/2018","Payton Watt, 24","Upton","Moorcroft","2018-02-01",{"v":0.5714285714285714,"d":"57%"},14,{"$nulls":39},"Dillon Barritt, 20 - Hot Springs 1/13/2018","Dillon Barritt, 20","Upton","Hot Springs","2018-01-13",{"v":0.2857142857142857,"d":"29%"},7]
[{"$nulls":49},"Nolan Turner, 33 - Sundance 1/25/2018","Nolan Turner, 33","Upton","Sundance","2018-01-25",4,{"$nulls":8},"Jess Claycomb, 10 - Wright 1/20/2018","Jess Claycomb, 10","Upton","Wright","2018-01-20",{"v":0.5714285714285714,"d":"57%"},7,{"$nulls":39},"Payton Watt, 24 - Wright 2/8/2018","Payton Watt, 24","Upton","Wright","2018-02-08",{"v":0.2857142857142857,"d":"29%"},7]
[{"$nulls":49},"Payton Watt, 24 - Sundance 2/6/2018","Payton Watt, 24","Upton","Sundance","2018-02-06",4,{"$nulls":8},"Clayton Louderback, 23 - Wright   2/24/2018","Clayton Louderback, 23","Upton","Wright  ","2018-02-24",{"v":0.5714285714285714,"d":"57%"},14,{"$nulls":39},"Payton Watt, 24 - Rocky Mountain 3/3/2018","Payton Watt, 24","Upton","Rocky Mountain","2018-03-03",{"v":0.2727272727272727,"d":"27%"},11]
[{"$nulls":63},"Payton Watt, 24 - Shoshoni 12/16/2017","Payton Watt, 24","Upton","Shoshoni","2017-12-16",{"v":0.5625,"d":"56%"},16,{"$nulls":39},"Payton Watt, 24 - Riverside 12/14/2017","Payton Watt, 24","Upton","Riverside","2017-12-14",{"v":0.25,"d":"25%"},8]
[{"$nulls":63},"Jess Claycomb, 10 - Ten Sleep 12/9/2017","Jess Claycomb, 10","Upton","Ten Sleep","2017-12-09",{"v":0.5454545454545454,"d":"55%"},11,{"$nulls":39},"Brayden Bruce, 22 - Wright 1/20/2018","Brayden Bruce, 22","Upton","Wright","2018-01-20",{"v":0.25,"d":"25%"},8]
[{"$nulls":63},"Dillon Barritt, 20 - Hulett 12/8/2017","Dillon Barritt, 20","Upton","Hulett","2017-12-08",{"v":0.5454545454545454,"d":"55%"},11,{"$nulls":39},"Clayton Louderback, 23 - Sundance 1/25/2018","Clayton Louderback, 23","Upton","Sundance","2018-01-25",{"v":0.2,"d":"20%"},5]
[{"$nulls":63},"Clayton Louderback, 23 - Lusk    2/23/2018","Clayton Louderback, 23","Upton","Lusk   ","2018-02-23",{"v":0.5454545454545454,"d":"55%"},11,{"$nulls":39},"Payton Watt, 24 - Moorcroft 1/18/2018","Payton Watt, 24","Upton","Moorcroft","2018-01-18",{"v":0.2,"d":"20%"},5]
[{"$nulls":63},"Payton Watt, 24 - Tongue River 2/2/2018","Payton Watt, 24","Upton","Tongue River","2018-02-02",{"v":0.5333333333333333,"d":"53%"},15,{"$nulls":39},"Dillon Barritt, 20 - Wyoming Indian 3/1/2018","Dillon Barritt, 20","Upton","Wyoming Indian","2018-03-01",{"v":0.2,"d":"20%"},5]
[{"$nulls":63},"Payton Watt, 24 - Big Horn 2/24/2018","Payton Watt, 24","Upton","Big Horn","2018-02-24",{"v":0.5294117647058824,"d":"53%"},17,{"$nulls":39},"Dillon Barritt, 20 - Wright 2/8/2018","Dillon Barritt, 20","Upton","Wright","2018-02-08",{"v":0.18181818181818182,"d":"18%"},11]
[{"$nulls":63},"Payton Watt, 24 - Tongue River 2/17/2018","Payton Watt, 24","Upton","Tongue River","2018-02-17",{"v":0.5263157894736842,"d":"53%"},19,{"$nulls":39},"Payton Watt, 24 - Southeast HS 2/22/2018","Payton Watt, 24","Upton","Southeast HS","2018-02-22",{"v":0.16666666666666666,"d":"17%"},6]
[{"$nulls":63},"Clayton Louderback, 23 - Big Horn 2/24/2018","Clayton Louderback, 23","Upton","Big Horn","2018-02-24",{"v":0.5238095238095238,"d":"52%"},21,{"$nulls":39},"Payton Watt, 24 - Lead-Deadwood 1/4/2018","Payton Watt, 24","Upton","Lead-Deadwood","2018-01-04",{"v":0.14285714285714285,"d":"14%"},7]
[{"$nulls":63},"Jayden Caylor, 12 - Lead-Deadwood 1/4/2018","Jayden Caylor, 12","Upton","Lead-Deadwood","2018-01-04",{"v":0.5,"d":"50%"},6,{"$nulls":39},"Payton Watt, 24 - Hot Springs 1/13/2018","Payton Watt, 24","Upton","Hot Springs","2018-01-13",{"v":0.14285714285714285,"d":"14%"},7]
[{"$nulls":63},"Dillon Barritt, 20 - Riverside 12/14/2017","Dillon Barritt, 20","Upton","Riverside","2017-12-14",{"v":0.5,"d":"50%"},8,{"$nulls":39},"Dillon Barritt, 20 - Wright   2/24/2018","Dillon Barritt, 20","Upton","Wright  ","2018-02-24",{"v":0.125,"d":"13%"},8]
[{"$nulls":63},"Dillon Barritt, 20 - Tongue River 2/17/2018","Dillon Barritt, 20","Upton","Tongue River","2018-02-17",{"v":0.5,"d":"50%"},14]
[{"$nulls":63},"Jess Claycomb, 10 - Moorcroft 2/1/2018","Jess Claycomb, 10","Upton","Moorcroft","2018-02-01",{"v":0.5,"d":"50%"},6]
[{"$nulls":63},"Dawson Butts, 14 - Kaycee 12/9/2017","Dawson Butts, 14","Upton","Kaycee","2017-12-09",{"v":0.5,"d":"50%"},6]
[{"$nulls":63},"Clayton Louderback, 23 - Lead-Deadwood 1/4/2018","Clayton Louderback, 23","Upton","Lead-Deadwood","2018-01-04",{"v":0.5,"d":"50%"},20]
[{"$nulls":63},"Payton Watt, 24 - Pine Bluffs   3/2/2018","Payton Watt, 24","Upton","Pine Bluffs  ","2018-03-02",{"v":0.5,"d":"50%"},14]
[{"$nulls":63},"Jess Claycomb, 10 - Lusk    2/23/2018","Jess Claycomb, 10","Upton","Lusk   ","2018-02-23",{"v":0.5,"d":"50%"},6]
[{"$nulls":63},"Clayton Louderback, 23 - Sundance 2/6/2018","Clayton Louderback, 23","Upton","Sundance","2018-02-06",{"v":0.47368421052631576,"d":"47%"},19]
[{"$nulls":63},"Payton Watt, 24 - Hulett 12/8/2017","Payton Watt, 24","Upton","Hulett","2017-12-08",{"v":0.47058823529411764,"d":"47%"},17]
[{"$nulls":63},"Payton Watt, 24 - Faith 1/12/2018","Payton Watt, 24","Upton","Faith","2018-01-12",{"v":0.4583333333333333,"d":"46%"},24]
[{"$nulls":63},"Dillon Barritt, 20 - New Underwood 2/10/2018","Dillon Barritt, 20","Upton","New Underwood","2018-02-10",{"v":0.45454545454545453,"d":"45%"},11]
[{"$nulls":63},"Clayton Louderback, 23 - Riverside 12/14/2017","Clayton Louderback, 23","Upton","Riverside","2017-12-14",{"v":0.45454545454545453,"d":"45%"},11]
[{"$nulls":63},"Payton Watt, 24 - Sundance 2/6/2018","Payton Watt, 24","Upton","Sundance","2018-02-06",{"v":0.45454545454545453,"d":"45%"},11]
[{"$nulls":63},"Jess Claycomb, 10 - Big Horn 1/27/2018","Jess Claycomb, 10","Upton","Big Horn","2018-01-27",{"v":0.4444444444444444,"d":"44%"},9]
[{"$nulls":63},"Payton Watt, 24 - Wyoming Indian 3/1/2018","Payton Watt, 24","Upton","Wyoming Indian","2018-03-01",{"v":0.4444444444444444,"d":"44%"},18]
[{"$nulls":63},"Payton Watt, 24 - Kaycee 12/9/2017","Payton Watt, 24","Upton","Kaycee","2017-12-09",{"v":0.4444444444444444,"d":"44%"},18]
[{"$nulls":63},"Jess Claycomb, 10 - Tongue River 2/17/2018","Jess Claycomb, 10","Upton","Tongue River","2018-02-17",{"v":0.4444444444444444,"d":"44%"},9]
[{"$nulls":63},"Dawson Butts, 14 - Riverside 12/14/2017","Dawson Butts, 14","Upton","Riverside","2017-12-14",{"v":0.4444444444444444,"d":"44%"},9]
[{"$nulls":63},"Payton Watt, 24 - Moorcroft 1/18/2018","Payton Watt, 24","Upton","Moorcroft","2018-01-18",{"v":0.4375,"d":"44%"},16]
[{"$nulls":63},"Payton Watt, 24 - Cokeville 12/15/2017","Payton Watt, 24","Upton","Cokeville","2017-12-15",{"v":0.4375,"d":"44%"},16]
[{"$nulls":63},"Payton Watt, 24 - Newell 1/11/2018","Payton Watt, 24","Upton","Newell","2018-01-11",{"v":0.42857142857142855,"d":"43%"},14]
[{"$nulls":63},"Dawson Butts, 14 - Ten Sleep 12/9/2017","Dawson Butts, 14","Upton","Ten Sleep","2017-12-09",{"v":0.42857142857142855,"d":"43%"},7]
[{"$nulls":63},"Payton Watt, 24 - Rocky Mountain 3/3/2018","Payton Watt, 24","Upton","Rocky Mountain","2018-03-03",{"v":0.42857142857142855,"d":"43%"},21]
[{"$nulls":63},"Clayton Louderback, 23 - Ten Sleep 12/9/2017","Clayton Louderback, 23","Upton","Ten Sleep","2017-12-09",{"v":0.42857142857142855,"d":"43%"},7]
[{"$nulls":63},"Dillon Barritt, 20 - Big Horn 2/16/2018","Dillon Barritt, 20","Upton","Big Horn","2018-02-16",{"v":0.42857142857142855,"d":"43%"},7]
[{"$nulls":63},"Jess Claycomb, 10 - Kaycee 12/9/2017","Jess Claycomb, 10","Upton","Kaycee","2017-12-09",{"v":0.42857142857142855,"d":"43%"},7]
[{"$nulls":63},"Payton Watt, 24 - Wright 2/8/2018","Payton Watt, 24","Upton","Wright","2018-02-08",{"v":0.42105263157894735,"d":"42%"},19]
[{"$nulls":63},"Dillon Barritt, 20 - Lusk    2/23/2018","Dillon Barritt, 20","Upton","Lusk   ","2018-02-23",{"v":0.4166666666666667,"d":"42%"},12]
[{"$nulls":63},"Clayton Louderback, 23 - Sundance 1/25/2018","Clayton Louderback, 23","Upton","Sundance","2018-01-25",{"v":0.4166666666666667,"d":"42%"},12]
[{"$nulls":63},"Dillon Barritt, 20 - Wright 1/20/2018","Dillon Barritt, 20","Upton","Wright","2018-01-20",{"v":0.4117647058823529,"d":"41%"},17]
[{"$nulls":63},"Clayton Louderback, 23 - Big Horn 1/27/2018","Clayton Louderback, 23","Upton","Big Horn","2018-01-27",{"v":0.4090909090909091,"d":"41%"},22]
[{"$nulls":63},"Jayden Caylor, 12 - Big Horn 2/16/2018","Jayden Caylor, 12","Upton","Big Horn","2018-02-16",{"v":0.4,"d":"40%"},5]
[{"$nulls":63},"Dillon Barritt, 20 - Moorcroft 1/18/2018","Dillon Barritt, 20","Upton","Moorcroft","2018-01-18",{"v":0.4,"d":"40%"},10]
[{"$nulls":63},"Dillon Barritt, 20 - Shoshoni 12/16/2017","Dillon Barritt, 20","Upton","Shoshoni","2017-12-16",{"v":0.4,"d":"40%"},5]
[{"$nulls":63},"Payton Watt, 24 - Riverside 12/14/2017","Payton Watt, 24","Upton","Riverside","2017-12-14",{"v":0.375,"d":"38%"},16]
[{"$nulls":63},"Dillon Barritt, 20 - Sundance 1/25/2018","Dillon Barritt, 20","Upton","Sundance","2018-01-25",{"v":0.375,"d":"38%"},8]
[{"$nulls":63},"Clayton Louderback, 23 - Big Horn 2/16/2018","Clayton Louderback, 23","Upton","Big Horn","2018-02-16",{"v":0.36363636363636365,"d":"36%"},11]
[{"$nulls":63},"Clayton Louderback, 23 - Hulett 12/8/2017","Clayton Louderback, 23","Upton","Hulett","2017-12-08",{"v":0.36363636363636365,"d":"36%"},11]
[{"$nulls":63},"Dillon Barritt, 20 - Big Horn 1/27/2018","Dillon Barritt, 20","Upton","Big Horn","2018-01-27",{"v":0.36363636363636365,"d":"36%"},11]
[{"$nulls":63},"Payton Watt, 24 - Ten Sleep 12/9/2017","Payton Watt, 24","Upton","Ten Sleep","2017-12-09",{"v":0.35714285714285715,"d":"36%"},14]
[{"$nulls":63},"Dillon Barritt, 20 - Sundance 2/6/2018","Dillon Barritt, 20","Upton","Sundance","2018-02-06",{"v":0.35714285714285715,"d":"36%"},14]
[{"$nulls":63},"Dillon Barritt, 20 - Hot Springs 1/13/2018","Dillon Barritt, 20","Upton","Hot Springs","2018-01-13",{"v":0.35714285714285715,"d":"36%"},14]
[{"$nulls":63},"Clayton Louderback, 23 - Rocky Mountain 3/3/2018","Clayton Louderback, 23","Upton","Rocky Mountain","2018-03-03",{"v":0.35294117647058826,"d":"35%"},17]
[{"$nulls":63},"Payton Watt, 24 - Hot Springs 1/13/2018","Payton Watt, 24","Upton","Hot Springs","2018-01-13",{"v":0.3333333333333333,"d":"33%"},18]
[{"$nulls":63},"Dillon Barritt, 20 - Big Horn 2/24/2018","Dillon Barritt, 20","Upton","Big Horn","2018-02-24",{"v":0.3333333333333333,"d":"33%"},6]
[{"$nulls":63},"Dawson Butts, 14 - Hulett 12/8/2017","Dawson Butts, 14","Upton","Hulett","2017-12-08",{"v":0.3333333333333333,"d":"33%"},6]
[{"$nulls":63},"Dillon Barritt, 20 - Tongue River 2/2/2018","Dillon Barritt, 20","Upton","Tongue River","2018-02-02",{"v":0.3333333333333333,"d":"33%"},12]
[{"$nulls":63},"Brayden Bruce, 22 - Newell 1/11/2018","Brayden Bruce, 22","Upton","Newell","2018-01-11",{"v":0.3333333333333333,"d":"33%"},6]
[{"$nulls":63},"Payton Watt, 24 - Southeast HS 2/22/2018","Payton Watt, 24","Upton","Southeast HS","2018-02-22",{"v":0.3333333333333333,"d":"33%"},15]
[{"$nulls":63},"Clayton Louderback, 23 - Shoshoni 12/16/2017","Clayton Louderback, 23","Upton","Shoshoni","2017-12-16",{"v":0.3333333333333333,"d":"33%"},12]
[{"$nulls":63},"Dillon Barritt, 20 - Kaycee 12/9/2017","Dillon Barritt, 20","Upton","Kaycee","2017-12-09",{"v":0.3,"d":"30%"},10]
[{"$nulls":63},"Dillon Barritt, 20 - Rocky Mountain 3/3/2018","Dillon Barritt, 20","Upton","Rocky Mountain","2018-03-03",{"v":0.3,"d":"30%"},10]
[{"$nulls":63},"Dillon Barritt, 20 - Pine Bluffs   3/2/2018","Dillon Barritt, 20","Upton","Pine Bluffs  ","2018-03-02",{"v":0.3,"d":"30%"},10]
[{"$nulls":63},"Clayton Louderback, 23 - Pine Bluffs   3/2/2018","Clayton Louderback, 23","Upton","Pine Bluffs  ","2018-03-02",{"v":0.29411764705882354,"d":"29%"},17]
[{"$nulls":63},"Jess Claycomb, 10 - Moorcroft 1/18/2018","Jess Claycomb, 10","Upton","Moorcroft","2018-01-18",{"v":0.2857142857142857,"d":"29%"},7]
[{"$nulls":63},"Jess Claycomb, 10 - Wright   2/24/2018","Jess Claycomb, 10","Upton","Wright  ","2018-02-24",{"v":0.2727272727272727,"d":"27%"},11]
[{"$nulls":63},"Clayton Louderback, 23 - Southeast HS 2/22/2018","Clayton Louderback, 23","Upton","Southeast HS","2018-02-22",{"v":0.2727272727272727,"d":"27%"},11]
[{"$nulls":63},"Dillon Barritt, 20 - Southeast HS 2/22/2018","Dillon Barritt, 20","Upton","Southeast HS","2018-02-22",{"v":0.25,"d":"25%"},12]
[{"$nulls":63},"Dawson Butts, 14 - Tongue River 2/17/2018","Dawson Butts, 14","Upton","Tongue River","2018-02-17",{"v":0.25,"d":"25%"},8]
[{"$nulls":63},"Dillon Barritt, 20 - Cokeville 12/15/2017","Dillon Barritt, 20","Upton","Cokeville","2017-12-15",{"v":0.2222222222222222,"d":"22%"},9]
[{"$nulls":63},"Jess Claycomb, 10 - Southeast HS 2/22/2018","Jess Claycomb, 10","Upton","Southeast HS","2018-02-22",{"v":0.2,"d":"20%"},5]
[{"$nulls":63},"Payton Watt, 24 - Lead-Deadwood 1/4/2018","Payton Watt, 24","Upton","Lead-Deadwood","2018-01-04",{"v":0.2,"d":"20%"},10]
[{"$nulls":63},"Dillon Barritt, 20 - Wright   2/24/2018","Dillon Barritt, 20","Upton","Wright  ","2018-02-24",{"v":0.2,"d":"20%"},10]
[{"$nulls":63},"Dillon Barritt, 20 - Moorcroft 2/1/2018","Dillon Barritt, 20","Upton","Moorcroft","2018-02-01",{"v":0.2,"d":"20%"},10]
[{"$nulls":63},"Brayden Bruce, 22 - Wright 1/20/2018","Brayden Bruce, 22","Upton","Wright","2018-01-20",{"v":0.2,"d":"20%"},10]
[{"$nulls":63},"Jess Claycomb, 10 - Wright 2/8/2018","Jess Claycomb, 10","Upton","Wright","2018-02-08",{"v":0.16666666666666666,"d":"17%"},6]
[{"$nulls":63},"Brayden Bruce, 22 - Wright   2/24/2018","Brayden Bruce, 22","Upton","Wright  ","2018-02-24",{"v":0.16666666666666666,"d":"17%"},6]
[{"$nulls":63},"Dawson Butts, 14 - Wright   2/24/2018","Dawson Butts, 14","Upton","Wright  ","2018-02-24",{"v":0.16666666666666666,"d":"17%"},6]
[{"$nulls":63},"Dillon Barritt, 20 - Wright 2/8/2018","Dillon Barritt, 20","Upton","Wright","2018-02-08",{"v":0.15384615384615385,"d":"15%"},13]
[{"$nulls":63},"Dawson Butts, 14 - Newell 1/11/2018","Dawson Butts, 14","Upton","Newell","2018-01-11",{"v":0.14285714285714285,"d":"14%"},7]
[{"$nulls":63},"Payton Watt, 24 - Wright 1/20/2018","Payton Watt, 24","Upton","Wright","2018-01-20",{"v":0.14285714285714285,"d":"14%"},14]
[{"$nulls":63},"Dawson Butts, 14 - Wright 1/20/2018","Dawson Butts, 14","Upton","Wright","2018-01-20",{"v":0.14285714285714285,"d":"14%"},7]
[{"$nulls":63},"Clayton Louderback, 23 - Wright 2/8/2018","Clayton Louderback, 23","Upton","Wright","2018-02-08",{"v":0.14285714285714285,"d":"14%"},14]
[{"$nulls":63},"Dillon Barritt, 20 - Wyoming Indian 3/1/2018","Dillon Barritt, 20","Upton","Wyoming Indian","2018-03-01",{"v":0.125,"d":"13%"},8]
{"$rows_empty":881}
["Player #, Opponent,Game#","PLAYER, #","School","Opponent","Date","Max of TL PTS",null,"Player #, Opponent,Game#","PLAYER, #","School","Opponent","Date","Sum of TotalREB",null,"Player #, Opponent,Game#","PLAYER, #","School","Opponent","Date","Sum of OFF REB",null,"Player #, Opponent,Game#","PLAYER, #","School","Opponent","Date","Sum of AST",null,"Player #, Opponent,Game#","PLAYER, #","School","Opponent","Date","Sum of STL",null,"Player #, Opponent,Game#","PLAYER, #","School","Opponent","Date","Sum of BLK",null,"Player #, Opponent,Game#","PLAYER, #","School","Opponent","Date","Sum of TO",null,"Player #, Opponent,Game#","PLAYER, #","School","Opponent","Date","Sum of FOUL",null,"Player #, Opponent,Game#","PLAYER, #","School","Opponent","Date","Sum of TotalFGM",null,"Player #, Opponent,Game#","PLAYER, #","School","Opponent","Date","Max of FG%*","Sum of TotalFGA",null,"Player #, Opponent,Game#","PLAYER, #","School","Opponent","Date","Sum of TotalFGA","Max of FG%*",null,"Player #, Opponent,Game#","PLAYER, #","School","Opponent","Date","Sum of FTM",null,"Player #, Opponent,Game#","PLAYER, #","School","Opponent","Date","Max of FT %*","Sum of FTA",null,"Player #, Opponent,Game#","PLAYER, #","School","Opponent","Date","Sum of FTA","Sum of FT %*",null,"Player #, Opponent,Game#","PLAYER, #","School","Opponent","Date","Sum of 3FGM",null,"Player #, Opponent,Game#","PLAYER, #","School","Opponent","Date","Sum of 3 FG%*","Sum of 3FGA",null,"Player #, Opponent,Game#","PLAYER, #","School","Opponent","Date","Sum of 3FGA","Sum of 3 FG%*",null,"Player #, Opponent,Game#","PLAYER, #","School","Opponent","Date","Sum of 2FGM",null,"Player #, Opponent,Game#","PLAYER, #","School","Opponent","Date","Sum of 2 FG%*","Sum of 2FGA",null,"Player #, Opponent,Game#","PLAYER, #","School","Opponent","Date","Sum of 2FGA","Sum of 2 FG%*"]
["Payton Watt, 24 - Sundance 1/25/2018","Payton Watt, 24","Upton","Sundance","2018-01-25",29,null,"Payton Watt, 24 - Tongue River 2/17/2018","Payton Watt, 24","Upton","Tongue River","2018-02-17",17,null,"Clayton Louderback, 23 - Wright 2/8/2018","Clayton Louderback, 23","Upton","Wright","2018-02-08",7,null,"Dillon Barritt, 20 - Moorcroft 2/1/2018","Dillon Barritt, 20","Upton","Moorcroft","2018-02-01",7,null,"Dillon Barritt, 20 - Sundance 1/25/2018","Dillon Barritt, 20","Upton","Sundance","2018-01-25",6,null,"Payton Watt, 24 - Moorcroft 2/1/2018","Payton Watt, 24","Upton","Moorcroft","2018-02-01",3,null,"Clayton Louderback, 23 - Wright 2/8/2018","Clayton Louderback, 23","Upton","Wright","2018-02-08",8,null,"Clayton Louderback, 23 - Wright 2/8/2018","Clayton Louderback, 23","Upton","Wright","2018-02-08",5,null,"Clayton Louderback, 23 - Moorcroft 2/1/2018","Clayton Louderback, 23","Upton","Moorcroft","2018-02-01",12,null,"Jess Claycomb, 10 - Tongue River 2/2/2018","Jess Claycomb, 10","Upton","Tongue River","2018-02-02",{"v":0.8,"d":"80%"},10,null,"Clayton Louderback, 23 - Big Horn 1/27/2018","Clayton Louderback, 23","Upton","Big Horn","2018-01-27",22,{"v":0.4090909090909091,"d":"41%"},null,"Clayton Louderback, 23 - Big Horn 2/16/2018","Clayton Louderback, 23","Upton","Big Horn","2018-02-16",8,null,"Clayton Louderback, 23 - Sundance 1/25/2018","Clayton Louderback, 23","Upton","Sundance","2018-01-25",{"v":1,"d":"100%"},6,null,"Payton Watt, 24 - Wright 1/20/2018","Payton Watt, 24","Upton","Wright","2018-01-20",11,{"v":0.7272727272727273,"d":"73%"},null,"Payton Watt, 24 - Sundance 1/25/2018","Payton Watt, 24","Upton","Sundance","2018-01-25",7,null,"Payton Watt, 24 - Big Horn 1/27/2018","Payton Watt, 24","Upton","Big Horn","2018-01-27",{"v":0.75,"d":"75%"},8,null,"Dillon Barritt, 20 - Sundance 2/6/2018","Dillon Barritt, 20","Upton","Sundance","2018-02-06",12,{"v":0.4166666666666667,"d":"42%"},null,"Clayton Louderback, 23 - Moorcroft 2/1/2018","Clayton Louderback, 23","Upton","Moorcroft","2018-02-01",11,null,"Jess Claycomb, 10 - Tongue River 2/2/2018","Jess Claycomb, 10","Upton","Tongue River","2018-02-02",{"v":0.875,"d":"88%"},8,null,"Clayton Louderback, 23 - Big Horn 1/27/2018","Clayton Louderback, 23","Upton","Big Horn","2018-01-27",18,{"v":0.3888888888888889,"d":"39%"}]
["Clayton Louderback, 23 - Moorcroft 2/1/2018","Clayton Louderback, 23","Upton","Moorcroft","2018-02-01",27,null,"Clayton Louderback, 23 - Big Horn 1/27/2018","Clayton Louderback, 23","Upton","Big Horn","2018-01-27",13,null,"Payton Watt, 24 - Sundance 2/6/2018","Payton Watt, 24","Upton","Sundance","2018-02-06",6,null,"Dawson Butts, 14 - Big Horn 1/27/2018","Dawson Butts, 14","Upton","Big Horn","2018-01-27",7,null,"Clayton Louderback, 23 - Tongue River 2/2/2018","Clayton Louderback, 23","Upton","Tongue River","2018-02-02",5,null,"Payton Watt, 24 - Big Horn 1/27/2018","Payton Watt, 24","Upton","Big Horn","2018-01-27",2,null,"Clayton Louderback, 23 - Big Horn 2/16/2018","Clayton Louderback, 23","Upton","Big Horn","2018-02-16",7,null,"Jayden Caylor, 12 - Tongue River 2/17/2018","Jayden Caylor, 12","Upton","Tongue River","2018-02-17",4,null,"Clayton Louderback, 23 - Tongue River 2/2/2018","Clayton Louderback, 23","Upton","Tongue River","2018-02-02",11,null,"Jayden Caylor, 12 - Moorcroft 1/18/2018","Jayden Caylor, 12","Upton","Moorcroft","2018-01-18",{"v":0.7272727272727273,"d":"73%"},11,null,"Payton Watt, 24 - Tongue River 2/17/2018","Payton Watt, 24","Upton","Tongue River","2018-02-17",19,{"v":0.5263157894736842,"d":"53%"},null,"Payton Watt, 24 - Wright 1/20/2018","Payton Watt, 24","Upton","Wright","2018-01-20",8,null,"Payton Watt, 24 - Wright 2/8/2018","Payton Watt, 24","Upton","Wright","2018-02-08",{"v":0.8333333333333334,"d":"83%"},6,null,"Clayton Louderback, 23 - Big Horn 2/16/2018","Clayton Louderback, 23","Upton","Big Horn","2018-02-16",10,{"v":0.8,"d":"80%"},null,"Payton Watt, 24 - Big Horn 1/27/2018","Payton Watt, 24","Upton","Big Horn","2018-01-27",6,null,"Payton Watt, 24 - Sundance 1/25/2018","Payton Watt, 24","Upton","Sundance","2018-01-25",{"v":0.7,"d":"70%"},10,null,"Payton Watt, 24 - Tongue River 2/2/2018","Payton Watt, 24","Upton","Tongue River","2018-02-02",11,{"v":0.36363636363636365,"d":"36%"},null,"Clayton Louderback, 23 - Tongue River 2/2/2018","Clayton Louderback, 23","Upton","Tongue River","2018-02-02",11,null,"Payton Watt, 24 - Moorcroft 2/1/2018","Payton Watt, 24","Upton","Moorcroft","2018-02-01",{"v":0.8,"d":"80%"},10,null,"Clayton Louderback, 23 - Sundance 2/6/2018","Clayton Louderback, 23","Upton","Sundance","2018-02-06",16,{"v":0.5,"d":"50%"}]
["Clayton Louderback, 23 - Tongue River 2/2/2018","Clayton Louderback, 23","Upton","Tongue River","2018-02-02",25,null,"Payton Watt, 24 - Wright 2/8/2018","Payton Watt, 24","Upton","Wright","2018-02-08",11,null,"Payton Watt, 24 - Tongue River 2/17/2018","Payton Watt, 24","Upton","Tongue River","2018-02-17",6,null,"Dawson Butts, 14 - Tongue River 2/17/2018","Dawson Butts, 14","Upton","Tongue River","2018-02-17",7,null,"Clayton Louderback, 23 - Sundance 1/25/2018","Clayton Louderback, 23","Upton","Sundance","2018-01-25",5,null,"Clayton Louderback, 23 - Tongue River 2/2/2018","Clayton Louderback, 23","Upton","Tongue River","2018-02-02",1,null,"Clayton Louderback, 23 - Tongue River 2/2/2018","Clayton Louderback, 23","Upton","Tongue River","2018-02-02",6,null,"Jess Claycomb, 10 - Wright 2/8/2018","Jess Claycomb, 10","Upton","Wright","2018-02-08",4,null,"Payton Watt, 24 - Sundance 1/25/2018","Payton Watt, 24","Upton","Sundance","2018-01-25",10,null,"Clayton Louderback, 23 - Tongue River 2/2/2018","Clayton Louderback, 23","Upton","Tongue River","2018-02-02",{"v":0.6875,"d":"69%"},16,null,"Payton Watt, 24 - Wright 2/8/2018","Payton Watt, 24","Upton","Wright","2018-02-08",19,{"v":0.42105263157894735,"d":"42%"},null,"Clayton Louderback, 23 - Sundance 1/25/2018","Clayton Louderback, 23","Upton","Sundance","2018-01-25",6,null,"Clayton Louderback, 23 - Big Horn 2/16/2018","Clayton Louderback, 23","Upton","Big Horn","2018-02-16",{"v":0.8,"d":"80%"},10,null,"Dawson Butts, 14 - Wright 2/8/2018","Dawson Butts, 14","Upton","Wright","2018-02-08",9,{"v":0.4444444444444444,"d":"44%"},null,"Dillon Barritt, 20 - Sundance 2/6/2018","Dillon Barritt, 20","Upton","Sundance","2018-02-06",5,null,"Dillon Barritt, 20 - Tongue River 2/17/2018","Dillon Barritt, 20","Upton","Tongue River","2018-02-17",{"v":0.5555555555555556,"d":"56%"},9,null,"Dillon Barritt, 20 - Wright 2/8/2018","Dillon Barritt, 20","Upton","Wright","2018-02-08",11,{"v":0.18181818181818182,"d":"18%"},null,"Payton Watt, 24 - Tongue River 2/17/2018","Payton Watt, 24","Upton","Tongue River","2018-02-17",10,null,"Payton Watt, 24 - Big Horn 2/16/2018","Payton Watt, 24","Upton","Big Horn","2018-02-16",{"v":0.75,"d":"75%"},8,null,"Clayton Louderback, 23 - Tongue River 2/2/2018","Clayton Louderback, 23","Upton","Tongue River","2018-02-02",16,{"v":0.6875,"d":"69%"}]
["Payton Watt, 24 - Tongue River 2/17/2018","Payton Watt, 24","Upton","Tongue River","2018-02-17",24,null,"Payton Watt, 24 - Sundance 2/6/2018","Payton Watt, 24","Upton","Sundance","2018-02-06",11,null,"Clayton Louderback, 23 - Sundance 2/6/2018","Clayton Louderback, 23","Upton","Sundance","2018-02-06",5,null,"Jess Claycomb, 10 - Moorcroft 1/18/2018","Jess Claycomb, 10","Upton","Moorcroft","2018-01-18",7,null,"Clayton Louderback, 23 - Sundance 2/6/2018","Clayton Louderback, 23","Upton","Sundance","2018-02-06",4,null,"Nolan Turner, 33 - Wright 1/20/2018","Nolan Turner, 33","Upton","Wright","2018-01-20",1,null,"Payton Watt, 24 - Wright 1/20/2018","Payton Watt, 24","Upton","Wright","2018-01-20",5,null,"Jess Claycomb, 10 - Wright 1/20/2018","Jess Claycomb, 10","Upton","Wright","2018-01-20",4,null,"Payton Watt, 24 - Tongue River 2/17/2018","Payton Watt, 24","Upton","Tongue River","2018-02-17",10,null,"Clayton Louderback, 23 - Moorcroft 2/1/2018","Clayton Louderback, 23","Upton","Moorcroft","2018-02-01",{"v":0.6666666666666666,"d":"67%"},18,null,"Clayton Louderback, 23 - Sundance 2/6/2018","Clayton Louderback, 23","Upton","Sundance","2018-02-06",19,{"v":0.47368421052631576,"d":"47%"},null,"Payton Watt, 24 - Wright 2/8/2018","Payton Watt, 24","Upton","Wright","2018-02-08",5,null,"Payton Watt, 24 - Wright 1/20/2018","Payton Watt, 24","Upton","Wright","2018-01-20",{"v":0.7272727272727273,"d":"73%"},11,null,"Clayton Louderback, 23 - Big Horn 1/27/2018","Clayton Louderback, 23","Upton","Big Horn","2018-01-27",8,{"v":0.375,"d":"38%"},null,"Dillon Barritt, 20 - Tongue River 2/17/2018","Dillon Barritt, 20","Upton","Tongue River","2018-02-17",5,null,"Dillon Barritt, 20 - Moorcroft 1/18/2018","Dillon Barritt, 20","Upton","Moorcroft","2018-01-18",{"v":0.42857142857142855,"d":"43%"},7,null,"Dillon Barritt, 20 - Wright 1/20/2018","Dillon Barritt, 20","Upton","Wright","2018-01-20",11,{"v":0.36363636363636365,"d":"36%"},null,"Clayton Louderback, 23 - Sundance 2/6/2018","Clayton Louderback, 23","Upton","Sundance","2018-02-06",8,null,"Clayton Louderback, 23 - Moorcroft 2/1/2018","Clayton Louderback, 23","Upton","Moorcroft","2018-02-01",{"v":0.7333333333333333,"d":"73%"},15,null,"Payton Watt, 24 - Tongue River 2/17/2018","Payton Watt, 24","Upton","Tongue River","2018-02-17",15,{"v":0.6666666666666666,"d":"67%"}]
["Payton Watt, 24 - Wright 2/8/2018","Payton Watt, 24","Upton","Wright","2018-02-08",23,null,"Clayton Louderback, 23 - Wright 2/8/2018","Clayton Louderback, 23","Upton","Wright","2018-02-08",10,null,"Team,  - Wright 1/20/2018","Team, ","Upton","Wright","2018-01-20",5,null,"Dawson Butts, 14 - Tongue River 2/2/2018","Dawson Butts, 14","Upton","Tongue River","2018-02-02",7,null,"Dawson Butts, 14 - Tongue River 2/2/2018","Dawson Butts, 14","Upton","Tongue River","2018-02-02",4,null,"Dawson Butts, 14 - Big Horn 1/27/2018","Dawson Butts, 14","Upton","Big Horn","2018-01-27",1,null,"Clayton Louderback, 23 - Big Horn 1/27/2018","Clayton Louderback, 23","Upton","Big Horn","2018-01-27",4,null,"Jayden Caylor, 12 - Wright 2/8/2018","Jayden Caylor, 12","Upton","Wright","2018-02-08",4,null,"Clayton Louderback, 23 - Sundance 2/6/2018","Clayton Louderback, 23","Upton","Sundance","2018-02-06",9,null,"Jess Claycomb, 10 - Sundance 2/6/2018","Jess Claycomb, 10","Upton","Sundance","2018-02-06",{"v":0.6363636363636364,"d":"64%"},11,null,"Clayton Louderback, 23 - Moorcroft 2/1/2018","Clayton Louderback, 23","Upton","Moorcroft","2018-02-01",18,{"v":0.6666666666666666,"d":"67%"},null,"Clayton Louderback, 23 - Wright 2/8/2018","Clayton Louderback, 23","Upton","Wright","2018-02-08",4,null,"Payton Watt, 24 - Tongue River 2/17/2018","Payton Watt, 24","Upton","Tongue River","2018-02-17",{"v":0.6666666666666666,"d":"67%"},6,null,"Clayton Louderback, 23 - Tongue River 2/17/2018","Clayton Louderback, 23","Upton","Tongue River","2018-02-17",7,{"v":0.42857142857142855,"d":"43%"},null,"Payton Watt, 24 - Tongue River 2/2/2018","Payton Watt, 24","Upton","Tongue River","2018-02-02",4,null,"Dillon Barritt, 20 - Sundance 2/6/2018","Dillon Barritt, 20","Upton","Sundance","2018-02-06",{"v":0.4166666666666667,"d":"42%"},12,null,"Payton Watt, 24 - Sundance 1/25/2018","Payton Watt, 24","Upton","Sundance","2018-01-25",10,{"v":0.7,"d":"70%"},null,"Payton Watt, 24 - Moorcroft 2/1/2018","Payton Watt, 24","Upton","Moorcroft","2018-02-01",8,null,"Payton Watt, 24 - Sundance 2/6/2018","Payton Watt, 24","Upton","Sundance","2018-02-06",{"v":0.7142857142857143,"d":"71%"},7,null,"Clayton Louderback, 23 - Moorcroft 2/1/2018","Clayton Louderback, 23","Upton","Moorcroft","2018-02-01",15,{"v":0.7333333333333333,"d":"73%"}]
["Clayton Louderback, 23 - Big Horn 1/27/2018","Clayton Louderback, 23","Upton","Big Horn","2018-01-27",23,null,"Payton Watt, 24 - Wright 1/20/2018","Payton Watt, 24","Upton","Wright","2018-01-20",10,null,"Dawson Butts, 14 - Wright 2/8/2018","Dawson Butts, 14","Upton","Wright","2018-02-08",4,null,"Clayton Louderback, 23 - Tongue River 2/17/2018","Clayton Louderback, 23","Upton","Tongue River","2018-02-17",6,null,"Dawson Butts, 14 - Moorcroft 2/1/2018","Dawson Butts, 14","Upton","Moorcroft","2018-02-01",4,null,"Payton Watt, 24 - Wright 2/8/2018","Payton Watt, 24","Upton","Wright","2018-02-08",1,null,"Jess Claycomb, 10 - Wright 1/20/2018","Jess Claycomb, 10","Upton","Wright","2018-01-20",4,null,"Brayden Bruce, 22 - Wright 1/20/2018","Brayden Bruce, 22","Upton","Wright","2018-01-20",4,null,"Clayton Louderback, 23 - Big Horn 1/27/2018","Clayton Louderback, 23","Upton","Big Horn","2018-01-27",9,null,"Clayton Louderback, 23 - Tongue River 2/17/2018","Clayton Louderback, 23","Upton","Tongue River","2018-02-17",{"v":0.6363636363636364,"d":"64%"},11,null,"Dillon Barritt, 20 - Wright 1/20/2018","Dillon Barritt, 20","Upton","Wright","2018-01-20",17,{"v":0.4117647058823529,"d":"41%"},null,"Payton Watt, 24 - Tongue River 2/17/2018","Payton Watt, 24","Upton","Tongue River","2018-02-17",4,null,"Clayton Louderback, 23 - Tongue River 2/2/2018","Clayton Louderback, 23","Upton","Tongue River","2018-02-02",{"v":0.6,"d":"60%"},5,null,"Payton Watt, 24 - Tongue River 2/17/2018","Payton Watt, 24","Upton","Tongue River","2018-02-17",6,{"v":0.6666666666666666,"d":"67%"},null,"Dillon Barritt, 20 - Wright 1/20/2018","Dillon Barritt, 20","Upton","Wright","2018-01-20",4,null,"Dillon Barritt, 20 - Big Horn 2/16/2018","Dillon Barritt, 20","Upton","Big Horn","2018-02-16",{"v":0.4,"d":"40%"},5,null,"Dillon Barritt, 20 - Tongue River 2/17/2018","Dillon Barritt, 20","Upton","Tongue River","2018-02-17",9,{"v":0.5555555555555556,"d":"56%"},null,"Jayden Caylor, 12 - Moorcroft 1/18/2018","Jayden Caylor, 12","Upton","Moorcroft","2018-01-18",7,null,"Clayton Louderback, 23 - Tongue River 2/17/2018","Clayton Louderback, 23","Upton","Tongue River","2018-02-17",{"v":0.7,"d":"70%"},10,null,"Clayton Louderback, 23 - Wright 2/8/2018","Clayton Louderback, 23","Upton","Wright","2018-02-08",13,{"v":0.15384615384615385,"d":"15%"}]
["Clayton Louderback, 23 - Sundance 2/6/2018","Clayton Louderback, 23","Upton","Sundance","2018-02-06",21,null,"Jayden Caylor, 12 - Moorcroft 1/18/2018","Jayden Caylor, 12","Upton","Moorcroft","2018-01-18",10,null,"Clayton Louderback, 23 - Big Horn 1/27/2018","Clayton Louderback, 23","Upton","Big Horn","2018-01-27",4,null,"Clayton Louderback, 23 - Sundance 2/6/2018","Clayton Louderback, 23","Upton","Sundance","2018-02-06",5,null,"Dillon Barritt, 20 - Wright 2/8/2018","Dillon Barritt, 20","Upton","Wright","2018-02-08",4,null,"Dawson Butts, 14 - Wright 2/8/2018","Dawson Butts, 14","Upton","Wright","2018-02-08",1,null,"Brayden Bruce, 22 - Moorcroft 2/1/2018","Brayden Bruce, 22","Upton","Moorcroft","2018-02-01",4,null,"Dillon Barritt, 20 - Tongue River 2/17/2018","Dillon Barritt, 20","Upton","Tongue River","2018-02-17",4,null,"Jess Claycomb, 10 - Tongue River 2/2/2018","Jess Claycomb, 10","Upton","Tongue River","2018-02-02",8,null,"Payton Watt, 24 - Big Horn 1/27/2018","Payton Watt, 24","Upton","Big Horn","2018-01-27",{"v":0.6363636363636364,"d":"64%"},11,null,"Payton Watt, 24 - Moorcroft 1/18/2018","Payton Watt, 24","Upton","Moorcroft","2018-01-18",16,{"v":0.4375,"d":"44%"},null,"Jess Claycomb, 10 - Wright 1/20/2018","Jess Claycomb, 10","Upton","Wright","2018-01-20",4,null,"Jess Claycomb, 10 - Wright 2/8/2018","Jess Claycomb, 10","Upton","Wright","2018-02-08",{"v":0.5,"d":"50%"},6,null,"Clayton Louderback, 23 - Sundance 1/25/2018","Clayton Louderback, 23","Upton","Sundance","2018-01-25",6,{"v":1,"d":"100%"},null,"Brayden Bruce, 22 - Tongue River 2/2/2018","Brayden Bruce, 22","Upton","Tongue River","2018-02-02",3,null,"Dillon Barritt, 20 - Big Horn 1/27/2018","Dillon Barritt, 20","Upton","Big Horn","2018-01-27",{"v":0.375,"d":"38%"},8,null,"Payton Watt, 24 - Big Horn 1/27/2018","Payton Watt, 24","Upton","Big Horn","2018-01-27",8,{"v":0.75,"d":"75%"},null,"Jess Claycomb, 10 - Sundance 2/6/2018","Jess Claycomb, 10","Upton","Sundance","2018-02-06",7,null,"Jess Claycomb, 10 - Sundance 2/6/2018","Jess Claycomb, 10","Upton","Sundance","2018-02-06",{"v":0.7,"d":"70%"},10,null,"Payton Watt, 24 - Wright 2/8/2018","Payton Watt, 24","Upton","Wright","2018-02-08",12,{"v":0.5,"d":"50%"}]
["Payton Watt, 24 - Big Horn 1/27/2018","Payton Watt, 24","Upton","Big Horn","2018-01-27",21,null,"Payton Watt, 24 - Moorcroft 2/1/2018","Payton Watt, 24","Upton","Moorcroft","2018-02-01",9,null,"Payton Watt, 24 - Moorcroft 2/1/2018","Payton Watt, 24","Upton","Moorcroft","2018-02-01",4,null,"Brayden Bruce, 22 - Tongue River 2/2/2018","Brayden Bruce, 22","Upton","Tongue River","2018-02-02",5,null,"Dawson Butts, 14 - Wright 2/8/2018","Dawson Butts, 14","Upton","Wright","2018-02-08",3,null,"Jayden Caylor, 12 - Wright 2/8/2018","Jayden Caylor, 12","Upton","Wright","2018-02-08",1,null,"Dawson Butts, 14 - Wright 2/8/2018","Dawson Butts, 14","Upton","Wright","2018-02-08",4,null,"Nolan Turner, 33 - Sundance 1/25/2018","Nolan Turner, 33","Upton","Sundance","2018-01-25",4,null,"Payton Watt, 24 - Wright 2/8/2018","Payton Watt, 24","Upton","Wright","2018-02-08",8,null,"Payton Watt, 24 - Sundance 1/25/2018","Payton Watt, 24","Upton","Sundance","2018-01-25",{"v":0.625,"d":"63%"},16,null,"Clayton Louderback, 23 - Tongue River 2/2/2018","Clayton Louderback, 23","Upton","Tongue River","2018-02-02",16,{"v":0.6875,"d":"69%"},null,"Dillon Barritt, 20 - Wright 2/8/2018","Dillon Barritt, 20","Upton","Wright","2018-02-08",4,null,"Dawson Butts, 14 - Wright 2/8/2018","Dawson Butts, 14","Upton","Wright","2018-02-08",{"v":0.4444444444444444,"d":"44%"},9,null,"Dawson Butts, 14 - Tongue River 2/2/2018","Dawson Butts, 14","Upton","Tongue River","2018-02-02",6,{"v":0.16666666666666666,"d":"17%"},null,"Dillon Barritt, 20 - Moorcroft 1/18/2018","Dillon Barritt, 20","Upton","Moorcroft","2018-01-18",3,null,"Payton Watt, 24 - Tongue River 2/2/2018","Payton Watt, 24","Upton","Tongue River","2018-02-02",{"v":0.36363636363636365,"d":"36%"},11,null,"Brayden Bruce, 22 - Wright 1/20/2018","Brayden Bruce, 22","Upton","Wright","2018-01-20",8,{"v":0.25,"d":"25%"},null,"Clayton Louderback, 23 - Tongue River 2/17/2018","Clayton Louderback, 23","Upton","Tongue River","2018-02-17",7,null,"Jayden Caylor, 12 - Moorcroft 1/18/2018","Jayden Caylor, 12","Upton","Moorcroft","2018-01-18",{"v":0.7,"d":"70%"},10,null,"Payton Watt, 24 - Moorcroft 1/18/2018","Payton Watt, 24","Upton","Moorcroft","2018-01-18",11,{"v":0.5454545454545454,"d":"55%"}]
["Payton Watt, 24 - Tongue River 2/2/2018","Payton Watt, 24","Upton","Tongue River","2018-02-02",21,null,"Clayton Louderback, 23 - Sundance 2/6/2018","Clayton Louderback, 23","Upton","Sundance","2018-02-06",9,null,"Team,  - Big Horn 1/27/2018","Team, ","Upton","Big Horn","2018-01-27",4,null,"Dawson Butts, 14 - Moorcroft 1/18/2018","Dawson Butts, 14","Upton","Moorcroft","2018-01-18",5,null,"Jayden Caylor, 12 - Moorcroft 1/18/2018","Jayden Caylor, 12","Upton","Moorcroft","2018-01-18",3,null,"Clayton Louderback, 23 - Big Horn 2/16/2018","Clayton Louderback, 23","Upton","Big Horn","2018-02-16",1,null,"Clayton Louderback, 23 - Sundance 1/25/2018","Clayton Louderback, 23","Upton","Sundance","2018-01-25",4,null,"Payton Watt, 24 - Wright 1/20/2018","Payton Watt, 24","Upton","Wright","2018-01-20",4,null,"Payton Watt, 24 - Moorcroft 2/1/2018","Payton Watt, 24","Upton","Moorcroft","2018-02-01",8,null,"Brayden Bruce, 22 - Tongue River 2/2/2018","Brayden Bruce, 22","Upton","Tongue River","2018-02-02",{"v":0.6,"d":"60%"},5,null,"Payton Watt, 24 - Sundance 1/25/2018","Payton Watt, 24","Upton","Sundance","2018-01-25",16,{"v":0.625,"d":"63%"},null,"Jess Claycomb, 10 - Moorcroft 1/18/2018","Jess Claycomb, 10","Upton","Moorcroft","2018-01-18",4,null,"Clayton Louderback, 23 - Tongue River 2/17/2018","Clayton Louderback, 23","Upton","Tongue River","2018-02-17",{"v":0.42857142857142855,"d":"43%"},7,null,"Jess Claycomb, 10 - Wright 2/8/2018","Jess Claycomb, 10","Upton","Wright","2018-02-08",6,{"v":0.5,"d":"50%"},null,"Dillon Barritt, 20 - Big Horn 1/27/2018","Dillon Barritt, 20","Upton","Big Horn","2018-01-27",3,null,"Dillon Barritt, 20 - Wright 1/20/2018","Dillon Barritt, 20","Upton","Wright","2018-01-20",{"v":0.36363636363636365,"d":"36%"},11,null,"Dillon Barritt, 20 - Big Horn 1/27/2018","Dillon Barritt, 20","Upton","Big Horn","2018-01-27",8,{"v":0.375,"d":"38%"},null,"Clayton Louderback, 23 - Big Horn 1/27/2018","Clayton Louderback, 23","Upton","Big Horn","2018-01-27",7,null,"Clayton Louderback, 23 - Tongue River 2/2/2018","Clayton Louderback, 23","Upton","Tongue River","2018-02-02",{"v":0.6875,"d":"69%"},16,null,"Payton Watt, 24 - Moorcroft 2/1/2018","Payton Watt, 24","Upton","Moorcroft","2018-02-01",10,{"v":0.8,"d":"80%"}]
["Dillon Barritt, 20 - Tongue River 2/17/2018","Dillon Barritt, 20","Upton","Tongue River","2018-02-17",19,null,"Payton Watt, 24 - Big Horn 2/16/2018","Payton Watt, 24","Upton","Big Horn","2018-02-16",8,null,"Clayton Louderback, 23 - Moorcroft 2/1/2018","Clayton Louderback, 23","Upton","Moorcroft","2018-02-01",4,null,"Clayton Louderback, 23 - Sundance 1/25/2018","Clayton Louderback, 23","Upton","Sundance","2018-01-25",5,null,"Dawson Butts, 14 - Moorcroft 1/18/2018","Dawson Butts, 14","Upton","Moorcroft","2018-01-18",3,null,"Dillon Barritt, 20 - Moorcroft 2/1/2018","Dillon Barritt, 20","Upton","Moorcroft","2018-02-01",1,null,"Dawson Butts, 14 - Wright 1/20/2018","Dawson Butts, 14","Upton","Wright","2018-01-20",4,null,"Payton Watt, 24 - Sundance 2/6/2018","Payton Watt, 24","Upton","Sundance","2018-02-06",4,null,"Jayden Caylor, 12 - Moorcroft 1/18/2018","Jayden Caylor, 12","Upton","Moorcroft","2018-01-18",8,null,"Jess Claycomb, 10 - Sundance 1/25/2018","Jess Claycomb, 10","Upton","Sundance","2018-01-25",{"v":0.6,"d":"60%"},5,null,"Payton Watt, 24 - Tongue River 2/2/2018","Payton Watt, 24","Upton","Tongue River","2018-02-02",15,{"v":0.5333333333333333,"d":"53%"},null,"Dawson Butts, 14 - Wright 2/8/2018","Dawson Butts, 14","Upton","Wright","2018-02-08",4,null,"Clayton Louderback, 23 - Big Horn 1/27/2018","Clayton Louderback, 23","Upton","Big Horn","2018-01-27",{"v":0.375,"d":"38%"},8,null,"Payton Watt, 24 - Wright 2/8/2018","Payton Watt, 24","Upton","Wright","2018-02-08",6,{"v":0.8333333333333334,"d":"83%"},null,"Dillon Barritt, 20 - Wright 2/8/2018","Dillon Barritt, 20","Upton","Wright","2018-02-08",2,null,"Dillon Barritt, 20 - Sundance 1/25/2018","Dillon Barritt, 20","Upton","Sundance","2018-01-25",{"v":0.3333333333333333,"d":"33%"},6,null,"Payton Watt, 24 - Wright 2/8/2018","Payton Watt, 24","Upton","Wright","2018-02-08",7,{"v":0.2857142857142857,"d":"29%"},null,"Jess Claycomb, 10 - Tongue River 2/2/2018","Jess Claycomb, 10","Upton","Tongue River","2018-02-02",7,null,"Dillon Barritt, 20 - Tongue River 2/2/2018","Dillon Barritt, 20","Upton","Tongue River","2018-02-02",{"v":0.6666666666666666,"d":"67%"},6,null,"Clayton Louderback, 23 - Tongue River 2/17/2018","Clayton Louderback, 23","Upton","Tongue River","2018-02-17",10,{"v":0.7,"d":"70%"}]
[{"$nulls":7},"Dawson Butts, 14 - Wright 1/20/2018","Dawson Butts, 14","Upton","Wright","2018-01-20",8,null,"Clayton Louderback, 23 - Tongue River 2/2/2018","Clayton Louderback, 23","Upton","Tongue River","2018-02-02",4,null,"Clayton Louderback, 23 - Tongue River 2/2/2018","Clayton Louderback, 23","Upton","Tongue River","2018-02-02",5,null,"Dillon Barritt, 20 - Wright 1/20/2018","Dillon Barritt, 20","Upton","Wright","2018-01-20",3,null,"Clayton Louderback, 23 - Moorcroft 2/1/2018","Clayton Louderback, 23","Upton","Moorcroft","2018-02-01",1,null,"Jayden Caylor, 12 - Moorcroft 1/18/2018","Jayden Caylor, 12","Upton","Moorcroft","2018-01-18",4,{"$nulls":8},"Payton Watt, 24 - Tongue River 2/2/2018","Payton Watt, 24","Upton","Tongue River","2018-02-02",8,null,"Payton Watt, 24 - Big Horn 2/16/2018","Payton Watt, 24","Upton","Big Horn","2018-02-16",{"v":0.6,"d":"60%"},10,{"$nulls":16},"Payton Watt, 24 - Moorcroft 1/18/2018","Payton Watt, 24","Upton","Moorcroft","2018-01-18",{"v":0.2,"d":"20%"},5,{"$nulls":9},"Brayden Bruce, 22 - Wright 1/20/2018","Brayden Bruce, 22","Upton","Wright","2018-01-20",2,null,"Payton Watt, 24 - Wright 2/8/2018","Payton Watt, 24","Upton","Wright","2018-02-08",{"v":0.2857142857142857,"d":"29%"},7,null,"Dillon Barritt, 20 - Moorcroft 1/18/2018","Dillon Barritt, 20","Upton","Moorcroft","2018-01-18",7,{"v":0.42857142857142855,"d":"43%"},{"$nulls":8},"Jess Claycomb, 10 - Tongue River 2/17/2018","Jess Claycomb, 10","Upton","Tongue River","2018-02-17",{"v":0.6666666666666666,"d":"67%"},6,null,"Jayden Caylor, 12 - Moorcroft 1/18/2018","Jayden Caylor, 12","Upton","Moorcroft","2018-01-18",10,{"v":0.7,"d":"70%"}]
[{"$nulls":7},"Clayton Louderback, 23 - Big Horn 2/16/2018","Clayton Louderback, 23","Upton","Big Horn","2018-02-16",8,{"$nulls":8},"Brayden Bruce, 22 - Moorcroft 2/1/2018","Brayden Bruce, 22","Upton","Moorcroft","2018-02-01",5,null,"Clayton Louderback, 23 - Big Horn 1/27/2018","Clayton Louderback, 23","Upton","Big Horn","2018-01-27",3,{"$nulls":8},"Payton Watt, 24 - Big Horn 1/27/2018","Payton Watt, 24","Upton","Big Horn","2018-01-27",4,{"$nulls":15},"Jess Claycomb, 10 - Wright 1/20/2018","Jess Claycomb, 10","Upton","Wright","2018-01-20",{"v":0.5714285714285714,"d":"57%"},7,{"$nulls":16},"Dawson Butts, 14 - Tongue River 2/2/2018","Dawson Butts, 14","Upton","Tongue River","2018-02-02",{"v":0.16666666666666666,"d":"17%"},6,{"$nulls":9},"Dillon Barritt, 20 - Big Horn 2/16/2018","Dillon Barritt, 20","Upton","Big Horn","2018-02-16",2,null,"Brayden Bruce, 22 - Wright 1/20/2018","Brayden Bruce, 22","Upton","Wright","2018-01-20",{"v":0.25,"d":"25%"},8,{"$nulls":16},"Jess Claycomb, 10 - Wright 1/20/2018","Jess Claycomb, 10","Upton","Wright","2018-01-20",{"v":0.6666666666666666,"d":"67%"},6,null,"Jess Claycomb, 10 - Sundance 2/6/2018","Jess Claycomb, 10","Upton","Sundance","2018-02-06",10,{"v":0.7,"d":"70%"}]
[{"$nulls":7},"Clayton Louderback, 23 - Moorcroft 2/1/2018","Clayton Louderback, 23","Upton","Moorcroft","2018-02-01",8,{"$nulls":8},"Jess Claycomb, 10 - Tongue River 2/2/2018","Jess Claycomb, 10","Upton","Tongue River","2018-02-02",5,null,"Clayton Louderback, 23 - Tongue River 2/17/2018","Clayton Louderback, 23","Upton","Tongue River","2018-02-17",3,{"$nulls":8},"Dillon Barritt, 20 - Big Horn 1/27/2018","Dillon Barritt, 20","Upton","Big Horn","2018-01-27",4,{"$nulls":15},"Payton Watt, 24 - Moorcroft 2/1/2018","Payton Watt, 24","Upton","Moorcroft","2018-02-01",{"v":0.5714285714285714,"d":"57%"},14,{"$nulls":32},"Dillon Barritt, 20 - Sundance 1/25/2018","Dillon Barritt, 20","Upton","Sundance","2018-01-25",2,null,"Clayton Louderback, 23 - Sundance 1/25/2018","Clayton Louderback, 23","Upton","Sundance","2018-01-25",{"v":0.2,"d":"20%"},5,{"$nulls":16},"Payton Watt, 24 - Tongue River 2/17/2018","Payton Watt, 24","Upton","Tongue River","2018-02-17",{"v":0.6666666666666666,"d":"67%"},15]
[{"$nulls":7},"Clayton Louderback, 23 - Tongue River 2/17/2018","Clayton Louderback, 23","Upton","Tongue River","2018-02-17",8,{"$nulls":15},"Payton Watt, 24 - Moorcroft 2/1/2018","Payton Watt, 24","Upton","Moorcroft","2018-02-01",3,{"$nulls":29},"Payton Watt, 24 - Tongue River 2/2/2018","Payton Watt, 24","Upton","Tongue River","2018-02-02",{"v":0.5333333333333333,"d":"53%"},15,{"$nulls":32},"Payton Watt, 24 - Wright 2/8/2018","Payton Watt, 24","Upton","Wright","2018-02-08",2,null,"Payton Watt, 24 - Moorcroft 1/18/2018","Payton Watt, 24","Upton","Moorcroft","2018-01-18",{"v":0.2,"d":"20%"},5]
[{"$nulls":7},"Team,  - Big Horn 1/27/2018","Team, ","Upton","Big Horn","2018-01-27",8,{"$nulls":15},"Dillon Barritt, 20 - Moorcroft 2/1/2018","Dillon Barritt, 20","Upton","Moorcroft","2018-02-01",3,{"$nulls":29},"Payton Watt, 24 - Tongue River 2/17/2018","Payton Watt, 24","Upton","Tongue River","2018-02-17",{"v":0.5263157894736842,"d":"53%"},19,{"$nulls":32},"Clayton Louderback, 23 - Big Horn 1/27/2018","Clayton Louderback, 23","Upton","Big Horn","2018-01-27",2,null,"Dillon Barritt, 20 - Wright 2/8/2018","Dillon Barritt, 20","Upton","Wright","2018-02-08",{"v":0.18181818181818182,"d":"18%"},11]
[{"$nulls":7},"Clayton Louderback, 23 - Tongue River 2/2/2018","Clayton Louderback, 23","Upton","Tongue River","2018-02-02",8,{"$nulls":50},"Dillon Barritt, 20 - Tongue River 2/17/2018","Dillon Barritt, 20","Upton","Tongue River","2018-02-17",{"v":0.5,"d":"50%"},14]
[{"$nulls":63},"Jess Claycomb, 10 - Moorcroft 2/1/2018","Jess Claycomb, 10","Upton","Moorcroft","2018-02-01",{"v":0.5,"d":"50%"},6]
[{"$nulls":63},"Clayton Louderback, 23 - Sundance 2/6/2018","Clayton Louderback, 23","Upton","Sundance","2018-02-06",{"v":0.47368421052631576,"d":"47%"},19]
[{"$nulls":63},"Payton Watt, 24 - Sundance 2/6/2018","Payton Watt, 24","Upton","Sundance","2018-02-06",{"v":0.45454545454545453,"d":"45%"},11]
[{"$nulls":63},"Jess Claycomb, 10 - Big Horn 1/27/2018","Jess Claycomb, 10","Upton","Big Horn","2018-01-27",{"v":0.4444444444444444,"d":"44%"},9]
[{"$nulls":63},"Jess Claycomb, 10 - Tongue River 2/17/2018","Jess Claycomb, 10","Upton","Tongue River","2018-02-17",{"v":0.4444444444444444,"d":"44%"},9]
[{"$nulls":63},"Payton Watt, 24 - Moorcroft 1/18/2018","Payton Watt, 24","Upton","Moorcroft","2018-01-18",{"v":0.4375,"d":"44%"},16]
[{"$nulls":63},"Dillon Barritt, 20 - Big Horn 2/16/2018","Dillon Barritt, 20","Upton","Big Horn","2018-02-16",{"v":0.42857142857142855,"d":"43%"},7]
[{"$nulls":63},"Payton Watt, 24 - Wright 2/8/2018","Payton Watt, 24","Upton","Wright","2018-02-08",{"v":0.42105263157894735,"d":"42%"},19]
[{"$nulls":63},"Clayton Louderback, 23 - Sundance 1/25/2018","Clayton Louderback, 23","Upton","Sundance","2018-01-25",{"v":0.4166666666666667,"d":"42%"},12]
[{"$nulls":63},"Dillon Barritt, 20 - Wright 1/20/2018","Dillon Barritt, 20","Upton","Wright","2018-01-20",{"v":0.4117647058823529,"d":"41%"},17]
[{"$nulls":63},"Clayton Louderback, 23 - Big Horn 1/27/2018","Clayton Louderback, 23","Upton","Big Horn","2018-01-27",{"v":0.4090909090909091,"d":"41%"},22]
[{"$nulls":63},"Dillon Barritt, 20 - Moorcroft 1/18/2018","Dillon Barritt, 20","Upton","Moorcroft","2018-01-18",{"v":0.4,"d":"40%"},10]
[{"$nulls":63},"Jayden Caylor, 12 - Big Horn 2/16/2018","Jayden Caylor, 12","Upton","Big Horn","2018-02-16",{"v":0.4,"d":"40%"},5]
[{"$nulls":63},"Dillon Barritt, 20 - Sundance 1/25/2018","Dillon Barritt, 20","Upton","Sundance","2018-01-25",{"v":0.375,"d":"38%"},8]
[{"$nulls":63},"Clayton Louderback, 23 - Big Horn 2/16/2018","Clayton Louderback, 23","Upton","Big Horn","2018-02-16",{"v":0.36363636363636365,"d":"36%"},11]
[{"$nulls":63},"Dillon Barritt, 20 - Big Horn 1/27/2018","Dillon Barritt, 20","Upton","Big Horn","2018-01-27",{"v":0.36363636363636365,"d":"36%"},11]
[{"$nulls":63},"Dillon Barritt, 20 - Sundance 2/6/2018","Dillon Barritt, 20","Upton","Sundance","2018-02-06",{"v":0.35714285714285715,"d":"36%"},14]
[{"$nulls":63},"Dillon Barritt, 20 - Tongue River 2/2/2018","Dillon Barritt, 20","Upton","Tongue River","2018-02-02",{"v":0.3333333333333333,"d":"33%"},12]
[{"$nulls":63},"Jess Claycomb, 10 - Moorcroft 1/18/2018","Jess Claycomb, 10","Upton","Moorcroft","2018-01-18",{"v":0.2857142857142857,"d":"29%"},7]
[{"$nulls":63},"Dawson Butts, 14 - Tongue River 2/17/2018","Dawson Butts, 14","Upton","Tongue River","2018-02-17",{"v":0.25,"d":"25%"},8]
[{"$nulls":63},"Brayden Bruce, 22 - Wright 1/20/2018","Brayden Bruce, 22","Upton","Wright","2018-01-20",{"v":0.2,"d":"20%"},10]
[{"$nulls":63},"Dillon Barritt, 20 - Moorcroft 2/1/2018","Dillon Barritt, 20","Upton","Moorcroft","2018-02-01",{"v":0.2,"d":"20%"},10]
[{"$nulls":63},"Jess Claycomb, 10 - Wright 2/8/2018","Jess Claycomb, 10","Upton","Wright","2018-02-08",{"v":0.16666666666666666,"d":"17%"},6]
[{"$nulls":63},"Dillon Barritt, 20 - Wright 2/8/2018","Dillon Barritt, 20","Upton","Wright","2018-02-08",{"v":0.15384615384615385,"d":"15%"},13]
[{"$nulls":63},"Dawson Butts, 14 - Wright 1/20/2018","Dawson Butts, 14","Upton","Wright","2018-01-20",{"v":0.14285714285714285,"d":"14%"},7]
[{"$nulls":63},"Clayton Louderback, 23 - Wright 2/8/2018","Clayton Louderback, 23","Upton","Wright","2018-02-08",{"v":0.14285714285714285,"d":"14%"},14]
[{"$nulls":63},"Payton Watt, 24 - Wright 1/20/2018","Payton Watt, 24","Upton","Wright","2018-01-20",{"v":0.14285714285714285,"d":"14%"},14]

{"sheet":"TeamGameSummary","index":44,"n_rows":210,"n_cols":240,"rows_kept":210,"hidden":true}
[]
[null,null,"Game Attempts",5]
[null,null,"Season Attempts",10]
[]
[]
["School","Opponent","Date","GP","3FGM","3FGA","2FGM","2FGA","FTM","FTA","OFF REB","DEF REB","AST","STL","BLK","TO","FOUL","TL PTS","3 FG%*","2 FG%*","FT %*","FG%*","Opp GP","Opp 3FGM","Opp 3FGA","Opp 2FGM","Opp 2FGA","Opp FTM","Opp FTA","Opp OFF REB","Opp DEF REB","Opp AST","Opp STL","Opp BLK","Opp TO","Opp FOUL","Opp TL PTS","Opp 3 FG%*","Opp 2 FG%*","Opp FT %*","Opp FG%*","PT Margin","OREB Margin","DREB Margin","REB Margin","Game#","School, Opponent,Game#","Region Game \"R\"","Score","Date2","Class"]
[{"$f":"Roster!$B$1","v":"Upton"},{"$f":"INDIRECT(\"'game1 (\"&$AT7&\")'!$C$2\")","v":"Hulett"},{"$f":"INDIRECT(\"'game1 (\"&$AT7&\")'!$k$2\")","v":"2017-12-08"},{"$f":"INDIRECT(\"'game1 (\"&$AT7&\")'!\"&ADDRESS(ROW(B$31),COLUMN(C7)))","v":1},{"$f":"INDIRECT(\"'game1 (\"&$AT7&\")'!\"&ADDRESS(ROW(C$31),COLUMN(D7)))","v":4},{"$f":"INDIRECT(\"'game1 (\"&$AT7&\")'!\"&ADDRESS(ROW(D$31),COLUMN(E7)))","v":16},{"$f":"INDIRECT(\"'game1 (\"&$AT7&\")'!\"&ADDRESS(ROW(E$31),COLUMN(F7)))","v":34},{"$f":"INDIRECT(\"'game1 (\"&$AT7&\")'!\"&ADDRESS(ROW(F$31),COLUMN(G7)))","v":56},{"$f":"INDIRECT(\"'game1 (\"&$AT7&\")'!\"&ADDRESS(ROW(G$31),COLUMN(H7)))","v":14},{"$f":"INDIRECT(\"'game1 (\"&$AT7&\")'!\"&ADDRESS(ROW(H$31),COLUMN(I7)))","v":23},{"$f":"INDIRECT(\"'game1 (\"&$AT7&\")'!\"&ADDRESS(ROW(I$31),COLUMN(J7)))","v":16},{"$f":"INDIRECT(\"'game1 (\"&$AT7&\")'!\"&ADDRESS(ROW(J$31),COLUMN(K7)))","v":25},{"$f":"INDIRECT(\"'game1 (\"&$AT7&\")'!\"&ADDRESS(ROW(K$31),COLUMN(L7)))","v":28},{"$f":"INDIRECT(\"'game1 (\"&$AT7&\")'!\"&ADDRESS(ROW(L$31),COLUMN(M7)))","v":20},{"$f":"INDIRECT(\"'game1 (\"&$AT7&\")'!\"&ADDRESS(ROW(M$31),COLUMN(N7)))","v":0},{"$f":"INDIRECT(\"'game1 (\"&$AT7&\")'!\"&ADDRESS(ROW(N$31),COLUMN(O7)))","v":13},{"$f":"INDIRECT(\"'game1 (\"&$AT7&\")'!\"&ADDRESS(ROW(O$31),COLUMN(P7)))","v":26},{"$f":"INDIRECT(\"'game1 (\"&$AT7&\")'!\"&ADDRESS(ROW(P$31),COLUMN(Q7)))","v":94},{"$f":"IF($F7>$D$2,INDIRECT(\"'game1 (\"&$AT7&\")'!\"&ADDRESS(ROW(Q$31),COLUMN(R7))),\"\")","v":{"v":0.25,"d":"25%"}},{"$f":"IF($H7>$D$2,INDIRECT(\"'game1 (\"&$AT7&\")'!\"&ADDRESS(ROW(R$31),COLUMN(S7))),\"\")","v":{"v":0.6071428571428571,"d":"61%"}},{"$f":"IF($J7>$D$2,INDIRECT(\"'game1 (\"&$AT7&\")'!\"&ADDRESS(ROW(S$31),COLUMN(T7))),\"\")","v":{"v":0.6086956521739131,"d":"61%"}},{"$f":"IF($F7+$H7>$D$2,INDIRECT(\"'game1 (\"&$AT7&\")'!\"&ADDRESS(ROW(T$31),COLUMN(U7))),\"\")","v":{"v":0.5277777777777778,"d":"53%"}},{"$f":"INDIRECT(\"'game1 (\"&$AT7&\")'!\"&ADDRESS(ROW(U$32),COLUMN(C7)))","v":1},8,21,13,28,4,21,11,25,8,3,3,33,20,54,{"$f":"IF($Y7>$D$2,INDIRECT(\"'game1 (\"&$AT7&\")'!\"&ADDRESS(ROW(AJ$32),COLUMN(R7))),\"\")","v":{"v":0.38095238095238093,"d":"38%"}},{"$f":"IF($AA7>$D$2,INDIRECT(\"'game1 (\"&$AT7&\")'!\"&ADDRESS(ROW(AK$32),COLUMN(S7))),\"\")","v":{"v":0.4642857142857143,"d":"46%"}},{"$f":"IF($AC7>$D$2,INDIRECT(\"'game1 (\"&$AT7&\")'!\"&ADDRESS(ROW(AL$32),COLUMN(T7))),\"\")","v":{"v":0.19047619047619047,"d":"19%"}},{"$f":"IF($Y7+$AA7>$D$2,INDIRECT(\"'game1 (\"&$AT7&\")'!\"&ADDRESS(ROW(AM$32),COLUMN(U7))),\"\")","v":{"v":0.42857142857142855,"d":"43%"}},{"$f":"IFERROR(R7-AK7,\"\")","v":40},{"$f":"IF($W7=1,K7-AD7,\"\")","v":5},{"$f":"IF($W7=1,L7-AE7,\"\")","v":0},{"$f":"IF($W7=1,AQ7+AR7,\"\")","v":5},{"$f":"INT((ROW(AT7)-7))+1","v":1},{"$f":"IF($B7<>0,CONCATENATE(A7,\" - \",B7,\" \",MONTH(C7),\"/\",DAY(C7),\"/\",YEAR(C7)),\"Blank\")","v":"Upton - Hulett 12/8/2017"},{"$f":"IFERROR(INDIRECT(\"'game1 (\"&$AT7&\")'!$a$2\"),\"\")","v":""},{"$f":"IF(AU7=\"Blank\",\"\",INDIRECT(\"'game1 (\"&$AT7&\")'!$x$3\"))","v":"Upton 94, Hulett 54 "},{"$f":"IF(AU7=\"Blank\",\"\",INDIRECT(\"'game1 (\"&$AT7&\")'!$k$2\"))","v":"2017-12-08"},{"$f":"IF(AU7=\"Blank\",\"\",Season_Summary!$P$1)","v":"2A BB"}]
[{"$f":"Roster!$B$1","v":"Upton"},{"$f":"INDIRECT(\"'game1 (\"&$AT8&\")'!$C$2\")","v":"Ten Sleep"},{"$f":"INDIRECT(\"'game1 (\"&$AT8&\")'!$k$2\")","v":"2017-12-09"},1,{"$f":"INDIRECT(\"'game1 (\"&$AT8&\")'!\"&ADDRESS(ROW(C$31),COLUMN(D8)))","v":7},{"$f":"INDIRECT(\"'game1 (\"&$AT8&\")'!\"&ADDRESS(ROW(D$31),COLUMN(E8)))","v":22},23,38,10,17,15,19,21,11,0,9,16,77,{"$f":"IF($F8>$D$2,INDIRECT(\"'game1 (\"&$AT8&\")'!\"&ADDRESS(ROW(Q$31),COLUMN(R8))),\"\")","v":{"v":0.3181818181818182,"d":"32%"}},{"$f":"IF($H8>$D$2,INDIRECT(\"'game1 (\"&$AT8&\")'!\"&ADDRESS(ROW(R$31),COLUMN(S8))),\"\")","v":{"v":0.6052631578947368,"d":"61%"}},{"$f":"IF($J8>$D$2,INDIRECT(\"'game1 (\"&$AT8&\")'!\"&ADDRESS(ROW(S$31),COLUMN(T8))),\"\")","v":{"v":0.5882352941176471,"d":"59%"}},{"$f":"IF($F8+$H8>$D$2,INDIRECT(\"'game1 (\"&$AT8&\")'!\"&ADDRESS(ROW(T$31),COLUMN(U8))),\"\")","v":{"v":0.5,"d":"50%"}},{"$f":"INDIRECT(\"'game1 (\"&$AT8&\")'!\"&ADDRESS(ROW(U$32),COLUMN(C8)))","v":1},{"$f":"INDIRECT(\"'game1 (\"&$AT8&\")'!\"&ADDRESS(ROW(V$32),COLUMN(D8)))","v":4},{"$f":"INDIRECT(\"'game1 (\"&$AT8&\")'!\"&ADDRESS(ROW(W$32),COLUMN(E8)))","v":9},{"$f":"INDIRECT(\"'game1 (\"&$AT8&\")'!\"&ADDRESS(ROW(X$32),COLUMN(F8)))","v":11},{"$f":"INDIRECT(\"'game1 (\"&$AT8&\")'!\"&ADDRESS(ROW(Y$32),COLUMN(G8)))","v":33},{"$f":"INDIRECT(\"'game1 (\"&$AT8&\")'!\"&ADDRESS(ROW(Z$32),COLUMN(H8)))","v":9},{"$f":"INDIRECT(\"'game1 (\"&$AT8&\")'!\"&ADDRESS(ROW(AA$32),COLUMN(I8)))","v":21},{"$f":"INDIRECT(\"'game1 (\"&$AT8&\")'!\"&ADDRESS(ROW(AB$32),COLUMN(J8)))","v":8},{"$f":"INDIRECT(\"'game1 (\"&$AT8&\")'!\"&ADDRESS(ROW(AC$32),COLUMN(K8)))","v":21},{"$f":"INDIRECT(\"'game1 (\"&$AT8&\")'!\"&ADDRESS(ROW(AD$32),COLUMN(L8)))","v":8},{"$f":"INDIRECT(\"'game1 (\"&$AT8&\")'!\"&ADDRESS(ROW(AE$32),COLUMN(M8)))","v":4},{"$f":"INDIRECT(\"'game1 (\"&$AT8&\")'!\"&ADDRESS(ROW(AF$32),COLUMN(N8)))","v":0},{"$f":"INDIRECT(\"'game1 (\"&$AT8&\")'!\"&ADDRESS(ROW(AG$32),COLUMN(O8)))","v":21},{"$f":"INDIRECT(\"'game1 (\"&$AT8&\")'!\"&ADDRESS(ROW(AH$32),COLUMN(P8)))","v":21},{"$f":"INDIRECT(\"'game1 (\"&$AT8&\")'!\"&ADDRESS(ROW(AI$32),COLUMN(Q8)))","v":43},{"$f":"IF($Y8>$D$2,INDIRECT(\"'game1 (\"&$AT8&\")'!\"&ADDRESS(ROW(AJ$32),COLUMN(R8))),\"\")","v":{"v":0.4444444444444444,"d":"44%"}},{"$f":"IF($AA8>$D$2,INDIRECT(\"'game1 (\"&$AT8&\")'!\"&ADDRESS(ROW(AK$32),COLUMN(S8))),\"\")","v":{"v":0.3333333333333333,"d":"33%"}},{"$f":"IF($AC8>$D$2,INDIRECT(\"'game1 (\"&$AT8&\")'!\"&ADDRESS(ROW(AL$32),COLUMN(T8))),\"\")","v":{"v":0.42857142857142855,"d":"43%"}},{"$f":"IF($Y8+$AA8>$D$2,INDIRECT(\"'game1 (\"&$AT8&\")'!\"&ADDRESS(ROW(AM$32),COLUMN(U8))),\"\")","v":{"v":0.35714285714285715,"d":"36%"}},{"$f":"IFERROR(R8-AK8,\"\")","v":34},{"$f":"IF($W8=1,K8-AD8,\"\")","v":7},{"$f":"IF($W8=1,L8-AE8,\"\")","v":-2},{"$f":"IF($W8=1,AQ8+AR8,\"\")","v":5},{"$f":"INT((ROW(AT8)-7))+1","v":2},{"$f":"IF($B8<>0,CONCATENATE(A8,\" - \",B8,\" \",MONTH(C8),\"/\",DAY(C8),\"/\",YEAR(C8)),\"Blank\")","v":"Upton - Ten Sleep 12/9/2017"},"",{"$f":"IF(AU8=\"Blank\",\"\",INDIRECT(\"'game1 (\"&$AT8&\")'!$x$3\"))","v":"Upton 77, Ten Sleep 43 "},{"$f":"IF(AU8=\"Blank\",\"\",INDIRECT(\"'game1 (\"&$AT8&\")'!$k$2\"))","v":"2017-12-09"},{"$f":"IF(AU8=\"Blank\",\"\",Season_Summary!$P$1)","v":"2A BB"}]
[{"$f":"Roster!$B$1","v":"Upton"},"Kaycee","2017-12-09",1,5,15,20,39,6,11,12,19,15,12,0,17,16,61,{"v":0.3333333333333333,"d":"33%"},{"v":0.5128205128205128,"d":"51%"},{"v":0.5454545454545454,"d":"55%"},{"v":0.46296296296296297,"d":"46%"},1,5,14,20,39,6,11,13,20,15,12,0,19,15,61,{"v":0.35714285714285715,"d":"36%"},{"v":0.5128205128205128,"d":"51%"},{"v":0.5454545454545454,"d":"55%"},{"v":0.4716981132075472,"d":"47%"},0,-1,-1,-2,3,"Upton - Kaycee 12/9/2017","","Kaycee 62, Upton 61 ","2017-12-09",{"$f":"IF(AU9=\"Blank\",\"\",Season_Summary!$P$1)","v":"2A BB"}]
[{"$f":"Roster!$B$1","v":"Upton"},"Riverside","2017-12-15",1,7,22,27,48,3,4,22,23,30,13,1,11,3,78,{"v":0.3181818181818182,"d":"32%"},{"v":0.5625,"d":"56%"},"",{"v":0.4857142857142857,"d":"49%"},1,1,10,9,34,3,4,11,15,4,5,0,27,7,24,{"v":0.1,"d":"10%"},{"v":0.2647058823529412,"d":"26%"},"",{"v":0.22727272727272727,"d":"23%"},54,11,8,19,4,"Upton - Riverside 12/15/2017","","Upton 78, Riverside 24 ","2017-12-15",{"$f":"IF(AU10=\"Blank\",\"\",Season_Summary!$P$1)","v":"2A BB"}]
[{"$f":"Roster!$B$1","v":"Upton"},"Cokeville","2017-12-15",1,10,24,15,30,2,7,8,28,20,10,1,14,9,62,{"v":0.4166666666666667,"d":"42%"},{"v":0.5,"d":"50%"},{"v":0.2857142857142857,"d":"29%"},{"v":0.46296296296296297,"d":"46%"},1,3,12,10,34,4,8,6,24,11,4,1,19,10,33,{"v":0.25,"d":"25%"},{"v":0.29411764705882354,"d":"29%"},{"v":0.5,"d":"50%"},{"v":0.2826086956521739,"d":"28%"},29,2,4,6,5,"Upton - Cokeville 12/15/2017","","Upton 62, Cokeville 33 ","2017-12-15",{"$f":"IF(AU11=\"Blank\",\"\",Season_Summary!$P$1)","v":"2A BB"}]
[{"$f":"Roster!$B$1","v":"Upton"},"Shoshoni","2017-12-16",1,5,12,24,45,10,11,13,20,20,19,2,6,18,73,{"v":0.4166666666666667,"d":"42%"},{"v":0.5333333333333333,"d":"53%"},{"v":0.9090909090909091,"d":"91%"},{"v":0.5087719298245614,"d":"51%"},1,7,21,3,13,4,8,5,14,6,1,1,27,11,31,{"v":0.3333333333333333,"d":"33%"},{"v":0.23076923076923078,"d":"23%"},{"v":0.5,"d":"50%"},{"v":0.29411764705882354,"d":"29%"},42,8,6,14,6,"Upton - Shoshoni 12/16/2017","","Upton 73, Shoshoni 31 ","2017-12-16",{"$f":"IF(AU12=\"Blank\",\"\",Season_Summary!$P$1)","v":"2A BB"}]
[{"$f":"Roster!$B$1","v":"Upton"},"Lead-Deadwood","2018-01-04",1,6,18,19,33,3,4,12,20,17,9,1,21,19,59,{"v":0.3333333333333333,"d":"33%"},{"v":0.5757575757575758,"d":"58%"},"",{"v":0.49019607843137253,"d":"49%"},1,3,16,7,18,6,14,7,14,7,7,3,25,9,29,{"v":0.1875,"d":"19%"},{"v":0.3888888888888889,"d":"39%"},{"v":0.42857142857142855,"d":"43%"},{"v":0.29411764705882354,"d":"29%"},30,5,6,11,7,"Upton - Lead-Deadwood 1/4/2018","","Upton 59, Lead-Deadwood 29 ","2018-01-04",{"$f":"IF(AU13=\"Blank\",\"\",Season_Summary!$P$1)","v":"2A BB"}]
[{"$f":"Roster!$B$1","v":"Upton"},"Newell","2018-01-11",1,9,21,17,34,10,16,11,20,22,15,0,10,24,71,{"v":0.42857142857142855,"d":"43%"},{"v":0.5,"d":"50%"},{"v":0.625,"d":"63%"},{"v":0.4727272727272727,"d":"47%"},1,4,10,9,21,11,26,4,17,6,8,2,21,14,41,{"v":0.4,"d":"40%"},{"v":0.42857142857142855,"d":"43%"},{"v":0.4230769230769231,"d":"42%"},{"v":0.41935483870967744,"d":"42%"},30,7,3,10,8,"Upton - Newell 1/11/2018","","Upton 71, Newell 41 ","2018-01-11",{"$f":"IF(AU14=\"Blank\",\"\",Season_Summary!$P$1)","v":"2A BB"}]
[{"$f":"Roster!$B$1","v":"Upton"},"Faith","2018-01-12",1,8,18,18,30,17,22,9,27,23,9,0,17,15,77,{"v":0.4444444444444444,"d":"44%"},{"v":0.6,"d":"60%"},{"v":0.7727272727272727,"d":"77%"},{"v":0.5416666666666666,"d":"54%"},1,4,17,13,38,12,16,12,16,13,5,1,15,20,50,{"v":0.23529411764705882,"d":"24%"},{"v":0.34210526315789475,"d":"34%"},{"v":0.75,"d":"75%"},{"v":0.3090909090909091,"d":"31%"},27,-3,11,8,9,"Upton - Faith 1/12/2018","","Upton 77, Faith 50 ","2018-01-12",{"$f":"IF(AU15=\"Blank\",\"\",Season_Summary!$P$1)","v":"2A BB"}]
[{"$f":"Roster!$B$1","v":"Upton"},"Hot Springs","2018-01-13",1,3,17,15,31,16,32,9,22,14,6,1,14,17,55,{"v":0.17647058823529413,"d":"18%"},{"v":0.4838709677419355,"d":"48%"},{"v":0.5,"d":"50%"},{"v":0.375,"d":"38%"},1,3,14,21,36,14,24,8,27,13,8,0,19,25,65,{"v":0.21428571428571427,"d":"21%"},{"v":0.5833333333333334,"d":"58%"},{"v":0.5833333333333334,"d":"58%"},{"v":0.48,"d":"48%"},-10,1,-5,-4,10,"Upton - Hot Springs 1/13/2018","","Hot Springs 65, Upton 55 ","2018-01-13",{"$f":"IF(AU16=\"Blank\",\"\",Season_Summary!$P$1)","v":"2A BB"}]
[{"$f":"Roster!$B$1","v":"Upton"},"Moorcroft","2018-01-18",1,8,19,22,42,6,12,14,29,24,13,0,14,11,74,{"v":0.42105263157894735,"d":"42%"},{"v":0.5238095238095238,"d":"52%"},{"v":0.5,"d":"50%"},{"v":0.4918032786885246,"d":"49%"},1,5,23,10,28,3,6,10,19,9,4,0,23,12,38,{"v":0.21739130434782608,"d":"22%"},{"v":0.35714285714285715,"d":"36%"},{"v":0.5,"d":"50%"},{"v":0.29411764705882354,"d":"29%"},36,4,10,14,11,"Upton - Moorcroft 1/18/2018","R","Upton 74, Moorcroft 38 ","2018-01-18",{"$f":"IF(AU17=\"Blank\",\"\",Season_Summary!$P$1)","v":"2A BB"}]
[{"$f":"Roster!$B$1","v":"Upton"},"Wright","2018-01-20",1,6,28,10,27,13,17,18,17,12,9,1,21,20,51,{"v":0.21428571428571427,"d":"21%"},{"v":0.37037037037037035,"d":"37%"},{"v":0.7647058823529411,"d":"76%"},{"v":0.2909090909090909,"d":"29%"},1,1,6,26,42,11,23,10,24,13,11,3,19,17,66,{"v":0.16666666666666666,"d":"17%"},{"v":0.6190476190476191,"d":"62%"},{"v":0.4782608695652174,"d":"48%"},{"v":0.5625,"d":"56%"},-15,8,-7,1,12,"Upton - Wright 1/20/2018","R","Wright 66, Upton 51 ","2018-01-20",{"$f":"IF(AU18=\"Blank\",\"\",Season_Summary!$P$1)","v":"2A BB"}]
[{"$f":"Roster!$B$1","v":"Upton"},"Sundance","2018-01-25",1,10,29,18,30,10,13,8,25,21,16,0,14,22,76,{"v":0.3448275862068966,"d":"34%"},{"v":0.6,"d":"60%"},{"v":0.7692307692307693,"d":"77%"},{"v":0.4745762711864407,"d":"47%"},1,6,18,9,23,11,19,5,24,9,3,0,26,13,47,{"v":0.3333333333333333,"d":"33%"},{"v":0.391304347826087,"d":"39%"},{"v":0.5789473684210527,"d":"58%"},{"v":0.36585365853658536,"d":"37%"},29,3,1,4,13,"Upton - Sundance 1/25/2018","R","Upton 76, Sundance 47 ","2018-01-25",{"$f":"IF(AU19=\"Blank\",\"\",Season_Summary!$P$1)","v":"2A BB"}]
[{"$f":"Roster!$B$1","v":"Upton"},"Big Horn","2018-01-27",1,11,24,14,37,4,10,15,26,20,8,3,19,9,65,{"v":0.4583333333333333,"d":"46%"},{"v":0.3783783783783784,"d":"38%"},{"v":0.4,"d":"40%"},{"v":0.4098360655737705,"d":"41%"},1,7,18,20,55,5,7,20,23,13,12,5,13,10,66,{"v":0.3888888888888889,"d":"39%"},{"v":0.36363636363636365,"d":"36%"},{"v":0.7142857142857143,"d":"71%"},{"v":0.3698630136986301,"d":"37%"},-1,-5,3,-2,14,"Upton - Big Horn 1/27/2018","R","Big Horn 66, Upton 65 ","2018-01-27",{"$f":"IF(AU20=\"Blank\",\"\",Season_Summary!$P$1)","v":"2A BB"}]
[{"$f":"Roster!$B$1","v":"Upton"},"Moorcroft","2018-02-01",1,1,17,27,43,7,11,14,25,19,13,5,11,9,64,{"v":0.058823529411764705,"d":"6%"},{"v":0.627906976744186,"d":"63%"},{"v":0.6363636363636364,"d":"64%"},{"v":0.4666666666666667,"d":"47%"},1,5,23,12,27,2,7,9,20,7,4,0,20,9,41,{"v":0.21739130434782608,"d":"22%"},{"v":0.4444444444444444,"d":"44%"},{"v":0.2857142857142857,"d":"29%"},{"v":0.34,"d":"34%"},23,5,5,10,15,"Upton - Moorcroft 2/1/2018","R","Upton 64, Moorcroft 41 ","2018-02-01",{"$f":"IF(AU21=\"Blank\",\"\",Season_Summary!$P$1)","v":"2A BB"}]
[{"$f":"Roster!$B$1","v":"Upton"},"Tongue River","2018-02-02",1,8,24,27,38,5,12,12,18,28,13,1,14,10,83,{"v":0.3333333333333333,"d":"33%"},{"v":0.7105263157894737,"d":"71%"},{"v":0.4166666666666667,"d":"42%"},{"v":0.5645161290322581,"d":"56%"},1,6,16,19,42,9,12,14,20,15,5,1,23,12,65,{"v":0.375,"d":"38%"},{"v":0.4523809523809524,"d":"45%"},{"v":0.75,"d":"75%"},{"v":0.43103448275862066,"d":"43%"},18,-2,-2,-4,16,"Upton - Tongue River 2/2/2018","R","Upton 83, Tongue River 65 ","2018-02-02",{"$f":"IF(AU22=\"Blank\",\"\",Season_Summary!$P$1)","v":"2A BB"}]
[{"$f":"Roster!$B$1","v":"Upton"},"Sundance","2018-02-06",1,6,25,23,42,5,11,20,24,16,8,0,4,14,69,{"v":0.24,"d":"24%"},{"v":0.5476190476190477,"d":"55%"},{"v":0.45454545454545453,"d":"45%"},{"v":0.43283582089552236,"d":"43%"},1,6,14,14,33,3,7,6,19,10,3,0,11,9,49,{"v":0.42857142857142855,"d":"43%"},{"v":0.42424242424242425,"d":"42%"},{"v":0.42857142857142855,"d":"43%"},{"v":0.425531914893617,"d":"43%"},20,14,5,19,17,"Upton - Sundance 2/6/2018","R","Upton 69, Sundance 49 ","2018-02-06",{"$f":"IF(AU23=\"Blank\",\"\",Season_Summary!$P$1)","v":"2A BB"}]
[{"$f":"Roster!$B$1","v":"Upton"},"Wright","2018-02-08",1,6,25,11,33,20,29,20,16,9,12,3,20,22,60,{"v":0.24,"d":"24%"},{"v":0.3333333333333333,"d":"33%"},{"v":0.6896551724137931,"d":"69%"},{"v":0.29310344827586204,"d":"29%"},1,5,8,20,37,12,27,9,25,6,9,1,25,23,67,{"v":0.625,"d":"63%"},{"v":0.5405405405405406,"d":"54%"},{"v":0.4444444444444444,"d":"44%"},{"v":0.5555555555555556,"d":"56%"},-7,11,-9,2,18,"Upton - Wright 2/8/2018","R","Wright 67, Upton 60 ","2018-02-08",{"$f":"IF(AU24=\"Blank\",\"\",Season_Summary!$P$1)","v":"2A BB"}]
[{"$f":"Roster!$B$1","v":"Upton"},"New Underwood","2018-02-10",1,9,25,16,26,16,26,10,20,13,14,0,15,11,75,{"v":0.36,"d":"36%"},{"v":0.6153846153846154,"d":"62%"},{"v":0.6153846153846154,"d":"62%"},{"v":0.49019607843137253,"d":"49%"},1,2,17,15,36,5,7,15,18,4,8,1,25,22,41,{"v":0.11764705882352941,"d":"12%"},{"v":0.4166666666666667,"d":"42%"},{"v":0.7142857142857143,"d":"71%"},{"v":0.32075471698113206,"d":"32%"},34,-5,2,-3,19,"Upton - New Underwood 2/10/2018","","Upton 75, New Underwood 41 ","2018-02-10",{"$f":"IF(AU25=\"Blank\",\"\",Season_Summary!$P$1)","v":"2A BB"}]
[{"$f":"Roster!$B$1","v":"Upton"},"Big Horn","2018-02-16",1,4,13,15,29,13,18,9,23,13,2,1,14,9,55,{"v":0.3076923076923077,"d":"31%"},{"v":0.5172413793103449,"d":"52%"},{"v":0.7222222222222222,"d":"72%"},{"v":0.4523809523809524,"d":"45%"},1,4,16,18,41,4,6,10,17,2,6,2,9,17,52,{"v":0.25,"d":"25%"},{"v":0.43902439024390244,"d":"44%"},{"v":0.6666666666666666,"d":"67%"},{"v":0.38596491228070173,"d":"39%"},3,-1,6,5,20,"Upton - Big Horn 2/16/2018","R","Upton 55, Big Horn 52 ","2018-02-16",{"$f":"IF(AU26=\"Blank\",\"\",Season_Summary!$P$1)","v":"2A BB"}]
[{"$f":"Roster!$B$1","v":"Upton"},"Tongue River","2018-02-17",1,6,24,27,45,9,16,15,30,24,8,0,7,15,81,{"v":0.25,"d":"25%"},{"v":0.6,"d":"60%"},{"v":0.5625,"d":"56%"},{"v":0.4782608695652174,"d":"48%"},1,7,20,13,37,10,17,8,24,13,3,1,12,14,57,{"v":0.35,"d":"35%"},{"v":0.35135135135135137,"d":"35%"},{"v":0.5882352941176471,"d":"59%"},{"v":0.3508771929824561,"d":"35%"},24,7,6,13,21,"Upton - Tongue River 2/17/2018","R","Upton 81, Tongue River 57 ","2018-02-17",{"$f":"IF(AU27=\"Blank\",\"\",Season_Summary!$P$1)","v":"2A BB"}]
[{"$f":"Roster!$B$1","v":"Upton"},"Southeast HS","2018-02-22",1,8,26,12,28,6,17,10,17,12,10,2,14,21,54,{"v":0.3076923076923077,"d":"31%"},{"v":0.42857142857142855,"d":"43%"},{"v":0.35294117647058826,"d":"35%"},{"v":0.37037037037037035,"d":"37%"},1,4,12,14,31,19,26,8,25,4,5,4,17,18,59,{"v":0.3333333333333333,"d":"33%"},{"v":0.45161290322580644,"d":"45%"},{"v":0.7307692307692307,"d":"73%"},{"v":0.4186046511627907,"d":"42%"},-5,2,-8,-6,22,"Upton - Southeast HS 2/22/2018","","Southeast HS 59, Upton 54 ","2018-02-22",{"$f":"IF(AU28=\"Blank\",\"\",Season_Summary!$P$1)","v":"2A BB"}]
[{"$f":"Roster!$B$1","v":"Upton"},"Lusk   ","2018-02-23",1,10,22,20,32,13,23,14,26,20,15,0,11,16,83,{"v":0.45454545454545453,"d":"45%"},{"v":0.625,"d":"63%"},{"v":0.5652173913043478,"d":"57%"},{"v":0.5555555555555556,"d":"56%"},1,2,6,17,46,7,18,12,15,3,5,1,18,18,47,{"v":0.3333333333333333,"d":"33%"},{"v":0.3695652173913043,"d":"37%"},{"v":0.3888888888888889,"d":"39%"},{"v":0.36538461538461536,"d":"37%"},36,2,11,13,23,"Upton - Lusk    2/23/2018","","Upton 83, Lusk    47 ","2018-02-23",{"$f":"IF(AU29=\"Blank\",\"\",Season_Summary!$P$1)","v":"2A BB"}]
[{"$f":"Roster!$B$1","v":"Upton"},"Big Horn","2018-02-24",1,3,11,21,43,22,34,16,24,13,9,0,15,21,73,{"v":0.2727272727272727,"d":"27%"},{"v":0.4883720930232558,"d":"49%"},{"v":0.6470588235294118,"d":"65%"},{"v":0.4444444444444444,"d":"44%"},1,5,21,17,36,13,20,13,18,7,3,0,22,28,62,{"v":0.23809523809523808,"d":"24%"},{"v":0.4722222222222222,"d":"47%"},{"v":0.65,"d":"65%"},{"v":0.38596491228070173,"d":"39%"},11,3,6,9,24,"Upton - Big Horn 2/24/2018","","Upton 73, Big Horn 62 ","2018-02-24",{"$f":"IF(AU30=\"Blank\",\"\",Season_Summary!$P$1)","v":"2A BB"}]
[{"$f":"Roster!$B$1","v":"Upton"},"Wright  ","2018-02-24",1,9,29,18,38,19,26,18,24,23,14,0,7,12,82,{"v":0.3103448275862069,"d":"31%"},{"v":0.47368421052631576,"d":"47%"},{"v":0.7307692307692307,"d":"73%"},{"v":0.40298507462686567,"d":"40%"},1,2,8,21,45,8,11,7,25,14,3,0,22,17,56,{"v":0.25,"d":"25%"},{"v":0.4666666666666667,"d":"47%"},{"v":0.7272727272727273,"d":"73%"},{"v":0.4339622641509434,"d":"43%"},26,11,-1,10,25,"Upton - Wright   2/24/2018","","Upton 82, Wright   56 ","2018-02-24",{"$f":"IF(AU31=\"Blank\",\"\",Season_Summary!$P$1)","v":"2A BB"}]
[{"$f":"Roster!$B$1","v":"Upton"},"Wyoming Indian","2018-03-01",1,5,16,18,31,16,25,10,31,15,9,1,12,14,67,{"v":0.3125,"d":"31%"},{"v":0.5806451612903226,"d":"58%"},{"v":0.64,"d":"64%"},{"v":0.48936170212765956,"d":"49%"},1,6,23,14,29,9,17,6,19,6,7,1,13,22,55,{"v":0.2608695652173913,"d":"26%"},{"v":0.4827586206896552,"d":"48%"},{"v":0.5294117647058824,"d":"53%"},{"v":0.38461538461538464,"d":"38%"},12,4,12,16,26,"Upton - Wyoming Indian 3/1/2018","","Upton 67, Wyoming Indian 55 ","2018-03-01",{"$f":"IF(AU32=\"Blank\",\"\",Season_Summary!$P$1)","v":"2A BB"}]
[{"$f":"Roster!$B$1","v":"Upton"},"Pine Bluffs  ","2018-03-02",1,5,16,14,36,6,8,8,21,9,5,0,15,18,49,{"v":0.3125,"d":"31%"},{"v":0.3888888888888889,"d":"39%"},{"v":0.75,"d":"75%"},{"v":0.36538461538461536,"d":"37%"},1,3,12,22,40,7,12,7,24,1,8,1,11,15,60,{"v":0.25,"d":"25%"},{"v":0.55,"d":"55%"},{"v":0.5833333333333334,"d":"58%"},{"v":0.4807692307692308,"d":"48%"},-11,1,-3,-2,27,"Upton - Pine Bluffs   3/2/2018","","Pine Bluffs   60, Upton 49 ","2018-03-02",{"$f":"IF(AU33=\"Blank\",\"\",Season_Summary!$P$1)","v":"2A BB"}]
[{"$f":"Roster!$B$1","v":"Upton"},"Rocky Mountain","2018-03-03",1,6,29,13,29,12,23,16,14,12,14,1,19,17,56,{"v":0.20689655172413793,"d":"21%"},{"v":0.4482758620689655,"d":"45%"},{"v":0.5217391304347826,"d":"52%"},{"v":0.3275862068965517,"d":"33%"},1,3,8,22,35,7,15,8,28,11,8,1,27,24,60,{"v":0.375,"d":"38%"},{"v":0.6285714285714286,"d":"63%"},{"v":0.4666666666666667,"d":"47%"},{"v":0.5813953488372093,"d":"58%"},-4,8,-14,-6,28,"Upton - Rocky Mountain 3/3/2018","","Rocky Mountain 60, Upton 56 ","2018-03-03",{"$f":"IF(AU34=\"Blank\",\"\",Season_Summary!$P$1)","v":"2A BB"}]
[{"$f":"Roster!$B$1","v":"Upton"},0,"00:00:00","",0,0,0,0,0,0,0,0,0,0,0,0,0,"","","","","","",0,0,0,0,0,0,0,0,0,0,0,0,0,"","","","","","","","","",29,"Blank","","","",{"$f":"IF(AU35=\"Blank\",\"\",Season_Summary!$P$1)","v":""}]
[{"$f":"Roster!$B$1","v":"Upton"},0,"00:00:00","",0,0,0,0,0,0,0,0,0,0,0,0,0,"","","","","","",0,0,0,0,0,0,0,0,0,0,0,0,0,"","","","","","","","","",30,"Blank","","","",{"$f":"IF(AU36=\"Blank\",\"\",Season_Summary!$P$1)","v":""}]
[{"$f":"Roster!$B$1","v":"Upton"},0,"00:00:00","",0,0,0,0,0,0,0,0,0,0,0,0,0,"","","","","","",0,0,0,0,0,0,0,0,0,0,0,0,0,"","","","","","","","","",31,"Blank","","","",{"$f":"IF(AU37=\"Blank\",\"\",Season_Summary!$P$1)","v":""}]
[{"$f":"Roster!$B$1","v":"Upton"},0,"00:00:00","",0,0,0,0,0,0,0,0,0,0,0,0,0,"","","","","","",0,0,0,0,0,0,0,0,0,0,0,0,0,"","","","","","","","","",32,"Blank","","","",{"$f":"IF(AU38=\"Blank\",\"\",Season_Summary!$P$1)","v":""}]
[{"$f":"Roster!$B$1","v":"Upton"},0,"00:00:00","",0,0,0,0,0,0,0,0,0,0,0,0,0,"","","","","","",0,0,0,0,0,0,0,0,0,0,0,0,0,"","","","","","","","","",33,"Blank","","","",{"$f":"IF(AU39=\"Blank\",\"\",Season_Summary!$P$1)","v":""}]
[{"$f":"Roster!$B$1","v":"Upton"},0,"00:00:00","",0,0,0,0,0,0,0,0,0,0,0,0,0,"","","","","","",0,0,0,0,0,0,0,0,0,0,0,0,0,"","","","","","","","","",34,"Blank","","","",{"$f":"IF(AU40=\"Blank\",\"\",Season_Summary!$P$1)","v":""}]
[{"$f":"Roster!$B$1","v":"Upton"},0,"00:00:00","",0,0,0,0,0,0,0,0,0,0,0,0,0,"","","","","","",0,0,0,0,0,0,0,0,0,0,0,0,0,"","","","","","","","","",35,"Blank","","","",{"$f":"IF(AU41=\"Blank\",\"\",Season_Summary!$P$1)","v":""}]
[{"$f":"Roster!$B$1","v":"Upton"},0,"00:00:00","",0,0,0,0,0,0,0,0,0,0,0,0,0,"","","","","","",0,0,0,0,0,0,0,0,0,0,0,0,0,"","","","","","","","","",36,"Blank","","","",{"$f":"IF(AU42=\"Blank\",\"\",Season_Summary!$P$1)","v":""}]
[{"$f":"Roster!$B$1","v":"Upton"},0,"00:00:00","",0,0,0,0,0,0,0,0,0,0,0,0,0,"","","","","","",0,0,0,0,0,0,0,0,0,0,0,0,0,"","","","","","","","","",37,"Blank","","","",{"$f":"IF(AU43=\"Blank\",\"\",Season_Summary!$P$1)","v":""}]
[{"$f":"Roster!$B$1","v":"Upton"},0,"00:00:00","",0,0,0,0,0,0,0,0,0,0,0,0,0,"","","","","","",0,0,0,0,0,0,0,0,0,0,0,0,0,"","","","","","","","","",38,"Blank","","","",{"$f":"IF(AU44=\"Blank\",\"\",Season_Summary!$P$1)","v":""}]
[{"$f":"Roster!$B$1","v":"Upton"},0,"00:00:00","",0,0,0,0,0,0,0,0,0,0,0,0,0,"","","","","","",0,0,0,0,0,0,0,0,0,0,0,0,0,"","","","","","","","","",39,"Blank","","","",{"$f":"IF(AU45=\"Blank\",\"\",Season_Summary!$P$1)","v":""}]
[{"$f":"Roster!$B$1","v":"Upton"},0,"00:00:00","",0,0,0,0,0,0,0,0,0,0,0,0,0,"","","","","","",0,0,0,0,0,0,0,0,0,0,0,0,0,"","","","","","","","","",40,"Blank","","","",{"$f":"IF(AU46=\"Blank\",\"\",Season_Summary!$P$1)","v":""}]
{"$rows_empty":51}
[{"$nulls":199},"Opp GP",1]
[]
["School, Opponent,Game#","School","Opponent","Date","Max of TL PTS",null,"School, Opponent,Game#","School","Opponent","Date","Min of TL PTS",null,"School, Opponent,Game#","School","Opponent","Date","Max of Opp TL PTS",null,"School, Opponent,Game#","School","Opponent","Date","Min of Opp TL PTS",null,"School, Opponent,Game#","School","Opponent","Date","Max of PT Margin",null,"School, Opponent,Game#","School","Opponent","Date","Sum of TotalREB",null,"School, Opponent,Game#","School","Opponent","Date","Sum of TotalREB",null,"School, Opponent,Game#","School","Opponent","Date","Sum of OppTotalReb",null,"School, Opponent,Game#","School","Opponent","Date","Sum of OppTotalReb",null,"School, Opponent,Game#","School","Opponent","Date","Max of OFF REB",null,"School, Opponent,Game#","School","Opponent","Date","Min of OFF REB",null,"School, Opponent,Game#","School","Opponent","Date","Max of Opp OFF REB",null,"School, Opponent,Game#","School","Opponent","Date","Min of Opp OFF REB",null,"School, Opponent,Game#","School","Opponent","Date","Max of DEF REB",null,"School, Opponent,Game#","School","Opponent","Date","Min of DEF REB",null,"School, Opponent,Game#","School","Opponent","Date","Max of Opp DEF REB",null,"School, Opponent,Game#","School","Opponent","Date","Min of Opp DEF REB",null,"School, Opponent,Game#","School","Opponent","Date","Max of REB Margin",null,"School, Opponent,Game#","School","Opponent","Date","Min of REB Margin",null,"School, Opponent,Game#","School","Opponent","Date","Max of OREB Margin",null,"School, Opponent,Game#","School","Opponent","Date","Min of OREB Margin",null,"School, Opponent,Game#","School","Opponent","Date","Max of DREB Margin",null,"School, Opponent,Game#","School","Opponent","Date","Min of DREB Margin",null,"School, Opponent,Game#","School","Opponent","Date","Sum of AST",null,"School, Opponent,Game#","School","Opponent","Date","Sum of STL",null,"School, Opponent,Game#","School","Opponent","Date","Sum of BLK",null,"School, Opponent,Game#","School","Opponent","Date","Sum of TO","Sum of FOUL",null,"School, Opponent,Game#","School","Opponent","Date","Sum of TO",null,"School, Opponent,Game#","School","Opponent","Date","Sum of FOUL",null,"School, Opponent,Game#","School","Opponent","Date","Sum of FOUL",null,"School, Opponent,Game#","School","Opponent","Date","Sum of TotalFGM",null,"School, Opponent,Game#","School","Opponent","Date","Sum of TotalFGA",null,"School, Opponent,Game#","School","Opponent","Date","Max of FG%*",null,"School, Opponent,Game#","School","Opponent","Date","Max of Opp FG%*",null,"School, Opponent,Game#","School","Opponent","Date","Sum of FTM",null,"School, Opponent,Game#","School","Opponent","Date","Sum of FTA",null,"School, Opponent,Game#","School","Opponent","Date","Max of FT %*",null,"School, Opponent,Game#","School","Opponent","Date","Sum of 3FGM",null,"School, Opponent,Game#","School","Opponent","Date","Sum of 3FGA",null,"School, Opponent,Game#","School","Opponent","Date","Max of 3 FG%*"]
["Upton - Hulett 12/8/2017","Upton","Hulett","2017-12-08",94,null,"Upton - Pine Bluffs   3/2/2018","Upton","Pine Bluffs  ","2018-03-02",49,null,"Upton - Wright 2/8/2018","Upton","Wright","2018-02-08",67,null,"Upton - Riverside 12/14/2017","Upton","Riverside","2017-12-14",24,null,"Upton - Riverside 12/14/2017","Upton","Riverside","2017-12-14",54,null,"Upton - Riverside 12/14/2017","Upton","Riverside","2017-12-14",45,null,"Upton - Southeast HS 2/22/2018","Upton","Southeast HS","2018-02-22",27,null,"Upton - Big Horn 1/27/2018","Upton","Big Horn","2018-01-27",43,null,"Upton - Shoshoni 12/16/2017","Upton","Shoshoni","2017-12-16",19,null,"Upton - Riverside 12/14/2017","Upton","Riverside","2017-12-14",22,null,"Upton - Sundance 1/25/2018","Upton","Sundance","2018-01-25",8,null,"Upton - Big Horn 1/27/2018","Upton","Big Horn","2018-01-27",20,null,"Upton - Newell 1/11/2018","Upton","Newell","2018-01-11",4,null,"Upton - Wyoming Indian 3/1/2018","Upton","Wyoming Indian","2018-03-01",31,null,"Upton - Rocky Mountain 3/3/2018","Upton","Rocky Mountain","2018-03-03",14,null,"Upton - Rocky Mountain 3/3/2018","Upton","Rocky Mountain","2018-03-03",28,null,"Upton - Shoshoni 12/16/2017","Upton","Shoshoni","2017-12-16",14,null,"Upton - Sundance 2/6/2018","Upton","Sundance","2018-02-06",19,null,"Upton - Rocky Mountain 3/3/2018","Upton","Rocky Mountain","2018-03-03",-6,null,"Upton - Sundance 2/6/2018","Upton","Sundance","2018-02-06",14,null,"Upton - Big Horn 1/27/2018","Upton","Big Horn","2018-01-27",-5,null,"Upton - Wyoming Indian 3/1/2018","Upton","Wyoming Indian","2018-03-01",12,null,"Upton - Wright   2/24/2018","Upton","Wright  ","2018-02-24",-1,null,"Upton - Riverside 12/14/2017","Upton","Riverside","2017-12-14",30,null,"Upton - Hulett 12/8/2017","Upton","Hulett","2017-12-08",20,null,"Upton - Moorcroft 2/1/2018","Upton","Moorcroft","2018-02-01",5,null,"Upton - Wright 1/20/2018","Upton","Wright","2018-01-20",21,20,null,"Upton - Sundance 2/6/2018","Upton","Sundance","2018-02-06",4,null,"Upton - Hulett 12/8/2017","Upton","Hulett","2017-12-08",26,null,"Upton - Riverside 12/14/2017","Upton","Riverside","2017-12-14",3,null,"Upton - Hulett 12/8/2017","Upton","Hulett","2017-12-08",38,null,"Upton - Hulett 12/8/2017","Upton","Hulett","2017-12-08",72,null,"Upton - Tongue River 2/2/2018","Upton","Tongue River","2018-02-02",0.5645161290322581,null,"Upton - Riverside 12/14/2017","Upton","Riverside","2017-12-14",0.22727272727272727,null,"Upton - Big Horn 2/24/2018","Upton","Big Horn","2018-02-24",22,null,"Upton - Big Horn 2/24/2018","Upton","Big Horn","2018-02-24",34,null,"Upton - Shoshoni 12/16/2017","Upton","Shoshoni","2017-12-16",0.9090909090909091,null,"Upton - Big Horn 1/27/2018","Upton","Big Horn","2018-01-27",11,null,"Upton - Rocky Mountain 3/3/2018","Upton","Rocky Mountain","2018-03-03",29,null,"Upton - Big Horn 1/27/2018","Upton","Big Horn","2018-01-27",0.4583333333333333]
["Upton - Tongue River 2/2/2018","Upton","Tongue River","2018-02-02",83,null,"Upton - Wright 1/20/2018","Upton","Wright","2018-01-20",51,null,"Upton - Wright 1/20/2018","Upton","Wright","2018-01-20",66,null,"Upton - Lead-Deadwood 1/4/2018","Upton","Lead-Deadwood","2018-01-04",29,null,"Upton - Shoshoni 12/16/2017","Upton","Shoshoni","2017-12-16",42,null,"Upton - Tongue River 2/17/2018","Upton","Tongue River","2018-02-17",45,null,"Upton - Pine Bluffs   3/2/2018","Upton","Pine Bluffs  ","2018-03-02",29,null,"Upton - Rocky Mountain 3/3/2018","Upton","Rocky Mountain","2018-03-03",36,null,"Upton - Newell 1/11/2018","Upton","Newell","2018-01-11",21,null,"Upton - Wright 2/8/2018","Upton","Wright","2018-02-08",20,null,"Upton - Cokeville 12/15/2017","Upton","Cokeville","2017-12-15",8,null,"Upton - New Underwood 2/10/2018","Upton","New Underwood","2018-02-10",15,null,"Upton - Sundance 1/25/2018","Upton","Sundance","2018-01-25",5,null,"Upton - Tongue River 2/17/2018","Upton","Tongue River","2018-02-17",30,null,"Upton - Wright 2/8/2018","Upton","Wright","2018-02-08",16,null,"Upton - Hot Springs 1/13/2018","Upton","Hot Springs","2018-01-13",27,null,"Upton - Lead-Deadwood 1/4/2018","Upton","Lead-Deadwood","2018-01-04",14,null,"Upton - Riverside 12/14/2017","Upton","Riverside","2017-12-14",19,null,"Upton - Southeast HS 2/22/2018","Upton","Southeast HS","2018-02-22",-6,null,"Upton - Wright 2/8/2018","Upton","Wright","2018-02-08",11,null,"Upton - New Underwood 2/10/2018","Upton","New Underwood","2018-02-10",-5,null,"Upton - Lusk    2/23/2018","Upton","Lusk   ","2018-02-23",11,null,"Upton - Kaycee 12/9/2017","Upton","Kaycee","2017-12-09",-1,null,"Upton - Tongue River 2/2/2018","Upton","Tongue River","2018-02-02",28,null,"Upton - Shoshoni 12/16/2017","Upton","Shoshoni","2017-12-16",19,null,"Upton - Wright 2/8/2018","Upton","Wright","2018-02-08",3,null,"Upton - Lead-Deadwood 1/4/2018","Upton","Lead-Deadwood","2018-01-04",21,19,null,"Upton - Shoshoni 12/16/2017","Upton","Shoshoni","2017-12-16",6,null,"Upton - Newell 1/11/2018","Upton","Newell","2018-01-11",24,null,"Upton - Big Horn 1/27/2018","Upton","Big Horn","2018-01-27",9,null,"Upton - Tongue River 2/2/2018","Upton","Tongue River","2018-02-02",35,null,"Upton - Riverside 12/14/2017","Upton","Riverside","2017-12-14",70,null,"Upton - Lusk    2/23/2018","Upton","Lusk   ","2018-02-23",0.5555555555555556,null,"Upton - Cokeville 12/15/2017","Upton","Cokeville","2017-12-15",0.2826086956521739,null,"Upton - Wright 2/8/2018","Upton","Wright","2018-02-08",20,null,"Upton - Hot Springs 1/13/2018","Upton","Hot Springs","2018-01-13",32,null,"Upton - Faith 1/12/2018","Upton","Faith","2018-01-12",0.7727272727272727,null,"Upton - Sundance 1/25/2018","Upton","Sundance","2018-01-25",10,null,"Upton - Wright   2/24/2018","Upton","Wright  ","2018-02-24",29,null,"Upton - Lusk    2/23/2018","Upton","Lusk   ","2018-02-23",0.45454545454545453]
["Upton - Lusk    2/23/2018","Upton","Lusk   ","2018-02-23",83,null,"Upton - Southeast HS 2/22/2018","Upton","Southeast HS","2018-02-22",54,null,"Upton - Big Horn 1/27/2018","Upton","Big Horn","2018-01-27",66,null,"Upton - Shoshoni 12/16/2017","Upton","Shoshoni","2017-12-16",31,null,"Upton - Hulett 12/8/2017","Upton","Hulett","2017-12-08",40,null,"Upton - Sundance 2/6/2018","Upton","Sundance","2018-02-06",44,null,"Upton - Tongue River 2/2/2018","Upton","Tongue River","2018-02-02",30,null,"Upton - Hulett 12/8/2017","Upton","Hulett","2017-12-08",36,null,"Upton - Lead-Deadwood 1/4/2018","Upton","Lead-Deadwood","2018-01-04",21,null,"Upton - Sundance 2/6/2018","Upton","Sundance","2018-02-06",20,null,"Upton - Pine Bluffs   3/2/2018","Upton","Pine Bluffs  ","2018-03-02",8,null,"Upton - Tongue River 2/2/2018","Upton","Tongue River","2018-02-02",14,null,"Upton - Shoshoni 12/16/2017","Upton","Shoshoni","2017-12-16",5,null,"Upton - Moorcroft 1/18/2018","Upton","Moorcroft","2018-01-18",29,null,"Upton - Wright 1/20/2018","Upton","Wright","2018-01-20",17,null,"Upton - Southeast HS 2/22/2018","Upton","Southeast HS","2018-02-22",25,null,"Upton - Riverside 12/14/2017","Upton","Riverside","2017-12-14",15,null,"Upton - Wyoming Indian 3/1/2018","Upton","Wyoming Indian","2018-03-01",16,null,"Upton - Tongue River 2/2/2018","Upton","Tongue River","2018-02-02",-4,null,"Upton - Riverside 12/14/2017","Upton","Riverside","2017-12-14",11,null,"Upton - Faith 1/12/2018","Upton","Faith","2018-01-12",-3,null,"Upton - Faith 1/12/2018","Upton","Faith","2018-01-12",11,null,"Upton - Ten Sleep 12/9/2017","Upton","Ten Sleep","2017-12-09",-2,null,"Upton - Hulett 12/8/2017","Upton","Hulett","2017-12-08",28,null,"Upton - Sundance 1/25/2018","Upton","Sundance","2018-01-25",16,null,"Upton - Big Horn 1/27/2018","Upton","Big Horn","2018-01-27",3,null,"Upton - Wright 2/8/2018","Upton","Wright","2018-02-08",20,22,null,"Upton - Wright   2/24/2018","Upton","Wright  ","2018-02-24",7,null,"Upton - Wright 2/8/2018","Upton","Wright","2018-02-08",22,null,"Upton - Moorcroft 2/1/2018","Upton","Moorcroft","2018-02-01",9,null,"Upton - Riverside 12/14/2017","Upton","Riverside","2017-12-14",34,null,"Upton - Tongue River 2/17/2018","Upton","Tongue River","2018-02-17",69,null,"Upton - Faith 1/12/2018","Upton","Faith","2018-01-12",0.5416666666666666,null,"Upton - Lead-Deadwood 1/4/2018","Upton","Lead-Deadwood","2018-01-04",0.29411764705882354,null,"Upton - Wright   2/24/2018","Upton","Wright  ","2018-02-24",19,null,"Upton - Wright 2/8/2018","Upton","Wright","2018-02-08",29,null,"Upton - Sundance 1/25/2018","Upton","Sundance","2018-01-25",0.7692307692307693,null,"Upton - Lusk    2/23/2018","Upton","Lusk   ","2018-02-23",10,null,"Upton - Sundance 1/25/2018","Upton","Sundance","2018-01-25",29,null,"Upton - Faith 1/12/2018","Upton","Faith","2018-01-12",0.4444444444444444]
["Upton - Wright   2/24/2018","Upton","Wright  ","2018-02-24",82,null,"Upton - Hot Springs 1/13/2018","Upton","Hot Springs","2018-01-13",55,null,"Upton - Hot Springs 1/13/2018","Upton","Hot Springs","2018-01-13",65,null,"Upton - Cokeville 12/15/2017","Upton","Cokeville","2017-12-15",33,null,"Upton - Moorcroft 1/18/2018","Upton","Moorcroft","2018-01-18",36,null,"Upton - Moorcroft 1/18/2018","Upton","Moorcroft","2018-01-18",43,null,"Upton - New Underwood 2/10/2018","Upton","New Underwood","2018-02-10",30,null,"Upton - Hot Springs 1/13/2018","Upton","Hot Springs","2018-01-13",35,null,"Upton - Wyoming Indian 3/1/2018","Upton","Wyoming Indian","2018-03-01",25,null,"Upton - Wright   2/24/2018","Upton","Wright  ","2018-02-24",18,null,"Upton - Hot Springs 1/13/2018","Upton","Hot Springs","2018-01-13",9,null,"Upton - Kaycee 12/9/2017","Upton","Kaycee","2017-12-09",13,null,"Upton - Sundance 2/6/2018","Upton","Sundance","2018-02-06",6,null,"Upton - Cokeville 12/15/2017","Upton","Cokeville","2017-12-15",28,null,"Upton - Southeast HS 2/22/2018","Upton","Southeast HS","2018-02-22",17,null,"Upton - Wright   2/24/2018","Upton","Wright  ","2018-02-24",25,null,"Upton - Lusk    2/23/2018","Upton","Lusk   ","2018-02-23",15,null,"Upton - Shoshoni 12/16/2017","Upton","Shoshoni","2017-12-16",14,null,"Upton - Hot Springs 1/13/2018","Upton","Hot Springs","2018-01-13",-4,null,"Upton - Wright   2/24/2018","Upton","Wright  ","2018-02-24",11,null,"Upton - Tongue River 2/2/2018","Upton","Tongue River","2018-02-02",-2,null,"Upton - Moorcroft 1/18/2018","Upton","Moorcroft","2018-01-18",10,null,"Upton - Tongue River 2/2/2018","Upton","Tongue River","2018-02-02",-2,null,"Upton - Moorcroft 1/18/2018","Upton","Moorcroft","2018-01-18",24,null,"Upton - Newell 1/11/2018","Upton","Newell","2018-01-11",15,null,"Upton - Shoshoni 12/16/2017","Upton","Shoshoni","2017-12-16",2,null,"Upton - Rocky Mountain 3/3/2018","Upton","Rocky Mountain","2018-03-03",19,17,null,"Upton - Tongue River 2/17/2018","Upton","Tongue River","2018-02-17",7,null,"Upton - Sundance 1/25/2018","Upton","Sundance","2018-01-25",22,null,"Upton - Big Horn 2/16/2018","Upton","Big Horn","2018-02-16",9,null,"Upton - Tongue River 2/17/2018","Upton","Tongue River","2018-02-17",33,null,"Upton - Sundance 2/6/2018","Upton","Sundance","2018-02-06",67,null,"Upton - Hulett 12/8/2017","Upton","Hulett","2017-12-08",0.5277777777777778,null,"Upton - Moorcroft 1/18/2018","Upton","Moorcroft","2018-01-18",0.29411764705882354,null,"Upton - Faith 1/12/2018","Upton","Faith","2018-01-12",17,null,"Upton - Wright   2/24/2018","Upton","Wright  ","2018-02-24",26,null,"Upton - Wright 1/20/2018","Upton","Wright","2018-01-20",0.7647058823529411,null,"Upton - Cokeville 12/15/2017","Upton","Cokeville","2017-12-15",10,null,"Upton - Wright 1/20/2018","Upton","Wright","2018-01-20",28,null,"Upton - Newell 1/11/2018","Upton","Newell","2018-01-11",0.42857142857142855]
["Upton - Tongue River 2/17/2018","Upton","Tongue River","2018-02-17",81,null,"Upton - Big Horn 2/16/2018","Upton","Big Horn","2018-02-16",55,null,"Upton - Tongue River 2/2/2018","Upton","Tongue River","2018-02-02",65,null,"Upton - Moorcroft 1/18/2018","Upton","Moorcroft","2018-01-18",38,null,"Upton - Lusk    2/23/2018","Upton","Lusk   ","2018-02-23",36,null,"Upton - Wright   2/24/2018","Upton","Wright  ","2018-02-24",42,null,"Upton - Rocky Mountain 3/3/2018","Upton","Rocky Mountain","2018-03-03",30,null,"Upton - Wright 2/8/2018","Upton","Wright","2018-02-08",34,null,"Upton - Sundance 2/6/2018","Upton","Sundance","2018-02-06",25,null,"Upton - Wright 1/20/2018","Upton","Wright","2018-01-20",18,null,"Upton - Faith 1/12/2018","Upton","Faith","2018-01-12",9,null,"Upton - Big Horn 2/24/2018","Upton","Big Horn","2018-02-24",13,null,"Upton - Cokeville 12/15/2017","Upton","Cokeville","2017-12-15",6,null,"Upton - Faith 1/12/2018","Upton","Faith","2018-01-12",27,null,"Upton - Tongue River 2/2/2018","Upton","Tongue River","2018-02-02",18,null,"Upton - Hulett 12/8/2017","Upton","Hulett","2017-12-08",25,null,"Upton - Faith 1/12/2018","Upton","Faith","2018-01-12",16,null,"Upton - Moorcroft 1/18/2018","Upton","Moorcroft","2018-01-18",14,null,"Upton - New Underwood 2/10/2018","Upton","New Underwood","2018-02-10",-3,null,"Upton - Rocky Mountain 3/3/2018","Upton","Rocky Mountain","2018-03-03",8,null,"Upton - Big Horn 2/16/2018","Upton","Big Horn","2018-02-16",-1,null,"Upton - Riverside 12/14/2017","Upton","Riverside","2017-12-14",8,null,"Upton - Pine Bluffs   3/2/2018","Upton","Pine Bluffs  ","2018-03-02",-3,null,"Upton - Tongue River 2/17/2018","Upton","Tongue River","2018-02-17",24,null,"Upton - Lusk    2/23/2018","Upton","Lusk   ","2018-02-23",15,null,"Upton - Southeast HS 2/22/2018","Upton","Southeast HS","2018-02-22",2,null,"Upton - Big Horn 1/27/2018","Upton","Big Horn","2018-01-27",19,9,null,"Upton - Ten Sleep 12/9/2017","Upton","Ten Sleep","2017-12-09",9,null,"Upton - Southeast HS 2/22/2018","Upton","Southeast HS","2018-02-22",21,null,"Upton - Cokeville 12/15/2017","Upton","Cokeville","2017-12-15",9,null,"Upton - Lusk    2/23/2018","Upton","Lusk   ","2018-02-23",30,null,"Upton - Wright   2/24/2018","Upton","Wright  ","2018-02-24",67,null,"Upton - Shoshoni 12/16/2017","Upton","Shoshoni","2017-12-16",0.5087719298245614,null,"Upton - Shoshoni 12/16/2017","Upton","Shoshoni","2017-12-16",0.29411764705882354,null,"Upton - Wyoming Indian 3/1/2018","Upton","Wyoming Indian","2018-03-01",16,null,"Upton - New Underwood 2/10/2018","Upton","New Underwood","2018-02-10",26,null,"Upton - Pine Bluffs   3/2/2018","Upton","Pine Bluffs  ","2018-03-02",0.75,null,"Upton - Newell 1/11/2018","Upton","Newell","2018-01-11",9,null,"Upton - Southeast HS 2/22/2018","Upton","Southeast HS","2018-02-22",26,null,"Upton - Moorcroft 1/18/2018","Upton","Moorcroft","2018-01-18",0.42105263157894735]
["Upton - Riverside 12/14/2017","Upton","Riverside","2017-12-14",78,null,"Upton - Rocky Mountain 3/3/2018","Upton","Rocky Mountain","2018-03-03",56,null,"Upton - Big Horn 2/24/2018","Upton","Big Horn","2018-02-24",62,null,"Upton - Newell 1/11/2018","Upton","Newell","2018-01-11",41,null,"Upton - New Underwood 2/10/2018","Upton","New Underwood","2018-02-10",34,null,"Upton - Hulett 12/8/2017","Upton","Hulett","2017-12-08",41,null,"Upton - Hot Springs 1/13/2018","Upton","Hot Springs","2018-01-13",31,null,"Upton - Wright 1/20/2018","Upton","Wright","2018-01-20",34,null,"Upton - Riverside 12/14/2017","Upton","Riverside","2017-12-14",26,null,"Upton - Big Horn 2/24/2018","Upton","Big Horn","2018-02-24",16,null,"Upton - Big Horn 2/16/2018","Upton","Big Horn","2018-02-16",9,null,"Upton - Lusk    2/23/2018","Upton","Lusk   ","2018-02-23",12,null,"Upton - Wyoming Indian 3/1/2018","Upton","Wyoming Indian","2018-03-01",6,null,"Upton - Lusk    2/23/2018","Upton","Lusk   ","2018-02-23",26,null,"Upton - Kaycee 12/9/2017","Upton","Kaycee","2017-12-09",19,null,"Upton - Wright 2/8/2018","Upton","Wright","2018-02-08",25,null,"Upton - Big Horn 2/16/2018","Upton","Big Horn","2018-02-16",17,null,"Upton - Lusk    2/23/2018","Upton","Lusk   ","2018-02-23",13,null,"Upton - Kaycee 12/9/2017","Upton","Kaycee","2017-12-09",-2,null,"Upton - Shoshoni 12/16/2017","Upton","Shoshoni","2017-12-16",8,null,"Upton - Kaycee 12/9/2017","Upton","Kaycee","2017-12-09",-1,null,"Upton - Lead-Deadwood 1/4/2018","Upton","Lead-Deadwood","2018-01-04",6,null,"Upton - Hot Springs 1/13/2018","Upton","Hot Springs","2018-01-13",-5,null,"Upton - Wright   2/24/2018","Upton","Wright  ","2018-02-24",23,null,"Upton - New Underwood 2/10/2018","Upton","New Underwood","2018-02-10",14,null,"Upton - Lead-Deadwood 1/4/2018","Upton","Lead-Deadwood","2018-01-04",1,null,"Upton - Faith 1/12/2018","Upton","Faith","2018-01-12",17,15,null,"Upton - Newell 1/11/2018","Upton","Newell","2018-01-11",10,null,"Upton - Big Horn 2/24/2018","Upton","Big Horn","2018-02-24",21,null,"Upton - Tongue River 2/2/2018","Upton","Tongue River","2018-02-02",10,null,"Upton - Ten Sleep 12/9/2017","Upton","Ten Sleep","2017-12-09",30,null,"Upton - Tongue River 2/2/2018","Upton","Tongue River","2018-02-02",62,null,"Upton - Ten Sleep 12/9/2017","Upton","Ten Sleep","2017-12-09",0.5,null,"Upton - Faith 1/12/2018","Upton","Faith","2018-01-12",0.3090909090909091,null,"Upton - Hot Springs 1/13/2018","Upton","Hot Springs","2018-01-13",16,null,"Upton - Wyoming Indian 3/1/2018","Upton","Wyoming Indian","2018-03-01",25,null,"Upton - Wright   2/24/2018","Upton","Wright  ","2018-02-24",0.7307692307692307,null,"Upton - Wright   2/24/2018","Upton","Wright  ","2018-02-24",9,null,"Upton - New Underwood 2/10/2018","Upton","New Underwood","2018-02-10",25,null,"Upton - Shoshoni 12/16/2017","Upton","Shoshoni","2017-12-16",0.4166666666666667]
["Upton - Ten Sleep 12/9/2017","Upton","Ten Sleep","2017-12-09",77,null,"Upton - Lead-Deadwood 1/4/2018","Upton","Lead-Deadwood","2018-01-04",59,null,"Upton - Kaycee 12/9/2017","Upton","Kaycee","2017-12-09",61,null,"Upton - Moorcroft 2/1/2018","Upton","Moorcroft","2018-02-01",41,null,"Upton - Ten Sleep 12/9/2017","Upton","Ten Sleep","2017-12-09",34,null,"Upton - Wyoming Indian 3/1/2018","Upton","Wyoming Indian","2018-03-01",41,null,"Upton - Kaycee 12/9/2017","Upton","Kaycee","2017-12-09",31,null,"Upton - Tongue River 2/2/2018","Upton","Tongue River","2018-02-02",34,null,"Upton - Lusk    2/23/2018","Upton","Lusk   ","2018-02-23",27,null,"Upton - Hulett 12/8/2017","Upton","Hulett","2017-12-08",16,null,"Upton - New Underwood 2/10/2018","Upton","New Underwood","2018-02-10",10,null,"Upton - Faith 1/12/2018","Upton","Faith","2018-01-12",12,null,"Upton - Wright   2/24/2018","Upton","Wright  ","2018-02-24",7,null,"Upton - Big Horn 1/27/2018","Upton","Big Horn","2018-01-27",26,null,"Upton - Ten Sleep 12/9/2017","Upton","Ten Sleep","2017-12-09",19,null,"Upton - Sundance 1/25/2018","Upton","Sundance","2018-01-25",24,null,"Upton - Newell 1/11/2018","Upton","Newell","2018-01-11",17,null,"Upton - Tongue River 2/17/2018","Upton","Tongue River","2018-02-17",13,null,"Upton - Big Horn 1/27/2018","Upton","Big Horn","2018-01-27",-2,null,"Upton - Wright 1/20/2018","Upton","Wright","2018-01-20",8,null,"Upton - Hot Springs 1/13/2018","Upton","Hot Springs","2018-01-13",1,null,"Upton - Big Horn 2/24/2018","Upton","Big Horn","2018-02-24",6,null,"Upton - Wright 1/20/2018","Upton","Wright","2018-01-20",-7,null,"Upton - Faith 1/12/2018","Upton","Faith","2018-01-12",23,null,"Upton - Rocky Mountain 3/3/2018","Upton","Rocky Mountain","2018-03-03",14,null,"Upton - Wright 1/20/2018","Upton","Wright","2018-01-20",1,null,"Upton - Kaycee 12/9/2017","Upton","Kaycee","2017-12-09",17,16,null,"Upton - Lusk    2/23/2018","Upton","Lusk   ","2018-02-23",11,null,"Upton - Wright 1/20/2018","Upton","Wright","2018-01-20",20,null,"Upton - Moorcroft 1/18/2018","Upton","Moorcroft","2018-01-18",11,null,"Upton - Moorcroft 1/18/2018","Upton","Moorcroft","2018-01-18",30,null,"Upton - Moorcroft 1/18/2018","Upton","Moorcroft","2018-01-18",61,null,"Upton - Moorcroft 1/18/2018","Upton","Moorcroft","2018-01-18",0.4918032786885246,null,"Upton - New Underwood 2/10/2018","Upton","New Underwood","2018-02-10",0.32075471698113206,null,"Upton - New Underwood 2/10/2018","Upton","New Underwood","2018-02-10",16,null,"Upton - Lusk    2/23/2018","Upton","Lusk   ","2018-02-23",23,null,"Upton - Big Horn 2/16/2018","Upton","Big Horn","2018-02-16",0.7222222222222222,null,"Upton - New Underwood 2/10/2018","Upton","New Underwood","2018-02-10",9,null,"Upton - Wright 2/8/2018","Upton","Wright","2018-02-08",25,null,"Upton - Cokeville 12/15/2017","Upton","Cokeville","2017-12-15",0.4166666666666667]
["Upton - Faith 1/12/2018","Upton","Faith","2018-01-12",77,null,"Upton - Wright 2/8/2018","Upton","Wright","2018-02-08",60,null,"Upton - Rocky Mountain 3/3/2018","Upton","Rocky Mountain","2018-03-03",60,null,"Upton - New Underwood 2/10/2018","Upton","New Underwood","2018-02-10",41,null,"Upton - Newell 1/11/2018","Upton","Newell","2018-01-11",30,null,"Upton - Big Horn 1/27/2018","Upton","Big Horn","2018-01-27",41,null,"Upton - Newell 1/11/2018","Upton","Newell","2018-01-11",31,null,"Upton - New Underwood 2/10/2018","Upton","New Underwood","2018-02-10",33,null,"Upton - Big Horn 2/16/2018","Upton","Big Horn","2018-02-16",27,null,"Upton - Rocky Mountain 3/3/2018","Upton","Rocky Mountain","2018-03-03",16,null,"Upton - Wyoming Indian 3/1/2018","Upton","Wyoming Indian","2018-03-01",10,null,"Upton - Riverside 12/14/2017","Upton","Riverside","2017-12-14",11,null,"Upton - Lead-Deadwood 1/4/2018","Upton","Lead-Deadwood","2018-01-04",7,null,"Upton - Moorcroft 2/1/2018","Upton","Moorcroft","2018-02-01",25,null,"Upton - New Underwood 2/10/2018","Upton","New Underwood","2018-02-10",20,null,"Upton - Tongue River 2/17/2018","Upton","Tongue River","2018-02-17",24,null,"Upton - New Underwood 2/10/2018","Upton","New Underwood","2018-02-10",18,null,"Upton - Lead-Deadwood 1/4/2018","Upton","Lead-Deadwood","2018-01-04",11,null,"Upton - Pine Bluffs   3/2/2018","Upton","Pine Bluffs  ","2018-03-02",-2,null,"Upton - Tongue River 2/17/2018","Upton","Tongue River","2018-02-17",7,null,"Upton - Pine Bluffs   3/2/2018","Upton","Pine Bluffs  ","2018-03-02",1,null,"Upton - Big Horn 2/16/2018","Upton","Big Horn","2018-02-16",6,null,"Upton - Southeast HS 2/22/2018","Upton","Southeast HS","2018-02-22",-8,null,"Upton - Newell 1/11/2018","Upton","Newell","2018-01-11",22,null,"Upton - Wright   2/24/2018","Upton","Wright  ","2018-02-24",14,null,"Upton - Hot Springs 1/13/2018","Upton","Hot Springs","2018-01-13",1,null,"Upton - Pine Bluffs   3/2/2018","Upton","Pine Bluffs  ","2018-03-02",15,18,null,"Upton - Riverside 12/14/2017","Upton","Riverside","2017-12-14",11,null,"Upton - Lead-Deadwood 1/4/2018","Upton","Lead-Deadwood","2018-01-04",19,null,"Upton - New Underwood 2/10/2018","Upton","New Underwood","2018-02-10",11,null,"Upton - Shoshoni 12/16/2017","Upton","Shoshoni","2017-12-16",29,null,"Upton - Big Horn 1/27/2018","Upton","Big Horn","2018-01-27",61,null,"Upton - Lead-Deadwood 1/4/2018","Upton","Lead-Deadwood","2018-01-04",0.49019607843137253,null,"Upton - Moorcroft 2/1/2018","Upton","Moorcroft","2018-02-01",0.34,null,"Upton - Hulett 12/8/2017","Upton","Hulett","2017-12-08",14,null,"Upton - Hulett 12/8/2017","Upton","Hulett","2017-12-08",23,null,"Upton - Wright 2/8/2018","Upton","Wright","2018-02-08",0.6896551724137931,null,"Upton - Tongue River 2/2/2018","Upton","Tongue River","2018-02-02",8,null,"Upton - Sundance 2/6/2018","Upton","Sundance","2018-02-06",25,null,"Upton - New Underwood 2/10/2018","Upton","New Underwood","2018-02-10",0.36]
["Upton - Sundance 1/25/2018","Upton","Sundance","2018-01-25",76,null,"Upton - Kaycee 12/9/2017","Upton","Kaycee","2017-12-09",61,null,"Upton - Pine Bluffs   3/2/2018","Upton","Pine Bluffs  ","2018-03-02",60,null,"Upton - Ten Sleep 12/9/2017","Upton","Ten Sleep","2017-12-09",43,null,"Upton - Lead-Deadwood 1/4/2018","Upton","Lead-Deadwood","2018-01-04",30,null,"Upton - Lusk    2/23/2018","Upton","Lusk   ","2018-02-23",40,null,"Upton - Big Horn 2/16/2018","Upton","Big Horn","2018-02-16",32,null,"Upton - Kaycee 12/9/2017","Upton","Kaycee","2017-12-09",33,null,"Upton - Faith 1/12/2018","Upton","Faith","2018-01-12",28,null,"Upton - Big Horn 1/27/2018","Upton","Big Horn","2018-01-27",15,null,"Upton - Southeast HS 2/22/2018","Upton","Southeast HS","2018-02-22",10,null,"Upton - Hulett 12/8/2017","Upton","Hulett","2017-12-08",11,null,"Upton - Pine Bluffs   3/2/2018","Upton","Pine Bluffs  ","2018-03-02",7,null,"Upton - Hulett 12/8/2017","Upton","Hulett","2017-12-08",25,null,"Upton - Newell 1/11/2018","Upton","Newell","2018-01-11",20,null,"Upton - Cokeville 12/15/2017","Upton","Cokeville","2017-12-15",24,null,"Upton - Big Horn 2/24/2018","Upton","Big Horn","2018-02-24",18,null,"Upton - Newell 1/11/2018","Upton","Newell","2018-01-11",10,null,"Upton - Wright 1/20/2018","Upton","Wright","2018-01-20",1,null,"Upton - Ten Sleep 12/9/2017","Upton","Ten Sleep","2017-12-09",7,null,"Upton - Cokeville 12/15/2017","Upton","Cokeville","2017-12-15",2,null,"Upton - Shoshoni 12/16/2017","Upton","Shoshoni","2017-12-16",6,null,"Upton - Wright 2/8/2018","Upton","Wright","2018-02-08",-9,null,"Upton - Sundance 1/25/2018","Upton","Sundance","2018-01-25",21,null,"Upton - Riverside 12/14/2017","Upton","Riverside","2017-12-14",13,null,"Upton - Big Horn 2/16/2018","Upton","Big Horn","2018-02-16",1,null,"Upton - New Underwood 2/10/2018","Upton","New Underwood","2018-02-10",15,11,null,"Upton - Moorcroft 2/1/2018","Upton","Moorcroft","2018-02-01",11,null,"Upton - Pine Bluffs   3/2/2018","Upton","Pine Bluffs  ","2018-03-02",18,null,"Upton - Wright   2/24/2018","Upton","Wright  ","2018-02-24",12,null,"Upton - Sundance 2/6/2018","Upton","Sundance","2018-02-06",29,null,"Upton - Moorcroft 2/1/2018","Upton","Moorcroft","2018-02-01",60,null,"Upton - New Underwood 2/10/2018","Upton","New Underwood","2018-02-10",0.49019607843137253,null,"Upton - Tongue River 2/17/2018","Upton","Tongue River","2018-02-17",0.3508771929824561,null,"Upton - Wright 1/20/2018","Upton","Wright","2018-01-20",13,null,"Upton - Rocky Mountain 3/3/2018","Upton","Rocky Mountain","2018-03-03",23,null,"Upton - Big Horn 2/24/2018","Upton","Big Horn","2018-02-24",0.6470588235294118,null,"Upton - Moorcroft 1/18/2018","Upton","Moorcroft","2018-01-18",8,null,"Upton - Tongue River 2/2/2018","Upton","Tongue River","2018-02-02",24,null,"Upton - Sundance 1/25/2018","Upton","Sundance","2018-01-25",0.3448275862068966]
["Upton - New Underwood 2/10/2018","Upton","New Underwood","2018-02-10",75,null,"Upton - Cokeville 12/15/2017","Upton","Cokeville","2017-12-15",62,null,"Upton - Southeast HS 2/22/2018","Upton","Southeast HS","2018-02-22",59,null,"Upton - Sundance 1/25/2018","Upton","Sundance","2018-01-25",47,null,"Upton - Sundance 1/25/2018","Upton","Sundance","2018-01-25",29,null,"Upton - Big Horn 2/24/2018","Upton","Big Horn","2018-02-24",40,null,"Upton - Lead-Deadwood 1/4/2018","Upton","Lead-Deadwood","2018-01-04",32,null,"Upton - Southeast HS 2/22/2018","Upton","Southeast HS","2018-02-22",33,null,"Upton - Moorcroft 1/18/2018","Upton","Moorcroft","2018-01-18",29,null,"Upton - Tongue River 2/17/2018","Upton","Tongue River","2018-02-17",15,null,"Upton - Newell 1/11/2018","Upton","Newell","2018-01-11",11,null,"Upton - Moorcroft 1/18/2018","Upton","Moorcroft","2018-01-18",10,null,"Upton - Tongue River 2/17/2018","Upton","Tongue River","2018-02-17",8,null,"Upton - Sundance 1/25/2018","Upton","Sundance","2018-01-25",25,null,"Upton - Lead-Deadwood 1/4/2018","Upton","Lead-Deadwood","2018-01-04",20,null,"Upton - Wright 1/20/2018","Upton","Wright","2018-01-20",24,null,"Upton - Moorcroft 1/18/2018","Upton","Moorcroft","2018-01-18",19,null,"Upton - Wright   2/24/2018","Upton","Wright  ","2018-02-24",10,null,"Upton - Wright 2/8/2018","Upton","Wright","2018-02-08",2,null,"Upton - Newell 1/11/2018","Upton","Newell","2018-01-11",7,null,"Upton - Southeast HS 2/22/2018","Upton","Southeast HS","2018-02-22",2,null,"Upton - Tongue River 2/17/2018","Upton","Tongue River","2018-02-17",6,null,"Upton - Rocky Mountain 3/3/2018","Upton","Rocky Mountain","2018-03-03",-14,null,"Upton - Ten Sleep 12/9/2017","Upton","Ten Sleep","2017-12-09",21,null,"Upton - Moorcroft 1/18/2018","Upton","Moorcroft","2018-01-18",13,null,"Upton - Wyoming Indian 3/1/2018","Upton","Wyoming Indian","2018-03-01",1,null,"Upton - Big Horn 2/24/2018","Upton","Big Horn","2018-02-24",15,21,null,"Upton - Wyoming Indian 3/1/2018","Upton","Wyoming Indian","2018-03-01",12,null,"Upton - Shoshoni 12/16/2017","Upton","Shoshoni","2017-12-16",18,null,"Upton - Sundance 2/6/2018","Upton","Sundance","2018-02-06",14,null,"Upton - Moorcroft 2/1/2018","Upton","Moorcroft","2018-02-01",28,null,"Upton - Ten Sleep 12/9/2017","Upton","Ten Sleep","2017-12-09",60,null,"Upton - Wyoming Indian 3/1/2018","Upton","Wyoming Indian","2018-03-01",0.48936170212765956,null,"Upton - Ten Sleep 12/9/2017","Upton","Ten Sleep","2017-12-09",0.35714285714285715,null,"Upton - Big Horn 2/16/2018","Upton","Big Horn","2018-02-16",13,null,"Upton - Faith 1/12/2018","Upton","Faith","2018-01-12",22,null,"Upton - Wyoming Indian 3/1/2018","Upton","Wyoming Indian","2018-03-01",0.64,null,"Upton - Faith 1/12/2018","Upton","Faith","2018-01-12",8,null,"Upton - Big Horn 1/27/2018","Upton","Big Horn","2018-01-27",24,null,"Upton - Tongue River 2/2/2018","Upton","Tongue River","2018-02-02",0.3333333333333333]
[{"$nulls":18},"Upton - Lusk    2/23/2018","Upton","Lusk   ","2018-02-23",47,null,"Upton - Cokeville 12/15/2017","Upton","Cokeville","2017-12-15",29,{"$nulls":19},"Upton - Moorcroft 2/1/2018","Upton","Moorcroft","2018-02-01",29,null,"Upton - Ten Sleep 12/9/2017","Upton","Ten Sleep","2017-12-09",15,{"$nulls":7},"Upton - Big Horn 2/16/2018","Upton","Big Horn","2018-02-16",10,null,"Upton - Ten Sleep 12/9/2017","Upton","Ten Sleep","2017-12-09",8,{"$nulls":7},"Upton - Shoshoni 12/16/2017","Upton","Shoshoni","2017-12-16",20,null,"Upton - Pine Bluffs   3/2/2018","Upton","Pine Bluffs  ","2018-03-02",24,null,"Upton - Wyoming Indian 3/1/2018","Upton","Wyoming Indian","2018-03-01",19,null,"Upton - Moorcroft 2/1/2018","Upton","Moorcroft","2018-02-01",10,{"$nulls":13},"Upton - Lusk    2/23/2018","Upton","Lusk   ","2018-02-23",2,{"$nulls":19},"Upton - Moorcroft 2/1/2018","Upton","Moorcroft","2018-02-01",13,null,"Upton - Riverside 12/14/2017","Upton","Riverside","2017-12-14",1,{"$nulls":8},"Upton - Hulett 12/8/2017","Upton","Hulett","2017-12-08",13,{"$nulls":7},"Upton - Wyoming Indian 3/1/2018","Upton","Wyoming Indian","2018-03-01",14,null,"Upton - Sundance 1/25/2018","Upton","Sundance","2018-01-25",28,{"$nulls":19},"Upton - Lusk    2/23/2018","Upton","Lusk   ","2018-02-23",13,{"$nulls":13},"Upton - Southeast HS 2/22/2018","Upton","Southeast HS","2018-02-22",8,null,"Upton - Tongue River 2/17/2018","Upton","Tongue River","2018-02-17",24,null,"Upton - Kaycee 12/9/2017","Upton","Kaycee","2017-12-09",0.3333333333333333]
[{"$nulls":48},"Upton - Sundance 1/25/2018","Upton","Sundance","2018-01-25",29,{"$nulls":13},"Upton - Wright 1/20/2018","Upton","Wright","2018-01-20",10,null,"Upton - Rocky Mountain 3/3/2018","Upton","Rocky Mountain","2018-03-03",8,{"$nulls":19},"Upton - Sundance 2/6/2018","Upton","Sundance","2018-02-06",19,{"$nulls":43},"Upton - Tongue River 2/2/2018","Upton","Tongue River","2018-02-02",13,null,"Upton - Rocky Mountain 3/3/2018","Upton","Rocky Mountain","2018-03-03",1,{"$nulls":8},"Upton - Big Horn 2/16/2018","Upton","Big Horn","2018-02-16",14,{"$nulls":61},"Upton - Cokeville 12/15/2017","Upton","Cokeville","2017-12-15",24,null,"Upton - Lead-Deadwood 1/4/2018","Upton","Lead-Deadwood","2018-01-04",0.3333333333333333]
[{"$nulls":48},"Upton - Ten Sleep 12/9/2017","Upton","Ten Sleep","2017-12-09",29,{"$nulls":19},"Upton - Hot Springs 1/13/2018","Upton","Hot Springs","2018-01-13",8,{"$nulls":73},"Upton - Cokeville 12/15/2017","Upton","Cokeville","2017-12-15",1,{"$nulls":8},"Upton - Hot Springs 1/13/2018","Upton","Hot Springs","2018-01-13",14]
[{"$nulls":72},"Upton - Southeast HS 2/22/2018","Upton","Southeast HS","2018-02-22",8,{"$nulls":73},"Upton - Tongue River 2/2/2018","Upton","Tongue River","2018-02-02",1,{"$nulls":8},"Upton - Cokeville 12/15/2017","Upton","Cokeville","2017-12-15",14]
[{"$nulls":163},"Upton - Southeast HS 2/22/2018","Upton","Southeast HS","2018-02-22",14]
[{"$nulls":163},"Upton - Tongue River 2/2/2018","Upton","Tongue River","2018-02-02",14]
[{"$nulls":163},"Upton - Moorcroft 1/18/2018","Upton","Moorcroft","2018-01-18",14]
[{"$nulls":163},"Upton - Sundance 1/25/2018","Upton","Sundance","2018-01-25",14]
[{"$nulls":163},"Upton - New Underwood 2/10/2018","Upton","New Underwood","2018-02-10",15]
[{"$nulls":163},"Upton - Big Horn 2/24/2018","Upton","Big Horn","2018-02-24",15]
[{"$nulls":163},"Upton - Pine Bluffs   3/2/2018","Upton","Pine Bluffs  ","2018-03-02",15]
[{"$nulls":163},"Upton - Faith 1/12/2018","Upton","Faith","2018-01-12",17]
[{"$nulls":163},"Upton - Kaycee 12/9/2017","Upton","Kaycee","2017-12-09",17]
[{"$nulls":163},"Upton - Big Horn 1/27/2018","Upton","Big Horn","2018-01-27",19]
[{"$nulls":163},"Upton - Rocky Mountain 3/3/2018","Upton","Rocky Mountain","2018-03-03",19]
[{"$nulls":163},"Upton - Wright 2/8/2018","Upton","Wright","2018-02-08",20]
[{"$nulls":163},"Upton - Lead-Deadwood 1/4/2018","Upton","Lead-Deadwood","2018-01-04",21]
[{"$nulls":163},"Upton - Wright 1/20/2018","Upton","Wright","2018-01-20",21]
{"$rows_empty":69}
[{"$nulls":199},"Opp GP",1]
[]
["School, Opponent,Game#","School","Opponent","Date","Max of TL PTS",null,"School, Opponent,Game#","School","Opponent","Date","Min of TL PTS",null,"School, Opponent,Game#","School","Opponent","Date","Max of Opp TL PTS",null,"School, Opponent,Game#","School","Opponent","Date","Min of Opp TL PTS",null,"School, Opponent,Game#","School","Opponent","Date","Max of PT Margin",null,"School, Opponent,Game#","School","Opponent","Date","Sum of TotalREB",null,"School, Opponent,Game#","School","Opponent","Date","Sum of TotalREB",null,"School, Opponent,Game#","School","Opponent","Date","Sum of OppTotalReb",null,"School, Opponent,Game#","School","Opponent","Date","Sum of OppTotalReb",null,"School, Opponent,Game#","School","Opponent","Date","Max of OFF REB",null,"School, Opponent,Game#","School","Opponent","Date","Min of OFF REB",null,"School, Opponent,Game#","School","Opponent","Date","Max of Opp OFF REB",null,"School, Opponent,Game#","School","Opponent","Date","Min of Opp OFF REB",null,"School, Opponent,Game#","School","Opponent","Date","Max of DEF REB",null,"School, Opponent,Game#","School","Opponent","Date","Min of DEF REB",null,"School, Opponent,Game#","School","Opponent","Date","Max of Opp DEF REB",null,"School, Opponent,Game#","School","Opponent","Date","Min of Opp DEF REB",null,"School, Opponent,Game#","School","Opponent","Date","Max of REB Margin",null,"School, Opponent,Game#","School","Opponent","Date","Min of REB Margin",null,"School, Opponent,Game#","School","Opponent","Date","Max of OREB Margin",null,"School, Opponent,Game#","School","Opponent","Date","Min of OREB Margin",null,"School, Opponent,Game#","School","Opponent","Date","Max of DREB Margin",null,"School, Opponent,Game#","School","Opponent","Date","Min of DREB Margin",null,"School, Opponent,Game#","School","Opponent","Date","Sum of AST",null,"School, Opponent,Game#","School","Opponent","Date","Sum of STL",null,"School, Opponent,Game#","School","Opponent","Date","Sum of BLK",null,"School, Opponent,Game#","School","Opponent","Date","Sum of TO","Sum of FOUL",null,"School, Opponent,Game#","School","Opponent","Date","Sum of TO",null,"School, Opponent,Game#","School","Opponent","Date","Sum of FOUL",null,"School, Opponent,Game#","School","Opponent","Date","Sum of FOUL",null,"School, Opponent,Game#","School","Opponent","Date","Sum of TotalFGM",null,"School, Opponent,Game#","School","Opponent","Date","Sum of TotalFGA",null,"School, Opponent,Game#","School","Opponent","Date","Max of FG%*",null,"School, Opponent,Game#","School","Opponent","Date","Max of Opp FG%*",null,"School, Opponent,Game#","School","Opponent","Date","Sum of FTM",null,"School, Opponent,Game#","School","Opponent","Date","Sum of FTA",null,"School, Opponent,Game#","School","Opponent","Date","Max of FT %*",null,"School, Opponent,Game#","School","Opponent","Date","Sum of 3FGM",null,"School, Opponent,Game#","School","Opponent","Date","Sum of 3FGA",null,"School, Opponent,Game#","School","Opponent","Date","Max of 3 FG%*"]
["Upton - Tongue River 2/2/2018","Upton","Tongue River","2018-02-02",83,null,"Upton - Wright 1/20/2018","Upton","Wright","2018-01-20",51,null,"Upton - Wright 2/8/2018","Upton","Wright","2018-02-08",67,null,"Upton - Moorcroft 1/18/2018","Upton","Moorcroft","2018-01-18",38,null,"Upton - Moorcroft 1/18/2018","Upton","Moorcroft","2018-01-18",36,null,"Upton - Tongue River 2/17/2018","Upton","Tongue River","2018-02-17",45,null,"Upton - Tongue River 2/2/2018","Upton","Tongue River","2018-02-02",30,null,"Upton - Big Horn 1/27/2018","Upton","Big Horn","2018-01-27",43,null,"Upton - Sundance 2/6/2018","Upton","Sundance","2018-02-06",25,null,"Upton - Wright 2/8/2018","Upton","Wright","2018-02-08",20,null,"Upton - Sundance 1/25/2018","Upton","Sundance","2018-01-25",8,null,"Upton - Big Horn 1/27/2018","Upton","Big Horn","2018-01-27",20,null,"Upton - Sundance 1/25/2018","Upton","Sundance","2018-01-25",5,null,"Upton - Tongue River 2/17/2018","Upton","Tongue River","2018-02-17",30,null,"Upton - Wright 2/8/2018","Upton","Wright","2018-02-08",16,null,"Upton - Wright 2/8/2018","Upton","Wright","2018-02-08",25,null,"Upton - Big Horn 2/16/2018","Upton","Big Horn","2018-02-16",17,null,"Upton - Sundance 2/6/2018","Upton","Sundance","2018-02-06",19,null,"Upton - Tongue River 2/2/2018","Upton","Tongue River","2018-02-02",-4,null,"Upton - Sundance 2/6/2018","Upton","Sundance","2018-02-06",14,null,"Upton - Big Horn 1/27/2018","Upton","Big Horn","2018-01-27",-5,null,"Upton - Moorcroft 1/18/2018","Upton","Moorcroft","2018-01-18",10,null,"Upton - Moorcroft 1/18/2018","Upton","Moorcroft","2018-01-18",10,null,"Upton - Tongue River 2/2/2018","Upton","Tongue River","2018-02-02",28,null,"Upton - Sundance 1/25/2018","Upton","Sundance","2018-01-25",16,null,"Upton - Moorcroft 2/1/2018","Upton","Moorcroft","2018-02-01",5,null,"Upton - Wright 1/20/2018","Upton","Wright","2018-01-20",21,20,null,"Upton - Sundance 2/6/2018","Upton","Sundance","2018-02-06",4,null,"Upton - Wright 2/8/2018","Upton","Wright","2018-02-08",22,null,"Upton - Moorcroft 2/1/2018","Upton","Moorcroft","2018-02-01",9,null,"Upton - Tongue River 2/2/2018","Upton","Tongue River","2018-02-02",35,null,"Upton - Tongue River 2/17/2018","Upton","Tongue River","2018-02-17",69,null,"Upton - Tongue River 2/2/2018","Upton","Tongue River","2018-02-02",0.5645161290322581,null,"Upton - Moorcroft 1/18/2018","Upton","Moorcroft","2018-01-18",0.29411764705882354,null,"Upton - Wright 2/8/2018","Upton","Wright","2018-02-08",20,null,"Upton - Wright 2/8/2018","Upton","Wright","2018-02-08",29,null,"Upton - Sundance 1/25/2018","Upton","Sundance","2018-01-25",0.7692307692307693,null,"Upton - Big Horn 1/27/2018","Upton","Big Horn","2018-01-27",11,null,"Upton - Sundance 1/25/2018","Upton","Sundance","2018-01-25",29,null,"Upton - Big Horn 1/27/2018","Upton","Big Horn","2018-01-27",0.4583333333333333]
["Upton - Tongue River 2/17/2018","Upton","Tongue River","2018-02-17",81,null,"Upton - Big Horn 2/16/2018","Upton","Big Horn","2018-02-16",55,null,"Upton - Wright 1/20/2018","Upton","Wright","2018-01-20",66,null,"Upton - Moorcroft 2/1/2018","Upton","Moorcroft","2018-02-01",41,null,"Upton - Sundance 1/25/2018","Upton","Sundance","2018-01-25",29,null,"Upton - Sundance 2/6/2018","Upton","Sundance","2018-02-06",44,null,"Upton - Big Horn 2/16/2018","Upton","Big Horn","2018-02-16",32,null,"Upton - Wright 2/8/2018","Upton","Wright","2018-02-08",34,null,"Upton - Big Horn 2/16/2018","Upton","Big Horn","2018-02-16",27,null,"Upton - Sundance 2/6/2018","Upton","Sundance","2018-02-06",20,null,"Upton - Big Horn 2/16/2018","Upton","Big Horn","2018-02-16",9,null,"Upton - Tongue River 2/2/2018","Upton","Tongue River","2018-02-02",14,null,"Upton - Sundance 2/6/2018","Upton","Sundance","2018-02-06",6,null,"Upton - Moorcroft 1/18/2018","Upton","Moorcroft","2018-01-18",29,null,"Upton - Wright 1/20/2018","Upton","Wright","2018-01-20",17,null,"Upton - Tongue River 2/17/2018","Upton","Tongue River","2018-02-17",24,null,"Upton - Moorcroft 1/18/2018","Upton","Moorcroft","2018-01-18",19,null,"Upton - Moorcroft 1/18/2018","Upton","Moorcroft","2018-01-18",14,null,"Upton - Big Horn 1/27/2018","Upton","Big Horn","2018-01-27",-2,null,"Upton - Wright 2/8/2018","Upton","Wright","2018-02-08",11,null,"Upton - Tongue River 2/2/2018","Upton","Tongue River","2018-02-02",-2,null,"Upton - Tongue River 2/17/2018","Upton","Tongue River","2018-02-17",6,null,"Upton - Tongue River 2/17/2018","Upton","Tongue River","2018-02-17",6,null,"Upton - Tongue River 2/17/2018","Upton","Tongue River","2018-02-17",24,null,"Upton - Moorcroft 1/18/2018","Upton","Moorcroft","2018-01-18",13,null,"Upton - Wright 2/8/2018","Upton","Wright","2018-02-08",3,null,"Upton - Wright 2/8/2018","Upton","Wright","2018-02-08",20,22,null,"Upton - Tongue River 2/17/2018","Upton","Tongue River","2018-02-17",7,null,"Upton - Sundance 1/25/2018","Upton","Sundance","2018-01-25",22,null,"Upton - Big Horn 2/16/2018","Upton","Big Horn","2018-02-16",9,null,"Upton - Tongue River 2/17/2018","Upton","Tongue River","2018-02-17",33,null,"Upton - Sundance 2/6/2018","Upton","Sundance","2018-02-06",67,null,"Upton - Moorcroft 1/18/2018","Upton","Moorcroft","2018-01-18",0.4918032786885246,null,"Upton - Moorcroft 2/1/2018","Upton","Moorcroft","2018-02-01",0.34,null,"Upton - Big Horn 2/16/2018","Upton","Big Horn","2018-02-16",13,null,"Upton - Big Horn 2/16/2018","Upton","Big Horn","2018-02-16",18,null,"Upton - Wright 1/20/2018","Upton","Wright","2018-01-20",0.7647058823529411,null,"Upton - Sundance 1/25/2018","Upton","Sundance","2018-01-25",10,null,"Upton - Wright 1/20/2018","Upton","Wright","2018-01-20",28,null,"Upton - Moorcroft 1/18/2018","Upton","Moorcroft","2018-01-18",0.42105263157894735]
["Upton - Sundance 1/25/2018","Upton","Sundance","2018-01-25",76,null,"Upton - Wright 2/8/2018","Upton","Wright","2018-02-08",60,null,"Upton - Big Horn 1/27/2018","Upton","Big Horn","2018-01-27",66,null,"Upton - Sundance 1/25/2018","Upton","Sundance","2018-01-25",47,null,"Upton - Tongue River 2/17/2018","Upton","Tongue River","2018-02-17",24,null,"Upton - Moorcroft 1/18/2018","Upton","Moorcroft","2018-01-18",43,null,"Upton - Sundance 1/25/2018","Upton","Sundance","2018-01-25",33,null,"Upton - Tongue River 2/2/2018","Upton","Tongue River","2018-02-02",34,null,"Upton - Moorcroft 2/1/2018","Upton","Moorcroft","2018-02-01",29,null,"Upton - Wright 1/20/2018","Upton","Wright","2018-01-20",18,null,"Upton - Tongue River 2/2/2018","Upton","Tongue River","2018-02-02",12,null,"Upton - Wright 1/20/2018","Upton","Wright","2018-01-20",10,null,"Upton - Tongue River 2/17/2018","Upton","Tongue River","2018-02-17",8,null,"Upton - Big Horn 1/27/2018","Upton","Big Horn","2018-01-27",26,null,"Upton - Tongue River 2/2/2018","Upton","Tongue River","2018-02-02",18,null,"Upton - Wright 1/20/2018","Upton","Wright","2018-01-20",24,null,"Upton - Sundance 2/6/2018","Upton","Sundance","2018-02-06",19,null,"Upton - Tongue River 2/17/2018","Upton","Tongue River","2018-02-17",13,null,"Upton - Wright 1/20/2018","Upton","Wright","2018-01-20",1,null,"Upton - Wright 1/20/2018","Upton","Wright","2018-01-20",8,null,"Upton - Big Horn 2/16/2018","Upton","Big Horn","2018-02-16",-1,null,"Upton - Big Horn 2/16/2018","Upton","Big Horn","2018-02-16",6,null,"Upton - Big Horn 2/16/2018","Upton","Big Horn","2018-02-16",6,null,"Upton - Moorcroft 1/18/2018","Upton","Moorcroft","2018-01-18",24,null,"Upton - Tongue River 2/2/2018","Upton","Tongue River","2018-02-02",13,null,"Upton - Big Horn 1/27/2018","Upton","Big Horn","2018-01-27",3,null,"Upton - Big Horn 1/27/2018","Upton","Big Horn","2018-01-27",19,9,null,"Upton - Moorcroft 2/1/2018","Upton","Moorcroft","2018-02-01",11,null,"Upton - Wright 1/20/2018","Upton","Wright","2018-01-20",20,null,"Upton - Big Horn 1/27/2018","Upton","Big Horn","2018-01-27",9,null,"Upton - Moorcroft 1/18/2018","Upton","Moorcroft","2018-01-18",30,null,"Upton - Tongue River 2/2/2018","Upton","Tongue River","2018-02-02",62,null,"Upton - Tongue River 2/17/2018","Upton","Tongue River","2018-02-17",0.4782608695652174,null,"Upton - Tongue River 2/17/2018","Upton","Tongue River","2018-02-17",0.3508771929824561,null,"Upton - Wright 1/20/2018","Upton","Wright","2018-01-20",13,null,"Upton - Wright 1/20/2018","Upton","Wright","2018-01-20",17,null,"Upton - Big Horn 2/16/2018","Upton","Big Horn","2018-02-16",0.7222222222222222,null,"Upton - Tongue River 2/2/2018","Upton","Tongue River","2018-02-02",8,null,"Upton - Sundance 2/6/2018","Upton","Sundance","2018-02-06",25,null,"Upton - Sundance 1/25/2018","Upton","Sundance","2018-01-25",0.3448275862068966]
["Upton - Moorcroft 1/18/2018","Upton","Moorcroft","2018-01-18",74,null,"Upton - Moorcroft 2/1/2018","Upton","Moorcroft","2018-02-01",64,null,"Upton - Tongue River 2/2/2018","Upton","Tongue River","2018-02-02",65,null,"Upton - Sundance 2/6/2018","Upton","Sundance","2018-02-06",49,null,"Upton - Moorcroft 2/1/2018","Upton","Moorcroft","2018-02-01",23,null,"Upton - Big Horn 1/27/2018","Upton","Big Horn","2018-01-27",41,null,"Upton - Wright 1/20/2018","Upton","Wright","2018-01-20",35,null,"Upton - Wright 1/20/2018","Upton","Wright","2018-01-20",34,null,"Upton - Moorcroft 1/18/2018","Upton","Moorcroft","2018-01-18",29,null,"Upton - Tongue River 2/17/2018","Upton","Tongue River","2018-02-17",15,null,"Upton - Moorcroft 2/1/2018","Upton","Moorcroft","2018-02-01",14,null,"Upton - Big Horn 2/16/2018","Upton","Big Horn","2018-02-16",10,null,"Upton - Moorcroft 2/1/2018","Upton","Moorcroft","2018-02-01",9,null,"Upton - Sundance 1/25/2018","Upton","Sundance","2018-01-25",25,null,"Upton - Big Horn 2/16/2018","Upton","Big Horn","2018-02-16",23,null,"Upton - Sundance 1/25/2018","Upton","Sundance","2018-01-25",24,null,"Upton - Moorcroft 2/1/2018","Upton","Moorcroft","2018-02-01",20,null,"Upton - Moorcroft 2/1/2018","Upton","Moorcroft","2018-02-01",10,null,"Upton - Wright 2/8/2018","Upton","Wright","2018-02-08",2,null,"Upton - Tongue River 2/17/2018","Upton","Tongue River","2018-02-17",7,null,"Upton - Sundance 1/25/2018","Upton","Sundance","2018-01-25",3,null,"Upton - Sundance 2/6/2018","Upton","Sundance","2018-02-06",5,null,"Upton - Sundance 2/6/2018","Upton","Sundance","2018-02-06",5,null,"Upton - Sundance 1/25/2018","Upton","Sundance","2018-01-25",21,null,"Upton - Moorcroft 2/1/2018","Upton","Moorcroft","2018-02-01",13,null,"Upton - Big Horn 2/16/2018","Upton","Big Horn","2018-02-16",1,null,"Upton - Sundance 1/25/2018","Upton","Sundance","2018-01-25",14,22,null,"Upton - Tongue River 2/2/2018","Upton","Tongue River","2018-02-02",14,null,"Upton - Tongue River 2/17/2018","Upton","Tongue River","2018-02-17",15,null,"Upton - Tongue River 2/2/2018","Upton","Tongue River","2018-02-02",10,null,"Upton - Sundance 2/6/2018","Upton","Sundance","2018-02-06",29,null,"Upton - Big Horn 1/27/2018","Upton","Big Horn","2018-01-27",61,null,"Upton - Sundance 1/25/2018","Upton","Sundance","2018-01-25",0.4745762711864407,null,"Upton - Sundance 1/25/2018","Upton","Sundance","2018-01-25",0.36585365853658536,null,"Upton - Sundance 1/25/2018","Upton","Sundance","2018-01-25",10,null,"Upton - Tongue River 2/17/2018","Upton","Tongue River","2018-02-17",16,null,"Upton - Wright 2/8/2018","Upton","Wright","2018-02-08",0.6896551724137931,null,"Upton - Moorcroft 1/18/2018","Upton","Moorcroft","2018-01-18",8,null,"Upton - Wright 2/8/2018","Upton","Wright","2018-02-08",25,null,"Upton - Tongue River 2/2/2018","Upton","Tongue River","2018-02-02",0.3333333333333333]
["Upton - Sundance 2/6/2018","Upton","Sundance","2018-02-06",69,null,"Upton - Big Horn 1/27/2018","Upton","Big Horn","2018-01-27",65,null,"Upton - Tongue River 2/17/2018","Upton","Tongue River","2018-02-17",57,null,"Upton - Big Horn 2/16/2018","Upton","Big Horn","2018-02-16",52,null,"Upton - Sundance 2/6/2018","Upton","Sundance","2018-02-06",20,null,"Upton - Moorcroft 2/1/2018","Upton","Moorcroft","2018-02-01",39,null,"Upton - Wright 2/8/2018","Upton","Wright","2018-02-08",36,null,"Upton - Tongue River 2/17/2018","Upton","Tongue River","2018-02-17",32,null,"Upton - Sundance 1/25/2018","Upton","Sundance","2018-01-25",29,null,"Upton - Big Horn 1/27/2018","Upton","Big Horn","2018-01-27",15,null,"Upton - Moorcroft 1/18/2018","Upton","Moorcroft","2018-01-18",14,null,"Upton - Moorcroft 1/18/2018","Upton","Moorcroft","2018-01-18",10,null,"Upton - Wright 2/8/2018","Upton","Wright","2018-02-08",9,null,"Upton - Moorcroft 2/1/2018","Upton","Moorcroft","2018-02-01",25,null,"Upton - Sundance 2/6/2018","Upton","Sundance","2018-02-06",24,null,"Upton - Big Horn 1/27/2018","Upton","Big Horn","2018-01-27",23,null,"Upton - Tongue River 2/2/2018","Upton","Tongue River","2018-02-02",20,null,"Upton - Big Horn 2/16/2018","Upton","Big Horn","2018-02-16",5,null,"Upton - Sundance 1/25/2018","Upton","Sundance","2018-01-25",4,null,"Upton - Moorcroft 2/1/2018","Upton","Moorcroft","2018-02-01",5,null,"Upton - Moorcroft 1/18/2018","Upton","Moorcroft","2018-01-18",4,null,"Upton - Moorcroft 2/1/2018","Upton","Moorcroft","2018-02-01",5,null,"Upton - Moorcroft 2/1/2018","Upton","Moorcroft","2018-02-01",5,null,"Upton - Big Horn 1/27/2018","Upton","Big Horn","2018-01-27",20,null,"Upton - Wright 2/8/2018","Upton","Wright","2018-02-08",12,null,"Upton - Wright 1/20/2018","Upton","Wright","2018-01-20",1,null,"Upton - Tongue River 2/2/2018","Upton","Tongue River","2018-02-02",14,10,null,"Upton - Sundance 1/25/2018","Upton","Sundance","2018-01-25",14,null,"Upton - Sundance 2/6/2018","Upton","Sundance","2018-02-06",14,null,"Upton - Moorcroft 1/18/2018","Upton","Moorcroft","2018-01-18",11,null,"Upton - Sundance 1/25/2018","Upton","Sundance","2018-01-25",28,null,"Upton - Moorcroft 1/18/2018","Upton","Moorcroft","2018-01-18",61,null,"Upton - Moorcroft 2/1/2018","Upton","Moorcroft","2018-02-01",0.4666666666666667,null,"Upton - Big Horn 1/27/2018","Upton","Big Horn","2018-01-27",0.3698630136986301,null,"Upton - Tongue River 2/17/2018","Upton","Tongue River","2018-02-17",9,null,"Upton - Sundance 1/25/2018","Upton","Sundance","2018-01-25",13,null,"Upton - Moorcroft 2/1/2018","Upton","Moorcroft","2018-02-01",0.6363636363636364,null,"Upton - Wright 2/8/2018","Upton","Wright","2018-02-08",6,null,"Upton - Tongue River 2/2/2018","Upton","Tongue River","2018-02-02",24,null,"Upton - Big Horn 2/16/2018","Upton","Big Horn","2018-02-16",0.3076923076923077]
["Upton - Big Horn 1/27/2018","Upton","Big Horn","2018-01-27",65,null,"Upton - Sundance 2/6/2018","Upton","Sundance","2018-02-06",69,null,"Upton - Big Horn 2/16/2018","Upton","Big Horn","2018-02-16",52,null,"Upton - Tongue River 2/17/2018","Upton","Tongue River","2018-02-17",57,null,"Upton - Tongue River 2/2/2018","Upton","Tongue River","2018-02-02",18,null,"Upton - Wright 2/8/2018","Upton","Wright","2018-02-08",36,null,"Upton - Moorcroft 2/1/2018","Upton","Moorcroft","2018-02-01",39,null,"Upton - Moorcroft 1/18/2018","Upton","Moorcroft","2018-01-18",29,null,"Upton - Tongue River 2/17/2018","Upton","Tongue River","2018-02-17",32,null,"Upton - Moorcroft 1/18/2018","Upton","Moorcroft","2018-01-18",14,null,"Upton - Tongue River 2/17/2018","Upton","Tongue River","2018-02-17",15,null,"Upton - Wright 2/8/2018","Upton","Wright","2018-02-08",9,null,"Upton - Wright 1/20/2018","Upton","Wright","2018-01-20",10,null,"Upton - Sundance 2/6/2018","Upton","Sundance","2018-02-06",24,null,"Upton - Moorcroft 2/1/2018","Upton","Moorcroft","2018-02-01",25,null,"Upton - Tongue River 2/2/2018","Upton","Tongue River","2018-02-02",20,null,"Upton - Big Horn 1/27/2018","Upton","Big Horn","2018-01-27",23,null,"Upton - Sundance 1/25/2018","Upton","Sundance","2018-01-25",4,null,"Upton - Big Horn 2/16/2018","Upton","Big Horn","2018-02-16",5,null,"Upton - Moorcroft 1/18/2018","Upton","Moorcroft","2018-01-18",4,null,"Upton - Moorcroft 2/1/2018","Upton","Moorcroft","2018-02-01",5,null,"Upton - Big Horn 1/27/2018","Upton","Big Horn","2018-01-27",3,null,"Upton - Big Horn 1/27/2018","Upton","Big Horn","2018-01-27",3,null,"Upton - Moorcroft 2/1/2018","Upton","Moorcroft","2018-02-01",19,null,"Upton - Wright 1/20/2018","Upton","Wright","2018-01-20",9,null,"Upton - Tongue River 2/2/2018","Upton","Tongue River","2018-02-02",1,null,"Upton - Big Horn 2/16/2018","Upton","Big Horn","2018-02-16",14,9,null,"Upton - Big Horn 2/16/2018","Upton","Big Horn","2018-02-16",14,null,"Upton - Moorcroft 1/18/2018","Upton","Moorcroft","2018-01-18",11,null,"Upton - Sundance 2/6/2018","Upton","Sundance","2018-02-06",14,null,"Upton - Moorcroft 2/1/2018","Upton","Moorcroft","2018-02-01",28,null,"Upton - Moorcroft 2/1/2018","Upton","Moorcroft","2018-02-01",60,null,"Upton - Big Horn 2/16/2018","Upton","Big Horn","2018-02-16",0.4523809523809524,null,"Upton - Big Horn 2/16/2018","Upton","Big Horn","2018-02-16",0.38596491228070173,null,"Upton - Moorcroft 2/1/2018","Upton","Moorcroft","2018-02-01",7,null,"Upton - Tongue River 2/2/2018","Upton","Tongue River","2018-02-02",12,null,"Upton - Tongue River 2/17/2018","Upton","Tongue River","2018-02-17",0.5625,null,"Upton - Tongue River 2/17/2018","Upton","Tongue River","2018-02-17",6,null,"Upton - Tongue River 2/17/2018","Upton","Tongue River","2018-02-17",24,null,"Upton - Tongue River 2/17/2018","Upton","Tongue River","2018-02-17",0.25]
["Upton - Moorcroft 2/1/2018","Upton","Moorcroft","2018-02-01",64,null,"Upton - Moorcroft 1/18/2018","Upton","Moorcroft","2018-01-18",74,null,"Upton - Sundance 2/6/2018","Upton","Sundance","2018-02-06",49,null,"Upton - Tongue River 2/2/2018","Upton","Tongue River","2018-02-02",65,null,"Upton - Big Horn 2/16/2018","Upton","Big Horn","2018-02-16",3,null,"Upton - Wright 1/20/2018","Upton","Wright","2018-01-20",35,null,"Upton - Big Horn 1/27/2018","Upton","Big Horn","2018-01-27",41,null,"Upton - Sundance 1/25/2018","Upton","Sundance","2018-01-25",29,null,"Upton - Wright 1/20/2018","Upton","Wright","2018-01-20",34,null,"Upton - Moorcroft 2/1/2018","Upton","Moorcroft","2018-02-01",14,null,"Upton - Big Horn 1/27/2018","Upton","Big Horn","2018-01-27",15,null,"Upton - Moorcroft 2/1/2018","Upton","Moorcroft","2018-02-01",9,null,"Upton - Big Horn 2/16/2018","Upton","Big Horn","2018-02-16",10,null,"Upton - Big Horn 2/16/2018","Upton","Big Horn","2018-02-16",23,null,"Upton - Sundance 1/25/2018","Upton","Sundance","2018-01-25",25,null,"Upton - Moorcroft 2/1/2018","Upton","Moorcroft","2018-02-01",20,null,"Upton - Sundance 1/25/2018","Upton","Sundance","2018-01-25",24,null,"Upton - Wright 2/8/2018","Upton","Wright","2018-02-08",2,null,"Upton - Moorcroft 2/1/2018","Upton","Moorcroft","2018-02-01",10,null,"Upton - Sundance 1/25/2018","Upton","Sundance","2018-01-25",3,null,"Upton - Tongue River 2/17/2018","Upton","Tongue River","2018-02-17",7,null,"Upton - Sundance 1/25/2018","Upton","Sundance","2018-01-25",1,null,"Upton - Sundance 1/25/2018","Upton","Sundance","2018-01-25",1,null,"Upton - Sundance 2/6/2018","Upton","Sundance","2018-02-06",16,null,"Upton - Tongue River 2/17/2018","Upton","Tongue River","2018-02-17",8,null,"Upton - Tongue River 2/17/2018","Upton","Tongue River","2018-02-17",0,null,"Upton - Moorcroft 1/18/2018","Upton","Moorcroft","2018-01-18",14,11,null,"Upton - Moorcroft 1/18/2018","Upton","Moorcroft","2018-01-18",14,null,"Upton - Tongue River 2/2/2018","Upton","Tongue River","2018-02-02",10,null,"Upton - Tongue River 2/17/2018","Upton","Tongue River","2018-02-17",15,null,"Upton - Big Horn 1/27/2018","Upton","Big Horn","2018-01-27",25,null,"Upton - Sundance 1/25/2018","Upton","Sundance","2018-01-25",59,null,"Upton - Sundance 2/6/2018","Upton","Sundance","2018-02-06",0.43283582089552236,null,"Upton - Sundance 2/6/2018","Upton","Sundance","2018-02-06",0.425531914893617,null,"Upton - Moorcroft 1/18/2018","Upton","Moorcroft","2018-01-18",6,null,"Upton - Moorcroft 1/18/2018","Upton","Moorcroft","2018-01-18",12,null,"Upton - Moorcroft 1/18/2018","Upton","Moorcroft","2018-01-18",0.5,null,"Upton - Wright 1/20/2018","Upton","Wright","2018-01-20",6,null,"Upton - Big Horn 1/27/2018","Upton","Big Horn","2018-01-27",24,null,"Upton - Wright 2/8/2018","Upton","Wright","2018-02-08",0.24]
["Upton - Wright 2/8/2018","Upton","Wright","2018-02-08",60,null,"Upton - Sundance 1/25/2018","Upton","Sundance","2018-01-25",76,null,"Upton - Sundance 1/25/2018","Upton","Sundance","2018-01-25",47,null,"Upton - Big Horn 1/27/2018","Upton","Big Horn","2018-01-27",66,null,"Upton - Big Horn 1/27/2018","Upton","Big Horn","2018-01-27",-1,null,"Upton - Sundance 1/25/2018","Upton","Sundance","2018-01-25",33,null,"Upton - Moorcroft 1/18/2018","Upton","Moorcroft","2018-01-18",43,null,"Upton - Moorcroft 2/1/2018","Upton","Moorcroft","2018-02-01",29,null,"Upton - Tongue River 2/2/2018","Upton","Tongue River","2018-02-02",34,null,"Upton - Tongue River 2/2/2018","Upton","Tongue River","2018-02-02",12,null,"Upton - Wright 1/20/2018","Upton","Wright","2018-01-20",18,null,"Upton - Tongue River 2/17/2018","Upton","Tongue River","2018-02-17",8,null,"Upton - Moorcroft 1/18/2018","Upton","Moorcroft","2018-01-18",10,null,"Upton - Tongue River 2/2/2018","Upton","Tongue River","2018-02-02",18,null,"Upton - Big Horn 1/27/2018","Upton","Big Horn","2018-01-27",26,null,"Upton - Moorcroft 1/18/2018","Upton","Moorcroft","2018-01-18",19,null,"Upton - Wright 1/20/2018","Upton","Wright","2018-01-20",24,null,"Upton - Wright 1/20/2018","Upton","Wright","2018-01-20",1,null,"Upton - Tongue River 2/17/2018","Upton","Tongue River","2018-02-17",13,null,"Upton - Big Horn 2/16/2018","Upton","Big Horn","2018-02-16",-1,null,"Upton - Wright 1/20/2018","Upton","Wright","2018-01-20",8,null,"Upton - Tongue River 2/2/2018","Upton","Tongue River","2018-02-02",-2,null,"Upton - Tongue River 2/2/2018","Upton","Tongue River","2018-02-02",-2,null,"Upton - Big Horn 2/16/2018","Upton","Big Horn","2018-02-16",13,null,"Upton - Big Horn 1/27/2018","Upton","Big Horn","2018-01-27",8,null,"Upton - Sundance 1/25/2018","Upton","Sundance","2018-01-25",0,null,"Upton - Moorcroft 2/1/2018","Upton","Moorcroft","2018-02-01",11,9,null,"Upton - Big Horn 1/27/2018","Upton","Big Horn","2018-01-27",19,null,"Upton - Big Horn 2/16/2018","Upton","Big Horn","2018-02-16",9,null,"Upton - Wright 1/20/2018","Upton","Wright","2018-01-20",20,null,"Upton - Big Horn 2/16/2018","Upton","Big Horn","2018-02-16",19,null,"Upton - Wright 2/8/2018","Upton","Wright","2018-02-08",58,null,"Upton - Big Horn 1/27/2018","Upton","Big Horn","2018-01-27",0.4098360655737705,null,"Upton - Tongue River 2/2/2018","Upton","Tongue River","2018-02-02",0.43103448275862066,null,"Upton - Tongue River 2/2/2018","Upton","Tongue River","2018-02-02",5,null,"Upton - Sundance 2/6/2018","Upton","Sundance","2018-02-06",11,null,"Upton - Sundance 2/6/2018","Upton","Sundance","2018-02-06",0.45454545454545453,null,"Upton - Sundance 2/6/2018","Upton","Sundance","2018-02-06",6,null,"Upton - Moorcroft 1/18/2018","Upton","Moorcroft","2018-01-18",19,null,"Upton - Sundance 2/6/2018","Upton","Sundance","2018-02-06",0.24]
["Upton - Big Horn 2/16/2018","Upton","Big Horn","2018-02-16",55,null,"Upton - Tongue River 2/17/2018","Upton","Tongue River","2018-02-17",81,null,"Upton - Moorcroft 2/1/2018","Upton","Moorcroft","2018-02-01",41,null,"Upton - Wright 1/20/2018","Upton","Wright","2018-01-20",66,null,"Upton - Wright 2/8/2018","Upton","Wright","2018-02-08",-7,null,"Upton - Big Horn 2/16/2018","Upton","Big Horn","2018-02-16",32,null,"Upton - Sundance 2/6/2018","Upton","Sundance","2018-02-06",44,null,"Upton - Big Horn 2/16/2018","Upton","Big Horn","2018-02-16",27,null,"Upton - Wright 2/8/2018","Upton","Wright","2018-02-08",34,null,"Upton - Big Horn 2/16/2018","Upton","Big Horn","2018-02-16",9,null,"Upton - Sundance 2/6/2018","Upton","Sundance","2018-02-06",20,null,"Upton - Sundance 2/6/2018","Upton","Sundance","2018-02-06",6,null,"Upton - Tongue River 2/2/2018","Upton","Tongue River","2018-02-02",14,null,"Upton - Wright 1/20/2018","Upton","Wright","2018-01-20",17,null,"Upton - Moorcroft 1/18/2018","Upton","Moorcroft","2018-01-18",29,null,"Upton - Sundance 2/6/2018","Upton","Sundance","2018-02-06",19,null,"Upton - Tongue River 2/17/2018","Upton","Tongue River","2018-02-17",24,null,"Upton - Big Horn 1/27/2018","Upton","Big Horn","2018-01-27",-2,null,"Upton - Moorcroft 1/18/2018","Upton","Moorcroft","2018-01-18",14,null,"Upton - Tongue River 2/2/2018","Upton","Tongue River","2018-02-02",-2,null,"Upton - Wright 2/8/2018","Upton","Wright","2018-02-08",11,null,"Upton - Wright 1/20/2018","Upton","Wright","2018-01-20",-7,null,"Upton - Wright 1/20/2018","Upton","Wright","2018-01-20",-7,null,"Upton - Wright 1/20/2018","Upton","Wright","2018-01-20",12,null,"Upton - Sundance 2/6/2018","Upton","Sundance","2018-02-06",8,null,"Upton - Sundance 2/6/2018","Upton","Sundance","2018-02-06",0,null,"Upton - Tongue River 2/17/2018","Upton","Tongue River","2018-02-17",7,15,null,"Upton - Wright 2/8/2018","Upton","Wright","2018-02-08",20,null,"Upton - Big Horn 1/27/2018","Upton","Big Horn","2018-01-27",9,null,"Upton - Wright 2/8/2018","Upton","Wright","2018-02-08",22,null,"Upton - Wright 2/8/2018","Upton","Wright","2018-02-08",17,null,"Upton - Wright 1/20/2018","Upton","Wright","2018-01-20",55,null,"Upton - Wright 2/8/2018","Upton","Wright","2018-02-08",0.29310344827586204,null,"Upton - Wright 2/8/2018","Upton","Wright","2018-02-08",0.5555555555555556,null,"Upton - Sundance 2/6/2018","Upton","Sundance","2018-02-06",5,null,"Upton - Moorcroft 2/1/2018","Upton","Moorcroft","2018-02-01",11,null,"Upton - Tongue River 2/2/2018","Upton","Tongue River","2018-02-02",0.4166666666666667,null,"Upton - Big Horn 2/16/2018","Upton","Big Horn","2018-02-16",4,null,"Upton - Moorcroft 2/1/2018","Upton","Moorcroft","2018-02-01",17,null,"Upton - Wright 1/20/2018","Upton","Wright","2018-01-20",0.21428571428571427]
["Upton - Wright 1/20/2018","Upton","Wright","2018-01-20",51,null,"Upton - Tongue River 2/2/2018","Upton","Tongue River","2018-02-02",83,null,"Upton - Moorcroft 1/18/2018","Upton","Moorcroft","2018-01-18",38,null,"Upton - Wright 2/8/2018","Upton","Wright","2018-02-08",67,null,"Upton - Wright 1/20/2018","Upton","Wright","2018-01-20",-15,null,"Upton - Tongue River 2/2/2018","Upton","Tongue River","2018-02-02",30,null,"Upton - Tongue River 2/17/2018","Upton","Tongue River","2018-02-17",45,null,"Upton - Sundance 2/6/2018","Upton","Sundance","2018-02-06",25,null,"Upton - Big Horn 1/27/2018","Upton","Big Horn","2018-01-27",43,null,"Upton - Sundance 1/25/2018","Upton","Sundance","2018-01-25",8,null,"Upton - Wright 2/8/2018","Upton","Wright","2018-02-08",20,null,"Upton - Sundance 1/25/2018","Upton","Sundance","2018-01-25",5,null,"Upton - Big Horn 1/27/2018","Upton","Big Horn","2018-01-27",20,null,"Upton - Wright 2/8/2018","Upton","Wright","2018-02-08",16,null,"Upton - Tongue River 2/17/2018","Upton","Tongue River","2018-02-17",30,null,"Upton - Big Horn 2/16/2018","Upton","Big Horn","2018-02-16",17,null,"Upton - Wright 2/8/2018","Upton","Wright","2018-02-08",25,null,"Upton - Tongue River 2/2/2018","Upton","Tongue River","2018-02-02",-4,null,"Upton - Sundance 2/6/2018","Upton","Sundance","2018-02-06",19,null,"Upton - Big Horn 1/27/2018","Upton","Big Horn","2018-01-27",-5,null,"Upton - Sundance 2/6/2018","Upton","Sundance","2018-02-06",14,null,"Upton - Wright 2/8/2018","Upton","Wright","2018-02-08",-9,null,"Upton - Wright 2/8/2018","Upton","Wright","2018-02-08",-9,null,"Upton - Wright 2/8/2018","Upton","Wright","2018-02-08",9,null,"Upton - Big Horn 2/16/2018","Upton","Big Horn","2018-02-16",2,null,"Upton - Moorcroft 1/18/2018","Upton","Moorcroft","2018-01-18",0,null,"Upton - Sundance 2/6/2018","Upton","Sundance","2018-02-06",4,14,null,"Upton - Wright 1/20/2018","Upton","Wright","2018-01-20",21,null,"Upton - Moorcroft 2/1/2018","Upton","Moorcroft","2018-02-01",9,null,"Upton - Sundance 1/25/2018","Upton","Sundance","2018-01-25",22,null,"Upton - Wright 1/20/2018","Upton","Wright","2018-01-20",16,null,"Upton - Big Horn 2/16/2018","Upton","Big Horn","2018-02-16",42,null,"Upton - Wright 1/20/2018","Upton","Wright","2018-01-20",0.2909090909090909,null,"Upton - Wright 1/20/2018","Upton","Wright","2018-01-20",0.5625,null,"Upton - Big Horn 1/27/2018","Upton","Big Horn","2018-01-27",4,null,"Upton - Big Horn 1/27/2018","Upton","Big Horn","2018-01-27",10,null,"Upton - Big Horn 1/27/2018","Upton","Big Horn","2018-01-27",0.4,null,"Upton - Moorcroft 2/1/2018","Upton","Moorcroft","2018-02-01",1,null,"Upton - Big Horn 2/16/2018","Upton","Big Horn","2018-02-16",13,null,"Upton - Moorcroft 2/1/2018","Upton","Moorcroft","2018-02-01",0.058823529411764705]